{"text_format":"1","workbook":"xlsx","n_sheets":15,"sheets":["Main","Contract and Quantities","Free Form","Help","Test 1","Test 2","Test 3","Test 4","Test 5","Test 6","Functional","ReportS","Send Sync","Oracle","AWP Oracle"],"not_rendered":{"charts":0,"images":38,"macros":1,"external_links":1,"defined_names":10,"comments":7,"pivot_tables":0},"unopened":[],"bounds":{"document_bytes":16777216,"sheet_cells":100000,"rows_first":2000,"rows_last":500,"rows_between":2000,"halvings":0,"cell_chars":16384,"cell_head_chars":4096},"cells_cut":0,"cells_raw":0,"read":"whole","date_system":"1900"}

{"sheet":"Main","index":0,"n_rows":6048,"n_cols":51,"rows_kept":2250,"cut":true,"hidden":false,"merged":[[24,13,25,23],[2,22,3,24],[27,12,29,24],[23,5,23,10],[26,1,29,10],[21,5,21,10],[15,5,15,10],[18,5,18,10],[22,5,22,10],[17,12,19,24],[15,1,15,4],[22,1,22,4],[17,5,17,10],[18,1,18,4],[19,5,19,10],[12,1,12,3],[2,4,3,6],[16,5,16,10],[13,12,16,24],[10,21,10,22],[5,1,6,3],[5,10,6,12],[8,10,8,11],[9,8,9,9],[9,6,9,7],[5,4,6,6],[0,4,1,22],[11,21,11,24],[5,16,6,18],[5,19,6,21],[10,8,10,9],[11,15,11,20],[2,19,3,21],[2,16,3,18],[2,10,3,12],[9,10,9,11],[10,6,10,7],[10,10,10,11],[2,7,3,9],[9,20,9,24],[8,23,8,24],[2,13,3,15],[23,1,23,4],[21,1,21,4],[39,17,39,19],[39,20,39,22],[6,34,6,38],[5,13,6,15],[5,34,5,38],[5,30,5,33],[8,6,8,7],[5,22,6,24],[8,8,8,9],[5,7,6,9],[12,5,12,10],[10,23,10,24],[10,15,10,20],[13,5,13,10]],"bounds":{"rows_first":1000,"rows_last":250,"rows_between":1000,"halvings":1}}
[null,null,null,null,"AWP Contractor Reporting E2O - General Aggregates"]
[null,null,null,null,null,null,null,null,null,null,null,null,null,null,null,null,null,null,null,null,null,null,null,null,null,"v","4.21"]
[null,null,null,null," ",null,null,"Main",null,null,"Quantity",null,null,null,null,null,"Send/Sync",null,null,"Reports",null,null,"Help"]
[null,null,null,null,null,null,null,null,null,null,null,null,null,null,null,null,null,null,null,null,null,null,null,null,null,null,null,null,null,null,null,{"$f":"V12","v":""}]
[]
[null,"General",null,null,"Free Form",null,null,"Bases",null,null,"1005/3/9",null,null,"SEL BACKFILL",null,null,"QC/QA Split",null,null,null,null,null,null,null,null,null,null,null,null,null,{"$f":"CONCATENATE(\"GIW \",T9)","v":"GIW "},null,null,null,{"$f":"CONCATENATE(\"V:\\Excel2Oracle\\concrete\\inspection Reports\\CIW Ready to Process\\\",$AE$6,\".xls\")","v":"V:\\Excel2Oracle\\concrete\\inspection Reports\\CIW Ready to Process\\GIW .xls"}]
[null,null,null,null,null,null,null,null,null,null,null,null,null,null,null,null,null,null,null,null,null,null,null,null,null,null,null,null,"Input Checks (0 is good)",null,null,null,null,null,{"$f":"CONCATENATE(\"C:\\temp\\\",$AE$6,\".xls\")","v":"C:\\temp\\GIW .xls"}]
[null,null,null,null,null,null,null,null,null,null,null,null,null,null,null,null,null,null,null,null,null,null,null,null,null,null,null,null,{"$f":"IF(I9 >2010,( IF(I9 < 2030, 0, 1)),1)","v":0},"Year "]
[null,"Date of Inspection ",null,null,null,null,"Year",null,2024,null,"YYYY",null,null,null,"Identification for this Record",null,null,null,null,null,null,null,null,null,null,null,null,null,{"$f":"IF(INT(I10) > 0, IF(INT(I10)<13,0,1),1)","v":1},"Month ",null,null,{"$f":"\"\"","v":""}]
[null,null,null,{"$f":"CONCATENATE(I9, I10,I11)","v":"2024"},null,null,"Month",null,null,null,"MM",null,null,null,null,"Reporting Contractor",null,null,null,null,null,null,null,null,null,{"$f":"IF(ISERROR(AH45), \"\", UPPER(AH45))","v":""},null,null,{"$f":"IF(INT(I11) > 0, IF(INT(I11)<33,0,1),1)","v":1},"Day "]
[null,null,null,null,null,null,"Day",null,null,null,"DD",null,null,null,null,"Unique Record Number",null,null,null,null,null,null,null,"####",null,null,null,null,{"$f":"IF(ISBLANK(U10),1,0)","v":1},"Reporting Cont."]
[null,null,null,null,null,null,null,null,null,null,null,null,null,null,null,"MoDOT Sample Record ID#",null,null,null,null,null,{"$f":"IF(AC13=0,CONCATENATE(RIGHT(I9,2),\"QM\",Z10,V11),\"\")","v":""},null,null,null,null,null,null,{"$f":"IF(IFERROR(INT(V11),0)>0,IF(INT(V11)>10000,1,0),1)","v":1},"Unique Number"]
[null,"Material ",null,null,null,null,null,null,null,null,null,null,null,null,null,null,null,null,null,null,null,null,null,null,null,null,null,null,{"$f":"SUM(AC8:AC12)","v":4},"total of items for making a sample id"]
[null,null,null,null,null,{"$f":"IF(ISBLANK(F13),\"\",VLOOKUP(F13,A48:E170,2,FALSE))","v":""},null,null,null,null,null,null,"Choose a material that represents what you have inspected.  Check your concrete mix design for the proper aggregate designation",null,null,null,null,null,null,null,null,null,null,null,null,null,null,null,{"$f":"IF(IFERROR(F14,1)=1,1,0)","v":0},"Material"]
[]
[null,"Producer/Supplier",null,null,null,null,null,null,null,null,null,null,null,null,null,null,null,null,null,null,null,null,null,null,null,null,null,null,{"$f":"IF(IFERROR(F17,1)=1,1,0)","v":1},"Producer"]
[null,null,null,null,null,{"$f":"VLOOKUP(F16,G48:I6048,2,FALSE)","v":{"$error":"#N/A"}}]
[null,null,null,null,null,null,null,null,null,null,null,null,"Choose a Supplier or Producer that represents what you have inspected.  If you do not see the correct producer contact your RE office",null,null,null,null,null,null,null,null,null,null,null,null,null,null,null,{"$f":"IF(OR(IFERROR(F20,1)=1,F19=\"\"),1,0)","v":1},"Ledge"]
[null,"Plant/Ledge"]
[null,null,null,null,null,{"$f":"F19","v":0},null,null,null,null,null,null,null,null,null,null,null,null,null,null,null,null,null,null,null,null,null,null,{"$f":"IF(IFERROR(F22,1)=1,1,0)","v":0},"Branded"]
[]
[null,"Sample Type",null,null,null,"QC Contractor Data / Quality Managerment",null,null,null,null,null,null,null,"Sample Origin",null,null,null,"Site sample was taken from, for"]
[null,null,null,null,null,null,null,null,null,null,null,null,null,null,"concrete rock or sand the concrete plant"]
[null,"Evaluation Method",null,null,null,"Sample and Test",null,null,null,null,null,null,null,null,"location should be listed here"]
[]
[null,"General Remarks"]
[]
[null,null,null,null,null,null,null,null,null,null,null,null,"Adding General Remarks is optional.  This is a good place to put notes about the testing record itself, but not test results.  EXAMPLE:  \"This record represents all of the east bridge\""]
[]
[]
[]
[null,null,null,null,null,null,null,null,null,null,null,null,null,null,null,null,null,null,null,null,null,null,null,null,null,null,null,null,{"$f":"SUM(AC8:AC31)","v":10},"Any value more than 0 will prevent the file from being submitted"]
[]
[]
[]
[]
[]
[]
[null,null,null,null,null,null,null,null,null,null,null,null,null,null,null,null,null,"Code Lookup",null,null,"Sample type Lookup"]
[null,null,null,null,null,null,{"$f":"VLOOKUP(F16,F46:I4277,3,FALSE)","v":{"$error":"#N/A"}},null,null,{"$f":"VLOOKUP(F14,B48:C772,2,FALSE)","v":{"$error":"#N/A"}},"material id",null,null,null,null,null,null,{"$f":"VLOOKUP(F24,AV48:AW60,2,FALSE)","v":"SATE"},null,null,{"$f":"VLOOKUP(F22,AX48:AY60,2,FALSE)","v":"QCC"}]
[null,null,null,null,null,null,null,null,null,{"$f":"VLOOKUP(F20,M48:N6048,2,FALSE)","v":{"$error":"#N/A"}},"Facility id"]
[null,null,null,null,null,null,null,null,null,{"$f":"VLOOKUP(F17,H48:I6048,2,FALSE)","v":{"$error":"#N/A"}},"source id"]
[null,null,{"$f":"VLOOKUP(F14,B48:E135,3,FALSE)","v":{"$error":"#N/A"}},{"$f":"VLOOKUP(F14,B48:E135,4,FALSE)","v":{"$error":"#N/A"}}]
["Material Dropdown",null,null,null,null,null,null,null,null,null,null,null,null,null,null,null,null,null,null,null,null,null,null,null,null,null,null,null,null,null,"Reporting Contractor List",null,null,null,null,null,{"$f":"F14","v":""}]
[null,null,null,null,null,null,null,null,null,null,null,null,null,null,null,null,null,null,null,null,null,null,null,null,null,null,null,null,null,null,"Lookup initials",null,null,{"$f":"VLOOKUP(U10,AE48:AF453,2,FALSE)","v":{"$error":"#N/A"}}]
["Material Short Name","Material Code","Code Description","English Unit","Melded P/S and Plant","Producer Supplier Name","Producer Supplier Name","Producer Supplier Code",null,null,"This column is only plants for the choosen producer",null,null,null,null,null,null,null,null,null,null,null,null,null,null,null,null,null,null,null,null,null,null,null,null,null,"Valid PS-MAT From Cognos:",null,"Vlookup to find ps"]
["Material Short Name","Material Code","Code Description","English Unit",{"$f":"SUBSTITUTE(SUBSTITUTE(SUBSTITUTE(SUBSTITUTE(SUBSTITUTE(SUBSTITUTE(SUBSTITUTE(F47,\"plant\",\"Plt\"),\"Company\",\"Comp\"),\"Plant\",\"Plt\"),\"Construction\",\"Cnst\"),\"Portable\",\"Port\"),\"Paving\",\"Pav\"),\"Concrete\",\"Conc\")&\" - \"&G47","v":"MaterialShortName.MATERIAL - Descr.SOURCE"},"MaterialShortName.MATERIAL","Descr.SOURCE","Source Nm.SOURCE","Source Id.FACILITY","Descr.FACILITY","Facility Nm.FACILITY","Facility Id.FACILITY",null,null,null,null,null,null,null,null,null,null,null,null,null,null,null,null,null,null,"Contractor","Initials",null,null,null,null,"Material","Source",{"$f":"IF(AK47=$AK$44,AL47,\"\")","v":""},"This column is created by a subroutine that copys and sorts column  AM",null,null,null,"This column  is created from the producer choice by code",null,null,null,"Code Value","Code Description","Descr.CODEVALUE","CodeTable Nm.CODEVALUE"]
["AggBase T1 & 5 DO","1007T1ABDO..T5",3906,"tons","E042","1003ASCHD","Buildex, Inc., New Market, MO","3005500314",3091,"Lightweight Aggregate - Weston Shale LT WT","5264",6507,{"$f":"IF(AND($F$17=H48,$AK$44=F48),J48,\"\")","v":{"$error":"#N/A"}},{"$f":"IF(AND($F$17=H48,$AK$44=F48),L48,\"\")","v":{"$error":"#N/A"}},null,null,null,null,null,null,null,null,null,null,null,null,null,null,null,null,"APAC Clinton","APC",null,null,null,null,"1003ASCHD","Buildex, Inc., New Market, MO",{"$f":"IF(AK48=$AK$44,AL48,\"\")","v":""},0,null,null,null,{"$error":"#N/A"},null,null,null,"Approved Producer QC/QA Plan","APQC","QA Quality Management","QA"]
["AggBase T1 & 5 LS","1007T1ABLS..T5",3908,"tons","E042","1003ASCTR","Central Stone, Butler Hill Quarry","3007906217",4812,"Butler Hill Granite 2","6467",7198,{"$f":"IF(AND($F$17=H49,$AK$44=F49),J49,\"\")","v":{"$error":"#N/A"}},{"$f":"IF(AND($F$17=H49,$AK$44=F49),L49,\"\")","v":{"$error":"#N/A"}},null,null,null,null,null,null,null,null,null,null,null,null,null,null,null,null,"APAC-Central, Inc.","APF",null,null,null,null,"1003ASCTR","Central Stone, Butler Hill Quarry",{"$f":"IF(AK49=$AK$44,AL49,\"\")","v":""},0,null,null,null,{"$error":"#N/A"},null,null,null,"Sample and Test","SATE","QC Contractor Data / Quality Managerment","QCC"]
["AggBase T1 & 5 LS/DO","1007T1ABLD..T5",3910,"tons","E042","1003ASCTR","Central Stone, Butler Hill Quarry","3007906217",4812,"Rhyolite 1","6464",7197,{"$error":"#N/A"},{"$error":"#N/A"},null,null,null,null,null,null,null,null,null,null,null,null,null,null,null,null,"APAC-Kansas, Inc.","APK",null,null,null,null,"1003GA","AQ Properties LLC",{"$f":"IF(AK50=$AK$44,AL50,\"\")","v":""},0,null,null,null,{"$error":"#N/A"},null,null,null,"Visual Inspection","VSUL","QC Contractor/QA MoDOT QualityManagement","QCQA"]
["AggBase T1 LS","1007T1ABLS",3907,"tons","E042","1003GA","AQ Properties LLC","3000700117",46,"Warsaw 4-6","3336",55,{"$error":"#N/A"},{"$error":"#N/A"},null,null,null,null,null,null,null,null,null,null,null,null,null,null,null,null,"APAC-Missouri, Inc.","APA",null,null,null,null,"1003GA","Buildex, Inc., New Market, MO",{"$f":"IF(AK51=$AK$44,AL51,\"\")","v":""},0,null,null,null,{"$error":"#N/A"}]
["AggBase T1 LS/DO","1007T1ABLD",3911,"tons","E042","1003GA","AQ Properties LLC","3000700117",46,"Warsaw-Burlington-Keokuk 6,7","6696",58,{"$error":"#N/A"},{"$error":"#N/A"},null,null,null,null,null,null,null,null,null,null,null,null,null,null,null,null,"Above And Below Contracting, LLC","TJL",null,null,null,null,"1003GA","Central Stone #1, Hannibal (Huntington)",{"$f":"IF(AK52=$AK$44,AL52,\"\")","v":""},0,null,null,null,{"$error":"#N/A"}]
["AggBase T5 LS/DO","1007T5ABLD..T5",3912,"tons","E042","1003GA","Central Stone #1, Hannibal (Huntington)","3007900113",948,"Cedar Valley 13-11","0001",3038,{"$error":"#N/A"},{"$error":"#N/A"},null,null,null,null,null,null,null,null,null,null,null,null,null,null,null,null,"Alberici Constructors, Inc.","ALB",null,null,null,null,"1003GA","Clever Stone Co","",0,null,null,null,{"$error":"#N/A"}]
["AggBase T5 Sand Grav","1007T5ABGV",3909,"tons","E042","1003GA","Central Stone #1, Hannibal (Huntington)","3007900113",948,"Kimmswick 10-1","0191",3041,{"$error":"#N/A"},{"$error":"#N/A"},null,null,null,null,null,null,null,null,null,null,null,null,null,null,null,null,"Allgeier Martin & Associates","AGM",null,null,null,null,"1003GA","Conco #0496, Marshfield (Ash Grove)","",0,null,null,null,{"$error":"#N/A"}]
["AggBase T7 LS/DO","1007T7ABLD",3915,"tons","E042","1003GA","Clever Stone Co","3009100118",1289,"Burlington 2-3","3167",4078,{"$error":"#N/A"},{"$error":"#N/A"},null,null,null,null,null,null,null,null,null,null,null,null,null,null,null,null,"American Bridge Company","ABC",null,null,null,null,"1003GA","Fischer Bros Pit #2, Ste. Genevieve","",0,null,null,null,{"$error":"#N/A"}]
["AggBase T7 RCP","1007T7ABRCP",3916,"tons","E042","1003GA","Clever Stone Co","3009100118",1289,"Burlington-Reeds Spring 1A,1-5","7384",7366,{"$error":"#N/A"},{"$error":"#N/A"},null,null,null,null,null,null,null,null,null,null,null,null,null,null,null,null,"Amino Brothers Co.  Inc.","AMN",null,null,null,null,"1003GA","Fischer Quarry & Hauling, Burfordville (T&M Stone)","",0,null,null,null,{"$error":"#N/A"}]
["BrdgWrSf Gr.E Granit","1005GECMGTBD",4062,"tons","E042","1003GA","Conco #0496, Marshfield (Ash Grove)","3002909618",1070,"Jefferson City - Cotter 1-3","2887",3429,{"$error":"#N/A"},{"$error":"#N/A"},null,null,null,null,null,null,null,null,null,null,null,null,null,null,null,null,"Apex Paving Co.","APX",null,null,null,null,"1003GA","Holliday Sand and Stone, S&K (Ash Grove)","",0,null,null,null,{"$error":"#N/A"}]
["BrdgWrSf Gr.E LS/DO","1005GECMLSBD",4035,"tons","E042","1003GA","Fischer Bros Pit #2, Ste. Genevieve","3035100310",2357,"Salem 21-25","5160",6027,{"$error":"#N/A"},{"$error":"#N/A"},null,null,null,null,null,null,null,null,null,null,null,null,null,null,null,null,"Apex Paving Co. dba ASA Asphalt","ASA",null,null,null,null,"1003GA","Hutchens Lime, Purdy","",0,null,null,null,{"$error":"#N/A"}]
["Class A NaturalSand","1005FACCNS..CA",4019,"tons","E042","1003GA","Fischer Quarry & Hauling, Burfordville (T&M Stone)","3242000110",2485,"Smith-Powell 17","6309",6149,{"$error":"#N/A"},{"$error":"#N/A"},null,null,null,null,null,null,null,null,null,null,null,null,null,null,null,null,"Aplex, Inc.","API",null,null,null,null,"1003GA","Joplin Stone","",0,null,null,null,{"$error":"#N/A"}]
["Class B NaturalSand","1005FACCNS..CB",4020,"tons","E042","1003GA","Holliday Sand and Stone, S&K (Ash Grove)","3002900217",3559,"Higginsville 10","5948",6775,{"$error":"#N/A"},{"$error":"#N/A"},null,null,null,null,null,null,null,null,null,null,null,null,null,null,null,null,"B & P Patterson, LLC","BPP",null,null,null,null,"1003GA","Mulberry Quarry, Lamar (Ash Grove Aggr #84)","",0,null,null,null,{"$error":"#N/A"}]
["Class C NaturalSand","1005FACCNS..CC",4021,"tons","E042","1003GA","Hutchens Lime, Purdy","3021500117",903,"Reeds Spring 4","4992",2806,{"$error":"#N/A"},{"$error":"#N/A"},null,null,null,null,null,null,null,null,null,null,null,null,null,null,null,null,"BRS Construction, LLC","BRS",null,null,null,null,"1003GA","New Frontier, Iron Mtn Trap Rock Pit #3- Porphyry","",0,null,null,null,{"$error":"#N/A"}]
["Class D Man Sand","1005MSCCMS..CD",4033,"tons","E042","1003GA","Joplin Stone","3023600117",730,"Warsaw 1-3","0364",1936,{"$error":"#N/A"},{"$error":"#N/A"},null,null,null,null,null,null,null,null,null,null,null,null,null,null,null,null,"Bartlett & West, Inc.","BAW",null,null,null,null,"1003GA","New Frontier, South Quarry","",0,null,null,null,{"$error":"#N/A"}]
["Class D NaturalSand","1005FACCNS..CD",4022,"tons","E042","1003GA","New Frontier, Iron Mtn Trap Rock Pit #3- Porphyry","3022300310",2261,"Porphyry 1","4284",5924,{"$error":"#N/A"},{"$error":"#N/A"},null,null,null,null,null,null,null,null,null,null,null,null,null,null,null,null,"Big River Resources Corp.","BRR",null,null,null,null,"1003GA","Producer Supplier not designated.","",0,null,null,null,{"$error":"#N/A"}]
["Class Unknown Sand","1005FACCNS",4018,"tons","E042","1003GA","Table Rock, Stoneridge Qy","3045500318",188,"Pierson 1W","0596",593,{"$error":"#N/A"},{"$error":"#N/A"},null,null,null,null,null,null,null,null,null,null,null,null,null,null,null,null,"Bleigh Construction Company","BCC",null,null,null,null,"1003GA","Quality Aggregates (Hillside LLC)","",0,null,null,null,{"$error":"#N/A"}]
["Com Qlty NaturalSand","1005FACCNS..CM",4023,"tons","E042","1003GA","Williams Divers Matl (WDM), Sooner (Bingham #10)","3004001017",3439,"Chat CHAT","6000",6748,{"$error":"#N/A"},{"$error":"#N/A"},null,null,null,null,null,null,null,null,null,null,null,null,null,null,null,null,"Blevins Asphalt Construction Company, Inc.","BAC",null,null,null,null,"1003GA","Table Rock, Branson Stone","",0,null,null,null,{"$error":"#N/A"}]
["Gr A1 Aggr Seal Coat","1003GA",3978,"tons","E042","1003GA","Williamsville Stone #1","3050400110",81,"Gasconade 14-6A","3772",191,{"$error":"#N/A"},{"$error":"#N/A"},null,null,null,null,null,null,null,null,null,null,null,null,null,null,null,null,"Boone Construction Co.","BON",null,null,null,null,"1003GA","Table Rock, Stoneridge Qy","",0,null,null,null,{"$error":"#N/A"}]
["Gr A1 Lghtwt Seal Co","1003GALW",3979,"tons","E042","1003GA2","Base Rock Materials Quarry","3155900210",1342,"Powell 41-45","7563",7553,{"$error":"#N/A"},{"$error":"#N/A"},null,null,null,null,null,null,null,null,null,null,null,null,null,null,null,null,"Bowen Engineering & Surveying, P.C.","BWE",null,null,null,null,"1003GA","Trap Rock and Granite Quarries, LLC","",0,null,null,null,{"$error":"#N/A"}]
["Gr A2 Aggr Seal Coat","1003GA2",3964,"tons","E042","1003GA2","Buildex, Inc., New Market, MO","3005500314",3091,"Lightweight Aggregate - Weston Shale LT WT","5264",6507,{"$error":"#N/A"},{"$error":"#N/A"},null,null,null,null,null,null,null,null,null,null,null,null,null,null,null,null,"Branco Enterprises, Inc.","BRE",null,null,null,null,"1003GA","Williams Divers Matl (WDM), Sooner (Bingham #10)","",0,null,null,null,{"$error":"#N/A"}]
["Gr A2 Lghtwt Seal Co","1003GA2LW",4013,"tons","E042","1003GA2","Capital Materials, Tightwad (APAC)","3020600114",927,"Burlington 1,2,3","2328",2872,{"$error":"#N/A"},{"$error":"#N/A"},null,null,null,null,null,null,null,null,null,null,null,null,null,null,null,null,"Burk Bridge Co.","BBC",null,null,null,null,"1003GA","Williamsville Stone #1","",0,null,null,null,{"$error":"#N/A"}]
["Gr B1 Aggr Seal Coat","1003GB",3980,"tons","E042","1003GA2","Capital Materials, Tightwad (APAC)","3020600114",927,"Chouteau-LowerBurlington-Pierson 4,5,6,7,3A","5910",2882,{"$error":"#N/A"},{"$error":"#N/A"},null,null,null,null,null,null,null,null,null,null,null,null,null,null,null,null,"CB Engineering, Inc. dba Cochran","COC",null,null,null,null,"1003GA2","Base Rock Materials Quarry","",0,null,null,null,{"$error":"#N/A"}]
["Gr B1 Lghtwt Seal Co","1003GBLW",3981,"tons","E042","1003GA2","Central Stone #1, Hannibal (Huntington)","3007900113",948,"Cedar Valley 13-11","0001",3038,{"$error":"#N/A"},{"$error":"#N/A"},null,null,null,null,null,null,null,null,null,null,null,null,null,null,null,null,"CBH Construction, LLC","CBH",null,null,null,null,"1003GA2","Buildex, Inc., New Market, MO","",0,null,null,null,{"$error":"#N/A"}]
["Gr B2 Aggr Seal Coat","1003GB2",3965,"tons","E042","1003GA2","Central Stone #1, Hannibal (Huntington)","3007900113",948,"Kimmswick 10-1","0191",3041,{"$error":"#N/A"},{"$error":"#N/A"},null,null,null,null,null,null,null,null,null,null,null,null,null,null,null,null,"CE Contracting, Inc.","CEC",null,null,null,null,"1003GA2","Capital Materials, Tightwad (APAC)","",0,null,null,null,{"$error":"#N/A"}]
["Gr B2 Lghtwt Seal Co","1003GB2LW",4014,"tons","E042","1003GA2","Central Stone, Butler Hill Quarry","3007906217",4812,"Rhyolite 1","6464",7197,{"$error":"#N/A"},{"$error":"#N/A"},null,null,null,null,null,null,null,null,null,null,null,null,null,null,null,null,"Cale Seymour Construction, LLC","CSC",null,null,null,null,"1003GA2","Central Stone #1, Hannibal (Huntington)","",0,null,null,null,{"$error":"#N/A"}]
["Gr C Aggr Seal Coat","1003GC",3982,"tons","E042","1003GA2","L & W Construction, Mystic","3026300512",670,"Exline 1E","0397",1669,{"$error":"#N/A"},{"$error":"#N/A"},null,null,null,null,null,null,null,null,null,null,null,null,null,null,null,null,"Capital Electric Line Builders, LLC","CEL",null,null,null,null,"1003GA2","Central Stone, Butler Hill Quarry","",0,null,null,null,{"$error":"#N/A"}]
["Gr C Lghtwt Seal Co","1003GCLW",3983,"tons","E042","1003GA2","Martin Marietta, Ferrelview (Stamper)","3021300214",925,"Bethany Falls 1BF-2BF-3BF","4600",2860,{"$error":"#N/A"},{"$error":"#N/A"},null,null,null,null,null,null,null,null,null,null,null,null,null,null,null,null,"Capital Materials","CPM",null,null,null,null,"1003GA2","L & W Construction, Mystic",{"$f":"IF(AK75=$AK$44,AL75,\"\")","v":""},0,null,null,null,{"$error":"#N/A"}]
["Gr1 Nat Sand ggr Dra","1009G1DRNS",3918,"tons","E042","1003GA2","New Frontier, Iron Mountain Quarry-Porphyry","3022300110",755,"Porphyry 1","2511",2018,{"$error":"#N/A"},{"$error":"#N/A"},null,null,null,null,null,null,null,null,null,null,null,null,null,null,null,null,"Capital Paving & Construction, LLC","CPC",null,null,null,null,"1003GA2","Martin Marietta, Ferrelview (Stamper)","",0,null,null,null,{"$error":"#N/A"}]
["Gr2 Sand-Gravel Mix","1009G2DRNSGV",3919,"tons","E042","1003GA2","New Frontier, Iron Mtn Trap Rock Pit #3- Porphyry","3022300310",2261,"Porphyry 1","4284",5924,{"$error":"#N/A"},{"$error":"#N/A"},null,null,null,null,null,null,null,null,null,null,null,null,null,null,null,null,"Central Missouri Professional Services, Inc.","CMP",null,null,null,null,"1003GA2","New Frontier, Iron Mountain Quarry-Porphyry","",0,null,null,null,{"$error":"#N/A"}]
["Gr3 LS/DO for Drain","1009G3DRLD",3929,"tons","E042","1003GA2","Summit Materials, Marshall (Boone Quarries)","3176713215",1976,"Cedar Valley 5CA-9CA","6605",5592,{"$error":"#N/A"},{"$error":"#N/A"},null,null,null,null,null,null,null,null,null,null,null,null,null,null,null,null,"Chester Bross Construction Company/C.B. Equipment, Inc.","CBC",null,null,null,null,"1003GA2","New Frontier, Iron Mtn Trap Rock Pit #3- Porphyry","",0,null,null,null,{"$error":"#N/A"}]
["Gr4 Alt A DO St PBs","1009G4DRDOAASB",3922,"tons","E042","1003GA2","Summit Materials, Marshall (Boone Quarries)","3176713215",1976,"Chouteau 1C-2C-3C","4758",5583,{"$error":"#N/A"},{"$error":"#N/A"},null,null,null,null,null,null,null,null,null,null,null,null,null,null,null,null,"Christensen Construction Co.","CHR",null,null,null,null,"1003GA2","Summit Materials, Marshall (Boone Quarries)","",0,null,null,null,{"$error":"#N/A"}]
["Gr4 Alt A LS/DO","1009G4DRLDAA",3927,"tons","E042","1003GA2","Summit Materials, Marshall (Boone Quarries)","3176713215",1976,"Chouteau - Cedar Valley 4C,5-9CA","7158",5593,{"$error":"#N/A"},{"$error":"#N/A"},null,null,null,null,null,null,null,null,null,null,null,null,null,null,null,null,"City Design Group, Inc.","CDG",null,null,null,null,"1003GA2","Trap Rock and Granite Quarries, LLC",{"$f":"IF(AK80=$AK$44,AL80,\"\")","v":""},0,null,null,null,{"$error":"#N/A"}]
["Gr4 Alt B DO StPBas","1009G4DRDOABSB",3923,"tons","E042","1003GA2","Trap Rock and Granite Quarries, LLC","3243500119",2512,"Granite 1","6450",6185,{"$error":"#N/A"},{"$error":"#N/A"},null,null,null,null,null,null,null,null,null,null,null,null,null,null,null,null,"Clarkson Construction Company","CCC",null,null,null,null,"1003GA2LW","Arcosa Lightweight (IN)","",0,null,null,null,{"$error":"#N/A"}]
["Gr4 Alt B LS StPBas","1009G4DRLSABSB",3924,"tons","E042","1003GA2","Trap Rock and Granite Quarries, LLC","3243500119",2512,"Rhyolite 2","6449",6184,{"$error":"#N/A"},{"$error":"#N/A"},null,null,null,null,null,null,null,null,null,null,null,null,null,null,null,null,"Collins & Hermann, Inc.","CHI",null,null,null,null,"1003GA2LW","Arcosa Lightweight (KY)","",0,null,null,null,{"$error":"#N/A"}]
["Gr4 Alt B LS/DO Dra","1009G4DRLDAB",3928,"tons","E042","1003GA2LW","Arcosa Lightweight (IN)","3533800319",5304,"Arcosa Lightweight (IN), Haydite Haydite","7599",7590,{"$error":"#N/A"},{"$error":"#N/A"},null,null,null,null,null,null,null,null,null,null,null,null,null,null,null,null,"Comanche Construction, Inc.","CCI",null,null,null,null,"1003GA2LW","Arcosa Lightweight (LA)","",0,null,null,null,{"$error":"#N/A"}]
["Gr5 DO Aggr Drain","1009G5DRDO",3925,"tons","E042","1003GA2LW","Arcosa Lightweight (KY)","3533800219",5220,"Arcosa Lightweight (KY), Haydite Haydite","7476",7459,{"$error":"#N/A"},{"$error":"#N/A"},null,null,null,null,null,null,null,null,null,null,null,null,null,null,null,null,"Concrete Strategies, LLC","COS",null,null,null,null,"1003GA2LW","Buildex, Inc., New Market, MO","",0,null,null,null,{"$error":"#N/A"}]
["Gr5 LS Agg Drain","1009G5DRLS",3926,"tons","E042","1003GA2LW","Arcosa Lightweight (LA)","3533800119",5193,"Arcosa Lightweight (LA), Haydite Haydite","7470",7452,{"$error":"#N/A"},{"$error":"#N/A"},null,null,null,null,null,null,null,null,null,null,null,null,null,null,null,null,"County Contractors, Inc.","CTC",null,null,null,null,"1003GALW","Arcosa Lightweight (IN)","",0,null,null,null,{"$error":"#N/A"}]
["Grav Gr 3 Agg Drain","1009G3DRGV",3920,"tons","E042","1003GALW","Arcosa Lightweight (IN)","3533800319",5304,"Arcosa Lightweight (IN), Haydite Haydite","7599",7590,{"$error":"#N/A"},{"$error":"#N/A"},null,null,null,null,null,null,null,null,null,null,null,null,null,null,null,null,"Crockett Engineering Consultants, LLC","CRK",null,null,null,null,"1003GALW","Arcosa Lightweight (KY)","",0,null,null,null,{"$error":"#N/A"}]
["HD for Scrub Seal","1003ASCHD",3987,"tons","E042","1003GALW","Arcosa Lightweight (KY)","3533800219",5220,"Arcosa Lightweight (KY), Haydite Haydite","7476",7459,{"$error":"#N/A"},{"$error":"#N/A"},null,null,null,null,null,null,null,null,null,null,null,null,null,null,null,null,"D & E Plumbing and Heating, Inc.","DEP",null,null,null,null,"1003GALW","Arcosa Lightweight (LA)","",0,null,null,null,{"$error":"#N/A"}]
["Init Appv Ag Bas XT4","1007CAAB.",388,"tons","E042","1003GALW","Arcosa Lightweight (LA)","3533800119",5193,"Arcosa Lightweight (LA), Haydite Haydite","7470",7452,{"$error":"#N/A"},{"$error":"#N/A"},null,null,null,null,null,null,null,null,null,null,null,null,null,null,null,null,"D & S Fencing Company Inc.","DFC",null,null,null,null,"1003GALW","Buildex, Inc., New Market, MO","",0,null,null,null,{"$error":"#N/A"}]
["LS Gr 3 Aggr Drain","1009G3DRLS",3921,"tons","E042","1003GALW","Buildex, Inc., New Market, MO","3005500314",3091,"Lightweight Aggregate - Weston Shale LT WT","5264",6507,{"$error":"#N/A"},{"$error":"#N/A"},null,null,null,null,null,null,null,null,null,null,null,null,null,null,null,null,"Don Schnieders Excavating Company, Inc.","DSE",null,null,null,null,"1003GALW","Hydraulic Press Brick Company","",0,null,null,null,{"$error":"#N/A"}]
["LSDO for Scrub Seal","1003ASCLSDO",5785,"tons","E042","1003GB","APAC-Central, Busiek (Anderson Qy)","3176704018",1957,"Cotter 1-5","6361",5522,{"$error":"#N/A"},{"$error":"#N/A"},null,null,null,null,null,null,null,null,null,null,null,null,null,null,null,null,"Emery Sapp & Sons, Inc.","EMS",null,null,null,null,"1003GB","APAC-Central, Busiek (Anderson Qy)","",0,null,null,null,{"$error":"#N/A"}]
["Lightwt Agg for Conc","1005LWA",4039,"tons","E042","1003GB","AQ Properties LLC","3000700117",46,"Warsaw 4-6","3336",55,{"$error":"#N/A"},{"$error":"#N/A"},null,null,null,null,null,null,null,null,null,null,null,null,null,null,null,null,"Engineered Systems Company, LLC","ESC",null,null,null,null,"1003GB","AQ Properties LLC","",0,null,null,null,{"$error":"#N/A"}]
["Masonry 1\" Granite","1005CM..GT10",4057,"tons","E042","1003GB","AQ Properties LLC","3000700117",46,"Warsaw-Burlington-Keokuk 6,7","6696",58,{"$error":"#N/A"},{"$error":"#N/A"},null,null,null,null,null,null,null,null,null,null,null,null,null,null,null,null,"Engineering Surveys & Services, LLC","E1S",null,null,null,null,"1003GB","Bailey Quarries #2, Dolomite","",0,null,null,null,{"$error":"#N/A"}]
["Masonry 1\" Gravel","1005CM..GV10",4056,"tons","E042","1003GB","Boone Quarries, Houstonia (Mid MO Mertens)","3031800515",584,"Burlington 1","2149",1448,{"$error":"#N/A"},{"$error":"#N/A"},null,null,null,null,null,null,null,null,null,null,null,null,null,null,null,null,"Enviro Control, LLC","ENV",null,null,null,null,"1003GB","Boone Quarries, Houstonia (Mid MO Mertens)","",0,null,null,null,{"$error":"#N/A"}]
["Masonry 1\" LS/DO","1005CM..LD10",4049,"tons","E042","1003GB","Capital Materials, Ozark (Journagan, Journagan Qy)","3027400118",720,"Reeds Spring 11-12","7669",7661,{"$error":"#N/A"},{"$error":"#N/A"},null,null,null,null,null,null,null,null,null,null,null,null,null,null,null,null,"Ewing Signal Construction, LLC","EWS",null,null,null,null,"1003GB","Capital Materials, Ozark (Journagan, Journagan Qy)","",0,null,null,null,{"$error":"#N/A"}]
["Masonry 1/2\" Gravel","1005CM..GV05",4067,"tons","E042","1003GB","Capital Materials, Ozark (Journagan, Journagan Qy)","3027400118",720,"Reeds Spring-Pierson 13-14","6622",1885,{"$error":"#N/A"},{"$error":"#N/A"},null,null,null,null,null,null,null,null,null,null,null,null,null,null,null,null,"Fred Weber, Inc.","FDW",null,null,null,null,"1003GB","Capital Materials, Tightwad (APAC)","",0,null,null,null,{"$error":"#N/A"}]
["Masonry 1/2\" LS/DO","1005CM..LD05",4066,"tons","E042","1003GB","Capital Materials, Tightwad (APAC)","3020600114",927,"Burlington 1,2,3","2328",2872,{"$error":"#N/A"},{"$error":"#N/A"},null,null,null,null,null,null,null,null,null,null,null,null,null,null,null,null,"Freedom Fence, LLC","FRF",null,null,null,null,"1003GB","Central Stone #1, Hannibal (Huntington)","",0,null,null,null,{"$error":"#N/A"}]
["Masonry 3/4\" LS/DO","1005CM..LD07",4054,"tons","E042","1003GB","Capital Materials, Tightwad (APAC)","3020600114",927,"Chouteau-LowerBurlington-Pierson 4,5,6,7,3A","5910",2882,{"$error":"#N/A"},{"$error":"#N/A"},null,null,null,null,null,null,null,null,null,null,null,null,null,null,null,null,"Fronabarger Concreters, Inc.","FRN",null,null,null,null,"1003GB","Central Stone, Butler Hill Quarry","",0,null,null,null,{"$error":"#N/A"}]
["Masonry 3/8\" Granite","1005CM..GT04",4055,"tons","E042","1003GB","Central Stone #1, Hannibal (Huntington)","3007900113",948,"Cedar Valley 13-11","0001",3038,{"$error":"#N/A"},{"$error":"#N/A"},null,null,null,null,null,null,null,null,null,null,null,null,null,null,null,null,"G & M Concrete & Asphalt Co., Inc.","GMC",null,null,null,null,"1003GB","Clever Stone Co","",0,null,null,null,{"$error":"#N/A"}]
["Masonry 3/8\" Gravel","1005CM..GV04",4058,"tons","E042","1003GB","Central Stone #1, Hannibal (Huntington)","3007900113",948,"Kimmswick 10-1","0191",3041,{"$error":"#N/A"},{"$error":"#N/A"},null,null,null,null,null,null,null,null,null,null,null,null,null,null,null,null,"Garver USA","GVR",null,null,null,null,"1003GB","Conco #0496, Marshfield (Ash Grove)","",0,null,null,null,{"$error":"#N/A"}]
["Masonry 3/8\" LS/DO","1005CM..LD04",4065,"tons","E042","1003GB","Central Stone, Butler Hill Quarry","3007906217",4812,"Butler Hill Granite 2","6467",7198,{"$error":"#N/A"},{"$error":"#N/A"},null,null,null,null,null,null,null,null,null,null,null,null,null,null,null,null,"Geotechnics","GEO",null,null,null,null,"1003GB","Hamm Quarry, La Cygne (Mid-State)","",0,null,null,null,{"$error":"#N/A"}]
["Masonry Gr.D DO","1005GDCMDO",4024,"tons","E042","1003GB","Central Stone, Butler Hill Quarry","3007906217",4812,"Rhyolite 1","6464",7197,{"$error":"#N/A"},{"$error":"#N/A"},null,null,null,null,null,null,null,null,null,null,null,null,null,null,null,null,"Geotechnology, Inc.","GET",null,null,null,null,"1003GB","Holliday Sand and Stone, S&K (Ash Grove)","",0,null,null,null,{"$error":"#N/A"}]
["Masonry Gr.D Gravel","1005GDCMGV",4025,"tons","E042","1003GB","Clever Stone Co","3009100118",1289,"Burlington 2-3","3167",4078,{"$error":"#N/A"},{"$error":"#N/A"},null,null,null,null,null,null,null,null,null,null,null,null,null,null,null,null,"Geromini Concrete Paving, LLC dba GC Paving","GCP",null,null,null,null,"1003GB","Hutchen's, Shell Knob Quarry (Journagan)","",0,null,null,null,{"$error":"#N/A"}]
["Masonry Gr.D LS","1005GDCMLS",4026,"tons","E042","1003GB","Clever Stone Co","3009100118",1289,"Burlington-Reeds Spring 1A,1-5","7384",7366,{"$error":"#N/A"},{"$error":"#N/A"},null,null,null,null,null,null,null,null,null,null,null,null,null,null,null,null,"Gershenson Construction Co., Inc.","GCC",null,null,null,null,"1003GB","Hutchens Lime, Purdy","",0,null,null,null,{"$error":"#N/A"}]
["Masonry Gr.D LS/DO","1005GDCMLD",4053,"tons","E042","1003GB","Conco #0496, Marshfield (Ash Grove)","3002909618",1070,"Jefferson City - Cotter 1-3","2887",3429,{"$error":"#N/A"},{"$error":"#N/A"},null,null,null,null,null,null,null,null,null,null,null,null,null,null,null,null,"Gerstner Electric, Inc.","GRE",null,null,null,null,"1003GB","Indian Creek Materials, Zalma","",0,null,null,null,{"$error":"#N/A"}]
["Masonry Gr.D Porphyr","1005GDCMPY",4059,"tons","E042","1003GB","Hamm Quarry, La Cygne (Mid-State)","3049000117",144,"Winterset A-B","7241",549,{"$error":"#N/A"},{"$error":"#N/A"},null,null,null,null,null,null,null,null,null,null,null,null,null,null,null,null,"Goodwin Bros. Construction Co.","GBC",null,null,null,null,"1003GB","Indian Creek Materials/West Plains","",0,null,null,null,{"$error":"#N/A"}]
["Masonry Gr.E Chat","1005GECMCT",4028,"tons","E042","1003GB","Hutchen's, Shell Knob Quarry (Journagan)","3027401417",728,"Jefferson City 1-1C","6477",1924,{"$error":"#N/A"},{"$error":"#N/A"},null,null,null,null,null,null,null,null,null,null,null,null,null,null,null,null,"Ground Breaking Excavation & Utilities, LLC","GBE",null,null,null,null,"1003GB","Joplin Stone","",0,null,null,null,{"$error":"#N/A"}]
["Masonry Gr.E DO","1005GECMDO",4029,"tons","E042","1003GB","Hutchens Lime, Purdy","3021500117",903,"Reeds Spring 4","4992",2806,{"$error":"#N/A"},{"$error":"#N/A"},null,null,null,null,null,null,null,null,null,null,null,null,null,null,null,null,"Gunter Construction Company","G1C",null,null,null,null,"1003GB","Kemp Stone, Neosho (Inland River Aggregates)","",0,null,null,null,{"$error":"#N/A"}]
["Masonry Gr.E Gravel","1005GECMGV",4030,"tons","E042","1003GB","Hutchens Lime, Purdy","3021500117",903,"Reeds Spring 5","5875",2801,{"$error":"#N/A"},{"$error":"#N/A"},null,null,null,null,null,null,null,null,null,null,null,null,null,null,null,null,"H.R. Quadri Contractors, LLC","HRQ",null,null,null,null,"1003GB","L & W Construction, Mystic","",0,null,null,null,{"$error":"#N/A"}]
["Masonry Gr.E LS/DO","1005GECMLS",4031,"tons","E042","1003GB","Indian Creek Materials/West Plains","3012900119",1217,"Jefferson City 14 - 16","1098",3906,{"$error":"#N/A"},{"$error":"#N/A"},null,null,null,null,null,null,null,null,null,null,null,null,null,null,null,null,"Halverson Construction Co., Inc.","HLC",null,null,null,null,"1003GB","Martin Marietta, Ferrelview (Stamper)","",0,null,null,null,{"$error":"#N/A"}]
["PCCP 1 1/2\" LS/DO","100515..OPTLD1",4036,"tons","E042","1003GB","Indian Creek Materials/West Plains","3012900119",1217,"Jefferson City 9-16","5402",3918,{"$error":"#N/A"},{"$error":"#N/A"},null,null,null,null,null,null,null,null,null,null,null,null,null,null,null,null,"Hartman and Company, Inc.","HAC",null,null,null,null,"1003GB","Mulberry Quarry, Lamar (Ash Grove Aggr #84)","",0,null,null,null,{"$error":"#N/A"}]
["PCCP 1\" LS/DO","100510..OPTLD1",4041,"tons","E042","1003GB","Joplin Stone","3023600117",730,"Warsaw 1-3","0364",1936,{"$error":"#N/A"},{"$error":"#N/A"},null,null,null,null,null,null,null,null,null,null,null,null,null,null,null,null,"Herzog Contracting Corp.","HCC",null,null,null,null,"1003GB","New Frontier, Iron Mountain Quarry-Porphyry","",0,null,null,null,{"$error":"#N/A"}]
["PCCP 1\" Quartizite","100510..OPTQU",4047,"tons","E042","1003GB","Joplin Stone","3023600117",730,"Warsaw 4","5629",1939,{"$error":"#N/A"},{"$error":"#N/A"},null,null,null,null,null,null,null,null,null,null,null,null,null,null,null,null,"Horner & Shifrin, Inc.","HAS",null,null,null,null,"1003GB","Norris Quarries LLC, Agency (APAC - Agency)",{"$f":"IF(AK112=$AK$44,AL112,\"\")","v":""},0,null,null,null,{"$error":"#N/A"}]
["PCCP 1/2\" Crs Sand","100505..OPTNS1",4044,"tons","E042","1003GB","Joplin Stone","3023600117",730,"Warsaw 8","7432",7414,{"$f":"IF(AND($F$17=H113,$AK$44=F113),J113,\"\")","v":{"$error":"#N/A"}},{"$f":"IF(AND($F$17=H113,$AK$44=F113),L113,\"\")","v":{"$error":"#N/A"}},null,null,null,null,null,null,null,null,null,null,null,null,null,null,null,null,"Hunter Chase & Associates, Inc.","HCA",null,null,null,null,"1003GB","Norris Quarries LLC, Akron (Jefferies Quarry)",{"$f":"IF(AK113=$AK$44,AL113,\"\")","v":""},0,null,null,null,{"$error":"#N/A"}]
["PCCP 1/2\" Gravel","100505..OPTGV1",4038,"tons","E042","1003GB","L & W Construction, Mystic","3026300512",670,"Exline 1E","0397",1669,{"$error":"#N/A"},{"$error":"#N/A"},null,null,null,null,null,null,null,null,null,null,null,null,null,null,null,null,"Hutchens Construction Co.","HUC",null,null,null,null,"1003GB","Norris Quarries LLC, Cameron South (APAC)","",0,null,null,null,{"$error":"#N/A"}]
["PCCP 1/2\" LS/DO","100505..OPTLD1",4043,"tons","E042","1003GB","Martin Marietta, Ferrelview (Stamper)","3021300214",925,"Bethany Falls 1BF-2BF-3BF","4600",2860,{"$error":"#N/A"},{"$error":"#N/A"},null,null,null,null,null,null,null,null,null,null,null,null,null,null,null,null,"Ideker, Inc.","IDK",null,null,null,null,"1003GB","Norris Quarries LLC, Kingston (APAC - Kingston)","",0,null,null,null,{"$error":"#N/A"}]
["PCCP 2\" LS/DO","100520..OPTLD1",4040,"tons","E042","1003GB","New Frontier, Iron Mountain Quarry-Porphyry","3022300110",755,"Porphyry 0","0259",2017,{"$error":"#N/A"},{"$error":"#N/A"},null,null,null,null,null,null,null,null,null,null,null,null,null,null,null,null,"Interstate Improvement, Inc.","III",null,null,null,null,"1003GB","Norris Quarries LLC, Plattsburg South (APAC)","",0,null,null,null,{"$error":"#N/A"}]
["PCCP 3/4\" Granite","100507..CPGT1",4063,"tons","E042","1003GB","New Frontier, Iron Mountain Quarry-Porphyry","3022300110",755,"Porphyry 1","2511",2018,{"$error":"#N/A"},{"$error":"#N/A"},null,null,null,null,null,null,null,null,null,null,null,null,null,null,null,null,"Interstate Testing Services, LLC","ITS",null,null,null,null,"1003GB","Norris Quarries, Amazonia Quarry","",0,null,null,null,{"$error":"#N/A"}]
["PCCP 3/4\" Gravel","100507..OPTGV1",4045,"tons","E042","1003GB","Norris Quarries LLC, Agency (APAC - Agency)","3014800211",1030,"Stoner 1S-5S","0008",3297,{"$error":"#N/A"},{"$error":"#N/A"},null,null,null,null,null,null,null,null,null,null,null,null,null,null,null,null,"Intertek - PSI","PSS",null,null,null,null,"1003GB","Norris Quarries, Bethany","",0,null,null,null,{"$error":"#N/A"}]
["PCCP 3/4\" LS/DO","100507..OPTLD1",4042,"tons","E042","1003GB","Norris Quarries LLC, Akron (Jefferies Quarry)","3030615411",807,"Bethany Falls 2BF-4BF","5233",2207,{"$error":"#N/A"},{"$error":"#N/A"},null,null,null,null,null,null,null,null,null,null,null,null,null,null,null,null,"Iowa Civil Contracting, Inc.","ICC",null,null,null,null,"1003GB","Norris Quarries, Blue Mound","",0,null,null,null,{"$error":"#N/A"}]
["PCCP 3/8\" Bottom Ash","100504..BA1",4050,"tons","E042","1003GB","Norris Quarries LLC, Kingston (APAC - Kingston)","3014800411",1033,"Bethany Falls 1BF-4BF","0015",3337,{"$error":"#N/A"},{"$error":"#N/A"},null,null,null,null,null,null,null,null,null,null,null,null,null,null,null,null,"Iron Mountain Trap Rock Company","IMC",null,null,null,null,"1003GB","Norris Quarries, Breit Quarry, Savannah","",0,null,null,null,{"$error":"#N/A"}]
["PCCP 3/8\" Gravel","100504..OPTGV1",4048,"tons","E042","1003GB","Norris Quarries LLC, Kingston (APAC - Kingston)","3014800411",1033,"Winterset 1W-3W","0013",3335,{"$error":"#N/A"},{"$error":"#N/A"},null,null,null,null,null,null,null,null,null,null,null,null,null,null,null,null,"J M Scheidle, LLC","JMS",null,null,null,null,"1003GB","Norris Quarries, Gallatin Quarry","",0,null,null,null,{"$error":"#N/A"}]
["PCCP 3/8\" LS/DO","100504..OPTLD1",4046,"tons","E042","1003GB","Norris Quarries LLC, Plattsburg South (APAC)","3014801111",1035,"Stoner 1-4","0017",3365,{"$error":"#N/A"},{"$error":"#N/A"},null,null,null,null,null,null,null,null,null,null,null,null,null,null,null,null,"J. M. Fahey Construction Co.","JMF",null,null,null,null,"1003GB","Norris Quarries, Princeton Quarry","",0,null,null,null,{"$error":"#N/A"}]
["PCCP 3/8\" Nat Sand","100504..OPTNS1",4037,"tons","E042","1003GB","Norris Quarries, Amazonia Quarry","3061800211",888,"Kereford 1K","1929",2717,{"$error":"#N/A"},{"$error":"#N/A"},null,null,null,null,null,null,null,null,null,null,null,null,null,null,null,null,"J. M. Marschuetz Construction Co.","JMC",null,null,null,null,"1003GB","Norris Quarries, Trenton","",0,null,null,null,{"$error":"#N/A"}]
["PCCP Gr.F LS/DO","1005GFCPLS",4032,"tons","E042","1003GB","Norris Quarries, Amazonia Quarry","3061800211",888,"Kereford 1K-2K","0030",2703,{"$error":"#N/A"},{"$error":"#N/A"},null,null,null,null,null,null,null,null,null,null,null,null,null,null,null,null,"J.H. Berra Construction Co., Inc.","JHB",null,null,null,null,"1003GB","Quality Aggregates (Hillside LLC)","",0,null,null,null,{"$error":"#N/A"}]
["PCCP/Mas 1\" Granite","100510..CPCMGT",4064,"tons","E042","1003GB","Norris Quarries, Bethany","3030616611",809,"Bethany Falls 9BF-12BF","3170",2228,{"$error":"#N/A"},{"$error":"#N/A"},null,null,null,null,null,null,null,null,null,null,null,null,null,null,null,null,"James H. Drew Corporation","JHD",null,null,null,null,"1003GB","Schildberg Construction, Graham","",0,null,null,null,{"$error":"#N/A"}]
["PCCP/Mas 1\" LS/DO","100510..CPCMLD",4051,"tons","E042","1003GB","Norris Quarries, Blue Mound","3018700212",849,"Bethany Falls 2BF-3BF","5884",2612,{"$error":"#N/A"},{"$error":"#N/A"},null,null,null,null,null,null,null,null,null,null,null,null,null,null,null,null,"Jeff Asbell Excavating & Trucking Inc.","AET",null,null,null,null,"1003GB","Summit Materials, Marshall (Boone Quarries)","",0,null,null,null,{"$error":"#N/A"}]
["PCCP/Mas 1\" Porphry","100510..CPPY",4061,"tons","E042","1003GB","Norris Quarries, Breit Quarry, Savannah","3030693411",806,"Amazonia 8AZ","0999",2184,{"$error":"#N/A"},{"$error":"#N/A"},null,null,null,null,null,null,null,null,null,null,null,null,null,null,null,null,"Jeff City Industry, Inc. dba J.C. Industries, Inc.","JCI",null,null,null,null,"1003GB","Table Rock, Stoneridge Qy","",0,null,null,null,{"$error":"#N/A"}]
["PCCP/Mas 1/2\" LS/DO","100505..CPCMLD",4034,"tons","E042","1003GB","Norris Quarries, Breit Quarry, Savannah","3030693411",806,"Kereford 1K","1924",2194,{"$error":"#N/A"},{"$error":"#N/A"},null,null,null,null,null,null,null,null,null,null,null,null,null,null,null,null,"Jefferson Asphalt Company","JFA",null,null,null,null,"1003GB","Trager Limestone, Gallatin (SOUTH)","",0,null,null,null,{"$error":"#N/A"}]
["PCCP/Mas 3/4\" LS/DO","100507..CPCMLD",4052,"tons","E042","1003GB","Norris Quarries, Gallatin Quarry","3030616511",811,"Bethany Falls 1BF-3BF","0044",2265,{"$error":"#N/A"},{"$error":"#N/A"},null,null,null,null,null,null,null,null,null,null,null,null,null,null,null,null,"Joe's Bridge & Grading, Inc.","JBG",null,null,null,null,"1003GB","Trager Limestone, Nettleton","",0,null,null,null,{"$error":"#N/A"}]
["PCCP/Mas 3/8\" LS/DO","100504..CPCMLD",4060,"tons","E042","1003GB","Norris Quarries, Gallatin Quarry","3030616511",811,"Bethany Falls 2BF-3BF","2801",2271,{"$error":"#N/A"},{"$error":"#N/A"},null,null,null,null,null,null,null,null,null,null,null,null,null,null,null,null,"Jokerst Paving & Contracting, Inc.","JPC",null,null,null,null,"1003GB","Twin States Sand & Gravel","",0,null,null,null,{"$error":"#N/A"}]
["Recyclable Asphalt","1007..RAP1",3914,"tons","E042","1003GB","Norris Quarries, Princeton Quarry","3030600912",787,"Bethany Falls 1-4","0376",2063,{"$error":"#N/A"},{"$error":"#N/A"},null,null,null,null,null,null,null,null,null,null,null,null,null,null,null,null,"Joplin Industrial Electric Company, Inc.","JIE",null,null,null,null,"1003GB","Williams Divers Matl (WDM), Sooner (Bingham #10)","",0,null,null,null,{"$error":"#N/A"}]
["Recycled Conc. T1T5","1007..RCBT1T5",3917,"tons","E042","1003GB","Norris Quarries, Trenton","3030601212",788,"Bethany Falls 1B-3B","3393",2080,{"$error":"#N/A"},{"$error":"#N/A"},null,null,null,null,null,null,null,null,null,null,null,null,null,null,null,null,"K.J.U., Inc. dba K.J. Unnerstall Construction Co.","KJU",null,null,null,null,"1003GB2","Buildex, Inc., New Market, MO","",0,null,null,null,{"$error":"#N/A"}]
["Select Gran Backfill","1010SGBF",3988,"tons","E042","1003GB","Norris Quarries, Trenton","3030601212",788,"Winterset 1-5","0402",2086,{"$error":"#N/A"},{"$error":"#N/A"},null,null,null,null,null,null,null,null,null,null,null,null,null,null,null,null,"K.V.K. Contracting, Inc.","KVK",null,null,null,null,"1003GB2","Capital Materials, Tightwad (APAC)","",0,null,null,null,{"$error":"#N/A"}]
["TR for Scrub Seal","1003ASCTR",5784,"tons","E042","1003GB","Quality Aggregates (Hillside LLC)","3238600114",2290,"Bethany Falls 1BF-4BF","6209",5953,{"$error":"#N/A"},{"$error":"#N/A"},null,null,null,null,null,null,null,null,null,null,null,null,null,null,null,null,"KAT Excavation, Inc.","KEV",null,null,null,null,"1003GB2","Capital Sand #1,  Wardsville (Osage Riv)","",0,null,null,null,{"$error":"#N/A"}]
[null,null,null,null,null,"1003GB","Quality Aggregates (Hillside LLC)","3238600114",2290,"Bethany Falls 4-BF","4246",5948,{"$error":"#N/A"},{"$error":"#N/A"},null,null,null,null,null,null,null,null,null,null,null,null,null,null,null,null,"KCI Construction Company","KCI",null,null,null,null,"1003GB2","Central Stone #1, Hannibal (Huntington)","",0,null,null,null,{"$error":"#N/A"}]
[null,null,null,null,null,"1003GB","Schildberg Construction, Graham","3041404811",293,"Ervine Creek 2EC-4EC","1464",1002,{"$error":"#N/A"},{"$error":"#N/A"},null,null,null,null,null,null,null,null,null,null,null,null,null,null,null,null,"KTI","KTI",null,null,null,null,"1003GB2","Central Stone, Butler Hill Quarry","",0,null,null,null,{"$error":"#N/A"}]
[null,null,null,null,null,"1003GB","Summit Materials, Marshall (Boone Quarries)","3176713215",1976,"Cedar Valley 5CA-9CA","6605",5592,{"$error":"#N/A"},{"$error":"#N/A"},null,null,null,null,null,null,null,null,null,null,null,null,null,null,null,null,"Karrenbrock Excavating, LLC","KBA",null,null,null,null,"1003GB2","Conco #0496, Marshfield (Ash Grove)","",0,null,null,null,{"$error":"#N/A"}]
[null,null,null,null,null,"1003GB","Summit Materials, Marshall (Boone Quarries)","3176713215",1976,"Chouteau 1C-2C-3C","4758",5583,{"$error":"#N/A"},{"$error":"#N/A"},null,null,null,null,null,null,null,null,null,null,null,null,null,null,null,null,"Keeley & Sons, Inc.","KLY",null,null,null,null,"1003GB2","L & W Construction, Mystic","",0,null,null,null,{"$error":"#N/A"}]
[null,null,null,null,null,"1003GB","Summit Materials, Marshall (Boone Quarries)","3176713215",1976,"Chouteau - Cedar Valley 4C,5-9CA","7158",5593,{"$error":"#N/A"},{"$error":"#N/A"},null,null,null,null,null,null,null,null,null,null,null,null,null,null,null,null,"Keith Simpson Contracting, LLC","KSC",null,null,null,null,"1003GB2","Martin Marietta, Ferrelview (Stamper)","",0,null,null,null,{"$error":"#N/A"}]
[null,null,null,null,null,"1003GB","Summit Materials, Marshall (Boone Quarries)","3176713215",1976,"Chouteau-Cedar Valley 4C,5-6CA,8-9CA","6170",5591,{"$error":"#N/A"},{"$error":"#N/A"},null,null,null,null,null,null,null,null,null,null,null,null,null,null,null,null,"Koehler Engineering and Land Surveying, Inc.","KEL",null,null,null,null,"1003GB2","New Frontier, Iron Mountain Quarry-Porphyry","",0,null,null,null,{"$error":"#N/A"}]
[null,null,null,null,null,"1003GB","Table Rock, Stoneridge Qy","3045500318",188,"Compton 2W","4767",597,{"$error":"#N/A"},{"$error":"#N/A"},null,null,null,null,null,null,null,null,null,null,null,null,null,null,null,null,"Kolb Grading, LLC","KLG",null,null,null,null,"1003GB2","Norris Quarries LLC, Akron (Jefferies Quarry)","",0,null,null,null,{"$error":"#N/A"}]
[null,null,null,null,null,"1003GB","Table Rock, Stoneridge Qy","3045500318",188,"Pierson 1-3","5388",598,{"$error":"#N/A"},{"$error":"#N/A"},null,null,null,null,null,null,null,null,null,null,null,null,null,null,null,null,"Kozeny-Wagner, Inc.","KZW",null,null,null,null,"1003GB2","Norris Quarries LLC, Cameron South (APAC)","",0,null,null,null,{"$error":"#N/A"}]
[null,null,null,null,null,"1003GB","Trager Limestone, Gallatin (SOUTH)","3160800111",365,"Bethany Falls 2BF - 5BF","5873",1146,{"$error":"#N/A"},{"$error":"#N/A"},null,null,null,null,null,null,null,null,null,null,null,null,null,null,null,null,"L. G. Barcus and Sons, Inc.","LGB",null,null,null,null,"1003GB2","Norris Quarries LLC, Kingston (APAC - Kingston)","",0,null,null,null,{"$error":"#N/A"}]
[null,null,null,null,null,"1003GB","Trager Limestone, Nettleton","3176715011",2385,"Bethany Falls 1BF-4BF","3478",6079,{"$error":"#N/A"},{"$error":"#N/A"},null,null,null,null,null,null,null,null,null,null,null,null,null,null,null,null,"L.F. Krupp Construction, Inc. dba Krupp Construction","LFK",null,null,null,null,"1003GB2","Norris Quarries LLC, Plattsburg South (APAC)","",0,null,null,null,{"$error":"#N/A"}]
[null,null,null,null,null,"1003GB","Twin States Sand & Gravel","3443800112",3923,"Bethany Falls 1-3","6554",6876,{"$error":"#N/A"},{"$error":"#N/A"},null,null,null,null,null,null,null,null,null,null,null,null,null,null,null,null,"Lamke Trenching & Excavating, Inc.","LTE",null,null,null,null,"1003GB2","Norris Quarries, Amazonia Quarry","",0,null,null,null,{"$error":"#N/A"}]
[null,null,null,null,null,"1003GB","Williams Divers Matl (WDM), Sooner (Bingham #10)","3004001017",3439,"Chat CHAT","6000",6748,{"$error":"#N/A"},{"$error":"#N/A"},null,null,null,null,null,null,null,null,null,null,null,null,null,null,null,null,"Lead Belt Materials Company, Inc.","LBM",null,null,null,null,"1003GB2","Norris Quarries, Bethany","",0,null,null,null,{"$error":"#N/A"}]
[null,null,null,null,null,"1003GB2","Buildex, Inc., New Market, MO","3005500314",3091,"Lightweight Aggregate - Weston Shale LT WT","5264",6507,{"$error":"#N/A"},{"$error":"#N/A"},null,null,null,null,null,null,null,null,null,null,null,null,null,null,null,null,"Leath & Sons, Inc.","LES",null,null,null,null,"1003GB2","Norris Quarries, Blue Mound","",0,null,null,null,{"$error":"#N/A"}]
[null,null,null,null,null,"1003GB2","Capital Materials, Tightwad (APAC)","3020600114",927,"Burlington 1,2,3","2328",2872,{"$error":"#N/A"},{"$error":"#N/A"},null,null,null,null,null,null,null,null,null,null,null,null,null,null,null,null,"Leavenworth Excavating & Equipment Company, Inc.","LEE",null,null,null,null,"1003GB2","Norris Quarries, Breit Quarry, Savannah","",0,null,null,null,{"$error":"#N/A"}]
[null,null,null,null,null,"1003GB2","Capital Materials, Tightwad (APAC)","3020600114",927,"Chouteau-LowerBurlington-Pierson 4,5,6,7,3A","5910",2882,{"$error":"#N/A"},{"$error":"#N/A"},null,null,null,null,null,null,null,null,null,null,null,null,null,null,null,null,"Lehman Construction, LLC","LHC",null,null,null,null,"1003GB2","Norris Quarries, Gallatin Quarry","",0,null,null,null,{"$error":"#N/A"}]
[null,null,null,null,null,"1003GB2","Capital Sand #1,  Wardsville (Osage Riv)","3006400615",1922,"Osage River gravel GRAVEL","3093",5469,{"$error":"#N/A"},{"$error":"#N/A"},null,null,null,null,null,null,null,null,null,null,null,null,null,null,null,null,"Leo Journagan Construction Co., Inc.","LJC",null,null,null,null,"1003GB2","Norris Quarries, Princeton Quarry","",0,null,null,null,{"$error":"#N/A"}]
[null,null,null,null,null,"1003GB2","Central Stone #1, Hannibal (Huntington)","3007900113",948,"Cedar Valley 13-11","0001",3038,{"$error":"#N/A"},{"$error":"#N/A"},null,null,null,null,null,null,null,null,null,null,null,null,null,null,null,null,"Loch Sand and Construction Co.","LSC",null,null,null,null,"1003GB2","Norris Quarries, Trenton","",0,null,null,null,{"$error":"#N/A"}]
[null,null,null,null,null,"1003GB2","Central Stone #1, Hannibal (Huntington)","3007900113",948,"Kimmswick 10-1","0191",3041,{"$error":"#N/A"},{"$error":"#N/A"},null,null,null,null,null,null,null,null,null,null,null,null,null,null,null,null,"Magruder Construction Co., Inc.","MCC",null,null,null,null,"1003GB2","Schildberg Construction, Graham","",0,null,null,null,{"$error":"#N/A"}]
[null,null,null,null,null,"1003GB2","Central Stone, Butler Hill Quarry","3007906217",4812,"Rhyolite 1","6464",7197,{"$error":"#N/A"},{"$error":"#N/A"},null,null,null,null,null,null,null,null,null,null,null,null,null,null,null,null,"Magruder Paving, LLC","MGP",null,null,null,null,"1003GB2","Summit Materials, Marshall (Boone Quarries)","",0,null,null,null,{"$error":"#N/A"}]
[null,null,null,null,null,"1003GB2","Conco #0496, Marshfield (Ash Grove)","3002909618",1070,"Jefferson City - Cotter 1-3","2887",3429,{"$error":"#N/A"},{"$error":"#N/A"},null,null,null,null,null,null,null,null,null,null,null,null,null,null,null,null,"Mar-Jim Contracting, LLC","MJC",null,null,null,null,"1003GB2","Trager Limestone, Gallatin (SOUTH)","",0,null,null,null,{"$error":"#N/A"}]
[null,null,null,null,null,"1003GB2","L & W Construction, Mystic","3026300512",670,"Exline 1E","0397",1669,{"$error":"#N/A"},{"$error":"#N/A"},null,null,null,null,null,null,null,null,null,null,null,null,null,null,null,null,"Mark One Electric Co., Inc.","MOE",null,null,null,null,"1003GB2","Trager Limestone, Nettleton","",0,null,null,null,{"$error":"#N/A"}]
[null,null,null,null,null,"1003GB2","Martin Marietta, Ferrelview (Stamper)","3021300214",925,"Bethany Falls 1BF-2BF-3BF","4600",2860,{"$error":"#N/A"},{"$error":"#N/A"},null,null,null,null,null,null,null,null,null,null,null,null,null,null,null,null,"Marketing Associates, Inc.","MKA",null,null,null,null,"1003GB2","Trap Rock and Granite Quarries, LLC","",0,null,null,null,{"$error":"#N/A"}]
[null,null,null,null,null,"1003GB2","New Frontier, Iron Mountain Quarry-Porphyry","3022300110",755,"Porphyry 1","2511",2018,{"$error":"#N/A"},{"$error":"#N/A"},null,null,null,null,null,null,null,null,null,null,null,null,null,null,null,null,"MegaKC Corporation","MIC",null,null,null,null,"1003GB2","Twin States Sand & Gravel","",0,null,null,null,{"$error":"#N/A"}]
[null,null,null,null,null,"1003GB2","Norris Quarries LLC, Akron (Jefferies Quarry)","3030615411",807,"Bethany Falls 2BF-4BF","5233",2207,{"$error":"#N/A"},{"$error":"#N/A"},null,null,null,null,null,null,null,null,null,null,null,null,null,null,null,null,"Mera Excavating, LLC","MER",null,null,null,null,"1003GB2","Vance Brothers Inc. (Kansas City)","",0,null,null,null,{"$error":"#N/A"}]
[null,null,null,null,null,"1003GB2","Norris Quarries LLC, Kingston (APAC - Kingston)","3014800411",1033,"Bethany Falls 1BF-4BF","0015",3337,{"$error":"#N/A"},{"$error":"#N/A"},null,null,null,null,null,null,null,null,null,null,null,null,null,null,null,null,"Mid-River Asphalt, Inc.","MRA",null,null,null,null,"1003GB2","Willard Constr, Sleeper","",0,null,null,null,{"$error":"#N/A"}]
[null,null,null,null,null,"1003GB2","Norris Quarries LLC, Kingston (APAC - Kingston)","3014800411",1033,"Winterset 1W-3W","0013",3335,{"$error":"#N/A"},{"$error":"#N/A"},null,null,null,null,null,null,null,null,null,null,null,null,null,null,null,null,"Midwest Heavy Construction, LLC","MWC",null,null,null,null,"1003GB2LW","Arcosa Lightweight (IN)","",0,null,null,null,{"$error":"#N/A"}]
[null,null,null,null,null,"1003GB2","Norris Quarries LLC, Plattsburg South (APAC)","3014801111",1035,"Stoner 1-4","0017",3365,{"$error":"#N/A"},{"$error":"#N/A"},null,null,null,null,null,null,null,null,null,null,null,null,null,null,null,null,"Miles Excavating, Inc.","MEX",null,null,null,null,"1003GB2LW","Arcosa Lightweight (KY)","",0,null,null,null,{"$error":"#N/A"}]
[null,null,null,null,null,"1003GB2","Norris Quarries, Amazonia Quarry","3061800211",888,"Kereford 1K","1929",2717,{"$error":"#N/A"},{"$error":"#N/A"},null,null,null,null,null,null,null,null,null,null,null,null,null,null,null,null,"Mill Valley Construction, Inc.","MVC",null,null,null,null,"1003GB2LW","Buildex, Inc., New Market, MO","",0,null,null,null,{"$error":"#N/A"}]
[null,null,null,null,null,"1003GB2","Norris Quarries, Amazonia Quarry","3061800211",888,"Kereford 1K-2K","0030",2703,{"$error":"#N/A"},{"$error":"#N/A"},null,null,null,null,null,null,null,null,null,null,null,null,null,null,null,null,"Millstone Bangert, Inc.","MBG",null,null,null,null,"1003GBLW","APAC-Central, Busiek (Anderson Qy)","",0,null,null,null,{"$error":"#N/A"}]
[null,null,null,null,null,"1003GB2","Norris Quarries, Bethany","3030616611",809,"Bethany Falls 9BF-12BF","3170",2228,{"$error":"#N/A"},{"$error":"#N/A"},null,null,null,null,null,null,null,null,null,null,null,null,null,null,null,null,"Millstone Weber, LLC","MLW",null,null,null,null,"1003GBLW","Arcosa Lightweight (IN)","",0,null,null,null,{"$error":"#N/A"}]
[null,null,null,null,null,"1003GB2","Norris Quarries, Blue Mound","3018700212",849,"Bethany Falls 2BF-3BF","5884",2612,{"$error":"#N/A"},{"$error":"#N/A"},null,null,null,null,null,null,null,null,null,null,null,null,null,null,null,null,"Missouri Petroleum Products Company, LLC","MPP",null,null,null,null,"1003GBLW","Arcosa Lightweight (KY)","",0,null,null,null,{"$error":"#N/A"}]
[null,null,null,null,null,"1003GB2","Norris Quarries, Breit Quarry, Savannah","3030693411",806,"Amazonia 8AZ","0999",2184,{"$error":"#N/A"},{"$error":"#N/A"},null,null,null,null,null,null,null,null,null,null,null,null,null,null,null,null,"Musselman and Hall Contractors, LLC","MHC",null,null,null,null,"1003GBLW","Bailey Quarries #2, Dolomite","",0,null,null,null,{"$error":"#N/A"}]
[null,null,null,null,null,"1003GB2","Norris Quarries, Breit Quarry, Savannah","3030693411",806,"Kereford 1K","1924",2194,{"$error":"#N/A"},{"$error":"#N/A"},null,null,null,null,null,null,null,null,null,null,null,null,null,null,null,null,"N.B. West Contracting Company","NBW",null,null,null,null,"1003GBLW","Buildex, Inc., New Market, MO","",0,null,null,null,{"$error":"#N/A"}]
[null,null,null,null,null,"1003GB2","Norris Quarries, Gallatin Quarry","3030616511",811,"Bethany Falls 1BF-3BF","0044",2265,{"$error":"#N/A"},{"$error":"#N/A"},null,null,null,null,null,null,null,null,null,null,null,null,null,null,null,null,"New Frontier Materials, LLC","NFR",null,null,null,null,"1003GBLW","Hydraulic Press Brick Company","",0,null,null,null,{"$error":"#N/A"}]
[null,null,null,null,null,"1003GB2","Norris Quarries, Gallatin Quarry","3030616511",811,"Bethany Falls 2BF-3BF","2801",2271,{"$error":"#N/A"},{"$error":"#N/A"},null,null,null,null,null,null,null,null,null,null,null,null,null,null,null,null,"Norris Asphalt Paving Co., LC","NAP",null,null,null,null,"1003GC","APAC-Arkansas - Belle Vista","",0,null,null,null,{"$error":"#N/A"}]
[null,null,null,null,null,"1003GB2","Norris Quarries, Princeton Quarry","3030600912",787,"Bethany Falls 1-4","0376",2063,{"$error":"#N/A"},{"$error":"#N/A"},null,null,null,null,null,null,null,null,null,null,null,null,null,null,null,null,"North Central Bridge, LLC","NCB",null,null,null,null,"1003GC","APAC-Kansas Bates City Quarry","",0,null,null,null,{"$error":"#N/A"}]
[null,null,null,null,null,"1003GB2","Norris Quarries, Trenton","3030601212",788,"Bethany Falls 1B-3B","3393",2080,{"$error":"#N/A"},{"$error":"#N/A"},null,null,null,null,null,null,null,null,null,null,null,null,null,null,null,null,"OWN, Inc.","AND",null,null,null,null,"1003GC","APAC-Kansas Harrisonville Quarry","",0,null,null,null,{"$error":"#N/A"}]
[null,null,null,null,null,"1003GB2","Norris Quarries, Trenton","3030601212",788,"Bethany Falls 1B-4B","0373",2076,{"$error":"#N/A"},{"$error":"#N/A"},null,null,null,null,null,null,null,null,null,null,null,null,null,null,null,null,"Olsson, Inc - Overland Park","OIO",null,null,null,null,"1003GC","Anchor Stone - Joplin",{"$f":"IF(AK172=$AK$44,AL172,\"\")","v":""},0,null,null,null,{"$error":"#N/A"}]
[null,null,null,null,null,"1003GB2","Norris Quarries, Trenton","3030601212",788,"Winterset 1-5","0402",2086,{"$error":"#N/A"},{"$error":"#N/A"},null,null,null,null,null,null,null,null,null,null,null,null,null,null,null,null,"Olsson, Inc - Springfield","OIS",null,null,null,null,"1003GC","Anchor Stone, Jane (Bailey)","",0,null,null,null,{"$error":"#N/A"}]
[null,null,null,null,null,"1003GB2","Schildberg Construction, Graham","3041404811",293,"Ervine Creek 2EC-4EC","1464",1002,{"$error":"#N/A"},{"$error":"#N/A"},null,null,null,null,null,null,null,null,null,null,null,null,null,null,null,null,"PCiRoads, LLC","PCI",null,null,null,null,"1003GC","Beyers Crushed Rock Co.","",0,null,null,null,{"$error":"#N/A"}]
[null,null,null,null,null,"1003GB2","Summit Materials, Marshall (Boone Quarries)","3176713215",1976,"Cedar Valley 5CA-9CA","6605",5592,{"$error":"#N/A"},{"$error":"#N/A"},null,null,null,null,null,null,null,null,null,null,null,null,null,null,null,null,"Pace Construction Company, LLC","PAC",null,null,null,null,"1003GC","Blackwater Quarries, LLC","",0,null,null,null,{"$error":"#N/A"}]
[null,null,null,null,null,"1003GB2","Summit Materials, Marshall (Boone Quarries)","3176713215",1976,"Chouteau 1C-2C-3C","4758",5583,{"$error":"#N/A"},{"$error":"#N/A"},null,null,null,null,null,null,null,null,null,null,null,null,null,null,null,null,"Page Constructors, LLC","PGC",null,null,null,null,"1003GC","Boone Quarries, Houstonia (Mid MO Mertens)","",0,null,null,null,{"$error":"#N/A"}]
[null,null,null,null,null,"1003GB2","Summit Materials, Marshall (Boone Quarries)","3176713215",1976,"Chouteau - Cedar Valley 4C,5-9CA","7158",5593,{"$f":"IF(AND($F$17=H177,$AK$44=F177),J177,\"\")","v":{"$error":"#N/A"}},{"$f":"IF(AND($F$17=H177,$AK$44=F177),L177,\"\")","v":{"$error":"#N/A"}},null,null,null,null,null,null,null,null,null,null,null,null,null,null,null,null,"Palmerton & Parrish, Inc.","PAP",null,null,null,null,"1003GC","Boone Quarries, Hughesville (Fischer)",{"$f":"IF(AK177=$AK$44,AL177,\"\")","v":""},0,null,null,null,{"$error":"#N/A"}]
[null,null,null,null,null,"1003GB2","Trager Limestone, Gallatin (SOUTH)","3160800111",365,"Bethany Falls 2BF - 5BF","5873",1146,{"$error":"#N/A"},{"$error":"#N/A"},null,null,null,null,null,null,null,null,null,null,null,null,null,null,null,null,"Paramount Testing Corporation","PTC",null,null,null,null,"1003GC","Boone Quarries, Millersburg (Mid MO Mertens)","",0,null,null,null,{"$error":"#N/A"}]
[null,null,null,null,null,"1003GB2","Trager Limestone, Nettleton","3176715011",2385,"Bethany Falls 1BF-4BF","3478",6079,{"$error":"#N/A"},{"$error":"#N/A"},null,null,null,null,null,null,null,null,null,null,null,null,null,null,null,null,"Pavement Solutions, LLC","PVS",null,null,null,null,"1003GC","Boone Quarry #1, Columbia","",0,null,null,null,{"$error":"#N/A"}]
[null,null,null,null,null,"1003GB2","Trap Rock and Granite Quarries, LLC","3243500119",2512,"Granite 1","6450",6185,{"$error":"#N/A"},{"$error":"#N/A"},null,null,null,null,null,null,null,null,null,null,null,null,null,null,null,null,"Phillips Hardy, Inc.","PHI",null,null,null,null,"1003GC","Capital Materials, Laurie (APAC)","",0,null,null,null,{"$error":"#N/A"}]
[null,null,null,null,null,"1003GB2","Trap Rock and Granite Quarries, LLC","3243500119",2512,"Rhyolite 2","6449",6184,{"$error":"#N/A"},{"$error":"#N/A"},null,null,null,null,null,null,null,null,null,null,null,null,null,null,null,null,"Premier Engineering Consultants  LLC","PEC",null,null,null,null,"1003GC","Capital Materials, Leeton (APAC)","",0,null,null,null,{"$error":"#N/A"}]
[null,null,null,null,null,"1003GB2","Twin States Sand & Gravel","3443800112",3923,"Bethany Falls 1-3","6554",6876,{"$error":"#N/A"},{"$error":"#N/A"},null,null,null,null,null,null,null,null,null,null,null,null,null,null,null,null,"Premier Testing Laboratories","PTL",null,null,null,null,"1003GC","Capital Materials, Ozark (Journagan, Journagan Qy)","",0,null,null,null,{"$error":"#N/A"}]
[null,null,null,null,null,"1003GB2","Willard Constr, Sleeper","3050100418",77,"Jefferson City 1-4","1948",154,{"$error":"#N/A"},{"$error":"#N/A"},null,null,null,null,null,null,null,null,null,null,null,null,null,null,null,null,"Pyramid Contractors, Inc.","PYR",null,null,null,null,"1003GC","Capital Materials, Palo Quarry (Smasal)","",0,null,null,null,{"$error":"#N/A"}]
[null,null,null,null,null,"1003GB2LW","Arcosa Lightweight (IN)","3533800319",5304,"Arcosa Lightweight (IN), Haydite Haydite","7599",7590,{"$error":"#N/A"},{"$error":"#N/A"},null,null,null,null,null,null,null,null,null,null,null,null,null,null,null,null,"Quality Testing and Engineering","QTE",null,null,null,null,"1003GC","Capital Materials, Tightwad (APAC)","",0,null,null,null,{"$error":"#N/A"}]
[null,null,null,null,null,"1003GB2LW","Arcosa Lightweight (KY)","3533800219",5220,"Arcosa Lightweight (KY), Haydite Haydite","7476",7459,{"$error":"#N/A"},{"$error":"#N/A"},null,null,null,null,null,null,null,null,null,null,null,null,null,null,null,null,"R. V. Wagner, Inc.","RVW",null,null,null,null,"1003GC","Capital Quarries, Arcadia","",0,null,null,null,{"$error":"#N/A"}]
[null,null,null,null,null,"1003GBLW","Arcosa Lightweight (IN)","3533800319",5304,"Arcosa Lightweight (IN), Haydite Haydite","7599",7590,{"$error":"#N/A"},{"$error":"#N/A"},null,null,null,null,null,null,null,null,null,null,null,null,null,null,null,null,"R.A. Knapp Construction, Inc.","RAK",null,null,null,null,"1003GC","Capital Quarries, Rolla","",0,null,null,null,{"$error":"#N/A"}]
[null,null,null,null,null,"1003GBLW","Arcosa Lightweight (KY)","3533800219",5220,"Arcosa Lightweight (KY), Haydite Haydite","7476",7459,{"$error":"#N/A"},{"$error":"#N/A"},null,null,null,null,null,null,null,null,null,null,null,null,null,null,null,null,"RL Persons Construction, Inc.","RPC",null,null,null,null,"1003GC","Central Stone #1, Hannibal (Huntington)","",0,null,null,null,{"$error":"#N/A"}]
[null,null,null,null,null,"1003GBLW","Buildex, Inc., New Market, MO","3005500314",3091,"Lightweight Aggregate - Weston Shale LT WT","5264",6507,{"$error":"#N/A"},{"$error":"#N/A"},null,null,null,null,null,null,null,null,null,null,null,null,null,null,null,null,"Radmacher Brothers Excavating Co., Inc.","RDB",null,null,null,null,"1003GC","Conco #0465, Fairplay (Ash Grove)","",0,null,null,null,{"$error":"#N/A"}]
[null,null,null,null,null,"1003GBLW","Hydraulic Press Brick Company","3461300116",4555,"Haydite LT WT","6693",6933,{"$error":"#N/A"},{"$error":"#N/A"},null,null,null,null,null,null,null,null,null,null,null,null,null,null,null,null,"Realm Construction  Inc.","REL",null,null,null,null,"1003GC","Crider Bros, Eminence","",0,null,null,null,{"$error":"#N/A"}]
[null,null,null,null,null,"1003GC","APAC-Arkansas - Belle Vista","3150800417",11,"Reeds Spring 1","2330",1,{"$error":"#N/A"},{"$error":"#N/A"},null,null,null,null,null,null,null,null,null,null,null,null,null,null,null,null,"Reinhold Electric, Inc.","REE",null,null,null,null,"1003GC","Double Eagle Aggregate LLC (Ottendorf), Diggins","",0,null,null,null,{"$error":"#N/A"}]
[null,null,null,null,null,"1003GC","APAC-Kansas Bates City Quarry","3176703314",1752,"Bethany Falls 1-3","7213",5089,{"$error":"#N/A"},{"$error":"#N/A"},null,null,null,null,null,null,null,null,null,null,null,null,null,null,null,null,"Robertson Asphalt","RBA",null,null,null,null,"1003GC","Double Eagle Quarry, Ava (Journagan)","",0,null,null,null,{"$error":"#N/A"}]
[null,null,null,null,null,"1003GC","APAC-Kansas Bates City Quarry","3176703314",1752,"Bethany Falls 1-4","2762",5086,{"$error":"#N/A"},{"$error":"#N/A"},null,null,null,null,null,null,null,null,null,null,null,null,null,null,null,null,"Robertson Contractors, Inc.","RBC",null,null,null,null,"1003GC","E and S Rock, LLC","",0,null,null,null,{"$error":"#N/A"}]
[null,null,null,null,null,"1003GC","APAC-Kansas Harrisonville Quarry","3176703014",1750,"Bethany Falls 1-3","3099",5069,{"$error":"#N/A"},{"$error":"#N/A"},null,null,null,null,null,null,null,null,null,null,null,null,null,null,null,null,"Rolla Asphalt, LLC","RLA",null,null,null,null,"1003GC","Fall Valley Stone","",0,null,null,null,{"$error":"#N/A"}]
[null,null,null,null,null,"1003GC","APAC-Kansas Harrisonville Quarry","3176703014",1750,"Winterset 1W-3W","3515",5068,{"$error":"#N/A"},{"$error":"#N/A"},null,null,null,null,null,null,null,null,null,null,null,null,null,null,null,null,"S. H. Smith & Company, Inc.","SHS",null,null,null,null,"1003GC","Hutchens Lime, Eagle Rock","",0,null,null,null,{"$error":"#N/A"}]
[null,null,null,null,null,"1003GC","Anchor Stone - Joplin","3150800217",1091,"Warsaw 1","0355",3493,{"$error":"#N/A"},{"$error":"#N/A"},null,null,null,null,null,null,null,null,null,null,null,null,null,null,null,null,"SCI Engineering - O'Fallon","SCO",null,null,null,null,"1003GC","Hutchens Quarries, Sarcoxie (Bailey)","",0,null,null,null,{"$error":"#N/A"}]
[null,null,null,null,null,"1003GC","Anchor Stone, Jane (Bailey)","3002200417",1360,"Cotter 6-7","2126",4282,{"$error":"#N/A"},{"$error":"#N/A"},null,null,null,null,null,null,null,null,null,null,null,null,null,null,null,null,"SCI Engineering - Union","SCU",null,null,null,null,"1003GC","Ideker Mosby Quarry","",0,null,null,null,{"$error":"#N/A"}]
[null,null,null,null,null,"1003GC","Blackwater Quarries, LLC","3505100115",4863,"Burlington 3","7062",7239,{"$error":"#N/A"},{"$error":"#N/A"},null,null,null,null,null,null,null,null,null,null,null,null,null,null,null,null,"SCI Engineering, Inc. - Rolla","SCR",null,null,null,null,"1003GC","Indian Creek Materials/Houston","",0,null,null,null,{"$error":"#N/A"}]
[null,null,null,null,null,"1003GC","Boone Quarries, Houstonia (Mid MO Mertens)","3031800515",584,"Chouteau 3,4","2210",1449,{"$error":"#N/A"},{"$error":"#N/A"},null,null,null,null,null,null,null,null,null,null,null,null,null,null,null,null,"SCI Engineering, Inc. - St. Charles","SCI",null,null,null,null,"1003GC","Indian Creek Materials/West Plains","",0,null,null,null,{"$error":"#N/A"}]
[null,null,null,null,null,"1003GC","Boone Quarries, Millersburg (Mid MO Mertens)","3031800215",585,"Burlington 2-4","2392",1459,{"$error":"#N/A"},{"$error":"#N/A"},null,null,null,null,null,null,null,null,null,null,null,null,null,null,null,null,"SCM Construction, LLC","SCM",null,null,null,null,"1003GC","Jasper Stone, LLC","",0,null,null,null,{"$error":"#N/A"}]
[null,null,null,null,null,"1003GC","Capital Materials, Laurie (APAC)","3176701715",1870,"Gasconade 5","5220",5372,{"$error":"#N/A"},{"$error":"#N/A"},null,null,null,null,null,null,null,null,null,null,null,null,null,null,null,null,"Samron Midwest Contracting, Inc.","SMC",null,null,null,null,"1003GC","Joplin Stone","",0,null,null,null,{"$error":"#N/A"}]
[null,null,null,null,null,"1003GC","Capital Materials, Leeton (APAC)","3021300314",923,"Higginsville 1","1739",2836,{"$error":"#N/A"},{"$error":"#N/A"},null,null,null,null,null,null,null,null,null,null,null,null,null,null,null,null,"Schrimpf Landscaping, Inc.","SCL",null,null,null,null,"1003GC","Kemp Stone, Neosho (Inland River Aggregates)","",0,null,null,null,{"$error":"#N/A"}]
[null,null,null,null,null,"1003GC","Capital Materials, Ozark (Journagan, Journagan Qy)","3027400118",720,"Burlington 1-4","5794",1884,{"$error":"#N/A"},{"$error":"#N/A"},null,null,null,null,null,null,null,null,null,null,null,null,null,null,null,null,"Schultz Engineering","SCH",null,null,null,null,"1003GC","L & W Construction, Mystic","",0,null,null,null,{"$error":"#N/A"}]
[null,null,null,null,null,"1003GC","Capital Materials, Palo Quarry (Smasal)","3133300715",2947,"Burlington 2","4682",6454,{"$error":"#N/A"},{"$error":"#N/A"},null,null,null,null,null,null,null,null,null,null,null,null,null,null,null,null,"Seminole Equipment, Inc.","SEM",null,null,null,null,"1003GC","Liberty Aggregates","",0,null,null,null,{"$error":"#N/A"}]
[null,null,null,null,null,"1003GC","Capital Materials, Palo Quarry (Smasal)","3133300715",2947,"Burlington 3","5836",6457,{"$error":"#N/A"},{"$error":"#N/A"},null,null,null,null,null,null,null,null,null,null,null,null,null,null,null,null,"Snyder & Associates","SNA",null,null,null,null,"1003GC","Magruder Limestone #1, Troy","",0,null,null,null,{"$error":"#N/A"}]
[null,null,null,null,null,"1003GC","Capital Materials, Tightwad (APAC)","3020600114",927,"Burlington 1","0090",2884,{"$error":"#N/A"},{"$error":"#N/A"},null,null,null,null,null,null,null,null,null,null,null,null,null,null,null,null,"Sprouls Construction, Inc.","SPC",null,null,null,null,"1003GC","Mansfield Quarry, Mansfield","",0,null,null,null,{"$error":"#N/A"}]
[null,null,null,null,null,"1003GC","Capital Materials, Tightwad (APAC)","3020600114",927,"Burlington 1,2,3","2328",2872,{"$error":"#N/A"},{"$error":"#N/A"},null,null,null,null,null,null,null,null,null,null,null,null,null,null,null,null,"St. Louis Bridge Construction Company","SLB",null,null,null,null,"1003GC","Martin Marietta, Ferrelview (Stamper)",{"$f":"IF(AK206=$AK$44,AL206,\"\")","v":""},0,null,null,null,{"$error":"#N/A"}]
[null,null,null,null,null,"1003GC","Capital Materials, Tightwad (APAC)","3020600114",927,"Chouteau 4,5,6","3633",2878,{"$error":"#N/A"},{"$error":"#N/A"},null,null,null,null,null,null,null,null,null,null,null,null,null,null,null,null,"Stanton Contracting, L.L.C.","STC",null,null,null,null,"1003GC","Missouri Rock, Orrick Quarry","",0,null,null,null,{"$error":"#N/A"}]
[null,null,null,null,null,"1003GC","Capital Materials, Tightwad (APAC)","3020600114",927,"Chouteau-LowerBurlington-Pierson 4,5,6,7,3A","5910",2882,{"$error":"#N/A"},{"$error":"#N/A"},null,null,null,null,null,null,null,null,null,null,null,null,null,null,null,null,"Strait-Line Construction USA, Inc.","SLC",null,null,null,null,"1003GC","New Frontier, Iron Mtn Trap Rock Pit #3- Porphyry","",0,null,null,null,{"$error":"#N/A"}]
[null,null,null,null,null,"1003GC","Central Stone #1, Hannibal (Huntington)","3007900113",948,"Cedar Valley 13-11","0001",3038,{"$error":"#N/A"},{"$error":"#N/A"},null,null,null,null,null,null,null,null,null,null,null,null,null,null,null,null,"Superior Bowen Asphalt Company, LLC","SBA",null,null,null,null,"1003GC","Norris Quarries LLC, Agency (APAC - Agency)","",0,null,null,null,{"$error":"#N/A"}]
[null,null,null,null,null,"1003GC","Central Stone #1, Hannibal (Huntington)","3007900113",948,"Kimmswick 10-1","0191",3041,{"$error":"#N/A"},{"$error":"#N/A"},null,null,null,null,null,null,null,null,null,null,null,null,null,null,null,null,"Superior Rail System, LLC","SRS",null,null,null,null,"1003GC","Norris Quarries LLC, Akron (Jefferies Quarry)","",0,null,null,null,{"$error":"#N/A"}]
[null,null,null,null,null,"1003GC","Conco #0465, Fairplay (Ash Grove)","3035400218",1929,"Burlington 1-3","3331",5475,{"$error":"#N/A"},{"$error":"#N/A"},null,null,null,null,null,null,null,null,null,null,null,null,null,null,null,null,"Swift Construction Company, Inc.","SWT",null,null,null,null,"1003GC","Norris Quarries LLC, Cameron South (APAC)","",0,null,null,null,{"$error":"#N/A"}]
[null,null,null,null,null,"1003GC","Crider Bros, Eminence","3011000119",1246,"Eminence 1-2","2836",3962,{"$error":"#N/A"},{"$error":"#N/A"},null,null,null,null,null,null,null,null,null,null,null,null,null,null,null,null,"T.G.B., Inc.","TGB",null,null,null,null,"1003GC","Norris Quarries LLC, Kingston (APAC - Kingston)","",0,null,null,null,{"$error":"#N/A"}]
[null,null,null,null,null,"1003GC","Double Eagle Aggregate LLC (Ottendorf), Diggins","3235900118",2656,"Cotter 1-5","5303",6263,{"$error":"#N/A"},{"$error":"#N/A"},null,null,null,null,null,null,null,null,null,null,null,null,null,null,null,null,"T.S. Banze Holding Company LLD dba T.S. Banze Construction, Inc.","TSB",null,null,null,null,"1003GC","Norris Quarries LLC, Plattsburg South (APAC)","",0,null,null,null,{"$error":"#N/A"}]
[null,null,null,null,null,"1003GC","Double Eagle Quarry, Ava (Journagan)","3027414418",735,"Jefferson City 4-7","0585",1958,{"$error":"#N/A"},{"$error":"#N/A"},null,null,null,null,null,null,null,null,null,null,null,null,null,null,null,null,"TSI Geotechnical, Inc.","TSI",null,null,null,null,"1003GC","Norris Quarries, Amazonia Quarry","",0,null,null,null,{"$error":"#N/A"}]
[null,null,null,null,null,"1003GC","E and S Rock, LLC","3458000114",4456,"Higginsville 1-2","6535",6898,{"$error":"#N/A"},{"$error":"#N/A"},null,null,null,null,null,null,null,null,null,null,null,null,null,null,null,null,"Terracon Consultants, Inc.","TER",null,null,null,null,"1003GC","Norris Quarries, Bethany","",0,null,null,null,{"$error":"#N/A"}]
[null,null,null,null,null,"1003GC","Fall Valley Stone","3040400117",1039,"Cotter 1-2","0338",3388,{"$error":"#N/A"},{"$error":"#N/A"},null,null,null,null,null,null,null,null,null,null,null,null,null,null,null,null,"The Truesdell Corporation of Wisconsin, Inc.dba Truesdell Corporation Midwest","TRS",null,null,null,null,"1003GC","Norris Quarries, Blue Mound","",0,null,null,null,{"$error":"#N/A"}]
[null,null,null,null,null,"1003GC","Hutchens Quarries, Sarcoxie (Bailey)","3027412517",2884,"Burlington 2-3","5634",6415,{"$error":"#N/A"},{"$error":"#N/A"},null,null,null,null,null,null,null,null,null,null,null,null,null,null,null,null,"Thomas Industrial Coatings, Inc.","TIC",null,null,null,null,"1003GC","Norris Quarries, Breit Quarry, Savannah","",0,null,null,null,{"$error":"#N/A"}]
[null,null,null,null,null,"1003GC","Ideker Mosby Quarry","3503800114",4856,"Winterset 1W","6784",7221,{"$error":"#N/A"},{"$error":"#N/A"},null,null,null,null,null,null,null,null,null,null,null,null,null,null,null,null,"Ti-Zack Concrete, Inc.","TZC",null,null,null,null,"1003GC","Norris Quarries, Gallatin Quarry","",0,null,null,null,{"$error":"#N/A"}]
[null,null,null,null,null,"1003GC","Indian Creek Materials/Houston","3012900419",1216,"Jefferson City 4-8","5242",3893,{"$error":"#N/A"},{"$error":"#N/A"},null,null,null,null,null,null,null,null,null,null,null,null,null,null,null,null,"United Ironworkers, Inc.","UIW",null,null,null,null,"1003GC","Norris Quarries, Knoxville (Ray County, #1 SW Pit)","",0,null,null,null,{"$error":"#N/A"}]
[null,null,null,null,null,"1003GC","Indian Creek Materials/West Plains","3012900119",1217,"Jefferson City 14 - 16","1098",3906,{"$error":"#N/A"},{"$error":"#N/A"},null,null,null,null,null,null,null,null,null,null,null,null,null,null,null,null,"VSI&C, LLC","VSI",null,null,null,null,"1003GC","Norris Quarries, LLC - Mt. Airy","",0,null,null,null,{"$error":"#N/A"}]
[null,null,null,null,null,"1003GC","Jasper Stone, LLC","3437300117",3765,"Warsaw 1","6236",6856,{"$error":"#N/A"},{"$error":"#N/A"},null,null,null,null,null,null,null,null,null,null,null,null,null,null,null,null,"Vance Brothers, Inc.","VBI",null,null,null,null,"1003GC","Producer Supplier not designated.","",0,null,null,null,{"$error":"#N/A"}]
[null,null,null,null,null,"1003GC","L & W Construction, Mystic","3026300512",670,"Copper Creek 1CC","5322",1671,{"$error":"#N/A"},{"$error":"#N/A"},null,null,null,null,null,null,null,null,null,null,null,null,null,null,null,null,"Vee-Jay Cement Contracting Company, Inc.","VJC",null,null,null,null,"1003GC","Schildberg Construction, Graham","",0,null,null,null,{"$error":"#N/A"}]
[null,null,null,null,null,"1003GC","L & W Construction, Mystic","3026300512",670,"Exline 1E","0397",1669,{"$error":"#N/A"},{"$error":"#N/A"},null,null,null,null,null,null,null,null,null,null,null,null,null,null,null,null,"W. L. Miller Company","WLM",null,null,null,null,"1003GC","Skyline Materials - Shelby County","",0,null,null,null,{"$error":"#N/A"}]
[null,null,null,null,null,"1003GC","Liberty Aggregates","3523600114",5005,"Bethany Falls 1BF-4BF","7539",7527,{"$error":"#N/A"},{"$error":"#N/A"},null,null,null,null,null,null,null,null,null,null,null,null,null,null,null,null,"Walsh Alberici Joint Venture","WAJ",null,null,null,null,"1003GC","Springfield Underground","",0,null,null,null,{"$error":"#N/A"}]
[null,null,null,null,null,"1003GC","Mansfield Quarry, Mansfield","3029900118",845,"Cotter 14-18","5853",2583,{"$error":"#N/A"},{"$error":"#N/A"},null,null,null,null,null,null,null,null,null,null,null,null,null,null,null,null,"West Plains Bridge & Grading, LLC","WPB",null,null,null,null,"1003GC","Stewart-Morrison - Spring Creek Materials","",0,null,null,null,{"$error":"#N/A"}]
[null,null,null,null,null,"1003GC","Martin Marietta, Ferrelview (Stamper)","3021300214",925,"Bethany Falls 1BF-2BF-3BF","4600",2860,{"$error":"#N/A"},{"$error":"#N/A"},null,null,null,null,null,null,null,null,null,null,null,null,null,null,null,null,"Westport Construction Co.","WCC",null,null,null,null,"1003GC","Summit Materials, Marshall (Boone Quarries)","",0,null,null,null,{"$error":"#N/A"}]
[null,null,null,null,null,"1003GC","Missouri Rock, Orrick Quarry","3033100114",582,"Bethany Falls 2-4","2199",1440,{"$error":"#N/A"},{"$error":"#N/A"},null,null,null,null,null,null,null,null,null,null,null,null,null,null,null,null,"Widel, Inc.","WID",null,null,null,null,"1003GC","Table Rock, Branson Stone","",0,null,null,null,{"$error":"#N/A"}]
[null,null,null,null,null,"1003GC","New Frontier, Iron Mtn Trap Rock Pit #3- Porphyry","3022300310",2261,"Porphyry 1","4284",5924,{"$error":"#N/A"},{"$error":"#N/A"},null,null,null,null,null,null,null,null,null,null,null,null,null,null,null,null,"Willard Asphalt Paving, Inc.","WAP",null,null,null,null,"1003GC","Wayne B. Smith, Pit #8","",0,null,null,null,{"$error":"#N/A"}]
[null,null,null,null,null,"1003GC","Norris Quarries LLC, Agency (APAC - Agency)","3014800211",1030,"Stoner 1S-5S","0008",3297,{"$error":"#N/A"},{"$error":"#N/A"},null,null,null,null,null,null,null,null,null,null,null,null,null,null,null,null,"X-L Contracting, Inc.","XLC",null,null,null,null,"1003GC","Williams Divers Matl (WDM), Sooner (Bingham #10)","",0,null,null,null,{"$error":"#N/A"}]
[null,null,null,null,null,"1003GC","Norris Quarries LLC, Akron (Jefferies Quarry)","3030615411",807,"Bethany Falls 2BF-4BF","5233",2207,{"$error":"#N/A"},{"$error":"#N/A"},null,null,null,null,null,null,null,null,null,null,null,null,null,null,null,null,null,null,null,null,null,null,"1003GC","Yeary Trucking, Swan Creek","",0,null,null,null,{"$error":"#N/A"}]
[null,null,null,null,null,"1003GC","Norris Quarries LLC, Cameron South (APAC)","3014800311",1032,"Stoner 1S-2S","0009",3321,{"$error":"#N/A"},{"$error":"#N/A"},null,null,null,null,null,null,null,null,null,null,null,null,null,null,null,null,null,null,null,null,null,null,"1003GCLW","Arcosa Lightweight (IN)","",0,null,null,null,{"$error":"#N/A"}]
[null,null,null,null,null,"1003GC","Norris Quarries LLC, Kingston (APAC - Kingston)","3014800411",1033,"Bethany Falls 1BF-4BF","0015",3337,{"$error":"#N/A"},{"$error":"#N/A"},null,null,null,null,null,null,null,null,null,null,null,null,null,null,null,null,null,null,null,null,null,null,"1003GCLW","Arcosa Lightweight (KY)","",0,null,null,null,{"$error":"#N/A"}]
[null,null,null,null,null,"1003GC","Norris Quarries LLC, Kingston (APAC - Kingston)","3014800411",1033,"Winterset 1W-3W","0013",3335,{"$error":"#N/A"},{"$error":"#N/A"},null,null,null,null,null,null,null,null,null,null,null,null,null,null,null,null,null,null,null,null,null,null,"1003GCLW","Buildex, Inc., New Market, MO","",0,null,null,null,{"$error":"#N/A"}]
[null,null,null,null,null,"1003GC","Norris Quarries, Amazonia Quarry","3061800211",888,"Kereford 1K","1929",2717,{"$error":"#N/A"},{"$error":"#N/A"},null,null,null,null,null,null,null,null,null,null,null,null,null,null,null,null,null,null,null,null,null,null,"1003GCLW","Producer Supplier not designated.","",0,null,null,null,{"$error":"#N/A"}]
[null,null,null,null,null,"1003GC","Norris Quarries, Amazonia Quarry","3061800211",888,"Kereford 1K-2K","0030",2703,{"$error":"#N/A"},{"$error":"#N/A"},null,null,null,null,null,null,null,null,null,null,null,null,null,null,null,null,null,null,null,null,null,null,"100504..CPCMLD","Capital Materials, Sedalia (Snow Rd-Dresden)","",0,null,null,null,{"$error":"#N/A"}]
[null,null,null,null,null,"1003GC","Norris Quarries, Bethany","3030616611",809,"Bethany Falls 9BF-12BF","3170",2228,{"$error":"#N/A"},{"$error":"#N/A"},null,null,null,null,null,null,null,null,null,null,null,null,null,null,null,null,null,null,null,null,null,null,"100504..CPCMLD","Capital Materials, Tightwad (APAC)","",0,null,null,null,{"$error":"#N/A"}]
[null,null,null,null,null,"1003GC","Norris Quarries, Bethany","3030616611",809,"Bethany Falls 9BF-14B","2346",2226,{"$error":"#N/A"},{"$error":"#N/A"},null,null,null,null,null,null,null,null,null,null,null,null,null,null,null,null,null,null,null,null,null,null,"100504..CPCMLD","Capital Quarries, Danville (Pace Construction)","",0,null,null,null,{"$error":"#N/A"}]
[null,null,null,null,null,"1003GC","Norris Quarries, Bethany","3030616611",809,"Winterset 3-5","5249",2232,{"$error":"#N/A"},{"$error":"#N/A"},null,null,null,null,null,null,null,null,null,null,null,null,null,null,null,null,null,null,null,null,null,null,"100504..CPCMLD","Central Stone #31, Florissant","",0,null,null,null,{"$error":"#N/A"}]
[null,null,null,null,null,"1003GC","Norris Quarries, Blue Mound","3018700212",849,"Bethany Falls 1BF-4BF","5882",2610,{"$error":"#N/A"},{"$error":"#N/A"},null,null,null,null,null,null,null,null,null,null,null,null,null,null,null,null,null,null,null,null,null,null,"100504..CPCMLD","Conco Quarries, Willard","",0,null,null,null,{"$error":"#N/A"}]
[null,null,null,null,null,"1003GC","Norris Quarries, Blue Mound","3018700212",849,"Bethany Falls 2BF-3BF","5884",2612,{"$error":"#N/A"},{"$error":"#N/A"},null,null,null,null,null,null,null,null,null,null,null,null,null,null,null,null,null,null,null,null,null,null,"100504..CPCMLD","Falling Springs Quarry (Stolle)","",0,null,null,null,{"$error":"#N/A"}]
[null,null,null,null,null,"1003GC","Norris Quarries, Breit Quarry, Savannah","3030693411",806,"Amazonia 8AZ","0999",2184,{"$f":"IF(AND($F$17=H241,$AK$44=F241),J241,\"\")","v":{"$error":"#N/A"}},{"$f":"IF(AND($F$17=H241,$AK$44=F241),L241,\"\")","v":{"$error":"#N/A"}},null,null,null,null,null,null,null,null,null,null,null,null,null,null,null,null,null,null,null,null,null,null,"100504..CPCMLD","Joplin Stone",{"$f":"IF(AK241=$AK$44,AL241,\"\")","v":""},0,null,null,null,{"$error":"#N/A"}]
[null,null,null,null,null,"1003GC","Norris Quarries, Breit Quarry, Savannah","3030693411",806,"Kereford 1K","1924",2194,{"$error":"#N/A"},{"$error":"#N/A"},null,null,null,null,null,null,null,null,null,null,null,null,null,null,null,null,null,null,null,null,null,null,"100504..CPCMLD","Mill Creek Quarry (Kemp Quarries)","",0,null,null,null,{"$error":"#N/A"}]
[null,null,null,null,null,"1003GC","Norris Quarries, Breit Quarry, Savannah","3030693411",806,"Plattsmouth 1P-4P","5066",2190,{"$error":"#N/A"},{"$error":"#N/A"},null,null,null,null,null,null,null,null,null,null,null,null,null,null,null,null,null,null,null,null,null,null,"100504..CPCMLD","Mulberry Limestone, Jasper (Nelson Stone Quarry)","",0,null,null,null,{"$error":"#N/A"}]
[null,null,null,null,null,"1003GC","Norris Quarries, Breit Quarry, Savannah","3030693411",806,"Toronto 6T","0527",2182,{"$error":"#N/A"},{"$error":"#N/A"},null,null,null,null,null,null,null,null,null,null,null,null,null,null,null,null,null,null,null,null,null,null,"100504..CPCMLD","Norris Quarries, Breit Quarry, Savannah","",0,null,null,null,{"$error":"#N/A"}]
[null,null,null,null,null,"1003GC","Norris Quarries, Gallatin Quarry","3030616511",811,"Bethany Falls 1BF-3BF","0044",2265,{"$error":"#N/A"},{"$error":"#N/A"},null,null,null,null,null,null,null,null,null,null,null,null,null,null,null,null,null,null,null,null,null,null,"100504..CPCMLD","Producer Supplier not designated.","",0,null,null,null,{"$error":"#N/A"}]
[null,null,null,null,null,"1003GC","Norris Quarries, Gallatin Quarry","3030616511",811,"Bethany Falls 2BF-3BF","2801",2271,{"$error":"#N/A"},{"$error":"#N/A"},null,null,null,null,null,null,null,null,null,null,null,null,null,null,null,null,null,null,null,null,null,null,"100504..OPTGV1","Capital Sand #20, Riverbend (MO Sand Company)","",0,null,null,null,{"$error":"#N/A"}]
[null,null,null,null,null,"1003GC","Norris Quarries, LLC - Mt. Airy","3062100112",1893,"Burlington-Keokuk 1B-5B","6073",5424,{"$error":"#N/A"},{"$error":"#N/A"},null,null,null,null,null,null,null,null,null,null,null,null,null,null,null,null,null,null,null,null,null,null,"100504..OPTGV1","Producer Supplier not designated.","",0,null,null,null,{"$error":"#N/A"}]
[null,null,null,null,null,"1003GC","Norris Quarries, LLC - Mt. Airy","3062100112",1893,"Burlington-Keokuk 5B-7B","7614",7606,{"$error":"#N/A"},{"$error":"#N/A"},null,null,null,null,null,null,null,null,null,null,null,null,null,null,null,null,null,null,null,null,null,null,"100504..OPTLD1","Capital Materials, Tightwad (APAC)","",0,null,null,null,{"$error":"#N/A"}]
[null,null,null,null,null,"1003GC","Schildberg Construction, Graham","3041404811",293,"Ervine Creek 1EC-4EC","0061",1000,{"$error":"#N/A"},{"$error":"#N/A"},null,null,null,null,null,null,null,null,null,null,null,null,null,null,null,null,null,null,null,null,null,null,"100504..OPTLD1","Mulberry Limestone, Jasper (Nelson Stone Quarry)","",0,null,null,null,{"$error":"#N/A"}]
[null,null,null,null,null,"1003GC","Schildberg Construction, Graham","3041404811",293,"Ervine Creek 2EC-4EC","1464",1002,{"$error":"#N/A"},{"$error":"#N/A"},null,null,null,null,null,null,null,null,null,null,null,null,null,null,null,null,null,null,null,null,null,null,"100505..CPCMLD","Joplin Stone","",0,null,null,null,{"$error":"#N/A"}]
[null,null,null,null,null,"1003GC","Skyline Materials - Shelby County","3027500113",1494,"Burlington-Chouteau A-8","0232",4582,{"$error":"#N/A"},{"$error":"#N/A"},null,null,null,null,null,null,null,null,null,null,null,null,null,null,null,null,null,null,null,null,null,null,"100505..CPCMLD","Select Materials Midwest - Perryville (Lafarge)","",0,null,null,null,{"$error":"#N/A"}]
[null,null,null,null,null,"1003GC","Skyline Materials - Shelby County","3027500113",1494,"Chouteau 5","1050",4589,{"$error":"#N/A"},{"$error":"#N/A"},null,null,null,null,null,null,null,null,null,null,null,null,null,null,null,null,null,null,null,null,null,null,"100505..CPCMLD","Southeast Missouri Stone (SEMO)","",0,null,null,null,{"$error":"#N/A"}]
[null,null,null,null,null,"1003GC","Springfield Underground","3018800118",231,"Burlington 1-2","2835",703,{"$error":"#N/A"},{"$error":"#N/A"},null,null,null,null,null,null,null,null,null,null,null,null,null,null,null,null,null,null,null,null,null,null,"100505..CPCMLD","Williamsville Stone #1","",0,null,null,null,{"$error":"#N/A"}]
[null,null,null,null,null,"1003GC","Stewart-Morrison - Spring Creek Materials","3112700139",194,"Spring Creek Gravel GRAVEL","2756",625,{"$error":"#N/A"},{"$error":"#N/A"},null,null,null,null,null,null,null,null,null,null,null,null,null,null,null,null,null,null,null,null,null,null,"100505..OPTGV1","Martin Marietta (Meridian Qy North - Cavenaugh","",0,null,null,null,{"$error":"#N/A"}]
[null,null,null,null,null,"1003GC","Summit Materials, Marshall (Boone Quarries)","3176713215",1976,"Cedar Valley 5CA-9CA","6605",5592,{"$error":"#N/A"},{"$error":"#N/A"},null,null,null,null,null,null,null,null,null,null,null,null,null,null,null,null,null,null,null,null,null,null,"100505..OPTLD1","Central Stone #1, Hannibal (Huntington)","",0,null,null,null,{"$error":"#N/A"}]
[null,null,null,null,null,"1003GC","Summit Materials, Marshall (Boone Quarries)","3176713215",1976,"Cedar Valley 8CA-9CA","5561",5587,{"$error":"#N/A"},{"$error":"#N/A"},null,null,null,null,null,null,null,null,null,null,null,null,null,null,null,null,null,null,null,null,null,null,"100505..OPTNS1","Producer Supplier not designated.","",0,null,null,null,{"$error":"#N/A"}]
[null,null,null,null,null,"1003GC","Summit Materials, Marshall (Boone Quarries)","3176713215",1976,"Chouteau 1C-2C-3C","4758",5583,{"$error":"#N/A"},{"$error":"#N/A"},null,null,null,null,null,null,null,null,null,null,null,null,null,null,null,null,null,null,null,null,null,null,"100507..CPCMLD","Base Rock Materials Quarry","",0,null,null,null,{"$error":"#N/A"}]
[null,null,null,null,null,"1003GC","Summit Materials, Marshall (Boone Quarries)","3176713215",1976,"Chouteau 3C","3161",5571,{"$error":"#N/A"},{"$error":"#N/A"},null,null,null,null,null,null,null,null,null,null,null,null,null,null,null,null,null,null,null,null,null,null,"100507..CPCMLD","Base Rock Minerals, Fruitland","",0,null,null,null,{"$error":"#N/A"}]
[null,null,null,null,null,"1003GC","Summit Materials, Marshall (Boone Quarries)","3176713215",1976,"Chouteau - Cedar Valley 4C,5-9CA","7158",5593,{"$error":"#N/A"},{"$error":"#N/A"},null,null,null,null,null,null,null,null,null,null,null,null,null,null,null,null,null,null,null,null,null,null,"100507..CPCMLD","Beyers Crushed Rock Co.","",0,null,null,null,{"$error":"#N/A"}]
[null,null,null,null,null,"1003GC","Summit Materials, Marshall (Boone Quarries)","3176713215",1976,"Chouteau, Cedar Valley 3C, 5CA, 6CA","5596",5588,{"$error":"#N/A"},{"$error":"#N/A"},null,null,null,null,null,null,null,null,null,null,null,null,null,null,null,null,null,null,null,null,null,null,"100507..CPCMLD","Capital Materials, Tightwad (APAC)","",0,null,null,null,{"$error":"#N/A"}]
[null,null,null,null,null,"1003GC","Table Rock, Branson Stone","3045500118",187,"Compton 3W","6215",584,{"$error":"#N/A"},{"$error":"#N/A"},null,null,null,null,null,null,null,null,null,null,null,null,null,null,null,null,null,null,null,null,null,null,"100507..CPCMLD","Capital Quarries, Thayer (King Quarry)","",0,null,null,null,{"$error":"#N/A"}]
[null,null,null,null,null,"1003GC","Table Rock, Branson Stone","3045500118",187,"Jefferson City/Cotter 1A","1406",589,{"$error":"#N/A"},{"$error":"#N/A"},null,null,null,null,null,null,null,null,null,null,null,null,null,null,null,null,null,null,null,null,null,null,"100507..CPCMLD","Central Stone #1, Hannibal (Huntington)","",0,null,null,null,{"$error":"#N/A"}]
[null,null,null,null,null,"1003GC","Table Rock, Branson Stone","3045500118",187,"Jefferson City/Cotter 2","1207",588,{"$error":"#N/A"},{"$error":"#N/A"},null,null,null,null,null,null,null,null,null,null,null,null,null,null,null,null,null,null,null,null,null,null,"100507..CPCMLD","Falling Springs Quarry (Stolle)","",0,null,null,null,{"$error":"#N/A"}]
[null,null,null,null,null,"1003GC","Wayne B. Smith, Pit #8","3045900813",3787,"Burlington 2","6277",6860,{"$error":"#N/A"},{"$error":"#N/A"},null,null,null,null,null,null,null,null,null,null,null,null,null,null,null,null,null,null,null,null,null,null,"100507..CPCMLD","Fischer Bros Pit #2, Ste. Genevieve","",0,null,null,null,{"$error":"#N/A"}]
[null,null,null,null,null,"1003GC","Williams Divers Matl (WDM), Sooner (Bingham #10)","3004001017",3439,"Chat CHAT","6000",6748,{"$error":"#N/A"},{"$error":"#N/A"},null,null,null,null,null,null,null,null,null,null,null,null,null,null,null,null,null,null,null,null,null,null,"100507..CPCMLD","Kemp Stone Mile or More Quarry (Pryor)","",0,null,null,null,{"$error":"#N/A"}]
[null,null,null,null,null,"1003GC","Yeary Trucking, Swan Creek","3197800218",2085,"Swan Creek Gravel GRAVEL","5750",5756,{"$error":"#N/A"},{"$error":"#N/A"},null,null,null,null,null,null,null,null,null,null,null,null,null,null,null,null,null,null,null,null,null,null,"100507..CPCMLD","Kerford Limestone Co., NE","",0,null,null,null,{"$error":"#N/A"}]
[null,null,null,null,null,"1003GCLW","Arcosa Lightweight (IN)","3533800319",5304,"Arcosa Lightweight (IN), Haydite Haydite","7599",7590,{"$error":"#N/A"},{"$error":"#N/A"},null,null,null,null,null,null,null,null,null,null,null,null,null,null,null,null,null,null,null,null,null,null,"100507..CPCMLD","Land-Chariton County Concrete","",0,null,null,null,{"$error":"#N/A"}]
[null,null,null,null,null,"1003GCLW","Arcosa Lightweight (KY)","3533800219",5220,"Arcosa Lightweight (KY), Haydite Haydite","7476",7459,{"$error":"#N/A"},{"$error":"#N/A"},null,null,null,null,null,null,null,null,null,null,null,null,null,null,null,null,null,null,null,null,null,null,"100507..CPCMLD","Martin Marietta, Ferrelview (Stamper)","",0,null,null,null,{"$error":"#N/A"}]
[null,null,null,null,null,"1003GCLW","Buildex, Inc., New Market, MO","3005500314",3091,"Lightweight Aggregate - Weston Shale LT WT","5264",6507,{"$error":"#N/A"},{"$error":"#N/A"},null,null,null,null,null,null,null,null,null,null,null,null,null,null,null,null,null,null,null,null,null,null,"100507..CPCMLD","Martin Marietta, Randolph","",0,null,null,null,{"$error":"#N/A"}]
[null,null,null,null,null,"100504..CPCMLD","Capital Materials, Sedalia (Snow Rd-Dresden)","3026603615",641,"Burlington 1 - 4","0614",1540,{"$error":"#N/A"},{"$error":"#N/A"},null,null,null,null,null,null,null,null,null,null,null,null,null,null,null,null,null,null,null,null,null,null,"100507..CPCMLD","Midwest Minerals, Pittsburg","",0,null,null,null,{"$error":"#N/A"}]
[null,null,null,null,null,"100504..CPCMLD","Capital Materials, Tightwad (APAC)","3020600114",927,"Burlington 1,2,3","2328",2872,{"$error":"#N/A"},{"$error":"#N/A"},null,null,null,null,null,null,null,null,null,null,null,null,null,null,null,null,null,null,null,null,null,null,"100507..CPCMLD","New Frontier, Alton Weber #8","",0,null,null,null,{"$error":"#N/A"}]
[null,null,null,null,null,"100504..CPCMLD","Capital Quarries, Danville (Pace Construction)","3035901313",533,"Plattin 1-3","3703",1397,{"$error":"#N/A"},{"$error":"#N/A"},null,null,null,null,null,null,null,null,null,null,null,null,null,null,null,null,null,null,null,null,null,null,"100507..CPCMLD","Producer Supplier not designated.","",0,null,null,null,{"$error":"#N/A"}]
[null,null,null,null,null,"100504..CPCMLD","Central Stone #31, Florissant","3007903116",947,"St. Louis 3-9","0197",2997,{"$error":"#N/A"},{"$error":"#N/A"},null,null,null,null,null,null,null,null,null,null,null,null,null,null,null,null,null,null,null,null,null,null,"100507..CPCMLD","Ready Mix Concrete","",0,null,null,null,{"$error":"#N/A"}]
[null,null,null,null,null,"100504..CPCMLD","Conco Quarries, Willard","3009800218",1275,"Burlington 2E-1BE & 2W-1CW","7471",7453,{"$error":"#N/A"},{"$error":"#N/A"},null,null,null,null,null,null,null,null,null,null,null,null,null,null,null,null,null,null,null,null,null,null,"100507..CPCMLD","Southeast Missouri Stone (SEMO)","",0,null,null,null,{"$error":"#N/A"}]
[null,null,null,null,null,"100504..CPCMLD","Falling Springs Quarry (Stolle)","3007200216",1974,"St. Louis Limestone 4-10","5482",5537,{"$error":"#N/A"},{"$error":"#N/A"},null,null,null,null,null,null,null,null,null,null,null,null,null,null,null,null,null,null,null,null,null,null,"100507..CPCMLD","Summit Materials, Marshall (Boone Quarries)","",0,null,null,null,{"$error":"#N/A"}]
[null,null,null,null,null,"100504..CPCMLD","Joplin Stone","3023600117",730,"Warsaw 1-3","0364",1936,{"$error":"#N/A"},{"$error":"#N/A"},null,null,null,null,null,null,null,null,null,null,null,null,null,null,null,null,null,null,null,null,null,null,"100507..CPCMLD","Williamsville Stone #1","",0,null,null,null,{"$error":"#N/A"}]
[null,null,null,null,null,"100504..CPCMLD","Mill Creek Quarry (Kemp Quarries)","3534100119",5196,"St. Joe Limestone 1","7433",7415,{"$error":"#N/A"},{"$error":"#N/A"},null,null,null,null,null,null,null,null,null,null,null,null,null,null,null,null,null,null,null,null,null,null,"100507..CPGT1","Granite Mountain Quarry","",0,null,null,null,{"$error":"#N/A"}]
[null,null,null,null,null,"100504..CPCMLD","Norris Quarries, Breit Quarry, Savannah","3030693411",806,"Amazonia 8AZ","0999",2184,{"$error":"#N/A"},{"$error":"#N/A"},null,null,null,null,null,null,null,null,null,null,null,null,null,null,null,null,null,null,null,null,null,null,"100507..CPGT1","Martin Marietta (Mill Creek Quarry), OK","",0,null,null,null,{"$error":"#N/A"}]
[null,null,null,null,null,"100504..OPTGV1","Capital Sand #20, Riverbend (MO Sand Company)","3020701214",937,"Missouri River Field Gravel GRAVEL","7216",2925,{"$error":"#N/A"},{"$error":"#N/A"},null,null,null,null,null,null,null,null,null,null,null,null,null,null,null,null,null,null,null,null,null,null,"100507..CPGT1","Producer Supplier not designated.","",0,null,null,null,{"$error":"#N/A"}]
[null,null,null,null,null,"100504..OPTLD1","Mulberry Limestone, Jasper (Nelson Stone Quarry)","3218500117",2238,"Warsaw 1","3290",5881,{"$error":"#N/A"},{"$error":"#N/A"},null,null,null,null,null,null,null,null,null,null,null,null,null,null,null,null,null,null,null,null,null,null,"100507..OPTGV1","Capital Sand #2, Jefferson City","",0,null,null,null,{"$error":"#N/A"}]
[null,null,null,null,null,"100505..CPCMLD","Joplin Stone","3023600117",730,"Warsaw 1-3","0364",1936,{"$error":"#N/A"},{"$error":"#N/A"},null,null,null,null,null,null,null,null,null,null,null,null,null,null,null,null,null,null,null,null,null,null,"100507..OPTLD1","Base Rock Minerals, Fruitland","",0,null,null,null,{"$error":"#N/A"}]
[null,null,null,null,null,"100505..CPCMLD","Select Materials Midwest - Perryville (Lafarge)","3030636610",827,"Plattin 3-7","7113",2412,{"$error":"#N/A"},{"$error":"#N/A"},null,null,null,null,null,null,null,null,null,null,null,null,null,null,null,null,null,null,null,null,null,null,"100507..OPTLD1","Central Stone #1, Hannibal (Huntington)","",0,null,null,null,{"$error":"#N/A"}]
[null,null,null,null,null,"100505..CPCMLD","Southeast Missouri Stone (SEMO)","3042800110",248,"Plattin 6A-26A","5988",854,{"$error":"#N/A"},{"$error":"#N/A"},null,null,null,null,null,null,null,null,null,null,null,null,null,null,null,null,null,null,null,null,null,null,"100507..OPTLD1","Producer Supplier not designated.","",0,null,null,null,{"$error":"#N/A"}]
[null,null,null,null,null,"100505..CPCMLD","Williamsville Stone #1","3050400110",81,"Gasconade 6A-17A","7118",213,{"$error":"#N/A"},{"$error":"#N/A"},null,null,null,null,null,null,null,null,null,null,null,null,null,null,null,null,null,null,null,null,null,null,"100507..OPTLD1","Seminole Ag-Lime Company, Inc.","",0,null,null,null,{"$error":"#N/A"}]
[null,null,null,null,null,"100505..OPTLD1","Central Stone #1, Hannibal (Huntington)","3007900113",948,"Cedar Valley 13-11","0001",3038,{"$error":"#N/A"},{"$error":"#N/A"},null,null,null,null,null,null,null,null,null,null,null,null,null,null,null,null,null,null,null,null,null,null,"100510..CPCMGT","Martin Marietta (Mill Creek Quarry), OK","",0,null,null,null,{"$error":"#N/A"}]
[null,null,null,null,null,"100505..OPTLD1","Central Stone #1, Hannibal (Huntington)","3007900113",948,"Kimmswick 10-1","0191",3041,{"$error":"#N/A"},{"$error":"#N/A"},null,null,null,null,null,null,null,null,null,null,null,null,null,null,null,null,null,null,null,null,null,null,"100510..CPCMLD","APAC-Central (Missouri) Branson Qry","",0,null,null,null,{"$error":"#N/A"}]
[null,null,null,null,null,"100507..CPCMLD","Base Rock Minerals, Fruitland","3242100310",4680,"Kimmswick 24-25","7217",7009,{"$error":"#N/A"},{"$error":"#N/A"},null,null,null,null,null,null,null,null,null,null,null,null,null,null,null,null,null,null,null,null,null,null,"100510..CPCMLD","AQ Properties LLC","",0,null,null,null,{"$error":"#N/A"}]
[null,null,null,null,null,"100507..CPCMLD","Beyers Crushed Rock Co.","3003400114",1331,"Bethany Falls 1-4","0126",4206,{"$error":"#N/A"},{"$error":"#N/A"},null,null,null,null,null,null,null,null,null,null,null,null,null,null,null,null,null,null,null,null,null,null,"100510..CPCMLD","American Rock R & C - dba Buchanan Materials","",0,null,null,null,{"$error":"#N/A"}]
[null,null,null,null,null,"100507..CPCMLD","Capital Materials, Tightwad (APAC)","3020600114",927,"Burlington 1,2,3","2328",2872,{"$error":"#N/A"},{"$error":"#N/A"},null,null,null,null,null,null,null,null,null,null,null,null,null,null,null,null,null,null,null,null,null,null,"100510..CPCMLD","Anchor Stone, Jane (Bailey)","",0,null,null,null,{"$error":"#N/A"}]
[null,null,null,null,null,"100507..CPCMLD","Capital Materials, Tightwad (APAC)","3020600114",927,"Burlington 1-2","6185",2889,{"$error":"#N/A"},{"$error":"#N/A"},null,null,null,null,null,null,null,null,null,null,null,null,null,null,null,null,null,null,null,null,null,null,"100510..CPCMLD","Bailey (Roach) Quarry","",0,null,null,null,{"$error":"#N/A"}]
[null,null,null,null,null,"100507..CPCMLD","Capital Quarries, Thayer (King Quarry)","3025300119",679,"Cotter - Jefferson City 1-2-3","3508",1719,{"$error":"#N/A"},{"$error":"#N/A"},null,null,null,null,null,null,null,null,null,null,null,null,null,null,null,null,null,null,null,null,null,null,"100510..CPCMLD","Bailey Quarries #2, Dolomite","",0,null,null,null,{"$error":"#N/A"}]
[null,null,null,null,null,"100507..CPCMLD","Capital Quarries, Thayer (King Quarry)","3025300119",679,"Jefferson City 5-6","3253",1718,{"$error":"#N/A"},{"$error":"#N/A"},null,null,null,null,null,null,null,null,null,null,null,null,null,null,null,null,null,null,null,null,null,null,"100510..CPCMLD","Bailey Quarries #3, Stockton","",0,null,null,null,{"$error":"#N/A"}]
[null,null,null,null,null,"100507..CPCMLD","Central Stone #1, Hannibal (Huntington)","3007900113",948,"Cedar Valley 13-11","0001",3038,{"$error":"#N/A"},{"$error":"#N/A"},null,null,null,null,null,null,null,null,null,null,null,null,null,null,null,null,null,null,null,null,null,null,"100510..CPCMLD","Base Rock Materials Quarry","",0,null,null,null,{"$error":"#N/A"}]
[null,null,null,null,null,"100507..CPCMLD","Central Stone #1, Hannibal (Huntington)","3007900113",948,"Kimmswick 10-1","0191",3041,{"$error":"#N/A"},{"$error":"#N/A"},null,null,null,null,null,null,null,null,null,null,null,null,null,null,null,null,null,null,null,null,null,null,"100510..CPCMLD","Base Rock Minerals, Fruitland","",0,null,null,null,{"$error":"#N/A"}]
[null,null,null,null,null,"100507..CPCMLD","Fischer Bros Pit #2, Ste. Genevieve","3035100310",2357,"Salem 21-25","5160",6027,{"$error":"#N/A"},{"$error":"#N/A"},null,null,null,null,null,null,null,null,null,null,null,null,null,null,null,null,null,null,null,null,null,null,"100510..CPCMLD","Base Rock Minerals, Pit 3","",0,null,null,null,{"$error":"#N/A"}]
[null,null,null,null,null,"100507..CPCMLD","Kemp Stone Mile or More Quarry (Pryor)","3124000217",696,"Ordnance 2-3","4275",1799,{"$error":"#N/A"},{"$error":"#N/A"},null,null,null,null,null,null,null,null,null,null,null,null,null,null,null,null,null,null,null,null,null,null,"100510..CPCMLD","Bedrock Quarry","",0,null,null,null,{"$error":"#N/A"}]
[null,null,null,null,null,"100507..CPCMLD","Kerford Limestone Co., NE","3024600111",699,"Kereford & Plattsmouth 1K-4P","5096",1805,{"$error":"#N/A"},{"$error":"#N/A"},null,null,null,null,null,null,null,null,null,null,null,null,null,null,null,null,null,null,null,null,null,null,"100510..CPCMLD","Benton County Stone - Gravette, AR","",0,null,null,null,{"$error":"#N/A"}]
[null,null,null,null,null,"100507..CPCMLD","Land-Chariton County Concrete","3026800132",623,"Land-Chariton County Concrete, Moberly Moberly","6562",1514,{"$error":"#N/A"},{"$error":"#N/A"},null,null,null,null,null,null,null,null,null,null,null,null,null,null,null,null,null,null,null,null,null,null,"100510..CPCMLD","Blackwater Quarries, LLC","",0,null,null,null,{"$error":"#N/A"}]
[null,null,null,null,null,"100507..CPCMLD","Martin Marietta, Ferrelview (Stamper)","3021300214",925,"Bethany Falls 1BF-2BF-3BF","4600",2860,{"$error":"#N/A"},{"$error":"#N/A"},null,null,null,null,null,null,null,null,null,null,null,null,null,null,null,null,null,null,null,null,null,null,"100510..CPCMLD","Boone Quarries East (Southdown)","",0,null,null,null,{"$error":"#N/A"}]
[null,null,null,null,null,"100507..CPCMLD","Martin Marietta, Randolph","3021300114",900,"Cedar Valley 1CV","6963",2774,{"$error":"#N/A"},{"$error":"#N/A"},null,null,null,null,null,null,null,null,null,null,null,null,null,null,null,null,null,null,null,null,null,null,"100510..CPCMLD","Boone Quarries, Booneville (APAC)","",0,null,null,null,{"$error":"#N/A"}]
[null,null,null,null,null,"100507..CPCMLD","Midwest Minerals, Pittsburg","3032000417",593,"Black Jack Creek 1E","7481",7464,{"$error":"#N/A"},{"$error":"#N/A"},null,null,null,null,null,null,null,null,null,null,null,null,null,null,null,null,null,null,null,null,null,null,"100510..CPCMLD","Boone Quarries, Jefferson City(Stockman Quarry 54)","",0,null,null,null,{"$error":"#N/A"}]
[null,null,null,null,null,"100507..CPCMLD","Southeast Missouri Stone (SEMO)","3042800110",248,"Plattin 15-5A","3433",796,{"$error":"#N/A"},{"$error":"#N/A"},null,null,null,null,null,null,null,null,null,null,null,null,null,null,null,null,null,null,null,null,null,null,"100510..CPCMLD","Boone Quarries, Millersburg (Mid MO Mertens)","",0,null,null,null,{"$error":"#N/A"}]
[null,null,null,null,null,"100507..CPCMLD","Southeast Missouri Stone (SEMO)","3042800110",248,"Plattin 6A-26A","5988",854,{"$error":"#N/A"},{"$error":"#N/A"},null,null,null,null,null,null,null,null,null,null,null,null,null,null,null,null,null,null,null,null,null,null,"100510..CPCMLD","Boone Quarry #1, Columbia","",0,null,null,null,{"$error":"#N/A"}]
[null,null,null,null,null,"100507..CPCMLD","Southeast Missouri Stone (SEMO)","3042800110",248,"Plattin, 6-16A,39-35,15-5A,34-22 Various","5500",851,{"$error":"#N/A"},{"$error":"#N/A"},null,null,null,null,null,null,null,null,null,null,null,null,null,null,null,null,null,null,null,null,null,null,"100510..CPCMLD","Brickeys Stone, LLC","",0,null,null,null,{"$error":"#N/A"}]
[null,null,null,null,null,"100507..CPCMLD","Summit Materials, Marshall (Boone Quarries)","3176713215",1976,"Cedar Valley 5CA-6CA","3714",5578,{"$f":"IF(AND($F$17=H305,$AK$44=F305),J305,\"\")","v":{"$error":"#N/A"}},{"$f":"IF(AND($F$17=H305,$AK$44=F305),L305,\"\")","v":{"$error":"#N/A"}},null,null,null,null,null,null,null,null,null,null,null,null,null,null,null,null,null,null,null,null,null,null,"100510..CPCMLD","Bussen #1, Koch Quarry",{"$f":"IF(AK305=$AK$44,AL305,\"\")","v":""},0,null,null,null,{"$error":"#N/A"}]
[null,null,null,null,null,"100507..CPCMLD","Summit Materials, Marshall (Boone Quarries)","3176713215",1976,"Cedar Valley 5CA-9CA","6605",5592,{"$error":"#N/A"},{"$error":"#N/A"},null,null,null,null,null,null,null,null,null,null,null,null,null,null,null,null,null,null,null,null,null,null,"100510..CPCMLD","Bussen #3, Antire Quarry","",0,null,null,null,{"$error":"#N/A"}]
[null,null,null,null,null,"100507..CPCMLD","Summit Materials, Marshall (Boone Quarries)","3176713215",1976,"Cedar Valley 8CA-9CA","5561",5587,{"$error":"#N/A"},{"$error":"#N/A"},null,null,null,null,null,null,null,null,null,null,null,null,null,null,null,null,null,null,null,null,null,null,"100510..CPCMLD","Bussen #4, Trautman Quarry","",0,null,null,null,{"$error":"#N/A"}]
[null,null,null,null,null,"100507..CPCMLD","Summit Materials, Marshall (Boone Quarries)","3176713215",1976,"Chouteau - Cedar Valley 4C,5-9CA","7158",5593,{"$error":"#N/A"},{"$error":"#N/A"},null,null,null,null,null,null,null,null,null,null,null,null,null,null,null,null,null,null,null,null,null,null,"100510..CPCMLD","Bussen House Springs Quarry","",0,null,null,null,{"$error":"#N/A"}]
[null,null,null,null,null,"100507..CPCMLD","Williamsville Stone #1","3050400110",81,"Gasconade 14-6","7680",7673,{"$error":"#N/A"},{"$error":"#N/A"},null,null,null,null,null,null,null,null,null,null,null,null,null,null,null,null,null,null,null,null,null,null,"100510..CPCMLD","Cane Creek Stone","",0,null,null,null,{"$error":"#N/A"}]
[null,null,null,null,null,"100507..CPGT1","Granite Mountain Quarry","3254600118",2785,"Granite 1","4796",6340,{"$error":"#N/A"},{"$error":"#N/A"},null,null,null,null,null,null,null,null,null,null,null,null,null,null,null,null,null,null,null,null,null,null,"100510..CPCMLD","Cantera Aggregates #1, Plano Qy, Plano, IA","",0,null,null,null,{"$error":"#N/A"}]
[null,null,null,null,null,"100507..CPGT1","Martin Marietta (Mill Creek Quarry), OK","3434900114",3595,"Troy Granite 1","6025",6810,{"$error":"#N/A"},{"$error":"#N/A"},null,null,null,null,null,null,null,null,null,null,null,null,null,null,null,null,null,null,null,null,null,null,"100510..CPCMLD","Capital Materials, Fairplay (T & M Stone Quarry)","",0,null,null,null,{"$error":"#N/A"}]
[null,null,null,null,null,"100507..OPTGV1","Capital Sand #2, Jefferson City","3006400115",966,"Missouri River NS/GV","0498",3155,{"$error":"#N/A"},{"$error":"#N/A"},null,null,null,null,null,null,null,null,null,null,null,null,null,null,null,null,null,null,null,null,null,null,"100510..CPCMLD","Capital Materials, Palo Quarry (Smasal)","",0,null,null,null,{"$error":"#N/A"}]
[null,null,null,null,null,"100507..OPTLD1","Central Stone #1, Hannibal (Huntington)","3007900113",948,"Cedar Valley 13-11","0001",3038,{"$error":"#N/A"},{"$error":"#N/A"},null,null,null,null,null,null,null,null,null,null,null,null,null,null,null,null,null,null,null,null,null,null,"100510..CPCMLD","Capital Materials, Sedalia (Snow Rd-Dresden)","",0,null,null,null,{"$error":"#N/A"}]
[null,null,null,null,null,"100507..OPTLD1","Central Stone #1, Hannibal (Huntington)","3007900113",948,"Kimmswick 10-1","0191",3041,{"$error":"#N/A"},{"$error":"#N/A"},null,null,null,null,null,null,null,null,null,null,null,null,null,null,null,null,null,null,null,null,null,null,"100510..CPCMLD","Capital Materials, South Hollister (Journagan #7)","",0,null,null,null,{"$error":"#N/A"}]
[null,null,null,null,null,"100507..OPTLD1","Central Stone #1, Hannibal (Huntington)","3007900113",948,"Kimmswick A-B-C","3333",3046,{"$error":"#N/A"},{"$error":"#N/A"},null,null,null,null,null,null,null,null,null,null,null,null,null,null,null,null,null,null,null,null,null,null,"100510..CPCMLD","Capital Materials, Tightwad (APAC)","",0,null,null,null,{"$error":"#N/A"}]
[null,null,null,null,null,"100507..OPTLD1","Central Stone #1, Hannibal (Huntington)","3007900113",948,"Kimmswick A-E","0002",3039,{"$error":"#N/A"},{"$error":"#N/A"},null,null,null,null,null,null,null,null,null,null,null,null,null,null,null,null,null,null,null,null,null,null,"100510..CPCMLD","Capital Quarries #10, Quinn Pit (Beck)","",0,null,null,null,{"$error":"#N/A"}]
[null,null,null,null,null,"100507..OPTLD1","Central Stone #1, Hannibal (Huntington)","3007900113",948,"Kimmswick D-E","5369",3060,{"$error":"#N/A"},{"$error":"#N/A"},null,null,null,null,null,null,null,null,null,null,null,null,null,null,null,null,null,null,null,null,null,null,"100510..CPCMLD","Capital Quarries #12, South","",0,null,null,null,{"$error":"#N/A"}]
[null,null,null,null,null,"100507..OPTLD1","Seminole Ag-Lime Company, Inc.","3501800110",4800,"Plattin 23","7337",7195,{"$error":"#N/A"},{"$error":"#N/A"},null,null,null,null,null,null,null,null,null,null,null,null,null,null,null,null,null,null,null,null,null,null,"100510..CPCMLD","Capital Quarries #17, Sullivan","",0,null,null,null,{"$error":"#N/A"}]
[null,null,null,null,null,"100510..CPCMGT","Martin Marietta (Mill Creek Quarry), OK","3434900114",3595,"Troy Granite 1","6025",6810,{"$error":"#N/A"},{"$error":"#N/A"},null,null,null,null,null,null,null,null,null,null,null,null,null,null,null,null,null,null,null,null,null,null,"100510..CPCMLD","Capital Quarries #19, Jerome","",0,null,null,null,{"$error":"#N/A"}]
[null,null,null,null,null,"100510..CPCMLD","APAC-Central (Missouri) Branson Qry","3176703418",2143,"Jefferson City - Cotter 1B-10","5240",5788,{"$error":"#N/A"},{"$error":"#N/A"},null,null,null,null,null,null,null,null,null,null,null,null,null,null,null,null,null,null,null,null,null,null,"100510..CPCMLD","Capital Quarries #5, California","",0,null,null,null,{"$error":"#N/A"}]
[null,null,null,null,null,"100510..CPCMLD","AQ Properties LLC","3000700117",46,"Warsaw 2-3","7482",7465,{"$error":"#N/A"},{"$error":"#N/A"},null,null,null,null,null,null,null,null,null,null,null,null,null,null,null,null,null,null,null,null,null,null,"100510..CPCMLD","Capital Quarries #7, Salem","",0,null,null,null,{"$error":"#N/A"}]
[null,null,null,null,null,"100510..CPCMLD","AQ Properties LLC","3000700117",46,"Warsaw 3","1933",67,{"$error":"#N/A"},{"$error":"#N/A"},null,null,null,null,null,null,null,null,null,null,null,null,null,null,null,null,null,null,null,null,null,null,"100510..CPCMLD","Capital Quarries, Arcadia","",0,null,null,null,{"$error":"#N/A"}]
[null,null,null,null,null,"100510..CPCMLD","AQ Properties LLC","3000700117",46,"Warsaw 5","0369",62,{"$error":"#N/A"},{"$error":"#N/A"},null,null,null,null,null,null,null,null,null,null,null,null,null,null,null,null,null,null,null,null,null,null,"100510..CPCMLD","Capital Quarries, Danville (Pace Construction)","",0,null,null,null,{"$error":"#N/A"}]
[null,null,null,null,null,"100510..CPCMLD","American Rock R & C - dba Buchanan Materials","3026000118",3208,"Jefferson City K-1","7167",6606,{"$error":"#N/A"},{"$error":"#N/A"},null,null,null,null,null,null,null,null,null,null,null,null,null,null,null,null,null,null,null,null,null,null,"100510..CPCMLD","Capital Quarries, Holts Summit 1A","",0,null,null,null,{"$error":"#N/A"}]
[null,null,null,null,null,"100510..CPCMLD","American Rock R & C - dba Buchanan Materials","3026000118",3208,"Jefferson City L-1","5957",6604,{"$error":"#N/A"},{"$error":"#N/A"},null,null,null,null,null,null,null,null,null,null,null,null,null,null,null,null,null,null,null,null,null,null,"100510..CPCMLD","Capital Quarries, Thayer (King Quarry)","",0,null,null,null,{"$error":"#N/A"}]
[null,null,null,null,null,"100510..CPCMLD","Anchor Stone, Jane (Bailey)","3002200417",1360,"Cotter 7","1262",4279,{"$error":"#N/A"},{"$error":"#N/A"},null,null,null,null,null,null,null,null,null,null,null,null,null,null,null,null,null,null,null,null,null,null,"100510..CPCMLD","Carroll County Stone (Bailey)","",0,null,null,null,{"$error":"#N/A"}]
[null,null,null,null,null,"100510..CPCMLD","Bailey (Roach) Quarry","3039800117",314,"Jefferson City-Cotter 1","2487",1044,{"$error":"#N/A"},{"$error":"#N/A"},null,null,null,null,null,null,null,null,null,null,null,null,null,null,null,null,null,null,null,null,null,null,"100510..CPCMLD","Carthage Crushed Limestone","",0,null,null,null,{"$error":"#N/A"}]
[null,null,null,null,null,"100510..CPCMLD","Bailey (Roach) Quarry","3039800117",314,"Jefferson City-Cotter 1-5","0341",1035,{"$error":"#N/A"},{"$error":"#N/A"},null,null,null,null,null,null,null,null,null,null,null,null,null,null,null,null,null,null,null,null,null,null,"100510..CPCMLD","Central Stone #1, Hannibal (Huntington)","",0,null,null,null,{"$error":"#N/A"}]
[null,null,null,null,null,"100510..CPCMLD","Bailey (Roach) Quarry","3039800117",314,"Jefferson City-Cotter 4","3992",1045,{"$error":"#N/A"},{"$error":"#N/A"},null,null,null,null,null,null,null,null,null,null,null,null,null,null,null,null,null,null,null,null,null,null,"100510..CPCMLD","Central Stone #31, Florissant","",0,null,null,null,{"$error":"#N/A"}]
[null,null,null,null,null,"100510..CPCMLD","Bailey (Roach) Quarry","3039800117",314,"Jefferson City-Cotter 6-7","6625",1047,{"$error":"#N/A"},{"$error":"#N/A"},null,null,null,null,null,null,null,null,null,null,null,null,null,null,null,null,null,null,null,null,null,null,"100510..CPCMLD","Central Stone #54 (Bellefontaine)  Farmington","",0,null,null,null,{"$error":"#N/A"}]
[null,null,null,null,null,"100510..CPCMLD","Bailey (Roach) Quarry","3039800117",314,"Jefferson City-Cotter 8","7610",7602,{"$error":"#N/A"},{"$error":"#N/A"},null,null,null,null,null,null,null,null,null,null,null,null,null,null,null,null,null,null,null,null,null,null,"100510..CPCMLD","Central Stone #55 (Bellefontaine North)","",0,null,null,null,{"$error":"#N/A"}]
[null,null,null,null,null,"100510..CPCMLD","Bailey Quarries #2, Dolomite","3002200217",1359,"Cotter 1","0319",4276,{"$error":"#N/A"},{"$error":"#N/A"},null,null,null,null,null,null,null,null,null,null,null,null,null,null,null,null,null,null,null,null,null,null,"100510..CPCMLD","Central Stone #56 (Bellefontaine South)","",0,null,null,null,{"$error":"#N/A"}]
[null,null,null,null,null,"100510..CPCMLD","Bailey Quarries #2, Dolomite","3002200217",1359,"Cotter 1A-1B","0601",4274,{"$error":"#N/A"},{"$error":"#N/A"},null,null,null,null,null,null,null,null,null,null,null,null,null,null,null,null,null,null,null,null,null,null,"100510..CPCMLD","Central Stone #6, New London","",0,null,null,null,{"$error":"#N/A"}]
[null,null,null,null,null,"100510..CPCMLD","Bailey Quarries #2, Dolomite","3002200217",1359,"Cotter 1C-1D","5003",4271,{"$error":"#N/A"},{"$error":"#N/A"},null,null,null,null,null,null,null,null,null,null,null,null,null,null,null,null,null,null,null,null,null,null,"100510..CPCMLD","Central Stone, Potosi (GP Materials)","",0,null,null,null,{"$error":"#N/A"}]
[null,null,null,null,null,"100510..CPCMLD","Bailey Quarries #2, Dolomite","3002200217",1359,"Cotter 1E","5365",4272,{"$error":"#N/A"},{"$error":"#N/A"},null,null,null,null,null,null,null,null,null,null,null,null,null,null,null,null,null,null,null,null,null,null,"100510..CPCMLD","Champion Precast Inc.","",0,null,null,null,{"$error":"#N/A"}]
[null,null,null,null,null,"100510..CPCMLD","Bailey Quarries #2, Dolomite","3002200217",1359,"Cotter 2","0320",4277,{"$error":"#N/A"},{"$error":"#N/A"},null,null,null,null,null,null,null,null,null,null,null,null,null,null,null,null,null,null,null,null,null,null,"100510..CPCMLD","Colt Rock and Lime (Scaggs) - Pit #2","",0,null,null,null,{"$error":"#N/A"}]
[null,null,null,null,null,"100510..CPCMLD","Bailey Quarries #2, Dolomite","3002200217",1359,"Cotter - Jefferson City 1E & 4","6282",4273,{"$error":"#N/A"},{"$error":"#N/A"},null,null,null,null,null,null,null,null,null,null,null,null,null,null,null,null,null,null,null,null,null,null,"100510..CPCMLD","Columbia Quarry, Dupo, IL","",0,null,null,null,{"$error":"#N/A"}]
[null,null,null,null,null,"100510..CPCMLD","Bailey Quarries #3, Stockton","3002200317",45,"Burlington 5","3671",53,{"$error":"#N/A"},{"$error":"#N/A"},null,null,null,null,null,null,null,null,null,null,null,null,null,null,null,null,null,null,null,null,null,null,"100510..CPCMLD","Conco #0478, Montevallo (Ash Grove)","",0,null,null,null,{"$error":"#N/A"}]
[null,null,null,null,null,"100510..CPCMLD","Base Rock Minerals, Fruitland","3242100310",4680,"Decorah 23","7566",7556,{"$error":"#N/A"},{"$error":"#N/A"},null,null,null,null,null,null,null,null,null,null,null,null,null,null,null,null,null,null,null,null,null,null,"100510..CPCMLD","Conco #0485, Aldrich Kifer Quarry (Ash Grove)","",0,null,null,null,{"$error":"#N/A"}]
[null,null,null,null,null,"100510..CPCMLD","Base Rock Minerals, Fruitland","3242100310",4680,"Kimmswick 24","7250",7010,{"$error":"#N/A"},{"$error":"#N/A"},null,null,null,null,null,null,null,null,null,null,null,null,null,null,null,null,null,null,null,null,null,null,"100510..CPCMLD","Conco #0496, Marshfield (Ash Grove)","",0,null,null,null,{"$error":"#N/A"}]
[null,null,null,null,null,"100510..CPCMLD","Base Rock Minerals, Fruitland","3242100310",4680,"Kimmswick 24-25","7217",7009,{"$error":"#N/A"},{"$error":"#N/A"},null,null,null,null,null,null,null,null,null,null,null,null,null,null,null,null,null,null,null,null,null,null,"100510..CPCMLD","Conco Quarries, Willard","",0,null,null,null,{"$error":"#N/A"}]
[null,null,null,null,null,"100510..CPCMLD","Base Rock Minerals, Fruitland","3242100310",4680,"Kimmswick 25","6437",7008,{"$error":"#N/A"},{"$error":"#N/A"},null,null,null,null,null,null,null,null,null,null,null,null,null,null,null,null,null,null,null,null,null,null,"100510..CPCMLD","Crider Bros, Eminence","",0,null,null,null,{"$error":"#N/A"}]
[null,null,null,null,null,"100510..CPCMLD","Base Rock Minerals, Pit 3","3038300310",1757,"Bonne Terre 7-10","7179",5108,{"$error":"#N/A"},{"$error":"#N/A"},null,null,null,null,null,null,null,null,null,null,null,null,null,null,null,null,null,null,null,null,null,null,"100510..CPCMLD","Double Eagle Quarry, Ava (Journagan)","",0,null,null,null,{"$error":"#N/A"}]
[null,null,null,null,null,"100510..CPCMLD","Base Rock Minerals, Pit 3","3038300310",1757,"Bonne Terre 7-8","5778",5106,{"$error":"#N/A"},{"$error":"#N/A"},null,null,null,null,null,null,null,null,null,null,null,null,null,null,null,null,null,null,null,null,null,null,"100510..CPCMLD","Fischer Bros Pit #2, Ste. Genevieve","",0,null,null,null,{"$error":"#N/A"}]
[null,null,null,null,null,"100510..CPCMLD","Base Rock Minerals, Pit 3","3038300310",1757,"Bonne Terre 7-8, 9-10","6604",5107,{"$error":"#N/A"},{"$error":"#N/A"},null,null,null,null,null,null,null,null,null,null,null,null,null,null,null,null,null,null,null,null,null,null,"100510..CPCMLD","Fischer Quarry & Hauling, Burfordville (T&M Stone)","",0,null,null,null,{"$error":"#N/A"}]
[null,null,null,null,null,"100510..CPCMLD","Base Rock Minerals, Pit 3","3038300310",1757,"Bonne Terre 9-10","3593",5103,{"$error":"#N/A"},{"$error":"#N/A"},null,null,null,null,null,null,null,null,null,null,null,null,null,null,null,null,null,null,null,null,null,null,"100510..CPCMLD","Gray Quarry, Hamilton,IL","",0,null,null,null,{"$error":"#N/A"}]
[null,null,null,null,null,"100510..CPCMLD","Bedrock Quarry","3016601813",108,"Burlington 15-20","7497",7482,{"$error":"#N/A"},{"$error":"#N/A"},null,null,null,null,null,null,null,null,null,null,null,null,null,null,null,null,null,null,null,null,null,null,"100510..CPCMLD","Grays Point Stone & Materials, Scott City","",0,null,null,null,{"$error":"#N/A"}]
[null,null,null,null,null,"100510..CPCMLD","Bedrock Quarry","3016601813",108,"Burlington 9","7265",332,{"$error":"#N/A"},{"$error":"#N/A"},null,null,null,null,null,null,null,null,null,null,null,null,null,null,null,null,null,null,null,null,null,null,"100510..CPCMLD","HCH Quarry","",0,null,null,null,{"$error":"#N/A"}]
[null,null,null,null,null,"100510..CPCMLD","Bedrock Quarry","3016601813",108,"Burlington 9-12","7627",7619,{"$error":"#N/A"},{"$error":"#N/A"},null,null,null,null,null,null,null,null,null,null,null,null,null,null,null,null,null,null,null,null,null,null,"100510..CPCMLD","Hamm Quarries, Lee's Summitt (Barber and Sons)","",0,null,null,null,{"$error":"#N/A"}]
[null,null,null,null,null,"100510..CPCMLD","Benton County Stone - Gravette, AR","3145200117",1330,"Pierson 1","3239",4199,{"$error":"#N/A"},{"$error":"#N/A"},null,null,null,null,null,null,null,null,null,null,null,null,null,null,null,null,null,null,null,null,null,null,"100510..CPCMLD","Havin Material Services","",0,null,null,null,{"$error":"#N/A"}]
[null,null,null,null,null,"100510..CPCMLD","Boone Quarries East (Southdown)","3008800115",1281,"Chouteau 10","3709",4054,{"$error":"#N/A"},{"$error":"#N/A"},null,null,null,null,null,null,null,null,null,null,null,null,null,null,null,null,null,null,null,null,null,null,"100510..CPCMLD","Heartland Materials, LLC","",0,null,null,null,{"$error":"#N/A"}]
[null,null,null,null,null,"100510..CPCMLD","Boone Quarries East (Southdown)","3008800115",1281,"Chouteau 9","0845",4048,{"$error":"#N/A"},{"$error":"#N/A"},null,null,null,null,null,null,null,null,null,null,null,null,null,null,null,null,null,null,null,null,null,null,"100510..CPCMLD","Higgins Materials, LLC - Otterville","",0,null,null,null,{"$error":"#N/A"}]
[null,null,null,null,null,"100510..CPCMLD","Boone Quarries, Jefferson City(Stockman Quarry 54)","3060800315",2387,"Jefferson City 2-4","7363",6107,{"$error":"#N/A"},{"$error":"#N/A"},null,null,null,null,null,null,null,null,null,null,null,null,null,null,null,null,null,null,null,null,null,null,"100510..CPCMLD","Holliday Sand and Stone, Dever (Ash Grove)","",0,null,null,null,{"$error":"#N/A"}]
[null,null,null,null,null,"100510..CPCMLD","Boone Quarries, Jefferson City(Stockman Quarry 54)","3060800315",2387,"Jefferson City 5","3728",6103,{"$error":"#N/A"},{"$error":"#N/A"},null,null,null,null,null,null,null,null,null,null,null,null,null,null,null,null,null,null,null,null,null,null,"100510..CPCMLD","Holliday Sand and Stone, S&K (Ash Grove)","",0,null,null,null,{"$error":"#N/A"}]
[null,null,null,null,null,"100510..CPCMLD","Boone Quarries, Millersburg (Mid MO Mertens)","3031800215",585,"Burlington 2-4","2392",1459,{"$error":"#N/A"},{"$error":"#N/A"},null,null,null,null,null,null,null,null,null,null,null,null,null,null,null,null,null,null,null,null,null,null,"100510..CPCMLD","Holliday Sand and Stone, Wheatland (Ash Grove)","",0,null,null,null,{"$error":"#N/A"}]
[null,null,null,null,null,"100510..CPCMLD","Boone Quarry #1, Columbia","3004600115",1192,"Burlington 4B-5","2864",3840,{"$error":"#N/A"},{"$error":"#N/A"},null,null,null,null,null,null,null,null,null,null,null,null,null,null,null,null,null,null,null,null,null,null,"100510..CPCMLD","Ideal Ready Mix","",0,null,null,null,{"$error":"#N/A"}]
[null,null,null,null,null,"100510..CPCMLD","Boone Quarry #1, Columbia","3004600115",1192,"Chouteau 8","5904",3847,{"$error":"#N/A"},{"$error":"#N/A"},null,null,null,null,null,null,null,null,null,null,null,null,null,null,null,null,null,null,null,null,null,null,"100510..CPCMLD","Indian Creek Materials, Doniphan","",0,null,null,null,{"$error":"#N/A"}]
[null,null,null,null,null,"100510..CPCMLD","Brickeys Stone, LLC","3214900110",2063,"Burlington 50 - 48","3234",5721,{"$error":"#N/A"},{"$error":"#N/A"},null,null,null,null,null,null,null,null,null,null,null,null,null,null,null,null,null,null,null,null,null,null,"100510..CPCMLD","Indian Creek Materials, Hunter (Hunter Stone)","",0,null,null,null,{"$error":"#N/A"}]
[null,null,null,null,null,"100510..CPCMLD","Brickeys Stone, LLC","3214900110",2063,"Kimmswick 46","3261",5725,{"$error":"#N/A"},{"$error":"#N/A"},null,null,null,null,null,null,null,null,null,null,null,null,null,null,null,null,null,null,null,null,null,null,"100510..CPCMLD","Indian Creek Materials, Moody-AM (Gabel Stone)","",0,null,null,null,{"$error":"#N/A"}]
[null,null,null,null,null,"100510..CPCMLD","Brickeys Stone, LLC","3214900110",2063,"Plattin 43-42","6368",5731,{"$error":"#N/A"},{"$error":"#N/A"},null,null,null,null,null,null,null,null,null,null,null,null,null,null,null,null,null,null,null,null,null,null,"100510..CPCMLD","Indian Creek Materials, Willow Springs (Gabel Ston","",0,null,null,null,{"$error":"#N/A"}]
[null,null,null,null,null,"100510..CPCMLD","Bussen #1, Koch Quarry","3005700116",1151,"Mississippi/St. Louis SAND/5-15","2358",3689,{"$error":"#N/A"},{"$error":"#N/A"},null,null,null,null,null,null,null,null,null,null,null,null,null,null,null,null,null,null,null,null,null,null,"100510..CPCMLD","Indian Creek Materials, Zalma","",0,null,null,null,{"$error":"#N/A"}]
[null,null,null,null,null,"100510..CPCMLD","Bussen #1, Koch Quarry","3005700116",1151,"St. Louis 5-15","0192",3680,{"$error":"#N/A"},{"$error":"#N/A"},null,null,null,null,null,null,null,null,null,null,null,null,null,null,null,null,null,null,null,null,null,null,"100510..CPCMLD","Indian Creek Materials/Couch","",0,null,null,null,{"$error":"#N/A"}]
[null,null,null,null,null,"100510..CPCMLD","Bussen #1, Koch Quarry","3005700116",1151,"St. Louis-Salem 16-21","0194",3682,{"$error":"#N/A"},{"$error":"#N/A"},null,null,null,null,null,null,null,null,null,null,null,null,null,null,null,null,null,null,null,null,null,null,"100510..CPCMLD","Indian Creek Materials/Houston","",0,null,null,null,{"$error":"#N/A"}]
[null,null,null,null,null,"100510..CPCMLD","Bussen #3, Antire Quarry","3005700316",1154,"Plattin 14-11","0468",3756,{"$error":"#N/A"},{"$error":"#N/A"},null,null,null,null,null,null,null,null,null,null,null,null,null,null,null,null,null,null,null,null,null,null,"100510..CPCMLD","Joplin Stone","",0,null,null,null,{"$error":"#N/A"}]
[null,null,null,null,null,"100510..CPCMLD","Bussen #4, Trautman Quarry","3005700416",1155,"Plattin 1-2","6270",3790,{"$error":"#N/A"},{"$error":"#N/A"},null,null,null,null,null,null,null,null,null,null,null,null,null,null,null,null,null,null,null,null,null,null,"100510..CPCMLD","Kienstra Materials","",0,null,null,null,{"$error":"#N/A"}]
[null,null,null,null,null,"100510..CPCMLD","Bussen #4, Trautman Quarry","3005700416",1155,"Plattin 1-5","7822",7816,{"$error":"#N/A"},{"$error":"#N/A"},null,null,null,null,null,null,null,null,null,null,null,null,null,null,null,null,null,null,null,null,null,null,"100510..CPCMLD","Kirksville Ready Mix","",0,null,null,null,{"$error":"#N/A"}]
[null,null,null,null,null,"100510..CPCMLD","Bussen #4, Trautman Quarry","3005700416",1155,"Plattin 15-10","0460",3777,{"$error":"#N/A"},{"$error":"#N/A"},null,null,null,null,null,null,null,null,null,null,null,null,null,null,null,null,null,null,null,null,null,null,"100510..CPCMLD","Land-Chariton County Concrete","",0,null,null,null,{"$error":"#N/A"}]
[null,null,null,null,null,"100510..CPCMLD","Bussen #4, Trautman Quarry","3005700416",1155,"Plattin 3-5","3082",3782,{"$error":"#N/A"},{"$error":"#N/A"},null,null,null,null,null,null,null,null,null,null,null,null,null,null,null,null,null,null,null,null,null,null,"100510..CPCMLD","Lead Belt, Park Hills Stone","",0,null,null,null,{"$error":"#N/A"}]
[null,null,null,null,null,"100510..CPCMLD","Cane Creek Stone","3520200119",4957,"Eminence 1","7107",7261,{"$f":"IF(AND($F$17=H369,$AK$44=F369),J369,\"\")","v":{"$error":"#N/A"}},{"$f":"IF(AND($F$17=H369,$AK$44=F369),L369,\"\")","v":{"$error":"#N/A"}},null,null,null,null,null,null,null,null,null,null,null,null,null,null,null,null,null,null,null,null,null,null,"100510..CPCMLD","Magruder Limestone #1, Troy",{"$f":"IF(AK369=$AK$44,AL369,\"\")","v":""},0,null,null,null,{"$error":"#N/A"}]
[null,null,null,null,null,"100510..CPCMLD","Cane Creek Stone","3520200119",4957,"Eminence-Potosi 1-2","7188",7262,{"$error":"#N/A"},{"$error":"#N/A"},null,null,null,null,null,null,null,null,null,null,null,null,null,null,null,null,null,null,null,null,null,null,"100510..CPCMLD","Magruder Limestone Co, (Shawnee Bend Quarry)","",0,null,null,null,{"$error":"#N/A"}]
[null,null,null,null,null,"100510..CPCMLD","Cane Creek Stone","3520200119",4957,"Potosi 2","7256",7263,{"$error":"#N/A"},{"$error":"#N/A"},null,null,null,null,null,null,null,null,null,null,null,null,null,null,null,null,null,null,null,null,null,null,"100510..CPCMLD","Magruder Limestone, Ashley","",0,null,null,null,{"$error":"#N/A"}]
[null,null,null,null,null,"100510..CPCMLD","Cantera Aggregates #1, Plano Qy, Plano, IA","3532100111",5171,"Exline 1","7395",7377,{"$error":"#N/A"},{"$error":"#N/A"},null,null,null,null,null,null,null,null,null,null,null,null,null,null,null,null,null,null,null,null,null,null,"100510..CPCMLD","Magruder Limestone, Foley","",0,null,null,null,{"$error":"#N/A"}]
[null,null,null,null,null,"100510..CPCMLD","Capital Materials, Fairplay (T & M Stone Quarry)","3242000218",4937,"Burlington 1","7232",7257,{"$error":"#N/A"},{"$error":"#N/A"},null,null,null,null,null,null,null,null,null,null,null,null,null,null,null,null,null,null,null,null,null,null,"100510..CPCMLD","Magruder Limestone, Osage Hills","",0,null,null,null,{"$error":"#N/A"}]
[null,null,null,null,null,"100510..CPCMLD","Capital Materials, Palo Quarry (Smasal)","3133300715",2947,"Burlington 2-3","6856",6455,{"$error":"#N/A"},{"$error":"#N/A"},null,null,null,null,null,null,null,null,null,null,null,null,null,null,null,null,null,null,null,null,null,null,"100510..CPCMLD","Magruder Limestone, Silex","",0,null,null,null,{"$error":"#N/A"}]
[null,null,null,null,null,"100510..CPCMLD","Capital Materials, Sedalia (Snow Rd-Dresden)","3026603615",641,"Burlington 1 - 4","0614",1540,{"$error":"#N/A"},{"$error":"#N/A"},null,null,null,null,null,null,null,null,null,null,null,null,null,null,null,null,null,null,null,null,null,null,"100510..CPCMLD","Martin Marietta (Meridian Qy North - Cavenaugh",{"$f":"IF(AK375=$AK$44,AL375,\"\")","v":""},0,null,null,null,{"$error":"#N/A"}]
[null,null,null,null,null,"100510..CPCMLD","Capital Materials, South Hollister (Journagan #7)","3027400718",701,"Pierson 5-3","0597",1812,{"$error":"#N/A"},{"$error":"#N/A"},null,null,null,null,null,null,null,null,null,null,null,null,null,null,null,null,null,null,null,null,null,null,"100510..CPCMLD","Martin Marietta, Ferrelview (Stamper)","",0,null,null,null,{"$error":"#N/A"}]
[null,null,null,null,null,"100510..CPCMLD","Capital Materials, Tightwad (APAC)","3020600114",927,"Burlington 1,2,3","2328",2872,{"$error":"#N/A"},{"$error":"#N/A"},null,null,null,null,null,null,null,null,null,null,null,null,null,null,null,null,null,null,null,null,null,null,"100510..CPCMLD","Martin Marietta, Randolph","",0,null,null,null,{"$error":"#N/A"}]
[null,null,null,null,null,"100510..CPCMLD","Capital Quarries #10, Quinn Pit (Beck)","3170701015",1979,"Burlington-Cedar Valley 2-4","7296",5600,{"$error":"#N/A"},{"$error":"#N/A"},null,null,null,null,null,null,null,null,null,null,null,null,null,null,null,null,null,null,null,null,null,null,"100510..CPCMLD","Mid Missouri Limestone (Auxvasse - South Gate)","",0,null,null,null,{"$error":"#N/A"}]
[null,null,null,null,null,"100510..CPCMLD","Capital Quarries #10, Quinn Pit (Beck)","3170701015",1979,"Plattin-Cotter 5-6","7068",5603,{"$error":"#N/A"},{"$error":"#N/A"},null,null,null,null,null,null,null,null,null,null,null,null,null,null,null,null,null,null,null,null,null,null,"100510..CPCMLD","Mid Missouri Limestone (Reform)","",0,null,null,null,{"$error":"#N/A"}]
[null,null,null,null,null,"100510..CPCMLD","Capital Quarries #17, Sullivan","3170701719",1801,"Potosi 1-2","7255",5312,{"$error":"#N/A"},{"$error":"#N/A"},null,null,null,null,null,null,null,null,null,null,null,null,null,null,null,null,null,null,null,null,null,null,"100510..CPCMLD","Mid-States Materials, LLC, Northview","",0,null,null,null,{"$error":"#N/A"}]
[null,null,null,null,null,"100510..CPCMLD","Capital Quarries #17, Sullivan","3170701719",1801,"Potosi 2","2275",5310,{"$error":"#N/A"},{"$error":"#N/A"},null,null,null,null,null,null,null,null,null,null,null,null,null,null,null,null,null,null,null,null,null,null,"100510..CPCMLD","Midwest Minerals, Jasper","",0,null,null,null,{"$error":"#N/A"}]
[null,null,null,null,null,"100510..CPCMLD","Capital Quarries #19, Jerome","3170701919",2173,"Gasconade 1","2848",5808,{"$error":"#N/A"},{"$error":"#N/A"},null,null,null,null,null,null,null,null,null,null,null,null,null,null,null,null,null,null,null,null,null,null,"100510..CPCMLD","Milan Ready Mix (Sullivan County RM)","",0,null,null,null,{"$error":"#N/A"}]
[null,null,null,null,null,"100510..CPCMLD","Capital Quarries #5, California","3170701615",1436,"Burlington-Chouteau 3-7","4499",4506,{"$error":"#N/A"},{"$error":"#N/A"},null,null,null,null,null,null,null,null,null,null,null,null,null,null,null,null,null,null,null,null,null,null,"100510..CPCMLD","Mill Creek Quarry (Kemp Quarries)","",0,null,null,null,{"$error":"#N/A"}]
[null,null,null,null,null,"100510..CPCMLD","Capital Quarries #7, Salem","3170700819",1616,"Gasconade 1-5","6617",4771,{"$error":"#N/A"},{"$error":"#N/A"},null,null,null,null,null,null,null,null,null,null,null,null,null,null,null,null,null,null,null,null,null,null,"100510..CPCMLD","Mulberry Limestone – Joplin Quarry","",0,null,null,null,{"$error":"#N/A"}]
[null,null,null,null,null,"100510..CPCMLD","Capital Quarries, Arcadia","3049700119",94,"Bonne Terre (1-5)","5377",296,{"$error":"#N/A"},{"$error":"#N/A"},null,null,null,null,null,null,null,null,null,null,null,null,null,null,null,null,null,null,null,null,null,null,"100510..CPCMLD","Mulberry Limestone, Jasper (Nelson Stone Quarry)","",0,null,null,null,{"$error":"#N/A"}]
[null,null,null,null,null,"100510..CPCMLD","Capital Quarries, Danville (Pace Construction)","3035901313",533,"Plattin 1-2","2080",1395,{"$error":"#N/A"},{"$error":"#N/A"},null,null,null,null,null,null,null,null,null,null,null,null,null,null,null,null,null,null,null,null,null,null,"100510..CPCMLD","Mulberry Limestone, Pittsburg, KS","",0,null,null,null,{"$error":"#N/A"}]
[null,null,null,null,null,"100510..CPCMLD","Capital Quarries, Danville (Pace Construction)","3035901313",533,"Plattin 1-3","3703",1397,{"$error":"#N/A"},{"$error":"#N/A"},null,null,null,null,null,null,null,null,null,null,null,null,null,null,null,null,null,null,null,null,null,null,"100510..CPCMLD","Mulberry Quarry, Lamar (Ash Grove Aggr #84)","",0,null,null,null,{"$error":"#N/A"}]
[null,null,null,null,null,"100510..CPCMLD","Capital Quarries, Holts Summit 1A","3170701515",1142,"Chouteau-Burlington-Cedar Valley 1A,1B,1,2,3","5982",3624,{"$error":"#N/A"},{"$error":"#N/A"},null,null,null,null,null,null,null,null,null,null,null,null,null,null,null,null,null,null,null,null,null,null,"100510..CPCMLD","New Frontier, Alton Weber #8","",0,null,null,null,{"$error":"#N/A"}]
[null,null,null,null,null,"100510..CPCMLD","Capital Quarries, Thayer (King Quarry)","3025300119",679,"Cotter - Jefferson City 1-2-3","3508",1719,{"$error":"#N/A"},{"$error":"#N/A"},null,null,null,null,null,null,null,null,null,null,null,null,null,null,null,null,null,null,null,null,null,null,"100510..CPCMLD","New Frontier, Festus Quarry","",0,null,null,null,{"$error":"#N/A"}]
[null,null,null,null,null,"100510..CPCMLD","Capital Quarries, Thayer (King Quarry)","3025300119",679,"Jefferson City 3-5-6","5560",1720,{"$error":"#N/A"},{"$error":"#N/A"},null,null,null,null,null,null,null,null,null,null,null,null,null,null,null,null,null,null,null,null,null,null,"100510..CPCMLD","New Frontier, New Melle Quarry","",0,null,null,null,{"$error":"#N/A"}]
[null,null,null,null,null,"100510..CPCMLD","Capital Quarries, Thayer (King Quarry)","3025300119",679,"Jefferson City 5-6","3253",1718,{"$error":"#N/A"},{"$error":"#N/A"},null,null,null,null,null,null,null,null,null,null,null,null,null,null,null,null,null,null,null,null,null,null,"100510..CPCMLD","New Frontier, North Quarry #6","",0,null,null,null,{"$error":"#N/A"}]
[null,null,null,null,null,"100510..CPCMLD","Carroll County Stone (Bailey)","3002200517",3187,"Cotter 2E","7768",7761,{"$error":"#N/A"},{"$error":"#N/A"},null,null,null,null,null,null,null,null,null,null,null,null,null,null,null,null,null,null,null,null,null,null,"100510..CPCMLD","North Central Arkansas Quarries","",0,null,null,null,{"$error":"#N/A"}]
[null,null,null,null,null,"100510..CPCMLD","Carthage Crushed Limestone","3007000117",955,"Warsaw 3","0334",3124,{"$error":"#N/A"},{"$error":"#N/A"},null,null,null,null,null,null,null,null,null,null,null,null,null,null,null,null,null,null,null,null,null,null,"100510..CPCMLD","Pattison Sand Company, Clayton, IA","",0,null,null,null,{"$error":"#N/A"}]
[null,null,null,null,null,"100510..CPCMLD","Central Stone #1, Hannibal (Huntington)","3007900113",948,"Cedar Valley 13-11","0001",3038,{"$error":"#N/A"},{"$error":"#N/A"},null,null,null,null,null,null,null,null,null,null,null,null,null,null,null,null,null,null,null,null,null,null,"100510..CPCMLD","Penny's Concrete","",0,null,null,null,{"$error":"#N/A"}]
[null,null,null,null,null,"100510..CPCMLD","Central Stone #1, Hannibal (Huntington)","3007900113",948,"Kimmswick 10-1","0191",3041,{"$error":"#N/A"},{"$error":"#N/A"},null,null,null,null,null,null,null,null,null,null,null,null,null,null,null,null,null,null,null,null,null,null,"100510..CPCMLD","Politte Ready Mix, LLC","",0,null,null,null,{"$error":"#N/A"}]
[null,null,null,null,null,"100510..CPCMLD","Central Stone #1, Hannibal (Huntington)","3007900113",948,"Kimmswick 10-5","3683",3057,{"$error":"#N/A"},{"$error":"#N/A"},null,null,null,null,null,null,null,null,null,null,null,null,null,null,null,null,null,null,null,null,null,null,"100510..CPCMLD","Producer Supplier not designated.","",0,null,null,null,{"$error":"#N/A"}]
[null,null,null,null,null,"100510..CPCMLD","Central Stone #31, Florissant","3007903116",947,"St. Louis 12-14","0196",2996,{"$error":"#N/A"},{"$error":"#N/A"},null,null,null,null,null,null,null,null,null,null,null,null,null,null,null,null,null,null,null,null,null,null,"100510..CPCMLD","Ready Mix Concrete","",0,null,null,null,{"$error":"#N/A"}]
[null,null,null,null,null,"100510..CPCMLD","Central Stone #31, Florissant","3007903116",947,"St. Louis 3-9","0197",2997,{"$error":"#N/A"},{"$error":"#N/A"},null,null,null,null,null,null,null,null,null,null,null,null,null,null,null,null,null,null,null,null,null,null,"100510..CPCMLD","Select Materials Midwest - Perryville (Lafarge)","",0,null,null,null,{"$error":"#N/A"}]
[null,null,null,null,null,"100510..CPCMLD","Central Stone #31, Florissant","3007903116",947,"Ste. Genevieve-St. Louis 1-2","6049",3021,{"$error":"#N/A"},{"$error":"#N/A"},null,null,null,null,null,null,null,null,null,null,null,null,null,null,null,null,null,null,null,null,null,null,"100510..CPCMLD","Shawnee Stone - Cypress Plant","",0,null,null,null,{"$error":"#N/A"}]
[null,null,null,null,null,"100510..CPCMLD","Central Stone #54 (Bellefontaine)  Farmington","3044000110",1463,"Derby-Doe Run 1&5","2136",4523,{"$error":"#N/A"},{"$error":"#N/A"},null,null,null,null,null,null,null,null,null,null,null,null,null,null,null,null,null,null,null,null,null,null,"100510..CPCMLD","Southeast Missouri Stone (SEMO)","",0,null,null,null,{"$error":"#N/A"}]
[null,null,null,null,null,"100510..CPCMLD","Central Stone #54 (Bellefontaine)  Farmington","3044000110",1463,"Derby-Doe Run 5","1980",4522,{"$error":"#N/A"},{"$error":"#N/A"},null,null,null,null,null,null,null,null,null,null,null,null,null,null,null,null,null,null,null,null,null,null,"100510..CPCMLD","Springfield Underground","",0,null,null,null,{"$error":"#N/A"}]
[null,null,null,null,null,"100510..CPCMLD","Central Stone #55 (Bellefontaine North)","3039700316",1321,"St. Louis 5-9","7708",7701,{"$error":"#N/A"},{"$error":"#N/A"},null,null,null,null,null,null,null,null,null,null,null,null,null,null,null,null,null,null,null,null,null,null,"100510..CPCMLD","St. Charles County Concrete","",0,null,null,null,{"$error":"#N/A"}]
[null,null,null,null,null,"100510..CPCMLD","Central Stone #56 (Bellefontaine South)","3039700216",1325,"Plattin 7-8","5791",4168,{"$error":"#N/A"},{"$error":"#N/A"},null,null,null,null,null,null,null,null,null,null,null,null,null,null,null,null,null,null,null,null,null,null,"100510..CPCMLD","Strack Stone Company, Lodi","",0,null,null,null,{"$error":"#N/A"}]
[null,null,null,null,null,"100510..CPCMLD","Central Stone #56 (Bellefontaine South)","3039700216",1325,"Plattin 9-11","2189",4154,{"$error":"#N/A"},{"$error":"#N/A"},null,null,null,null,null,null,null,null,null,null,null,null,null,null,null,null,null,null,null,null,null,null,"100510..CPCMLD","Summit Materials, Marshall (Boone Quarries)","",0,null,null,null,{"$error":"#N/A"}]
[null,null,null,null,null,"100510..CPCMLD","Central Stone, Potosi (GP Materials)","3505200115",4864,"Eminence 3","7063",7240,{"$error":"#N/A"},{"$error":"#N/A"},null,null,null,null,null,null,null,null,null,null,null,null,null,null,null,null,null,null,null,null,null,null,"100510..CPCMLD","Table Rock - Kenny Nikins Quarry","",0,null,null,null,{"$error":"#N/A"}]
[null,null,null,null,null,"100510..CPCMLD","Colt Rock and Lime (Scaggs) - Pit #2","3169900210",3493,"Potosi 20","5900",6758,{"$error":"#N/A"},{"$error":"#N/A"},null,null,null,null,null,null,null,null,null,null,null,null,null,null,null,null,null,null,null,null,null,null,"100510..CPCMLD","Table Rock, Branson Stone Northeast Extension",{"$f":"IF(AK406=$AK$44,AL406,\"\")","v":""},0,null,null,null,{"$error":"#N/A"}]
[null,null,null,null,null,"100510..CPCMLD","Columbia Quarry, Dupo, IL","3009400316",1270,"St. Louis 0","7032",4011,{"$error":"#N/A"},{"$error":"#N/A"},null,null,null,null,null,null,null,null,null,null,null,null,null,null,null,null,null,null,null,null,null,null,"100510..CPCMLD","Table Rock, Stoneridge Qy","",0,null,null,null,{"$error":"#N/A"}]
[null,null,null,null,null,"100510..CPCMLD","Conco #0478, Montevallo (Ash Grove)","3002900817",1366,"Warsaw 1-5","0306",4312,{"$error":"#N/A"},{"$error":"#N/A"},null,null,null,null,null,null,null,null,null,null,null,null,null,null,null,null,null,null,null,null,null,null,"100510..CPCMLD","Thompson Bros Ready Mix","",0,null,null,null,{"$error":"#N/A"}]
[null,null,null,null,null,"100510..CPCMLD","Conco #0496, Marshfield (Ash Grove)","3002909618",1070,"Jefferson City - Cotter 1-3","2887",3429,{"$error":"#N/A"},{"$error":"#N/A"},null,null,null,null,null,null,null,null,null,null,null,null,null,null,null,null,null,null,null,null,null,null,"100510..CPCMLD","VLC Aggregate Inc., Desloge",{"$f":"IF(AK409=$AK$44,AL409,\"\")","v":""},0,null,null,null,{"$error":"#N/A"}]
[null,null,null,null,null,"100510..CPCMLD","Conco Quarries, Willard","3009800218",1275,"Burlington 1AE","1587",4020,{"$error":"#N/A"},{"$error":"#N/A"},null,null,null,null,null,null,null,null,null,null,null,null,null,null,null,null,null,null,null,null,null,null,"100510..CPCMLD","Van Buren Stone Co., LLC",{"$f":"IF(AK410=$AK$44,AL410,\"\")","v":""},0,null,null,null,{"$error":"#N/A"}]
[null,null,null,null,null,"100510..CPCMLD","Conco Quarries, Willard","3009800218",1275,"Burlington 1BE","2771",4023,{"$error":"#N/A"},{"$error":"#N/A"},null,null,null,null,null,null,null,null,null,null,null,null,null,null,null,null,null,null,null,null,null,null,"100510..CPCMLD","Vernon County Ready Mix","",0,null,null,null,{"$error":"#N/A"}]
[null,null,null,null,null,"100510..CPCMLD","Conco Quarries, Willard","3009800218",1275,"Burlington 1BE, 1BW, & 1CW","7445",7427,{"$error":"#N/A"},{"$error":"#N/A"},null,null,null,null,null,null,null,null,null,null,null,null,null,null,null,null,null,null,null,null,null,null,"100510..CPCMLD","West County Quarry LLC","",0,null,null,null,{"$error":"#N/A"}]
[null,null,null,null,null,"100510..CPCMLD","Conco Quarries, Willard","3009800218",1275,"Burlington 1BW","3013",4024,{"$error":"#N/A"},{"$error":"#N/A"},null,null,null,null,null,null,null,null,null,null,null,null,null,null,null,null,null,null,null,null,null,null,"100510..CPCMLD","Westside Stone (Springfield Underground, Airport)","",0,null,null,null,{"$error":"#N/A"}]
[null,null,null,null,null,"100510..CPCMLD","Conco Quarries, Willard","3009800218",1275,"Burlington 1CE","7454",7436,{"$error":"#N/A"},{"$error":"#N/A"},null,null,null,null,null,null,null,null,null,null,null,null,null,null,null,null,null,null,null,null,null,null,"100510..CPCMLD","Willard Constr, Sleeper","",0,null,null,null,{"$error":"#N/A"}]
[null,null,null,null,null,"100510..CPCMLD","Conco Quarries, Willard","3009800218",1275,"Burlington 1CW","1695",4021,{"$error":"#N/A"},{"$error":"#N/A"},null,null,null,null,null,null,null,null,null,null,null,null,null,null,null,null,null,null,null,null,null,null,"100510..CPCMLD","Willard Constr, St. Robert","",0,null,null,null,{"$error":"#N/A"}]
[null,null,null,null,null,"100510..CPCMLD","Conco Quarries, Willard","3009800218",1275,"Burlington 1E-1BE & 1W-1CW","7747",7740,{"$error":"#N/A"},{"$error":"#N/A"},null,null,null,null,null,null,null,null,null,null,null,null,null,null,null,null,null,null,null,null,null,null,"100510..CPCMLD","Williamsville Stone #1","",0,null,null,null,{"$error":"#N/A"}]
[null,null,null,null,null,"100510..CPCMLD","Conco Quarries, Willard","3009800218",1275,"Burlington 2E-1BE & 2W-1CW","7471",7453,{"$error":"#N/A"},{"$error":"#N/A"},null,null,null,null,null,null,null,null,null,null,null,null,null,null,null,null,null,null,null,null,null,null,"100510..CPCMLD","Wright City Quarry - BMC Stone, LLC","",0,null,null,null,{"$error":"#N/A"}]
[null,null,null,null,null,"100510..CPCMLD","Conco Quarries, Willard","3009800218",1275,"Burlington 2E-1DW","5585",4034,{"$error":"#N/A"},{"$error":"#N/A"},null,null,null,null,null,null,null,null,null,null,null,null,null,null,null,null,null,null,null,null,null,null,"100510..CPPY","Central Stone, Butler Hill Quarry","",0,null,null,null,{"$error":"#N/A"}]
[null,null,null,null,null,"100510..CPCMLD","Crider Bros, Eminence","3011000119",1246,"Eminence 1-2","2836",3962,{"$error":"#N/A"},{"$error":"#N/A"},null,null,null,null,null,null,null,null,null,null,null,null,null,null,null,null,null,null,null,null,null,null,"100510..CPPY","New Frontier, Iron Mountain Quarry, Concrete","",0,null,null,null,{"$error":"#N/A"}]
[null,null,null,null,null,"100510..CPCMLD","Double Eagle Quarry, Ava (Journagan)","3027414418",735,"Jefferson City 2-3","4794",1955,{"$error":"#N/A"},{"$error":"#N/A"},null,null,null,null,null,null,null,null,null,null,null,null,null,null,null,null,null,null,null,null,null,null,"100510..CPPY","New Frontier, Iron Mountain Quarry-Porphyry","",0,null,null,null,{"$error":"#N/A"}]
[null,null,null,null,null,"100510..CPCMLD","Fischer Bros Pit #2, Ste. Genevieve","3035100310",2357,"Salem 20","6589",6028,{"$error":"#N/A"},{"$error":"#N/A"},null,null,null,null,null,null,null,null,null,null,null,null,null,null,null,null,null,null,null,null,null,null,"100510..CPPY","New Frontier, Iron Mtn Trap Rock Pit #3- Porphyry","",0,null,null,null,{"$error":"#N/A"}]
[null,null,null,null,null,"100510..CPCMLD","Fischer Bros Pit #2, Ste. Genevieve","3035100310",2357,"Salem 21-25","5160",6027,{"$error":"#N/A"},{"$error":"#N/A"},null,null,null,null,null,null,null,null,null,null,null,null,null,null,null,null,null,null,null,null,null,null,"100510..CPPY","Trap Rock and Granite Quarries, LLC","",0,null,null,null,{"$error":"#N/A"}]
[null,null,null,null,null,"100510..CPCMLD","Fischer Quarry & Hauling, Burfordville (T&M Stone)","3242000110",2485,"Smith-Powell 14-16","6882",6154,{"$error":"#N/A"},{"$error":"#N/A"},null,null,null,null,null,null,null,null,null,null,null,null,null,null,null,null,null,null,null,null,null,null,"100510..OPTLD1","Bailey Quarries #2, Dolomite","",0,null,null,null,{"$error":"#N/A"}]
[null,null,null,null,null,"100510..CPCMLD","Fischer Quarry & Hauling, Burfordville (T&M Stone)","3242000110",2485,"Smith-Powell 17","6309",6149,{"$error":"#N/A"},{"$error":"#N/A"},null,null,null,null,null,null,null,null,null,null,null,null,null,null,null,null,null,null,null,null,null,null,"100510..OPTLD1","Base Rock Minerals, Fruitland","",0,null,null,null,{"$error":"#N/A"}]
[null,null,null,null,null,"100510..CPCMLD","Gray Quarry, Hamilton,IL","3018600113",1009,"McCraney 12","4549",3248,{"$error":"#N/A"},{"$error":"#N/A"},null,null,null,null,null,null,null,null,null,null,null,null,null,null,null,null,null,null,null,null,null,null,"100510..OPTLD1","Cane Creek Stone","",0,null,null,null,{"$error":"#N/A"}]
[null,null,null,null,null,"100510..CPCMLD","Grays Point Stone & Materials, Scott City","3046500310",362,"Kimmswick 64E","7809",7803,{"$error":"#N/A"},{"$error":"#N/A"},null,null,null,null,null,null,null,null,null,null,null,null,null,null,null,null,null,null,null,null,null,null,"100510..OPTLD1","Cantera Aggregates #1, Plano Qy, Plano, IA","",0,null,null,null,{"$error":"#N/A"}]
[null,null,null,null,null,"100510..CPCMLD","HCH Quarry","3541100119",5357,"Jefferson City 15","7718",7711,{"$error":"#N/A"},{"$error":"#N/A"},null,null,null,null,null,null,null,null,null,null,null,null,null,null,null,null,null,null,null,null,null,null,"100510..OPTLD1","Capital Quarries, Thayer (King Quarry)","",0,null,null,null,{"$error":"#N/A"}]
[null,null,null,null,null,"100510..CPCMLD","Hamm Quarries, Lee's Summitt (Barber and Sons)","3002600114",1497,"Bethany Falls 1-4","0628",4615,{"$error":"#N/A"},{"$error":"#N/A"},null,null,null,null,null,null,null,null,null,null,null,null,null,null,null,null,null,null,null,null,null,null,"100510..OPTLD1","Central Stone #1, Hannibal (Huntington)","",0,null,null,null,{"$error":"#N/A"}]
[null,null,null,null,null,"100510..CPCMLD","Havin Material Services","3019610036",4712,"Havin Material Services, Sullivan Sullivan","6842",7058,{"$error":"#N/A"},{"$error":"#N/A"},null,null,null,null,null,null,null,null,null,null,null,null,null,null,null,null,null,null,null,null,null,null,"100510..OPTLD1","Central Stone #31, Florissant","",0,null,null,null,{"$error":"#N/A"}]
[null,null,null,null,null,"100510..CPCMLD","Heartland Materials, LLC","3453100150",4779,"Kimmswick 30","6474",7168,{"$error":"#N/A"},{"$error":"#N/A"},null,null,null,null,null,null,null,null,null,null,null,null,null,null,null,null,null,null,null,null,null,null,"100510..OPTLD1","Central Stone #56 (Bellefontaine South)","",0,null,null,null,{"$error":"#N/A"}]
[null,null,null,null,null,"100510..CPCMLD","Heartland Materials, LLC","3453100150",4779,"Plattin 25","7257",7175,{"$error":"#N/A"},{"$error":"#N/A"},null,null,null,null,null,null,null,null,null,null,null,null,null,null,null,null,null,null,null,null,null,null,"100510..OPTLD1","Fischer Quarry & Hauling, Burfordville (T&M Stone)","",0,null,null,null,{"$error":"#N/A"}]
[null,null,null,null,null,"100510..CPCMLD","Heartland Materials, LLC","3453100150",4779,"Plattin 27","6480",7169,{"$error":"#N/A"},{"$error":"#N/A"},null,null,null,null,null,null,null,null,null,null,null,null,null,null,null,null,null,null,null,null,null,null,"100510..OPTLD1","Grays Point Stone & Materials, Scott City","",0,null,null,null,{"$error":"#N/A"}]
[null,null,null,null,null,"100510..CPCMLD","Higgins Materials, LLC - Otterville","3518900115",4922,"Cedar Valley 2","7151",7252,{"$f":"IF(AND($F$17=H433,$AK$44=F433),J433,\"\")","v":{"$error":"#N/A"}},{"$f":"IF(AND($F$17=H433,$AK$44=F433),L433,\"\")","v":{"$error":"#N/A"}},null,null,null,null,null,null,null,null,null,null,null,null,null,null,null,null,null,null,null,null,null,null,"100510..OPTLD1","Heartland Materials, LLC","",0,null,null,null,{"$error":"#N/A"}]
[null,null,null,null,null,"100510..CPCMLD","Holliday Sand and Stone, Dever (Ash Grove)","3002948617",3010,"Warsaw 3","5404",6489,{"$error":"#N/A"},{"$error":"#N/A"},null,null,null,null,null,null,null,null,null,null,null,null,null,null,null,null,null,null,null,null,null,null,"100510..OPTLD1","Indian Creek Materials, Willow Springs (Gabel Ston","",0,null,null,null,{"$error":"#N/A"}]
[null,null,null,null,null,"100510..CPCMLD","Holliday Sand and Stone, S&K (Ash Grove)","3002900217",3559,"Higginsville 10","5948",6775,{"$error":"#N/A"},{"$error":"#N/A"},null,null,null,null,null,null,null,null,null,null,null,null,null,null,null,null,null,null,null,null,null,null,"100510..OPTLD1","Indian Creek Materials/Houston","",0,null,null,null,{"$error":"#N/A"}]
[null,null,null,null,null,"100510..CPCMLD","Holliday Sand and Stone, Wheatland (Ash Grove)","3002909218",1087,"Burlington 2-6","3747",3460,{"$error":"#N/A"},{"$error":"#N/A"},null,null,null,null,null,null,null,null,null,null,null,null,null,null,null,null,null,null,null,null,null,null,"100510..OPTLD1","Jasper Stone, LLC","",0,null,null,null,{"$error":"#N/A"}]
[null,null,null,null,null,"100510..CPCMLD","Ideal Ready Mix","3021910033",4713,"Ideal Ready Mix, Canton Canton","6841",7064,{"$error":"#N/A"},{"$error":"#N/A"},null,null,null,null,null,null,null,null,null,null,null,null,null,null,null,null,null,null,null,null,null,null,"100510..OPTLD1","Linwood Mining & Minerals Corp., IA","",0,null,null,null,{"$error":"#N/A"}]
[null,null,null,null,null,"100510..CPCMLD","Ideal Ready Mix","3021910033",4713,"Ideal Ready Mix, Centerville, IA Centerville","7049",7065,{"$error":"#N/A"},{"$error":"#N/A"},null,null,null,null,null,null,null,null,null,null,null,null,null,null,null,null,null,null,null,null,null,null,"100510..OPTLD1","MLH and Sons Quarry","",0,null,null,null,{"$error":"#N/A"}]
[null,null,null,null,null,"100510..CPCMLD","Ideal Ready Mix","3021910033",4713,"Ideal Ready Mix, Kahoka Kahoka","6840",7063,{"$error":"#N/A"},{"$error":"#N/A"},null,null,null,null,null,null,null,null,null,null,null,null,null,null,null,null,null,null,null,null,null,null,"100510..OPTLD1","Magruder Limestone #1, Troy","",0,null,null,null,{"$error":"#N/A"}]
[null,null,null,null,null,"100510..CPCMLD","Ideal Ready Mix","3021910033",4713,"Ideal Ready Mix, Unionville Unionville","6427",7062,{"$error":"#N/A"},{"$error":"#N/A"},null,null,null,null,null,null,null,null,null,null,null,null,null,null,null,null,null,null,null,null,null,null,"100510..OPTLD1","Martin Marietta, Randolph","",0,null,null,null,{"$error":"#N/A"}]
[null,null,null,null,null,"100510..CPCMLD","Indian Creek Materials, Doniphan","3532300119",5174,"Roubidoux 20","7722",7715,{"$error":"#N/A"},{"$error":"#N/A"},null,null,null,null,null,null,null,null,null,null,null,null,null,null,null,null,null,null,null,null,null,null,"100510..OPTLD1","Mid Missouri Limestone (Auxvasse - South Gate)","",0,null,null,null,{"$error":"#N/A"}]
[null,null,null,null,null,"100510..CPCMLD","Indian Creek Materials, Hunter (Hunter Stone)","3141300119",3428,"Gasconade 1-6","6088",6739,{"$error":"#N/A"},{"$error":"#N/A"},null,null,null,null,null,null,null,null,null,null,null,null,null,null,null,null,null,null,null,null,null,null,"100510..OPTLD1","Penny's Concrete","",0,null,null,null,{"$error":"#N/A"}]
[null,null,null,null,null,"100510..CPCMLD","Indian Creek Materials, Moody-AM (Gabel Stone)","3036500519",525,"Jefferson City 3-5","7054",1383,{"$error":"#N/A"},{"$error":"#N/A"},null,null,null,null,null,null,null,null,null,null,null,null,null,null,null,null,null,null,null,null,null,null,"100510..OPTLD1","Producer Supplier not designated.","",0,null,null,null,{"$error":"#N/A"}]
[null,null,null,null,null,"100510..CPCMLD","Indian Creek Materials, Zalma","3162200110",58,"Cotter-Powell 7","6423",113,{"$error":"#N/A"},{"$error":"#N/A"},null,null,null,null,null,null,null,null,null,null,null,null,null,null,null,null,null,null,null,null,null,null,"100510..OPTLD1","Shawnee Stone - Jonesboro, IL","",0,null,null,null,{"$error":"#N/A"}]
[null,null,null,null,null,"100510..CPCMLD","Indian Creek Materials, Zalma","3162200110",58,"Cotter-Powell 8-7","7590",7581,{"$error":"#N/A"},{"$error":"#N/A"},null,null,null,null,null,null,null,null,null,null,null,null,null,null,null,null,null,null,null,null,null,null,"100510..OPTLD1","Springfield Underground","",0,null,null,null,{"$error":"#N/A"}]
[null,null,null,null,null,"100510..CPCMLD","Indian Creek Materials/Couch","3012905219",1228,"Jefferson City 1","2181",3937,{"$error":"#N/A"},{"$error":"#N/A"},null,null,null,null,null,null,null,null,null,null,null,null,null,null,null,null,null,null,null,null,null,null,"100510..OPTLD1","Summit Materials, Marshall (Boone Quarries)","",0,null,null,null,{"$error":"#N/A"}]
[null,null,null,null,null,"100510..CPCMLD","Indian Creek Materials/Houston","3012900419",1216,"Jefferson City 1","2170",3882,{"$error":"#N/A"},{"$error":"#N/A"},null,null,null,null,null,null,null,null,null,null,null,null,null,null,null,null,null,null,null,null,null,null,"100510..OPTLD1","West County Quarry LLC","",0,null,null,null,{"$error":"#N/A"}]
[null,null,null,null,null,"100510..CPCMLD","Indian Creek Materials/Houston","3012900419",1216,"Jefferson City 2-3","1172",3899,{"$error":"#N/A"},{"$error":"#N/A"},null,null,null,null,null,null,null,null,null,null,null,null,null,null,null,null,null,null,null,null,null,null,"100510..OPTQU","L. G. Everist, Inc., Sioux Falls, SD (#2)","",0,null,null,null,{"$error":"#N/A"}]
[null,null,null,null,null,"100510..CPCMLD","Joplin Stone","3023600117",730,"Warsaw 1-3","0364",1936,{"$error":"#N/A"},{"$error":"#N/A"},null,null,null,null,null,null,null,null,null,null,null,null,null,null,null,null,null,null,null,null,null,null,"100515..OPTLD1","Benton County Stone - Gravette, AR","",0,null,null,null,{"$error":"#N/A"}]
[null,null,null,null,null,"100510..CPCMLD","Kirksville Ready Mix","3025500132",1658,"Kirksville Ready Mix, Kirksville Kirksville","6680",5022,{"$error":"#N/A"},{"$error":"#N/A"},null,null,null,null,null,null,null,null,null,null,null,null,null,null,null,null,null,null,null,null,null,null,"100515..OPTLD1","Central Stone #1, Hannibal (Huntington)","",0,null,null,null,{"$error":"#N/A"}]
[null,null,null,null,null,"100510..CPCMLD","Land-Chariton County Concrete","3026800132",623,"Land-Chariton County Concrete, Moberly Moberly","6562",1514,{"$error":"#N/A"},{"$error":"#N/A"},null,null,null,null,null,null,null,null,null,null,null,null,null,null,null,null,null,null,null,null,null,null,"100515..OPTLD1","Martin Marietta, Randolph","",0,null,null,null,{"$error":"#N/A"}]
[null,null,null,null,null,"100510..CPCMLD","Lead Belt, Park Hills Stone","3027000110",630,"Derby-Doe Run 4-1","0424",1521,{"$error":"#N/A"},{"$error":"#N/A"},null,null,null,null,null,null,null,null,null,null,null,null,null,null,null,null,null,null,null,null,null,null,"100515..OPTLD1","Producer Supplier not designated.","",0,null,null,null,{"$error":"#N/A"}]
[null,null,null,null,null,"100510..CPCMLD","Magruder Limestone #1, Troy","3029700113",842,"Burlington 1-7","2068",2543,{"$error":"#N/A"},{"$error":"#N/A"},null,null,null,null,null,null,null,null,null,null,null,null,null,null,null,null,null,null,null,null,null,null,"1005CM..GT10","Central Stone, Butler Hill Quarry","",0,null,null,null,{"$error":"#N/A"}]
[null,null,null,null,null,"100510..CPCMLD","Magruder Limestone #1, Troy","3029700113",842,"Chouteau 1C-8C","0142",2537,{"$error":"#N/A"},{"$error":"#N/A"},null,null,null,null,null,null,null,null,null,null,null,null,null,null,null,null,null,null,null,null,null,null,"1005CM..GT10","Granite Mountain Quarry","",0,null,null,null,{"$error":"#N/A"}]
[null,null,null,null,null,"100510..CPCMLD","Magruder Limestone Co, (Shawnee Bend Quarry)","3234600115",2639,"Gasconade 1","5094",6257,{"$error":"#N/A"},{"$error":"#N/A"},null,null,null,null,null,null,null,null,null,null,null,null,null,null,null,null,null,null,null,null,null,null,"1005CM..GT10","Martin Marietta (Mill Creek Quarry), OK","",0,null,null,null,{"$error":"#N/A"}]
[null,null,null,null,null,"100510..CPCMLD","Magruder Limestone, Ashley","3029700313",838,"Burlington 1-3","0146",2477,{"$error":"#N/A"},{"$error":"#N/A"},null,null,null,null,null,null,null,null,null,null,null,null,null,null,null,null,null,null,null,null,null,null,"1005CM..GV04","Buckhart Sand & Gravel","",0,null,null,null,{"$error":"#N/A"}]
[null,null,null,null,null,"100510..CPCMLD","Magruder Limestone, Ashley","3029700313",838,"Burlington A-C","6458",2476,{"$error":"#N/A"},{"$error":"#N/A"},null,null,null,null,null,null,null,null,null,null,null,null,null,null,null,null,null,null,null,null,null,null,"1005CM..GV04","Capital Sand #1,  Wardsville (Osage Riv)","",0,null,null,null,{"$error":"#N/A"}]
[null,null,null,null,null,"100510..CPCMLD","Magruder Limestone, Ashley","3029700313",838,"Chouteau 7-14","0147",2470,{"$error":"#N/A"},{"$error":"#N/A"},null,null,null,null,null,null,null,null,null,null,null,null,null,null,null,null,null,null,null,null,null,null,"1005CM..GV04","Havin Materials, Meramec Aggr, St. Clair","",0,null,null,null,{"$error":"#N/A"}]
[null,null,null,null,null,"100510..CPCMLD","Magruder Limestone, Foley","3139700113",1382,"Plattin 2-4","5450",4373,{"$error":"#N/A"},{"$error":"#N/A"},null,null,null,null,null,null,null,null,null,null,null,null,null,null,null,null,null,null,null,null,null,null,"1005CM..GV04","Winter Brothers, Hagemann","",0,null,null,null,{"$error":"#N/A"}]
[null,null,null,null,null,"100510..CPCMLD","Magruder Limestone, Foley","3139700113",1382,"Plattin 5-7","7347",4367,{"$error":"#N/A"},{"$error":"#N/A"},null,null,null,null,null,null,null,null,null,null,null,null,null,null,null,null,null,null,null,null,null,null,"1005CM..GV05","Buckhart Sand & Gravel","",0,null,null,null,{"$error":"#N/A"}]
[null,null,null,null,null,"100510..CPCMLD","Magruder Limestone, Osage Hills","3029701415",5298,"Gasconade 1","7565",7555,{"$error":"#N/A"},{"$error":"#N/A"},null,null,null,null,null,null,null,null,null,null,null,null,null,null,null,null,null,null,null,null,null,null,"1005CM..GV05","Carri Scharf Materials Co. (Heyworth Pit #2)","",0,null,null,null,{"$error":"#N/A"}]
[null,null,null,null,null,"100510..CPCMLD","Magruder Limestone, Silex","3029700613",841,"Plattin 22","7254",2531,{"$error":"#N/A"},{"$error":"#N/A"},null,null,null,null,null,null,null,null,null,null,null,null,null,null,null,null,null,null,null,null,null,null,"1005CM..GV05","Lawrence Gravel","",0,null,null,null,{"$error":"#N/A"}]
[null,null,null,null,null,"100510..CPCMLD","Magruder Limestone, Silex","3029700613",841,"Plattin 25-23","0186",2528,{"$error":"#N/A"},{"$error":"#N/A"},null,null,null,null,null,null,null,null,null,null,null,null,null,null,null,null,null,null,null,null,null,null,"1005CM..GV10","11 Point Sand and Gravel","",0,null,null,null,{"$error":"#N/A"}]
[null,null,null,null,null,"100510..CPCMLD","Martin Marietta (Meridian Qy North - Cavenaugh","3004700319",2182,"Cotter-Powell 1","2853",5811,{"$error":"#N/A"},{"$error":"#N/A"},null,null,null,null,null,null,null,null,null,null,null,null,null,null,null,null,null,null,null,null,null,null,"1005CM..GV10","Big Creek Sand & Gravel (Vaughn RM)","",0,null,null,null,{"$error":"#N/A"}]
[null,null,null,null,null,"100510..CPCMLD","Martin Marietta, Randolph","3021300114",900,"Cedar Valley 1CV","6963",2774,{"$error":"#N/A"},{"$error":"#N/A"},null,null,null,null,null,null,null,null,null,null,null,null,null,null,null,null,null,null,null,null,null,null,"1005CM..GV10","Buckhart Sand & Gravel","",0,null,null,null,{"$error":"#N/A"}]
[null,null,null,null,null,"100510..CPCMLD","Mid Missouri Limestone (Auxvasse - South Gate)","3001900115",1351,"Burlington 1-2*","4784",4243,{"$error":"#N/A"},{"$error":"#N/A"},null,null,null,null,null,null,null,null,null,null,null,null,null,null,null,null,null,null,null,null,null,null,"1005CM..GV10","Carri Scharf Materials Co. (Heyworth Pit #2)","",0,null,null,null,{"$error":"#N/A"}]
[null,null,null,null,null,"100510..CPCMLD","Mid Missouri Limestone (Auxvasse - South Gate)","3001900115",1351,"Cedar Valley 6","0617",4249,{"$error":"#N/A"},{"$error":"#N/A"},null,null,null,null,null,null,null,null,null,null,null,null,null,null,null,null,null,null,null,null,null,null,"1005CM..GV10","Central Stone #61, LaGrange Sand & Gravel","",0,null,null,null,{"$error":"#N/A"}]
[null,null,null,null,null,"100510..CPCMLD","Mid Missouri Limestone (Auxvasse - South Gate)","3001900115",1351,"Cedar Valley 6-7-8-9","7411",7393,{"$error":"#N/A"},{"$error":"#N/A"},null,null,null,null,null,null,null,null,null,null,null,null,null,null,null,null,null,null,null,null,null,null,"1005CM..GV10","JR Sand and Gravel","",0,null,null,null,{"$error":"#N/A"}]
[null,null,null,null,null,"100510..CPCMLD","Mid Missouri Limestone (Auxvasse - South Gate)","3001900115",1351,"Cedar Valley 6-8","7108",4245,{"$error":"#N/A"},{"$error":"#N/A"},null,null,null,null,null,null,null,null,null,null,null,null,null,null,null,null,null,null,null,null,null,null,"1005CM..GV10","Stewart-Morrison - Spring Creek Materials","",0,null,null,null,{"$error":"#N/A"}]
[null,null,null,null,null,"100510..CPCMLD","Mid Missouri Limestone (Auxvasse - South Gate)","3001900115",1351,"Cedar Valley 8-9","7462",7444,{"$error":"#N/A"},{"$error":"#N/A"},null,null,null,null,null,null,null,null,null,null,null,null,null,null,null,null,null,null,null,null,null,null,"1005CM..GV10","Vaughn Redi-Mix, Inc.","",0,null,null,null,{"$error":"#N/A"}]
[null,null,null,null,null,"100510..CPCMLD","Mid Missouri Limestone (Auxvasse - South Gate)","3001900115",1351,"Cedar Valley 9","0549",4250,{"$error":"#N/A"},{"$error":"#N/A"},null,null,null,null,null,null,null,null,null,null,null,null,null,null,null,null,null,null,null,null,null,null,"1005CM..GV10","Wayne B. Smith, Louisiana Sand","",0,null,null,null,{"$error":"#N/A"}]
[null,null,null,null,null,"100510..CPCMLD","Mid Missouri Limestone (Reform)","3031700115",402,"Cedar Valley 1","7814",7808,{"$error":"#N/A"},{"$error":"#N/A"},null,null,null,null,null,null,null,null,null,null,null,null,null,null,null,null,null,null,null,null,null,null,"1005CM..LD04","Capital Materials, Tightwad (APAC)","",0,null,null,null,{"$error":"#N/A"}]
[null,null,null,null,null,"100510..CPCMLD","Mid Missouri Limestone (Reform)","3031700115",402,"Cedar Valley 1 & 2","0608",1215,{"$error":"#N/A"},{"$error":"#N/A"},null,null,null,null,null,null,null,null,null,null,null,null,null,null,null,null,null,null,null,null,null,null,"1005CM..LD05","Producer Supplier not designated.","",0,null,null,null,{"$error":"#N/A"}]
[null,null,null,null,null,"100510..CPCMLD","Mid-States Materials, LLC, Northview","3003900218",5077,"Jefferson City 1-3","7292",7317,{"$error":"#N/A"},{"$error":"#N/A"},null,null,null,null,null,null,null,null,null,null,null,null,null,null,null,null,null,null,null,null,null,null,"1005CM..LD07","AA Quarry, LLC",{"$f":"IF(AK474=$AK$44,AL474,\"\")","v":""},0,null,null,null,{"$error":"#N/A"}]
[null,null,null,null,null,"100510..CPCMLD","Mid-States Materials, LLC, Northview","3003900218",5077,"Jefferson City-Cotter 1-4","7450",7432,{"$error":"#N/A"},{"$error":"#N/A"},null,null,null,null,null,null,null,null,null,null,null,null,null,null,null,null,null,null,null,null,null,null,"1005CM..LD07","Capital Quarries, Thayer (King Quarry)","",0,null,null,null,{"$error":"#N/A"}]
[null,null,null,null,null,"100510..CPCMLD","Mid-States Materials, LLC, Northview","3003900218",5077,"Jefferson City-Cotter 4","7449",7431,{"$error":"#N/A"},{"$error":"#N/A"},null,null,null,null,null,null,null,null,null,null,null,null,null,null,null,null,null,null,null,null,null,null,"1005CM..LD07","Falling Springs Quarry (Stolle)","",0,null,null,null,{"$error":"#N/A"}]
[null,null,null,null,null,"100510..CPCMLD","Midwest Minerals, Jasper","3032000117",592,"Warsaw 1-3","0371",1476,{"$error":"#N/A"},{"$error":"#N/A"},null,null,null,null,null,null,null,null,null,null,null,null,null,null,null,null,null,null,null,null,null,null,"1005CM..LD07","Hamm (Lone Elm)","",0,null,null,null,{"$error":"#N/A"}]
[null,null,null,null,null,"100510..CPCMLD","Milan Ready Mix (Sullivan County RM)","3198400132",1874,"Milan Ready Mix,  Milan Milan","6472",5374,{"$error":"#N/A"},{"$error":"#N/A"},null,null,null,null,null,null,null,null,null,null,null,null,null,null,null,null,null,null,null,null,null,null,"1005CM..LD07","Herzog, Wathena Stone","",0,null,null,null,{"$error":"#N/A"}]
[null,null,null,null,null,"100510..CPCMLD","Mill Creek Quarry (Kemp Quarries)","3534100119",5196,"St. Joe Limestone 1","7433",7415,{"$error":"#N/A"},{"$error":"#N/A"},null,null,null,null,null,null,null,null,null,null,null,null,null,null,null,null,null,null,null,null,null,null,"1005CM..LD07","Martin Marietta, Greenwood SW","",0,null,null,null,{"$error":"#N/A"}]
[null,null,null,null,null,"100510..CPCMLD","Mulberry Limestone – Joplin Quarry","3537700117",5303,"Warsaw 1","7598",7589,{"$error":"#N/A"},{"$error":"#N/A"},null,null,null,null,null,null,null,null,null,null,null,null,null,null,null,null,null,null,null,null,null,null,"1005CM..LD07","Norris Quarries, Bethany","",0,null,null,null,{"$error":"#N/A"}]
[null,null,null,null,null,"100510..CPCMLD","Mulberry Limestone, Jasper (Nelson Stone Quarry)","3218500117",2238,"Warsaw 1","3290",5881,{"$error":"#N/A"},{"$error":"#N/A"},null,null,null,null,null,null,null,null,null,null,null,null,null,null,null,null,null,null,null,null,null,null,"1005CM..LD07","Norris Quarries, Breit Quarry, Savannah","",0,null,null,null,{"$error":"#N/A"}]
[null,null,null,null,null,"100510..CPCMLD","Mulberry Limestone, Pittsburg, KS","3160600417",5404,"Black Jack Creek 1","7757",7750,{"$error":"#N/A"},{"$error":"#N/A"},null,null,null,null,null,null,null,null,null,null,null,null,null,null,null,null,null,null,null,null,null,null,"1005CM..LD07","Norris Quarries, Knoxville (Ray County, #1 SW Pit)","",0,null,null,null,{"$error":"#N/A"}]
[null,null,null,null,null,"100510..CPCMLD","Mulberry Quarry, Lamar (Ash Grove Aggr #84)","3045600117",190,"Warsaw 1-3","0365",619,{"$error":"#N/A"},{"$error":"#N/A"},null,null,null,null,null,null,null,null,null,null,null,null,null,null,null,null,null,null,null,null,null,null,"1005CM..LD07","Producer Supplier not designated.","",0,null,null,null,{"$error":"#N/A"}]
[null,null,null,null,null,"100510..CPCMLD","New Frontier, Alton Weber #8","3032400116",577,"St. Louis 1-7","4333",1423,{"$error":"#N/A"},{"$error":"#N/A"},null,null,null,null,null,null,null,null,null,null,null,null,null,null,null,null,null,null,null,null,null,null,"1005CM..LD10","AA Quarry, LLC","",0,null,null,null,{"$error":"#N/A"}]
[null,null,null,null,null,"100510..CPCMLD","New Frontier, Festus Quarry","3016600316",115,"Plattin P1-P12","5054",380,{"$error":"#N/A"},{"$error":"#N/A"},null,null,null,null,null,null,null,null,null,null,null,null,null,null,null,null,null,null,null,null,null,null,"1005CM..LD10","APAC-Kansas Bates City Quarry","",0,null,null,null,{"$error":"#N/A"}]
[null,null,null,null,null,"100510..CPCMLD","New Frontier, New Melle Quarry","3016600716",117,"Plattin 2-4,4-7","5041",443,{"$error":"#N/A"},{"$error":"#N/A"},null,null,null,null,null,null,null,null,null,null,null,null,null,null,null,null,null,null,null,null,null,null,"1005CM..LD10","APAC-Kansas Harrisonville Quarry","",0,null,null,null,{"$error":"#N/A"}]
[null,null,null,null,null,"100510..CPCMLD","New Frontier, North Quarry #6","3016600116",118,"St. Louis 2-9","5607",480,{"$error":"#N/A"},{"$error":"#N/A"},null,null,null,null,null,null,null,null,null,null,null,null,null,null,null,null,null,null,null,null,null,null,"1005CM..LD10","American Rock R & C - dba Buchanan Materials","",0,null,null,null,{"$error":"#N/A"}]
[null,null,null,null,null,"100510..CPCMLD","Pattison Sand Company, Clayton, IA","3918700115",5190,"Beecher 5","7421",7403,{"$error":"#N/A"},{"$error":"#N/A"},null,null,null,null,null,null,null,null,null,null,null,null,null,null,null,null,null,null,null,null,null,null,"1005CM..LD10","Anchor Stone, Jane (Bailey)","",0,null,null,null,{"$error":"#N/A"}]
[null,null,null,null,null,"100510..CPCMLD","Pattison Sand Company, Clayton, IA","3918700115",5190,"Buckhorn 7","7423",7405,{"$error":"#N/A"},{"$error":"#N/A"},null,null,null,null,null,null,null,null,null,null,null,null,null,null,null,null,null,null,null,null,null,null,"1005CM..LD10","Bailey Quarries #3, Stockton","",0,null,null,null,{"$error":"#N/A"}]
[null,null,null,null,null,"100510..CPCMLD","Pattison Sand Company, Clayton, IA","3918700115",5190,"Eagle Point 4","7420",7402,{"$error":"#N/A"},{"$error":"#N/A"},null,null,null,null,null,null,null,null,null,null,null,null,null,null,null,null,null,null,null,null,null,null,"1005CM..LD10","Boone Quarries, Jefferson City(Stockman Quarry 54)","",0,null,null,null,{"$error":"#N/A"}]
[null,null,null,null,null,"100510..CPCMLD","Pattison Sand Company, Clayton, IA","3918700115",5190,"Fairplay 3","7419",7401,{"$error":"#N/A"},{"$error":"#N/A"},null,null,null,null,null,null,null,null,null,null,null,null,null,null,null,null,null,null,null,null,null,null,"1005CM..LD10","Bussen #4, Trautman Quarry","",0,null,null,null,{"$error":"#N/A"}]
[null,null,null,null,null,"100510..CPCMLD","Pattison Sand Company, Clayton, IA","3918700115",5190,"Mortimer-Rivoli 2","7418",7400,{"$error":"#N/A"},{"$error":"#N/A"},null,null,null,null,null,null,null,null,null,null,null,null,null,null,null,null,null,null,null,null,null,null,"1005CM..LD10","Capital Materials, Fairplay (T & M Stone Quarry)","",0,null,null,null,{"$error":"#N/A"}]
[null,null,null,null,null,"100510..CPCMLD","Pattison Sand Company, Clayton, IA","3918700115",5190,"Oneota 12","7428",7410,{"$error":"#N/A"},{"$error":"#N/A"},null,null,null,null,null,null,null,null,null,null,null,null,null,null,null,null,null,null,null,null,null,null,"1005CM..LD10","Capital Materials, Linn Creek (APAC)","",0,null,null,null,{"$error":"#N/A"}]
[null,null,null,null,null,"100510..CPCMLD","Pattison Sand Company, Clayton, IA","3918700115",5190,"Oneota 13","7429",7411,{"$error":"#N/A"},{"$error":"#N/A"},null,null,null,null,null,null,null,null,null,null,null,null,null,null,null,null,null,null,null,null,null,null,"1005CM..LD10","Capital Materials, Warsaw (APAC)","",0,null,null,null,{"$error":"#N/A"}]
[null,null,null,null,null,"100510..CPCMLD","Pattison Sand Company, Clayton, IA","3918700115",5190,"Shakopee 10","7426",7408,{"$error":"#N/A"},{"$error":"#N/A"},null,null,null,null,null,null,null,null,null,null,null,null,null,null,null,null,null,null,null,null,null,null,"1005CM..LD10","Capital Quarries #10, Quinn Pit (Beck)","",0,null,null,null,{"$error":"#N/A"}]
[null,null,null,null,null,"100510..CPCMLD","Pattison Sand Company, Clayton, IA","3918700115",5190,"Shakopee 8","7424",7406,{"$error":"#N/A"},{"$error":"#N/A"},null,null,null,null,null,null,null,null,null,null,null,null,null,null,null,null,null,null,null,null,null,null,"1005CM..LD10","Capital Quarries, Stadium W","",0,null,null,null,{"$error":"#N/A"}]
[null,null,null,null,null,"100510..CPCMLD","Pattison Sand Company, Clayton, IA","3918700115",5190,"Shakopee 9","7425",7407,{"$f":"IF(AND($F$17=H497,$AK$44=F497),J497,\"\")","v":{"$error":"#N/A"}},{"$f":"IF(AND($F$17=H497,$AK$44=F497),L497,\"\")","v":{"$error":"#N/A"}},null,null,null,null,null,null,null,null,null,null,null,null,null,null,null,null,null,null,null,null,null,null,"1005CM..LD10","Capital Quarries, Thayer (King Quarry)","",0,null,null,null,{"$error":"#N/A"}]
[null,null,null,null,null,"100510..CPCMLD","Pattison Sand Company, Clayton, IA","3918700115",5190,"Sherwood 1","7417",7399,{"$error":"#N/A"},{"$error":"#N/A"},null,null,null,null,null,null,null,null,null,null,null,null,null,null,null,null,null,null,null,null,null,null,"1005CM..LD10","Central Stone #55 (Bellefontaine North)","",0,null,null,null,{"$error":"#N/A"}]
[null,null,null,null,null,"100510..CPCMLD","Pattison Sand Company, Clayton, IA","3918700115",5190,"St. James 6","7422",7404,{"$error":"#N/A"},{"$error":"#N/A"},null,null,null,null,null,null,null,null,null,null,null,null,null,null,null,null,null,null,null,null,null,null,"1005CM..LD10","Central Stone #56 (Bellefontaine South)","",0,null,null,null,{"$error":"#N/A"}]
[null,null,null,null,null,"100510..CPCMLD","Pattison Sand Company, Clayton, IA","3918700115",5190,"Transition Zone 11","7427",7409,{"$error":"#N/A"},{"$error":"#N/A"},null,null,null,null,null,null,null,null,null,null,null,null,null,null,null,null,null,null,null,null,null,null,"1005CM..LD10","Central Stone #6, New London","",0,null,null,null,{"$error":"#N/A"}]
[null,null,null,null,null,"100510..CPCMLD","Penny's Concrete","3055810037",4719,"Penny's, Carrolton (Green) Carrolton","6904",7091,{"$error":"#N/A"},{"$error":"#N/A"},null,null,null,null,null,null,null,null,null,null,null,null,null,null,null,null,null,null,null,null,null,null,"1005CM..LD10","Charleston Stone - West Pit, Charleston, IL","",0,null,null,null,{"$error":"#N/A"}]
[null,null,null,null,null,"100510..CPCMLD","Penny's Concrete","3055810037",4719,"Penny's, Chillicothe (Green) Chillicothe","6905",7092,{"$error":"#N/A"},{"$error":"#N/A"},null,null,null,null,null,null,null,null,null,null,null,null,null,null,null,null,null,null,null,null,null,null,"1005CM..LD10","Conco #0497, Fairgrove (Ash Grove)","",0,null,null,null,{"$error":"#N/A"}]
[null,null,null,null,null,"100510..CPCMLD","Penny's Concrete","3055810037",4719,"Penny's, Concordia (Green) Concordia","6906",7093,{"$error":"#N/A"},{"$error":"#N/A"},null,null,null,null,null,null,null,null,null,null,null,null,null,null,null,null,null,null,null,null,null,null,"1005CM..LD10","Gray Quarry, Hamilton,IL","",0,null,null,null,{"$error":"#N/A"}]
[null,null,null,null,null,"100510..CPCMLD","Penny's Concrete","3055810037",4719,"Penny's, Excelsior Springs (Green) Excelsior Springs","6907",7094,{"$error":"#N/A"},{"$error":"#N/A"},null,null,null,null,null,null,null,null,null,null,null,null,null,null,null,null,null,null,null,null,null,null,"1005CM..LD10","Hamm (Lone Elm)","",0,null,null,null,{"$error":"#N/A"}]
[null,null,null,null,null,"100510..CPCMLD","Penny's Concrete","3055810037",4719,"Penny's, Grain Valley Grain Valley","6978",7100,{"$error":"#N/A"},{"$error":"#N/A"},null,null,null,null,null,null,null,null,null,null,null,null,null,null,null,null,null,null,null,null,null,null,"1005CM..LD10","Hamm Quarries, Eudora","",0,null,null,null,{"$error":"#N/A"}]
[null,null,null,null,null,"100510..CPCMLD","Penny's Concrete","3055810037",4719,"Penny's, Hamilton Hamilton","6479",7090,{"$error":"#N/A"},{"$error":"#N/A"},null,null,null,null,null,null,null,null,null,null,null,null,null,null,null,null,null,null,null,null,null,null,"1005CM..LD10","Hamm Quarry, La Cygne (Mid-State)","",0,null,null,null,{"$error":"#N/A"}]
[null,null,null,null,null,"100510..CPCMLD","Penny's Concrete","3055810037",4719,"Penny's, Higginsville (Green) Higginsville","6974",7096,{"$error":"#N/A"},{"$error":"#N/A"},null,null,null,null,null,null,null,null,null,null,null,null,null,null,null,null,null,null,null,null,null,null,"1005CM..LD10","Herzog, Wathena Stone","",0,null,null,null,{"$error":"#N/A"}]
[null,null,null,null,null,"100510..CPCMLD","Penny's Concrete","3055810037",4719,"Penny's, Lansing KS Lansing","6975",7097,{"$error":"#N/A"},{"$error":"#N/A"},null,null,null,null,null,null,null,null,null,null,null,null,null,null,null,null,null,null,null,null,null,null,"1005CM..LD10","Higgins Materials, LLC - Otterville","",0,null,null,null,{"$error":"#N/A"}]
[null,null,null,null,null,"100510..CPCMLD","Penny's Concrete","3055810037",4719,"Penny's, Martin City Martin City","6976",7098,{"$error":"#N/A"},{"$error":"#N/A"},null,null,null,null,null,null,null,null,null,null,null,null,null,null,null,null,null,null,null,null,null,null,"1005CM..LD10","Higgins Quarry, LLC (Muenks Bros)","",0,null,null,null,{"$error":"#N/A"}]
[null,null,null,null,null,"100510..CPCMLD","Penny's Concrete","3055810037",4719,"Penny's, Parvin Rd Parvin","6977",7099,{"$error":"#N/A"},{"$error":"#N/A"},null,null,null,null,null,null,null,null,null,null,null,null,null,null,null,null,null,null,null,null,null,null,"1005CM..LD10","Holliday Sand and Stone, S&K (Ash Grove)","",0,null,null,null,{"$error":"#N/A"}]
[null,null,null,null,null,"100510..CPCMLD","Penny's Concrete","3055810037",4719,"Penny's, Richmond (Green) Richmond","6908",7095,{"$error":"#N/A"},{"$error":"#N/A"},null,null,null,null,null,null,null,null,null,null,null,null,null,null,null,null,null,null,null,null,null,null,"1005CM..LD10","L & W Construction, Mystic","",0,null,null,null,{"$error":"#N/A"}]
[null,null,null,null,null,"100510..CPCMLD","Ready Mix Concrete","3044510030",4721,"Ready Mix Concrete, Perryville Perryville","6988",7112,{"$error":"#N/A"},{"$error":"#N/A"},null,null,null,null,null,null,null,null,null,null,null,null,null,null,null,null,null,null,null,null,null,null,"1005CM..LD10","Linwood Mining & Minerals Corp., IA","",0,null,null,null,{"$error":"#N/A"}]
[null,null,null,null,null,"100510..CPCMLD","Select Materials Midwest - Perryville (Lafarge)","3030636610",827,"Plattin 3-1","7839",7834,{"$error":"#N/A"},{"$error":"#N/A"},null,null,null,null,null,null,null,null,null,null,null,null,null,null,null,null,null,null,null,null,null,null,"1005CM..LD10","MLH and Sons Quarry","",0,null,null,null,{"$error":"#N/A"}]
[null,null,null,null,null,"100510..CPCMLD","Select Materials Midwest - Perryville (Lafarge)","3030636610",827,"Plattin 3-7","7113",2412,{"$error":"#N/A"},{"$error":"#N/A"},null,null,null,null,null,null,null,null,null,null,null,null,null,null,null,null,null,null,null,null,null,null,"1005CM..LD10","Magruder Limestone, Osage Hills","",0,null,null,null,{"$error":"#N/A"}]
[null,null,null,null,null,"100510..CPCMLD","Shawnee Stone - Cypress Plant","3009401510",3209,"Ste. Genevieve 5-12","5854",6621,{"$error":"#N/A"},{"$error":"#N/A"},null,null,null,null,null,null,null,null,null,null,null,null,null,null,null,null,null,null,null,null,null,null,"1005CM..LD10","Magruder Limestone, Silex","",0,null,null,null,{"$error":"#N/A"}]
[null,null,null,null,null,"100510..CPCMLD","Southeast Missouri Stone (SEMO)","3042800110",248,"Joachim-Dolomite 27A-42A","6289",859,{"$error":"#N/A"},{"$error":"#N/A"},null,null,null,null,null,null,null,null,null,null,null,null,null,null,null,null,null,null,null,null,null,null,"1005CM..LD10","Mansfield Quarry, Mansfield","",0,null,null,null,{"$error":"#N/A"}]
[null,null,null,null,null,"100510..CPCMLD","Southeast Missouri Stone (SEMO)","3042800110",248,"Plattin 15-5A","3433",796,{"$error":"#N/A"},{"$error":"#N/A"},null,null,null,null,null,null,null,null,null,null,null,null,null,null,null,null,null,null,null,null,null,null,"1005CM..LD10","Martin Marietta, Greenwood SW","",0,null,null,null,{"$error":"#N/A"}]
[null,null,null,null,null,"100510..CPCMLD","Southeast Missouri Stone (SEMO)","3042800110",248,"Plattin 21-20","6092",856,{"$error":"#N/A"},{"$error":"#N/A"},null,null,null,null,null,null,null,null,null,null,null,null,null,null,null,null,null,null,null,null,null,null,"1005CM..LD10","Mid Missouri Limestone (Auxvasse - South Gate)","",0,null,null,null,{"$error":"#N/A"}]
[null,null,null,null,null,"100510..CPCMLD","Southeast Missouri Stone (SEMO)","3042800110",248,"Plattin 34-22","4720",811,{"$error":"#N/A"},{"$error":"#N/A"},null,null,null,null,null,null,null,null,null,null,null,null,null,null,null,null,null,null,null,null,null,null,"1005CM..LD10","Mid-States Materials, LLC, Northview","",0,null,null,null,{"$error":"#N/A"}]
[null,null,null,null,null,"100510..CPCMLD","Southeast Missouri Stone (SEMO)","3042800110",248,"Plattin 40-35","6166",858,{"$error":"#N/A"},{"$error":"#N/A"},null,null,null,null,null,null,null,null,null,null,null,null,null,null,null,null,null,null,null,null,null,null,"1005CM..LD10","Midwest Minerals, Fort Scott, KS","",0,null,null,null,{"$error":"#N/A"}]
[null,null,null,null,null,"100510..CPCMLD","Southeast Missouri Stone (SEMO)","3042800110",248,"Plattin 42-41","6018",855,{"$error":"#N/A"},{"$error":"#N/A"},null,null,null,null,null,null,null,null,null,null,null,null,null,null,null,null,null,null,null,null,null,null,"1005CM..LD10","Midwest Minerals, Pittsburg","",0,null,null,null,{"$error":"#N/A"}]
[null,null,null,null,null,"100510..CPCMLD","Southeast Missouri Stone (SEMO)","3042800110",248,"Plattin 6A-26A","5988",854,{"$error":"#N/A"},{"$error":"#N/A"},null,null,null,null,null,null,null,null,null,null,null,null,null,null,null,null,null,null,null,null,null,null,"1005CM..LD10","New Frontier, Barnhart Quarry","",0,null,null,null,{"$error":"#N/A"}]
[null,null,null,null,null,"100510..CPCMLD","Southeast Missouri Stone (SEMO)","3042800110",248,"Plattin, 6-16A,39-35,15-5A,34-22 Various","5500",851,{"$error":"#N/A"},{"$error":"#N/A"},null,null,null,null,null,null,null,null,null,null,null,null,null,null,null,null,null,null,null,null,null,null,"1005CM..LD10","Norris Quarries LLC, Kingston (APAC - Kingston)","",0,null,null,null,{"$error":"#N/A"}]
[null,null,null,null,null,"100510..CPCMLD","Springfield Underground","3018800118",231,"Burlington 1","2148",702,{"$error":"#N/A"},{"$error":"#N/A"},null,null,null,null,null,null,null,null,null,null,null,null,null,null,null,null,null,null,null,null,null,null,"1005CM..LD10","Norris Quarries, Knoxville (Ray County, #1 SW Pit)","",0,null,null,null,{"$error":"#N/A"}]
[null,null,null,null,null,"100510..CPCMLD","Springfield Underground","3018800118",231,"Burlington 1-2","2835",703,{"$error":"#N/A"},{"$error":"#N/A"},null,null,null,null,null,null,null,null,null,null,null,null,null,null,null,null,null,null,null,null,null,null,"1005CM..LD10","Norris Quarries, Trenton","",0,null,null,null,{"$error":"#N/A"}]
[null,null,null,null,null,"100510..CPCMLD","St. Charles County Concrete","3021200836",1797,"St. Charles Concrete, Wentzville Wentzville","6634",5307,{"$error":"#N/A"},{"$error":"#N/A"},null,null,null,null,null,null,null,null,null,null,null,null,null,null,null,null,null,null,null,null,null,null,"1005CM..LD10","North Central Arkansas Quarries","",0,null,null,null,{"$error":"#N/A"}]
[null,null,null,null,null,"100510..CPCMLD","Strack Stone Company, Lodi","3242100210",3362,"Potosi 11","1654",6713,{"$error":"#N/A"},{"$error":"#N/A"},null,null,null,null,null,null,null,null,null,null,null,null,null,null,null,null,null,null,null,null,null,null,"1005CM..LD10","Pattison Sand Company, Clayton, IA","",0,null,null,null,{"$error":"#N/A"}]
[null,null,null,null,null,"100510..CPCMLD","Strack Stone Company, Lodi","3242100210",3362,"Potosi 9-10","6087",6710,{"$error":"#N/A"},{"$error":"#N/A"},null,null,null,null,null,null,null,null,null,null,null,null,null,null,null,null,null,null,null,null,null,null,"1005CM..LD10","Producer Supplier not designated.","",0,null,null,null,{"$error":"#N/A"}]
[null,null,null,null,null,"100510..CPCMLD","Summit Materials, Marshall (Boone Quarries)","3176713215",1976,"Cedar Valley 5CA-9CA","6605",5592,{"$error":"#N/A"},{"$error":"#N/A"},null,null,null,null,null,null,null,null,null,null,null,null,null,null,null,null,null,null,null,null,null,null,"1005CM..LD10","S & S Quarries Inc.","",0,null,null,null,{"$error":"#N/A"}]
[null,null,null,null,null,"100510..CPCMLD","Summit Materials, Marshall (Boone Quarries)","3176713215",1976,"Cedar Valley 8CA-9CA","5561",5587,{"$error":"#N/A"},{"$error":"#N/A"},null,null,null,null,null,null,null,null,null,null,null,null,null,null,null,null,null,null,null,null,null,null,"1005CM..LD10","Table Rock - Kenny Nikins Quarry","",0,null,null,null,{"$error":"#N/A"}]
[null,null,null,null,null,"100510..CPCMLD","Summit Materials, Marshall (Boone Quarries)","3176713215",1976,"Chouteau - Cedar Valley 4C,5-9CA","7158",5593,{"$error":"#N/A"},{"$error":"#N/A"},null,null,null,null,null,null,null,null,null,null,null,null,null,null,null,null,null,null,null,null,null,null,"1005CM..LD10","Talon Aggregates, Kentucky Rd. (Lafarge)","",0,null,null,null,{"$error":"#N/A"}]
[null,null,null,null,null,"100510..CPCMLD","Summit Materials, Marshall (Boone Quarries)","3176713215",1976,"Chouteau-Cedar Valley 4C,5-6CA,8-9CA","6170",5591,{"$error":"#N/A"},{"$error":"#N/A"},null,null,null,null,null,null,null,null,null,null,null,null,null,null,null,null,null,null,null,null,null,null,"1005CM..LD10","Wayne B. Smith, Pit #8","",0,null,null,null,{"$error":"#N/A"}]
[null,null,null,null,null,"100510..CPCMLD","Table Rock - Kenny Nikins Quarry","3045503418",186,"Pierson 1P","7023",566,{"$error":"#N/A"},{"$error":"#N/A"},null,null,null,null,null,null,null,null,null,null,null,null,null,null,null,null,null,null,null,null,null,null,"1005CM..LD10","Westside Stone (Springfield Underground, Airport)","",0,null,null,null,{"$error":"#N/A"}]
[null,null,null,null,null,"100510..CPCMLD","Table Rock, Branson Stone Northeast Extension","3045500218",5112,"Compton D","7441",7423,{"$error":"#N/A"},{"$error":"#N/A"},null,null,null,null,null,null,null,null,null,null,null,null,null,null,null,null,null,null,null,null,null,null,"1005FACCNS","11 Point Sand and Gravel","",0,null,null,null,{"$error":"#N/A"}]
[null,null,null,null,null,"100510..CPCMLD","Table Rock, Stoneridge Qy","3045500318",188,"Compton 2W","4767",597,{"$error":"#N/A"},{"$error":"#N/A"},null,null,null,null,null,null,null,null,null,null,null,null,null,null,null,null,null,null,null,null,null,null,"1005FACCNS","BMC Sand (Lincoln County Sand & Gravel,Old Monroe)","",0,null,null,null,{"$error":"#N/A"}]
[null,null,null,null,null,"100510..CPCMLD","Table Rock, Stoneridge Qy","3045500318",188,"Cotter C","7339",611,{"$error":"#N/A"},{"$error":"#N/A"},null,null,null,null,null,null,null,null,null,null,null,null,null,null,null,null,null,null,null,null,null,null,"1005FACCNS","Big Piney Sand, Houston (River Rock)","",0,null,null,null,{"$error":"#N/A"}]
[null,null,null,null,null,"100510..CPCMLD","Table Rock, Stoneridge Qy","3045500318",188,"Pierson 1WW","6416",601,{"$error":"#N/A"},{"$error":"#N/A"},null,null,null,null,null,null,null,null,null,null,null,null,null,null,null,null,null,null,null,null,null,null,"1005FACCNS","Callaway Gravel, Sand, and Soil","",0,null,null,null,{"$error":"#N/A"}]
[null,null,null,null,null,"100510..CPCMLD","Thompson Bros Ready Mix","3046000232",1657,"Thompsom Bros Ready Mix, Brookfield Brookfield","6516",5021,{"$error":"#N/A"},{"$error":"#N/A"},null,null,null,null,null,null,null,null,null,null,null,null,null,null,null,null,null,null,null,null,null,null,"1005FACCNS","Doniphan Ready Mix",{"$f":"IF(AK538=$AK$44,AL538,\"\")","v":""},0,null,null,null,{"$error":"#N/A"}]
[null,null,null,null,null,"100510..CPCMLD","VLC Aggregate Inc., Desloge","3027000410",627,"Bonne Terre 1-2","0419",1518,{"$error":"#N/A"},{"$error":"#N/A"},null,null,null,null,null,null,null,null,null,null,null,null,null,null,null,null,null,null,null,null,null,null,"1005FACCNS","Hallett Materials, Des Moines","",0,null,null,null,{"$error":"#N/A"}]
[null,null,null,null,null,"100510..CPCMLD","Van Buren Stone Co., LLC","3011000319",2320,"Gasconade 1","4259",5960,{"$error":"#N/A"},{"$error":"#N/A"},null,null,null,null,null,null,null,null,null,null,null,null,null,null,null,null,null,null,null,null,null,null,"1005FACCNS","JR Sand and Gravel","",0,null,null,null,{"$error":"#N/A"}]
[null,null,null,null,null,"100510..CPCMLD","Vernon County Ready Mix","3433900137",3761,"Vernon County RM, Nevada nevada","6730",6851,{"$error":"#N/A"},{"$error":"#N/A"},null,null,null,null,null,null,null,null,null,null,null,null,null,null,null,null,null,null,null,null,null,null,"1005FACCNS","Lincoln County Sand & Gravel, Winfield","",0,null,null,null,{"$error":"#N/A"}]
[null,null,null,null,null,"100510..CPCMLD","West County Quarry LLC","3227500110",2349,"Gasconade 49","7636",7628,{"$error":"#N/A"},{"$error":"#N/A"},null,null,null,null,null,null,null,null,null,null,null,null,null,null,null,null,null,null,null,null,null,null,"1005FACCNS","MLH Sand & Gravel - Lick Creek","",0,null,null,null,{"$error":"#N/A"}]
[null,null,null,null,null,"100510..CPCMLD","West County Quarry LLC","3227500110",2349,"Gasconade 49-50","7646",7638,{"$error":"#N/A"},{"$error":"#N/A"},null,null,null,null,null,null,null,null,null,null,null,null,null,null,null,null,null,null,null,null,null,null,"1005FACCNS","Northridge Sand, LLC, Maize, KS","",0,null,null,null,{"$error":"#N/A"}]
[null,null,null,null,null,"100510..CPCMLD","West County Quarry LLC","3227500110",2349,"Gasconade 50","3614",6012,{"$error":"#N/A"},{"$error":"#N/A"},null,null,null,null,null,null,null,null,null,null,null,null,null,null,null,null,null,null,null,null,null,null,"1005FACCNS","Parks Sand & Gravel","",0,null,null,null,{"$error":"#N/A"}]
[null,null,null,null,null,"100510..CPCMLD","Westside Stone (Springfield Underground, Airport)","3415300118",3510,"Burlington G","7643",7634,{"$error":"#N/A"},{"$error":"#N/A"},null,null,null,null,null,null,null,null,null,null,null,null,null,null,null,null,null,null,null,null,null,null,"1005FACCNS","Politte Ready Mix, LLC","",0,null,null,null,{"$error":"#N/A"}]
[null,null,null,null,null,"100510..CPCMLD","Willard Constr, Sleeper","3050100418",77,"Jefferson City 1-2","4808",156,{"$error":"#N/A"},{"$error":"#N/A"},null,null,null,null,null,null,null,null,null,null,null,null,null,null,null,null,null,null,null,null,null,null,"1005FACCNS","Producer Supplier not designated.","",0,null,null,null,{"$error":"#N/A"}]
[null,null,null,null,null,"100510..CPCMLD","Willard Constr, Sleeper","3050100418",77,"Jefferson City 1-4","1948",154,{"$error":"#N/A"},{"$error":"#N/A"},null,null,null,null,null,null,null,null,null,null,null,null,null,null,null,null,null,null,null,null,null,null,"1005FACCNS","RMC, Logan Creek (Ellington)","",0,null,null,null,{"$error":"#N/A"}]
[null,null,null,null,null,"100510..CPCMLD","Willard Constr, Sleeper","3050100418",77,"Jefferson City 3-4","7242",160,{"$error":"#N/A"},{"$error":"#N/A"},null,null,null,null,null,null,null,null,null,null,null,null,null,null,null,null,null,null,null,null,null,null,"1005FACCNS","Razor Rock - Jonesboro","",0,null,null,null,{"$error":"#N/A"}]
[null,null,null,null,null,"100510..CPCMLD","Willard Constr, St. Robert","3050100619",78,"Gasconade 2","3505",174,{"$error":"#N/A"},{"$error":"#N/A"},null,null,null,null,null,null,null,null,null,null,null,null,null,null,null,null,null,null,null,null,null,null,"1005FACCNS","Smith Sand & Gravel","",0,null,null,null,{"$error":"#N/A"}]
[null,null,null,null,null,"100510..CPCMLD","Willard Constr, St. Robert","3050100619",78,"Gasconade 3","5238",171,{"$error":"#N/A"},{"$error":"#N/A"},null,null,null,null,null,null,null,null,null,null,null,null,null,null,null,null,null,null,null,null,null,null,"1005FACCNS","Stewart-Morrison - Spring Creek Materials","",0,null,null,null,{"$error":"#N/A"}]
[null,null,null,null,null,"100510..CPCMLD","Williamsville Stone #1","3050400110",81,"Gasconade 14-17A","4783",198,{"$error":"#N/A"},{"$error":"#N/A"},null,null,null,null,null,null,null,null,null,null,null,null,null,null,null,null,null,null,null,null,null,null,"1005FACCNS..CA","APAC-Central (dba: Arkhola Sand & Gravel)","",0,null,null,null,{"$error":"#N/A"}]
[null,null,null,null,null,"100510..CPCMLD","Williamsville Stone #1","3050400110",81,"Gasconade 14-6","7680",7673,{"$error":"#N/A"},{"$error":"#N/A"},null,null,null,null,null,null,null,null,null,null,null,null,null,null,null,null,null,null,null,null,null,null,"1005FACCNS..CA","Anchor Stone - Choska Sand, Coweta, OK","",0,null,null,null,{"$error":"#N/A"}]
[null,null,null,null,null,"100510..CPCMLD","Williamsville Stone #1","3050400110",81,"Gasconade 14-6A","3772",191,{"$error":"#N/A"},{"$error":"#N/A"},null,null,null,null,null,null,null,null,null,null,null,null,null,null,null,null,null,null,null,null,null,null,"1005FACCNS..CA","Anchor Stone - Delaware Plant, OK","",0,null,null,null,{"$error":"#N/A"}]
[null,null,null,null,null,"100510..CPCMLD","Williamsville Stone #1","3050400110",81,"Gasconade 14A-17A","4916",199,{"$error":"#N/A"},{"$error":"#N/A"},null,null,null,null,null,null,null,null,null,null,null,null,null,null,null,null,null,null,null,null,null,null,"1005FACCNS..CA","Anchor Stone - Volentine Plant, OK","",0,null,null,null,{"$error":"#N/A"}]
[null,null,null,null,null,"100510..CPCMLD","Williamsville Stone #1","3050400110",81,"Gasconade 6A-17A","7118",213,{"$error":"#N/A"},{"$error":"#N/A"},null,null,null,null,null,null,null,null,null,null,null,null,null,null,null,null,null,null,null,null,null,null,"1005FACCNS..CA","Arkhola S&G #2, Muskogee","",0,null,null,null,{"$error":"#N/A"}]
[null,null,null,null,null,"100510..CPCMLD","Wright City Quarry - BMC Stone, LLC","3050700113",62,"Burlington 8","7415",7397,{"$error":"#N/A"},{"$error":"#N/A"},null,null,null,null,null,null,null,null,null,null,null,null,null,null,null,null,null,null,null,null,null,null,"1005FACCNS..CA","BMC Sand (Lincoln County Sand & Gravel,Old Monroe)","",0,null,null,null,{"$error":"#N/A"}]
[null,null,null,null,null,"100510..CPPY","Central Stone, Butler Hill Quarry","3007906217",4812,"Rhyolite 1","6464",7197,{"$error":"#N/A"},{"$error":"#N/A"},null,null,null,null,null,null,null,null,null,null,null,null,null,null,null,null,null,null,null,null,null,null,"1005FACCNS..CA","Breckenridge Materials","",0,null,null,null,{"$error":"#N/A"}]
[null,null,null,null,null,"100510..CPPY","New Frontier, Iron Mountain Quarry-Porphyry","3022300110",755,"Porphyry 1","2511",2018,{"$error":"#N/A"},{"$error":"#N/A"},null,null,null,null,null,null,null,null,null,null,null,null,null,null,null,null,null,null,null,null,null,null,"1005FACCNS..CA","Buckhart Sand & Gravel","",0,null,null,null,{"$error":"#N/A"}]
[null,null,null,null,null,"100510..CPPY","New Frontier, Iron Mtn Trap Rock Pit #3- Porphyry","3022300310",2261,"Porphyry 1","4284",5924,{"$error":"#N/A"},{"$error":"#N/A"},null,null,null,null,null,null,null,null,null,null,null,null,null,null,null,null,null,null,null,null,null,null,"1005FACCNS..CA","Builders Choice Aggregates","",0,null,null,null,{"$error":"#N/A"}]
[null,null,null,null,null,"100510..CPPY","Trap Rock and Granite Quarries, LLC","3243500119",2512,"Rhyolite 2","6449",6184,{"$error":"#N/A"},{"$error":"#N/A"},null,null,null,null,null,null,null,null,null,null,null,null,null,null,null,null,null,null,null,null,null,null,"1005FACCNS..CA","Bussen #1, Koch Quarry","",0,null,null,null,{"$error":"#N/A"}]
[null,null,null,null,null,"100510..OPTLD1","Bailey Quarries #2, Dolomite","3002200217",1359,"Cotter 1E","5365",4272,{"$f":"IF(AND($F$17=H561,$AK$44=F561),J561,\"\")","v":{"$error":"#N/A"}},{"$f":"IF(AND($F$17=H561,$AK$44=F561),L561,\"\")","v":{"$error":"#N/A"}},null,null,null,null,null,null,null,null,null,null,null,null,null,null,null,null,null,null,null,null,null,null,"1005FACCNS..CA","Bussen #11, Koch Sand","",0,null,null,null,{"$error":"#N/A"}]
[null,null,null,null,null,"100510..OPTLD1","Base Rock Minerals, Fruitland","3242100310",4680,"Kimmswick 25","6437",7008,{"$error":"#N/A"},{"$error":"#N/A"},null,null,null,null,null,null,null,null,null,null,null,null,null,null,null,null,null,null,null,null,null,null,"1005FACCNS..CA","Bussen #3, Antire Quarry","",0,null,null,null,{"$error":"#N/A"}]
[null,null,null,null,null,"100510..OPTLD1","Cane Creek Stone","3520200119",4957,"Eminence-Potosi 1-2","7188",7262,{"$error":"#N/A"},{"$error":"#N/A"},null,null,null,null,null,null,null,null,null,null,null,null,null,null,null,null,null,null,null,null,null,null,"1005FACCNS..CA","Cameron Concrete Company","",0,null,null,null,{"$error":"#N/A"}]
[null,null,null,null,null,"100510..OPTLD1","Cantera Aggregates #1, Plano Qy, Plano, IA","3532100111",5171,"Exline 1","7395",7377,{"$error":"#N/A"},{"$error":"#N/A"},null,null,null,null,null,null,null,null,null,null,null,null,null,null,null,null,null,null,null,null,null,null,"1005FACCNS..CA","Cane Creek Stone, Doniphan","",0,null,null,null,{"$error":"#N/A"}]
[null,null,null,null,null,"100510..OPTLD1","Central Stone #1, Hannibal (Huntington)","3007900113",948,"Cedar Valley 13-11","0001",3038,{"$error":"#N/A"},{"$error":"#N/A"},null,null,null,null,null,null,null,null,null,null,null,null,null,null,null,null,null,null,null,null,null,null,"1005FACCNS..CA","Capital Sand #1,  Wardsville (Osage Riv)","",0,null,null,null,{"$error":"#N/A"}]
[null,null,null,null,null,"100510..OPTLD1","Central Stone #1, Hannibal (Huntington)","3007900113",948,"Kimmswick 10-1","0191",3041,{"$error":"#N/A"},{"$error":"#N/A"},null,null,null,null,null,null,null,null,null,null,null,null,null,null,null,null,null,null,null,null,null,null,"1005FACCNS..CA","Capital Sand #12, (Farmers) Washington","",0,null,null,null,{"$error":"#N/A"}]
[null,null,null,null,null,"100510..OPTLD1","Central Stone #31, Florissant","3007903116",947,"St. Louis 3-9","0197",2997,{"$error":"#N/A"},{"$error":"#N/A"},null,null,null,null,null,null,null,null,null,null,null,null,null,null,null,null,null,null,null,null,null,null,"1005FACCNS..CA","Capital Sand #2, Jefferson City","",0,null,null,null,{"$error":"#N/A"}]
[null,null,null,null,null,"100510..OPTLD1","Fischer Quarry & Hauling, Burfordville (T&M Stone)","3242000110",2485,"Smith-Powell 21-22","7788",7781,{"$error":"#N/A"},{"$error":"#N/A"},null,null,null,null,null,null,null,null,null,null,null,null,null,null,null,null,null,null,null,null,null,null,"1005FACCNS..CA","Capital Sand #20, Riverbend (MO Sand Company)","",0,null,null,null,{"$error":"#N/A"}]
[null,null,null,null,null,"100510..OPTLD1","Grays Point Stone & Materials, Scott City","3046500310",362,"Kimmswick 64E","7809",7803,{"$error":"#N/A"},{"$error":"#N/A"},null,null,null,null,null,null,null,null,null,null,null,null,null,null,null,null,null,null,null,null,null,null,"1005FACCNS..CA","Capital Sand #3, Glasgow","",0,null,null,null,{"$error":"#N/A"}]
[null,null,null,null,null,"100510..OPTLD1","Heartland Materials, LLC","3453100150",4779,"Decorah-Plattin 29-26","7260",7176,{"$error":"#N/A"},{"$error":"#N/A"},null,null,null,null,null,null,null,null,null,null,null,null,null,null,null,null,null,null,null,null,null,null,"1005FACCNS..CA","Capital Sand #5, Boonville","",0,null,null,null,{"$error":"#N/A"}]
[null,null,null,null,null,"100510..OPTLD1","Heartland Materials, LLC","3453100150",4779,"Kimmswick 30","6474",7168,{"$error":"#N/A"},{"$error":"#N/A"},null,null,null,null,null,null,null,null,null,null,null,null,null,null,null,null,null,null,null,null,null,null,"1005FACCNS..CA","Capital Sand #6, (Columbia) Rocheport","",0,null,null,null,{"$error":"#N/A"}]
[null,null,null,null,null,"100510..OPTLD1","Indian Creek Materials/Houston","3012900419",1216,"Jefferson City 2-3","1172",3899,{"$error":"#N/A"},{"$error":"#N/A"},null,null,null,null,null,null,null,null,null,null,null,null,null,null,null,null,null,null,null,null,null,null,"1005FACCNS..CA","Capital Sand #8, Lexington","",0,null,null,null,{"$error":"#N/A"}]
[null,null,null,null,null,"100510..OPTLD1","Jasper Stone, LLC","3437300117",3765,"Warsaw 1","6236",6856,{"$error":"#N/A"},{"$error":"#N/A"},null,null,null,null,null,null,null,null,null,null,null,null,null,null,null,null,null,null,null,null,null,null,"1005FACCNS..CA","Capital Sand Company (Missouri City) Plant 22","",0,null,null,null,{"$error":"#N/A"}]
[null,null,null,null,null,"100510..OPTLD1","Magruder Limestone #1, Troy","3029700113",842,"Burlington 1-7","2068",2543,{"$error":"#N/A"},{"$error":"#N/A"},null,null,null,null,null,null,null,null,null,null,null,null,null,null,null,null,null,null,null,null,null,null,"1005FACCNS..CA","Capital Sand, Brunswick","",0,null,null,null,{"$error":"#N/A"}]
[null,null,null,null,null,"100510..OPTLD1","Martin Marietta, Randolph","3021300114",900,"Cedar Valley 1CV","6963",2774,{"$error":"#N/A"},{"$error":"#N/A"},null,null,null,null,null,null,null,null,null,null,null,null,null,null,null,null,null,null,null,null,null,null,"1005FACCNS..CA","Central Stone #31, Florissant","",0,null,null,null,{"$error":"#N/A"}]
[null,null,null,null,null,"100510..OPTLD1","Mid Missouri Limestone (Auxvasse - South Gate)","3001900115",1351,"Cedar Valley 6-7-8-9","7411",7393,{"$error":"#N/A"},{"$error":"#N/A"},null,null,null,null,null,null,null,null,null,null,null,null,null,null,null,null,null,null,null,null,null,null,"1005FACCNS..CA","Central Stone #31, Sand Plant, Florissant","",0,null,null,null,{"$error":"#N/A"}]
[null,null,null,null,null,"100510..OPTLD1","Penny's Concrete","3055810037",4719,"Penny's, Parvin Rd Parvin","6977",7099,{"$error":"#N/A"},{"$error":"#N/A"},null,null,null,null,null,null,null,null,null,null,null,null,null,null,null,null,null,null,null,null,null,null,"1005FACCNS..CA","Central Stone #61, LaGrange Sand & Gravel","",0,null,null,null,{"$error":"#N/A"}]
[null,null,null,null,null,"100510..OPTLD1","Shawnee Stone - Jonesboro, IL","3436600110",3668,"Lower Ullin 9","7813",7807,{"$error":"#N/A"},{"$error":"#N/A"},null,null,null,null,null,null,null,null,null,null,null,null,null,null,null,null,null,null,null,null,null,null,"1005FACCNS..CA","Concrete Industries","",0,null,null,null,{"$error":"#N/A"}]
[null,null,null,null,null,"100510..OPTLD1","Springfield Underground","3018800118",231,"Burlington 1-2","2835",703,{"$error":"#N/A"},{"$error":"#N/A"},null,null,null,null,null,null,null,null,null,null,null,null,null,null,null,null,null,null,null,null,null,null,"1005FACCNS..CA","CornejO Materials, Oxford, KS (Lafarge Sand)","",0,null,null,null,{"$error":"#N/A"}]
[null,null,null,null,null,"100510..OPTLD1","Summit Materials, Marshall (Boone Quarries)","3176713215",1976,"Cedar Valley 5CA-9CA","6605",5592,{"$error":"#N/A"},{"$error":"#N/A"},null,null,null,null,null,null,null,null,null,null,null,null,null,null,null,null,null,null,null,null,null,null,"1005FACCNS..CA","Dexter Sand & Gravel","",0,null,null,null,{"$error":"#N/A"}]
[null,null,null,null,null,"100510..OPTLD1","Summit Materials, Marshall (Boone Quarries)","3176713215",1976,"Cedar Valley 8CA-9CA","5561",5587,{"$error":"#N/A"},{"$error":"#N/A"},null,null,null,null,null,null,null,null,null,null,null,null,null,null,null,null,null,null,null,null,null,null,"1005FACCNS..CA","Fischer Concrete","",0,null,null,null,{"$error":"#N/A"}]
[null,null,null,null,null,"100510..OPTLD1","Summit Materials, Marshall (Boone Quarries)","3176713215",1976,"Chouteau - Cedar Valley 4C,5-9CA","7158",5593,{"$error":"#N/A"},{"$error":"#N/A"},null,null,null,null,null,null,null,null,null,null,null,null,null,null,null,null,null,null,null,null,null,null,"1005FACCNS..CA","Gateway Sand and Gravel Ltd.","",0,null,null,null,{"$error":"#N/A"}]
[null,null,null,null,null,"100510..OPTLD1","Summit Materials, Marshall (Boone Quarries)","3176713215",1976,"Chouteau-Cedar Valley 4C,5-6CA,8-9CA","6170",5591,{"$error":"#N/A"},{"$error":"#N/A"},null,null,null,null,null,null,null,null,null,null,null,null,null,null,null,null,null,null,null,null,null,null,"1005FACCNS..CA","Hallett #282, Shenandoah","",0,null,null,null,{"$error":"#N/A"}]
[null,null,null,null,null,"100510..OPTLD1","West County Quarry LLC","3227500110",2349,"Gasconade 49","7636",7628,{"$error":"#N/A"},{"$error":"#N/A"},null,null,null,null,null,null,null,null,null,null,null,null,null,null,null,null,null,null,null,null,null,null,"1005FACCNS..CA","Hallett Materials, Des Moines","",0,null,null,null,{"$error":"#N/A"}]
[null,null,null,null,null,"100510..OPTLD1","West County Quarry LLC","3227500110",2349,"Gasconade 50","3614",6012,{"$error":"#N/A"},{"$error":"#N/A"},null,null,null,null,null,null,null,null,null,null,null,null,null,null,null,null,null,null,null,null,null,null,"1005FACCNS..CA","Hamm Sand, Desoto, KS (Sahara Sand)","",0,null,null,null,{"$error":"#N/A"}]
[null,null,null,null,null,"100515..OPTLD1","Benton County Stone - Gravette, AR","3145200117",1330,"Pierson 1","3239",4199,{"$error":"#N/A"},{"$error":"#N/A"},null,null,null,null,null,null,null,null,null,null,null,null,null,null,null,null,null,null,null,null,null,null,"1005FACCNS..CA","Havin Material Services","",0,null,null,null,{"$error":"#N/A"}]
[null,null,null,null,null,"100515..OPTLD1","Central Stone #1, Hannibal (Huntington)","3007900113",948,"Cedar Valley 13-11","0001",3038,{"$error":"#N/A"},{"$error":"#N/A"},null,null,null,null,null,null,null,null,null,null,null,null,null,null,null,null,null,null,null,null,null,null,"1005FACCNS..CA","Hermann Sand & Gravel","",0,null,null,null,{"$error":"#N/A"}]
[null,null,null,null,null,"100515..OPTLD1","Central Stone #1, Hannibal (Huntington)","3007900113",948,"Kimmswick 10-1","0191",3041,{"$error":"#N/A"},{"$error":"#N/A"},null,null,null,null,null,null,null,null,null,null,null,null,null,null,null,null,null,null,null,null,null,null,"1005FACCNS..CA","Hermann Sand and Gravel, #2  (Muenks Brothers)","",0,null,null,null,{"$error":"#N/A"}]
[null,null,null,null,null,"100515..OPTLD1","Martin Marietta, Randolph","3021300114",900,"Cedar Valley 1CV","6963",2774,{"$error":"#N/A"},{"$error":"#N/A"},null,null,null,null,null,null,null,null,null,null,null,null,null,null,null,null,null,null,null,null,null,null,"1005FACCNS..CA","Holliday Sand #7, Bonner Springs","",0,null,null,null,{"$error":"#N/A"}]
[null,null,null,null,null,"1005CM..GT10","Central Stone, Butler Hill Quarry","3007906217",4812,"Butler Hill Granite 2","6467",7198,{"$error":"#N/A"},{"$error":"#N/A"},null,null,null,null,null,null,null,null,null,null,null,null,null,null,null,null,null,null,null,null,null,null,"1005FACCNS..CA","Holliday Sand & Gravel, #3 West, Shawnee","",0,null,null,null,{"$error":"#N/A"}]
[null,null,null,null,null,"1005CM..GT10","Granite Mountain Quarry","3254600118",2785,"Granite 1","4796",6340,{"$error":"#N/A"},{"$error":"#N/A"},null,null,null,null,null,null,null,null,null,null,null,null,null,null,null,null,null,null,null,null,null,null,"1005FACCNS..CA","Holliday Sand & Gravel, Bixby","",0,null,null,null,{"$error":"#N/A"}]
[null,null,null,null,null,"1005CM..GV04","Buckhart Sand & Gravel","3412100113",3570,"Glacial Gravel GRAVEL","5714",6780,{"$error":"#N/A"},{"$error":"#N/A"},null,null,null,null,null,null,null,null,null,null,null,null,null,null,null,null,null,null,null,null,null,null,"1005FACCNS..CA","Holliday Sand & Gravel, Broken Arrow, OK","",0,null,null,null,{"$error":"#N/A"}]
[null,null,null,null,null,"1005CM..GV04","Capital Sand #1,  Wardsville (Osage Riv)","3006400615",1922,"Osage River gravel GRAVEL","3093",5469,{"$error":"#N/A"},{"$error":"#N/A"},null,null,null,null,null,null,null,null,null,null,null,null,null,null,null,null,null,null,null,null,null,null,"1005FACCNS..CA","Holliday Sand & Gravel, Cowetta, OK","",0,null,null,null,{"$error":"#N/A"}]
[null,null,null,null,null,"1005CM..GV04","Havin Materials, Meramec Aggr, St. Clair","3019600716",2049,"Meramec River Gravel GRAVEL","3711",5694,{"$error":"#N/A"},{"$error":"#N/A"},null,null,null,null,null,null,null,null,null,null,null,null,null,null,null,null,null,null,null,null,null,null,"1005FACCNS..CA","Holliday Sand & Gravel, Randolph","",0,null,null,null,{"$error":"#N/A"}]
[null,null,null,null,null,"1005CM..GV04","Winter Brothers, Hagemann","3050600216",3729,"Meramec River Gravel GRAVEL","6082",6842,{"$error":"#N/A"},{"$error":"#N/A"},null,null,null,null,null,null,null,null,null,null,null,null,null,null,null,null,null,null,null,null,null,null,"1005FACCNS..CA","Holliday Sand & Gravel, Riverside","",0,null,null,null,{"$error":"#N/A"}]
[null,null,null,null,null,"1005CM..GV05","Buckhart Sand & Gravel","3412100113",3570,"Glacial Gravel GRAVEL","5714",6780,{"$error":"#N/A"},{"$error":"#N/A"},null,null,null,null,null,null,null,null,null,null,null,null,null,null,null,null,null,null,null,null,null,null,"1005FACCNS..CA","Holliday Sand & Gravel, St. Joseph","",0,null,null,null,{"$error":"#N/A"}]
[null,null,null,null,null,"1005CM..GV05","Carri Scharf Materials Co. (Heyworth Pit #2)","3516700113",4314,"Glacial Gravel GRAVEL","6489",6887,{"$error":"#N/A"},{"$error":"#N/A"},null,null,null,null,null,null,null,null,null,null,null,null,null,null,null,null,null,null,null,null,null,null,"1005FACCNS..CA","Holt Co Ready Mix","",0,null,null,null,{"$error":"#N/A"}]
[null,null,null,null,null,"1005CM..GV05","Lawrence Gravel","3422700113",3737,"Neely Creek GRAVEL","6218",6843,{"$error":"#N/A"},{"$error":"#N/A"},null,null,null,null,null,null,null,null,null,null,null,null,null,null,null,null,null,null,null,null,null,null,"1005FACCNS..CA","Ideal Ready Mix","",0,null,null,null,{"$error":"#N/A"}]
[null,null,null,null,null,"1005CM..GV10","11 Point Sand and Gravel","3542200119",5374,"Eleven Point River Gravel GRAVEL","7719",7712,{"$error":"#N/A"},{"$error":"#N/A"},null,null,null,null,null,null,null,null,null,null,null,null,null,null,null,null,null,null,null,null,null,null,"1005FACCNS..CA","Ideal Sand, Wayland Sand Pit","",0,null,null,null,{"$error":"#N/A"}]
[null,null,null,null,null,"1005CM..GV10","Big Creek Sand & Gravel (Vaughn RM)","3231800119",2588,"Big Creek Gravel GRAVEL","3373",6232,{"$error":"#N/A"},{"$error":"#N/A"},null,null,null,null,null,null,null,null,null,null,null,null,null,null,null,null,null,null,null,null,null,null,"1005FACCNS..CA","Kaw Valley Sand & Gravel Morse","",0,null,null,null,{"$error":"#N/A"}]
[null,null,null,null,null,"1005CM..GV10","Buckhart Sand & Gravel","3412100113",3570,"Glacial Gravel GRAVEL","5714",6780,{"$error":"#N/A"},{"$error":"#N/A"},null,null,null,null,null,null,null,null,null,null,null,null,null,null,null,null,null,null,null,null,null,null,"1005FACCNS..CA","Keyesport Sand and Gravel","",0,null,null,null,{"$error":"#N/A"}]
[null,null,null,null,null,"1005CM..GV10","Carri Scharf Materials Co. (Heyworth Pit #2)","3516700113",4314,"Glacial Gravel GRAVEL","6489",6887,{"$error":"#N/A"},{"$error":"#N/A"},null,null,null,null,null,null,null,null,null,null,null,null,null,null,null,null,null,null,null,null,null,null,"1005FACCNS..CA","Kimaterials",{"$f":"IF(AK602=$AK$44,AL602,\"\")","v":""},null,null,null,null,{"$error":"#N/A"}]
[null,null,null,null,null,"1005CM..GV10","Central Stone #61, LaGrange Sand & Gravel","3007926113",4546,"Glacial Gravel GRAVEL","6626",6924,{"$error":"#N/A"},{"$error":"#N/A"},null,null,null,null,null,null,null,null,null,null,null,null,null,null,null,null,null,null,null,null,null,null,"1005FACCNS..CA","Kirksville Ready Mix","",null,null,null,null,{"$error":"#N/A"}]
[null,null,null,null,null,"1005CM..GV10","JR Sand and Gravel","3506200119",4758,"Bryant Creek Gravel GRAVEL","6641",7158,{"$error":"#N/A"},{"$error":"#N/A"},null,null,null,null,null,null,null,null,null,null,null,null,null,null,null,null,null,null,null,null,null,null,"1005FACCNS..CA","Lafarge Sand, Bridgeton (St. Charles Sand #1)","",null,null,null,null,{"$error":"#N/A"}]
[null,null,null,null,null,"1005CM..GV10","Stewart-Morrison - Spring Creek Materials","3112700139",194,"Spring Creek Gravel GRAVEL","2756",625,{"$error":"#N/A"},{"$error":"#N/A"},null,null,null,null,null,null,null,null,null,null,null,null,null,null,null,null,null,null,null,null,null,null,"1005FACCNS..CA","Lafarge Sand, Chesterfield (St. Charles Sand #2)","",null,null,null,null,{"$error":"#N/A"}]
[null,null,null,null,null,"1005CM..GV10","Wayne B. Smith, Louisiana Sand","3049501113",132,"Mississippi River Gravel GRAVEL","6581",537,{"$error":"#N/A"},{"$error":"#N/A"},null,null,null,null,null,null,null,null,null,null,null,null,null,null,null,null,null,null,null,null,null,null,"1005FACCNS..CA","Land-Chariton County Concrete","",null,null,null,null,{"$error":"#N/A"}]
[null,null,null,null,null,"1005CM..LD04","Capital Materials, Tightwad (APAC)","3020600114",927,"Burlington 1,2,3","2328",2872,{"$error":"#N/A"},{"$error":"#N/A"},null,null,null,null,null,null,null,null,null,null,null,null,null,null,null,null,null,null,null,null,null,null,"1005FACCNS..CA","Lebanon Ready Mix","",null,null,null,null,{"$error":"#N/A"}]
[null,null,null,null,null,"1005CM..LD07","AA Quarry, LLC","3514700114",4621,"Bethany Falls 2BF-3BF","7021",6982,{"$error":"#N/A"},{"$error":"#N/A"},null,null,null,null,null,null,null,null,null,null,null,null,null,null,null,null,null,null,null,null,null,null,"1005FACCNS..CA","Lincoln County Sand & Gravel, Winfield","",null,null,null,null,{"$error":"#N/A"}]
[null,null,null,null,null,"1005CM..LD07","Capital Quarries, Thayer (King Quarry)","3025300119",679,"Cotter - Jefferson City 1-2-3","3508",1719,{"$error":"#N/A"},{"$error":"#N/A"},null,null,null,null,null,null,null,null,null,null,null,null,null,null,null,null,null,null,null,null,null,null,"1005FACCNS..CA","Lyman Richey, Gretna, NE Plant No. 50","",null,null,null,null,{"$error":"#N/A"}]
[null,null,null,null,null,"1005CM..LD07","Hamm (Lone Elm)","3538100114",5308,"Hamm (Lone Elm), Farley 1","7608",7600,{"$error":"#N/A"},{"$error":"#N/A"},null,null,null,null,null,null,null,null,null,null,null,null,null,null,null,null,null,null,null,null,null,null,"1005FACCNS..CA","Lyman Richey, Gretna, NE Plant No. 51","",null,null,null,null,{"$error":"#N/A"}]
[null,null,null,null,null,"1005CM..LD07","Hamm (Lone Elm)","3538100114",5308,"Hamm (Lone Elm), Farley 1F","7661",7652,{"$error":"#N/A"},{"$error":"#N/A"},null,null,null,null,null,null,null,null,null,null,null,null,null,null,null,null,null,null,null,null,null,null,"1005FACCNS..CA","Lyman Richey, Gretna, NE Plant No. 52","",null,null,null,null,{"$error":"#N/A"}]
[null,null,null,null,null,"1005CM..LD07","Herzog, Wathena Stone","3020400411",663,"Amazonia 1A-2A","0023",1655,{"$error":"#N/A"},{"$error":"#N/A"},null,null,null,null,null,null,null,null,null,null,null,null,null,null,null,null,null,null,null,null,null,null,"1005FACCNS..CA","Lyman Richey, Plattsmouth, NE Plant No. 3","",null,null,null,null,{"$error":"#N/A"}]
[null,null,null,null,null,"1005CM..LD07","Martin Marietta, Greenwood SW","3030652714",829,"Bethany Falls 1-4","3205",2440,{"$error":"#N/A"},{"$error":"#N/A"},null,null,null,null,null,null,null,null,null,null,null,null,null,null,null,null,null,null,null,null,null,null,"1005FACCNS..CA","Lyman Richey, Valley, NE Plant No. 7","",null,null,null,null,{"$error":"#N/A"}]
[null,null,null,null,null,"1005CM..LD07","Norris Quarries, Bethany","3030616611",809,"Bethany Falls 9BF-12BF","3170",2228,{"$error":"#N/A"},{"$error":"#N/A"},null,null,null,null,null,null,null,null,null,null,null,null,null,null,null,null,null,null,null,null,null,null,"1005FACCNS..CA","Madison County Sand (Quality Sand)","",null,null,null,null,{"$error":"#N/A"}]
[null,null,null,null,null,"1005CM..LD07","Norris Quarries, Breit Quarry, Savannah","3030693411",806,"Toronto 6T","0527",2182,{"$error":"#N/A"},{"$error":"#N/A"},null,null,null,null,null,null,null,null,null,null,null,null,null,null,null,null,null,null,null,null,null,null,"1005FACCNS..CA","Midwest Concrete Materials, Inc., Kansas","",null,null,null,null,{"$error":"#N/A"}]
[null,null,null,null,null,"1005CM..LD07","Norris Quarries, Knoxville (Ray County, #1 SW Pit)","3021301914",2347,"Bethany Falls 1-3","3474",5983,{"$error":"#N/A"},{"$error":"#N/A"},null,null,null,null,null,null,null,null,null,null,null,null,null,null,null,null,null,null,null,null,null,null,"1005FACCNS..CA","Milan Ready Mix (Sullivan County RM)","",null,null,null,null,{"$error":"#N/A"}]
[null,null,null,null,null,"1005CM..LD10","AA Quarry, LLC","3514700114",4621,"Bethany Falls 2BF-3BF","7021",6982,{"$error":"#N/A"},{"$error":"#N/A"},null,null,null,null,null,null,null,null,null,null,null,null,null,null,null,null,null,null,null,null,null,null,"1005FACCNS..CA","Missouri Sand, Amazonia","",null,null,null,null,{"$error":"#N/A"}]
[null,null,null,null,null,"1005CM..LD10","APAC-Kansas Bates City Quarry","3176703314",1752,"Bethany Falls 1-4","2762",5086,{"$error":"#N/A"},{"$error":"#N/A"},null,null,null,null,null,null,null,null,null,null,null,null,null,null,null,null,null,null,null,null,null,null,"1005FACCNS..CA","Muskogee Sand","",null,null,null,null,{"$error":"#N/A"}]
[null,null,null,null,null,"1005CM..LD10","APAC-Kansas Harrisonville Quarry","3176703014",1750,"Bethany Falls 1-3","3099",5069,{"$error":"#N/A"},{"$error":"#N/A"},null,null,null,null,null,null,null,null,null,null,null,null,null,null,null,null,null,null,null,null,null,null,"1005FACCNS..CA","New Frontier, Barnhart Quarry","",null,null,null,null,{"$error":"#N/A"}]
[null,null,null,null,null,"1005CM..LD10","APAC-Kansas Harrisonville Quarry","3176703014",1750,"Winterset 1W","3715",5070,{"$error":"#N/A"},{"$error":"#N/A"},null,null,null,null,null,null,null,null,null,null,null,null,null,null,null,null,null,null,null,null,null,null,"1005FACCNS..CA","Penny's Concrete","",null,null,null,null,{"$error":"#N/A"}]
[null,null,null,null,null,"1005CM..LD10","American Rock R & C - dba Buchanan Materials","3026000118",3208,"Jefferson City K-1","7167",6606,{"$error":"#N/A"},{"$error":"#N/A"},null,null,null,null,null,null,null,null,null,null,null,null,null,null,null,null,null,null,null,null,null,null,"1005FACCNS..CA","Penny's Schaake Plant, Lawrence (Kaw Sand)","",null,null,null,null,{"$error":"#N/A"}]
[null,null,null,null,null,"1005CM..LD10","Anchor Stone, Jane (Bailey)","3002200417",1360,"Cotter 7","1262",4279,{"$error":"#N/A"},{"$error":"#N/A"},null,null,null,null,null,null,null,null,null,null,null,null,null,null,null,null,null,null,null,null,null,null,"1005FACCNS..CA","Politte Ready Mix, LLC","",null,null,null,null,{"$error":"#N/A"}]
[null,null,null,null,null,"1005CM..LD10","Bailey Quarries #3, Stockton","3002200317",45,"Burlington 5","3671",53,{"$error":"#N/A"},{"$error":"#N/A"},null,null,null,null,null,null,null,null,null,null,null,null,null,null,null,null,null,null,null,null,null,null,"1005FACCNS..CA","Producer Supplier not designated.","",null,null,null,null,{"$error":"#N/A"}]
[null,null,null,null,null,"1005CM..LD10","Boone Quarries, Jefferson City(Stockman Quarry 54)","3060800315",2387,"Jefferson City 2-4","7363",6107,{"$error":"#N/A"},{"$error":"#N/A"},null,null,null,null,null,null,null,null,null,null,null,null,null,null,null,null,null,null,null,null,null,null,"1005FACCNS..CA","River Products, Fredonia","",null,null,null,null,{"$error":"#N/A"}]
[null,null,null,null,null,"1005CM..LD10","Bussen #4, Trautman Quarry","3005700416",1155,"Plattin 3-5","3082",3782,{"$f":"IF(AND($F$17=H625,$AK$44=F625),J625,\"\")","v":{"$error":"#N/A"}},{"$f":"IF(AND($F$17=H625,$AK$44=F625),L625,\"\")","v":{"$error":"#N/A"}},null,null,null,null,null,null,null,null,null,null,null,null,null,null,null,null,null,null,null,null,null,null,"1005FACCNS..CA","River Valley Materials, LLC","",null,null,null,null,{"$error":"#N/A"}]
[null,null,null,null,null,"1005CM..LD10","Capital Materials, Fairplay (T & M Stone Quarry)","3242000218",4937,"Burlington 1","7232",7257,{"$error":"#N/A"},{"$error":"#N/A"},null,null,null,null,null,null,null,null,null,null,null,null,null,null,null,null,null,null,null,null,null,null,"1005FACCNS..CA","Rock-It Natural Stone, Inc.","",null,null,null,null,{"$error":"#N/A"}]
[null,null,null,null,null,"1005CM..LD10","Capital Materials, Linn Creek (APAC)","3176702715",1465,"Gasconade 1-2-3","4314",4536,{"$error":"#N/A"},{"$error":"#N/A"},null,null,null,null,null,null,null,null,null,null,null,null,null,null,null,null,null,null,null,null,null,null,"1005FACCNS..CA","Shawnee Sand & Gravel, IL","",null,null,null,null,{"$error":"#N/A"}]
[null,null,null,null,null,"1005CM..LD10","Capital Materials, Warsaw (APAC)","3020600415",930,"Pierson-Chouteau 4-5","5361",2911,{"$error":"#N/A"},{"$error":"#N/A"},null,null,null,null,null,null,null,null,null,null,null,null,null,null,null,null,null,null,null,null,null,null,"1005FACCNS..CA","Smith Sand & Gravel","",null,null,null,null,{"$error":"#N/A"}]
[null,null,null,null,null,"1005CM..LD10","Capital Quarries #10, Quinn Pit (Beck)","3170701015",1979,"Plattin-Cotter 5-6","7068",5603,{"$error":"#N/A"},{"$error":"#N/A"},null,null,null,null,null,null,null,null,null,null,null,null,null,null,null,null,null,null,null,null,null,null,"1005FACCNS..CA","St. Charles County Concrete","",null,null,null,null,{"$error":"#N/A"}]
[null,null,null,null,null,"1005CM..LD10","Capital Quarries, Stadium W","3170700215",965,"Jefferson City 1A,1B,1-3","7330",3146,{"$error":"#N/A"},{"$error":"#N/A"},null,null,null,null,null,null,null,null,null,null,null,null,null,null,null,null,null,null,null,null,null,null,"1005FACCNS..CA","Thompson Bros Ready Mix","",null,null,null,null,{"$error":"#N/A"}]
[null,null,null,null,null,"1005CM..LD10","Central Stone #55 (Bellefontaine North)","3039700316",1321,"St. Louis 5-9","7708",7701,{"$error":"#N/A"},{"$error":"#N/A"},null,null,null,null,null,null,null,null,null,null,null,null,null,null,null,null,null,null,null,null,null,null,"1005FACCNS..CA","Vernon County Ready Mix","",null,null,null,null,{"$error":"#N/A"}]
[null,null,null,null,null,"1005CM..LD10","Central Stone #56 (Bellefontaine South)","3039700216",1325,"Plattin 7-8","5791",4168,{"$error":"#N/A"},{"$error":"#N/A"},null,null,null,null,null,null,null,null,null,null,null,null,null,null,null,null,null,null,null,null,null,null,"1005FACCNS..CA","Vulcan Materials, Rochester, IL","",null,null,null,null,{"$error":"#N/A"}]
[null,null,null,null,null,"1005CM..LD10","Central Stone #6, New London","3007900613",949,"Cedar Valley 2 - 6","0613",3075,{"$error":"#N/A"},{"$error":"#N/A"},null,null,null,null,null,null,null,null,null,null,null,null,null,null,null,null,null,null,null,null,null,null,"1005FACCNS..CA","Wayland Sand (M & O Concrete)","",null,null,null,null,{"$error":"#N/A"}]
[null,null,null,null,null,"1005CM..LD10","Charleston Stone - West Pit, Charleston, IL","3422800113",3738,"Livingston 3","6140",6844,{"$error":"#N/A"},{"$error":"#N/A"},null,null,null,null,null,null,null,null,null,null,null,null,null,null,null,null,null,null,null,null,null,null,"1005FACCNS..CA","Wayne B. Smith, Louisiana Sand","",null,null,null,null,{"$error":"#N/A"}]
[null,null,null,null,null,"1005CM..LD10","Conco #0497, Fairgrove (Ash Grove)","3002909718",2731,"Cotter 1, 2, 3","5654",6320,{"$error":"#N/A"},{"$error":"#N/A"},null,null,null,null,null,null,null,null,null,null,null,null,null,null,null,null,null,null,null,null,null,null,"1005FACCNS..CA","Western Sand & Gravel, Louisville Pit","",null,null,null,null,{"$error":"#N/A"}]
[null,null,null,null,null,"1005CM..LD10","Conco #0497, Fairgrove (Ash Grove)","3002909718",2731,"Cotter 2-3","7219",6322,{"$error":"#N/A"},{"$error":"#N/A"},null,null,null,null,null,null,null,null,null,null,null,null,null,null,null,null,null,null,null,null,null,null,"1005FACCNS..CA","Winter Brothers, Hagemann","",null,null,null,null,{"$error":"#N/A"}]
[null,null,null,null,null,"1005CM..LD10","Gray Quarry, Hamilton,IL","3018600113",1009,"McCraney 12","4549",3248,{"$error":"#N/A"},{"$error":"#N/A"},null,null,null,null,null,null,null,null,null,null,null,null,null,null,null,null,null,null,null,null,null,null,"1005FACCNS..CA","Yeary Trucking, Beaver Creek","",null,null,null,null,{"$error":"#N/A"}]
[null,null,null,null,null,"1005CM..LD10","Hamm (Lone Elm)","3538100114",5308,"Argentine 1AR-3AR","7804",7798,{"$error":"#N/A"},{"$error":"#N/A"},null,null,null,null,null,null,null,null,null,null,null,null,null,null,null,null,null,null,null,null,null,null,"1005FACCNS..CB","Arkhola S&G #2, Muskogee","",null,null,null,null,{"$error":"#N/A"}]
[null,null,null,null,null,"1005CM..LD10","Hamm Quarry, La Cygne (Mid-State)","3049000117",144,"Winterset A-B","7241",549,{"$error":"#N/A"},{"$error":"#N/A"},null,null,null,null,null,null,null,null,null,null,null,null,null,null,null,null,null,null,null,null,null,null,"1005FACCNS..CB","BMC Sand (Lincoln County Sand & Gravel,Old Monroe)","",null,null,null,null,{"$error":"#N/A"}]
[null,null,null,null,null,"1005CM..LD10","Herzog, Wathena Stone","3020400411",663,"Amazonia 1A-2A","0023",1655,{"$error":"#N/A"},{"$error":"#N/A"},null,null,null,null,null,null,null,null,null,null,null,null,null,null,null,null,null,null,null,null,null,null,"1005FACCNS..CB","Big Creek Sand & Gravel (Vaughn RM)","",null,null,null,null,{"$error":"#N/A"}]
[null,null,null,null,null,"1005CM..LD10","Higgins Materials, LLC - Otterville","3518900115",4922,"Cedar Valley 2","7151",7252,{"$error":"#N/A"},{"$error":"#N/A"},null,null,null,null,null,null,null,null,null,null,null,null,null,null,null,null,null,null,null,null,null,null,"1005FACCNS..CB","Capital Sand #1,  Wardsville (Osage Riv)","",null,null,null,null,{"$error":"#N/A"}]
[null,null,null,null,null,"1005CM..LD10","Higgins Quarry, LLC (Muenks Bros)","3060800115",444,"Jefferson City 3-4-5","4235",1277,{"$error":"#N/A"},{"$error":"#N/A"},null,null,null,null,null,null,null,null,null,null,null,null,null,null,null,null,null,null,null,null,null,null,"1005FACCNS..CB","Capital Sand #8, Lexington","",null,null,null,null,{"$error":"#N/A"}]
[null,null,null,null,null,"1005CM..LD10","Holliday Sand and Stone, S&K (Ash Grove)","3002900217",3559,"Higginsville 10","5948",6775,{"$error":"#N/A"},{"$error":"#N/A"},null,null,null,null,null,null,null,null,null,null,null,null,null,null,null,null,null,null,null,null,null,null,"1005FACCNS..CB","Fischer Concrete","",null,null,null,null,{"$error":"#N/A"}]
[null,null,null,null,null,"1005CM..LD10","L & W Construction, Mystic","3026300512",670,"Exline 1E","0397",1669,{"$error":"#N/A"},{"$error":"#N/A"},null,null,null,null,null,null,null,null,null,null,null,null,null,null,null,null,null,null,null,null,null,null,"1005FACCNS..CB","Ideal Sand, Wayland Sand Pit","",null,null,null,null,{"$error":"#N/A"}]
[null,null,null,null,null,"1005CM..LD10","Linwood Mining & Minerals Corp., IA","3440700113",3890,"Otis 1","6112",6869,{"$error":"#N/A"},{"$error":"#N/A"},null,null,null,null,null,null,null,null,null,null,null,null,null,null,null,null,null,null,null,null,null,null,"1005FACCNS..CB","JR Sand and Gravel","",null,null,null,null,{"$error":"#N/A"}]
[null,null,null,null,null,"1005CM..LD10","MLH and Sons Quarry","3257300218",5099,"Jefferson City - Cotter 1","7221",7325,{"$error":"#N/A"},{"$error":"#N/A"},null,null,null,null,null,null,null,null,null,null,null,null,null,null,null,null,null,null,null,null,null,null,"1005FACCNS..CB","Kimaterials","",null,null,null,null,{"$error":"#N/A"}]
[null,null,null,null,null,"1005CM..LD10","Magruder Limestone, Osage Hills","3029701415",5298,"Gasconade 1","7565",7555,{"$error":"#N/A"},{"$error":"#N/A"},null,null,null,null,null,null,null,null,null,null,null,null,null,null,null,null,null,null,null,null,null,null,"1005FACCNS..CB","Mtn. Home Ready Mix","",null,null,null,null,{"$error":"#N/A"}]
[null,null,null,null,null,"1005CM..LD10","Magruder Limestone, Silex","3029700613",841,"Plattin 22","7254",2531,{"$error":"#N/A"},{"$error":"#N/A"},null,null,null,null,null,null,null,null,null,null,null,null,null,null,null,null,null,null,null,null,null,null,"1005FACCNS..CB","Norris Quarries Sand (Kenny Stoner)","",null,null,null,null,{"$error":"#N/A"}]
[null,null,null,null,null,"1005CM..LD10","Mansfield Quarry, Mansfield","3029900118",845,"Cotter 19-21","6579",2587,{"$error":"#N/A"},{"$error":"#N/A"},null,null,null,null,null,null,null,null,null,null,null,null,null,null,null,null,null,null,null,null,null,null,"1005FACCNS..CB","Norris Sand, Stanberry","",null,null,null,null,{"$error":"#N/A"}]
[null,null,null,null,null,"1005CM..LD10","Mid Missouri Limestone (Auxvasse - South Gate)","3001900115",1351,"Burlington 1-2*","4784",4243,{"$error":"#N/A"},{"$error":"#N/A"},null,null,null,null,null,null,null,null,null,null,null,null,null,null,null,null,null,null,null,null,null,null,"1005FACCNS..CB","Old Monroe Materials","",null,null,null,null,{"$error":"#N/A"}]
[null,null,null,null,null,"1005CM..LD10","Mid Missouri Limestone (Auxvasse - South Gate)","3001900115",1351,"Cedar Valley 6-7-8-9","7411",7393,{"$error":"#N/A"},{"$error":"#N/A"},null,null,null,null,null,null,null,null,null,null,null,null,null,null,null,null,null,null,null,null,null,null,"1005FACCNS..CB","Producer Supplier not designated.","",null,null,null,null,{"$error":"#N/A"}]
[null,null,null,null,null,"1005CM..LD10","Mid-States Materials, LLC, Northview","3003900218",5077,"Jefferson City-Cotter 1-4","7450",7432,{"$error":"#N/A"},{"$error":"#N/A"},null,null,null,null,null,null,null,null,null,null,null,null,null,null,null,null,null,null,null,null,null,null,"1005FACCNS..CB","River Bend Materials, Pit #2 (County Materials)","",null,null,null,null,{"$error":"#N/A"}]
[null,null,null,null,null,"1005CM..LD10","Midwest Minerals, Fort Scott, KS","3002908217",1779,"Myrick Station 1","1966",5121,{"$error":"#N/A"},{"$error":"#N/A"},null,null,null,null,null,null,null,null,null,null,null,null,null,null,null,null,null,null,null,null,null,null,"1005FACCNS..CB","River Valley Materials, LLC","",null,null,null,null,{"$error":"#N/A"}]
[null,null,null,null,null,"1005CM..LD10","Midwest Minerals, Pittsburg","3032000417",593,"Black Jack Creek 1","2479",1479,{"$error":"#N/A"},{"$error":"#N/A"},null,null,null,null,null,null,null,null,null,null,null,null,null,null,null,null,null,null,null,null,null,null,"1005FACCNS..CB","Simpson S&G, Peerless Park","",null,null,null,null,{"$error":"#N/A"}]
[null,null,null,null,null,"1005CM..LD10","Midwest Minerals, Pittsburg","3032000417",593,"Black Jack Creek 1E","7481",7464,{"$error":"#N/A"},{"$error":"#N/A"},null,null,null,null,null,null,null,null,null,null,null,null,null,null,null,null,null,null,null,null,null,null,"1005FACCNS..CB","Smith Sand & Gravel","",null,null,null,null,{"$error":"#N/A"}]
[null,null,null,null,null,"1005CM..LD10","New Frontier, Barnhart Quarry","3049900316",4732,"Plattin 12","7609",7601,{"$error":"#N/A"},{"$error":"#N/A"},null,null,null,null,null,null,null,null,null,null,null,null,null,null,null,null,null,null,null,null,null,null,"1005FACCNS..CB","Stewart-Morrison - Spring Creek Materials","",null,null,null,null,{"$error":"#N/A"}]
[null,null,null,null,null,"1005CM..LD10","Norris Quarries LLC, Kingston (APAC - Kingston)","3014800411",1033,"Bethany Falls 1BF-4BF","0015",3337,{"$error":"#N/A"},{"$error":"#N/A"},null,null,null,null,null,null,null,null,null,null,null,null,null,null,null,null,null,null,null,null,null,null,"1005FACCNS..CC","49 Sand & Gravel Products","",null,null,null,null,{"$error":"#N/A"}]
[null,null,null,null,null,"1005CM..LD10","Norris Quarries, Knoxville (Ray County, #1 SW Pit)","3021301914",2347,"Bethany Falls 1-3","3474",5983,{"$error":"#N/A"},{"$error":"#N/A"},null,null,null,null,null,null,null,null,null,null,null,null,null,null,null,null,null,null,null,null,null,null,"1005FACCNS..CC","B & B Materials","",null,null,null,null,{"$error":"#N/A"}]
[null,null,null,null,null,"1005CM..LD10","Norris Quarries, Trenton","3030601212",788,"Bethany Falls 1B-3B","3393",2080,{"$error":"#N/A"},{"$error":"#N/A"},null,null,null,null,null,null,null,null,null,null,null,null,null,null,null,null,null,null,null,null,null,null,"1005FACCNS..CC","Big Piney Sand, Houston (River Rock)","",null,null,null,null,{"$error":"#N/A"}]
[null,null,null,null,null,"1005CM..LD10","North Central Arkansas Quarries","3435600119",3632,"Cotter 3","6080",6814,{"$error":"#N/A"},{"$error":"#N/A"},null,null,null,null,null,null,null,null,null,null,null,null,null,null,null,null,null,null,null,null,null,null,"1005FACCNS..CC","Callaway Gravel, Sand, and Soil","",null,null,null,null,{"$error":"#N/A"}]
[null,null,null,null,null,"1005CM..LD10","Pattison Sand Company, Clayton, IA","3918700115",5190,"Beecher 5","7421",7403,{"$error":"#N/A"},{"$error":"#N/A"},null,null,null,null,null,null,null,null,null,null,null,null,null,null,null,null,null,null,null,null,null,null,"1005FACCNS..CC","Cane Creek Stone, Doniphan","",null,null,null,null,{"$error":"#N/A"}]
[null,null,null,null,null,"1005CM..LD10","Pattison Sand Company, Clayton, IA","3918700115",5190,"Buckhorn 7","7423",7405,{"$error":"#N/A"},{"$error":"#N/A"},null,null,null,null,null,null,null,null,null,null,null,null,null,null,null,null,null,null,null,null,null,null,"1005FACCNS..CC","Hermann Sand & Gravel","",null,null,null,null,{"$error":"#N/A"}]
[null,null,null,null,null,"1005CM..LD10","Pattison Sand Company, Clayton, IA","3918700115",5190,"Eagle Point 4","7420",7402,{"$error":"#N/A"},{"$error":"#N/A"},null,null,null,null,null,null,null,null,null,null,null,null,null,null,null,null,null,null,null,null,null,null,"1005FACCNS..CC","JR Sand and Gravel","",null,null,null,null,{"$error":"#N/A"}]
[null,null,null,null,null,"1005CM..LD10","Pattison Sand Company, Clayton, IA","3918700115",5190,"Fairplay 3","7419",7401,{"$error":"#N/A"},{"$error":"#N/A"},null,null,null,null,null,null,null,null,null,null,null,null,null,null,null,null,null,null,null,null,null,null,"1005FACCNS..CC","Parks Sand & Gravel","",null,null,null,null,{"$error":"#N/A"}]
[null,null,null,null,null,"1005CM..LD10","Pattison Sand Company, Clayton, IA","3918700115",5190,"Mortimer-Rivoli 2","7418",7400,{"$error":"#N/A"},{"$error":"#N/A"},null,null,null,null,null,null,null,null,null,null,null,null,null,null,null,null,null,null,null,null,null,null,"1005FACCNS..CC","Politte Ready Mix, LLC","",null,null,null,null,{"$error":"#N/A"}]
[null,null,null,null,null,"1005CM..LD10","Pattison Sand Company, Clayton, IA","3918700115",5190,"Oneota 12","7428",7410,{"$error":"#N/A"},{"$error":"#N/A"},null,null,null,null,null,null,null,null,null,null,null,null,null,null,null,null,null,null,null,null,null,null,"1005FACCNS..CC","RMC, Logan Creek (Ellington)",{"$f":"IF(AK666=$AK$44,AL666,\"\")","v":""},null,null,null,null,{"$error":"#N/A"}]
[null,null,null,null,null,"1005CM..LD10","Pattison Sand Company, Clayton, IA","3918700115",5190,"Oneota 13","7429",7411,{"$error":"#N/A"},{"$error":"#N/A"},null,null,null,null,null,null,null,null,null,null,null,null,null,null,null,null,null,null,null,null,null,null,"1005FACCNS..CC","Smith Sand & Gravel","",null,null,null,null,{"$error":"#N/A"}]
[null,null,null,null,null,"1005CM..LD10","Pattison Sand Company, Clayton, IA","3918700115",5190,"Shakopee 10","7426",7408,{"$error":"#N/A"},{"$error":"#N/A"},null,null,null,null,null,null,null,null,null,null,null,null,null,null,null,null,null,null,null,null,null,null,"1005FACCNS..CC","Stewart-Morrison - Spring Creek Materials","",null,null,null,null,{"$error":"#N/A"}]
[null,null,null,null,null,"1005CM..LD10","Pattison Sand Company, Clayton, IA","3918700115",5190,"Shakopee 8","7424",7406,{"$error":"#N/A"},{"$error":"#N/A"},null,null,null,null,null,null,null,null,null,null,null,null,null,null,null,null,null,null,null,null,null,null,"1005FACCNS..CC","Tucker Sand & Gravel, LLC.","",null,null,null,null,{"$error":"#N/A"}]
[null,null,null,null,null,"1005CM..LD10","Pattison Sand Company, Clayton, IA","3918700115",5190,"Shakopee 9","7425",7407,{"$error":"#N/A"},{"$error":"#N/A"},null,null,null,null,null,null,null,null,null,null,null,null,null,null,null,null,null,null,null,null,null,null,"1005FACCNS..CC","Vaughn Redi-Mix, Inc.","",null,null,null,null,{"$error":"#N/A"}]
[null,null,null,null,null,"1005CM..LD10","Pattison Sand Company, Clayton, IA","3918700115",5190,"Sherwood 1","7417",7399,{"$error":"#N/A"},{"$error":"#N/A"},null,null,null,null,null,null,null,null,null,null,null,null,null,null,null,null,null,null,null,null,null,null,"1005FACCNS..CC","Yeary Trucking, Beaver Creek","",null,null,null,null,{"$error":"#N/A"}]
[null,null,null,null,null,"1005CM..LD10","Pattison Sand Company, Clayton, IA","3918700115",5190,"St. James 6","7422",7404,{"$error":"#N/A"},{"$error":"#N/A"},null,null,null,null,null,null,null,null,null,null,null,null,null,null,null,null,null,null,null,null,null,null,"1005FACCNS..CD","Mtn. Home Ready Mix","",null,null,null,null,{"$error":"#N/A"}]
[null,null,null,null,null,"1005CM..LD10","Pattison Sand Company, Clayton, IA","3918700115",5190,"Transition Zone 11","7427",7409,{"$error":"#N/A"},{"$error":"#N/A"},null,null,null,null,null,null,null,null,null,null,null,null,null,null,null,null,null,null,null,null,null,null,"1005FACCNS..CD","Parks Sand & Gravel","",null,null,null,null,{"$error":"#N/A"}]
[null,null,null,null,null,"1005CM..LD10","S & S Quarries Inc.","3168600219",438,"Jefferson City 2-4","7716",7709,{"$error":"#N/A"},{"$error":"#N/A"},null,null,null,null,null,null,null,null,null,null,null,null,null,null,null,null,null,null,null,null,null,null,"1005FACCNS..CD","Producer Supplier not designated.","",null,null,null,null,{"$error":"#N/A"}]
[null,null,null,null,null,"1005CM..LD10","Table Rock - Kenny Nikins Quarry","3045503418",186,"Pierson 1P","7023",566,{"$error":"#N/A"},{"$error":"#N/A"},null,null,null,null,null,null,null,null,null,null,null,null,null,null,null,null,null,null,null,null,null,null,"1005FACCNS..CD","Yeary Trucking, Beaver Creek","",null,null,null,null,{"$error":"#N/A"}]
[null,null,null,null,null,"1005CM..LD10","Wayne B. Smith, Pit #8","3045900813",3787,"Burlington 2","6277",6860,{"$error":"#N/A"},{"$error":"#N/A"},null,null,null,null,null,null,null,null,null,null,null,null,null,null,null,null,null,null,null,null,null,null,"1005FACCNS..CM","Lyman Richey, Plattsmouth, NE Plant No. 3","",null,null,null,null,{"$error":"#N/A"}]
[null,null,null,null,null,"1005FACCNS","11 Point Sand and Gravel","3542200119",5374,"Eleven Point River Sand SAND","7714",7707,{"$error":"#N/A"},{"$error":"#N/A"},null,null,null,null,null,null,null,null,null,null,null,null,null,null,null,null,null,null,null,null,null,null,"1005GDCMGV","49 Sand & Gravel Products","",null,null,null,null,{"$error":"#N/A"}]
[null,null,null,null,null,"1005FACCNS","Big Piney Sand, Houston (River Rock)","3020900119",916,"Piney Creek Sand SAND","0665",2817,{"$error":"#N/A"},{"$error":"#N/A"},null,null,null,null,null,null,null,null,null,null,null,null,null,null,null,null,null,null,null,null,null,null,"1005GDCMGV","Big Piney Sand, Houston (River Rock)","",null,null,null,null,{"$error":"#N/A"}]
[null,null,null,null,null,"1005FACCNS","Callaway Gravel, Sand, and Soil","3919100155",5214,"Auxvasee,Middle River, Crows Fork, Stenson Creek SAND","7466",7448,{"$error":"#N/A"},{"$error":"#N/A"},null,null,null,null,null,null,null,null,null,null,null,null,null,null,null,null,null,null,null,null,null,null,"1005GDCMGV","Capital Sand #1,  Wardsville (Osage Riv)","",null,null,null,null,{"$error":"#N/A"}]
[null,null,null,null,null,"1005FACCNS","JR Sand and Gravel","3506200119",4758,"Bryant Creek Sand SAND","6640",7157,{"$error":"#N/A"},{"$error":"#N/A"},null,null,null,null,null,null,null,null,null,null,null,null,null,null,null,null,null,null,null,null,null,null,"1005GDCMGV","Central Stone #61, LaGrange Sand & Gravel","",null,null,null,null,{"$error":"#N/A"}]
[null,null,null,null,null,"1005FACCNS","Northridge Sand, LLC, Maize, KS","3537000117",5290,"Arkansas River Field Sand FIELD SAND","7556",7546,{"$error":"#N/A"},{"$error":"#N/A"},null,null,null,null,null,null,null,null,null,null,null,null,null,null,null,null,null,null,null,null,null,null,"1005GDCMGV","Havin Materials, Meramec Aggr, St. Clair","",null,null,null,null,{"$error":"#N/A"}]
[null,null,null,null,null,"1005FACCNS","Stewart-Morrison - Spring Creek Materials","3112700139",194,"Bryant Creek/North Fork White River Blend Sand SAND2","6339",628,{"$error":"#N/A"},{"$error":"#N/A"},null,null,null,null,null,null,null,null,null,null,null,null,null,null,null,null,null,null,null,null,null,null,"1005GDCMGV","Houston Ready Mix, Spring Creek","",null,null,null,null,{"$error":"#N/A"}]
[null,null,null,null,null,"1005FACCNS","Stewart-Morrison - Spring Creek Materials","3112700139",194,"Spring Creek Sand SAND","3096",626,{"$error":"#N/A"},{"$error":"#N/A"},null,null,null,null,null,null,null,null,null,null,null,null,null,null,null,null,null,null,null,null,null,null,"1005GDCMGV","Politte Ready Mix LLC, Big River","",null,null,null,null,{"$error":"#N/A"}]
[null,null,null,null,null,"1005FACCNS..CA","APAC-Central (dba: Arkhola Sand & Gravel)","3001600117",1082,"Arkansas River Sand SAND","0746",3452,{"$error":"#N/A"},{"$error":"#N/A"},null,null,null,null,null,null,null,null,null,null,null,null,null,null,null,null,null,null,null,null,null,null,"1005GDCMGV","Stewart-Morrison - Spring Creek Materials","",null,null,null,null,{"$error":"#N/A"}]
[null,null,null,null,null,"1005FACCNS..CA","Anchor Stone - Choska Sand, Coweta, OK","3150800717",5349,"Arkansas River SAND","7677",7670,{"$error":"#N/A"},{"$error":"#N/A"},null,null,null,null,null,null,null,null,null,null,null,null,null,null,null,null,null,null,null,null,null,null,"1005GDCMGV","Winter Brothers, Hagemann","",null,null,null,null,{"$error":"#N/A"}]
[null,null,null,null,null,"1005FACCNS..CA","Anchor Stone - Delaware Plant, OK","3150800317",13,"Arkansas River SAND","6333",11,{"$error":"#N/A"},{"$error":"#N/A"},null,null,null,null,null,null,null,null,null,null,null,null,null,null,null,null,null,null,null,null,null,null,"1005GDCMGV","Yeary Trucking, Beaver Creek","",null,null,null,null,{"$error":"#N/A"}]
[null,null,null,null,null,"1005FACCNS..CA","Anchor Stone - Volentine Plant, OK","3150800617",4918,"Arkansas River SAND","7072",7250,{"$error":"#N/A"},{"$error":"#N/A"},null,null,null,null,null,null,null,null,null,null,null,null,null,null,null,null,null,null,null,null,null,null,"1005GDCMLD","APAC-Kansas Bates City Quarry","",null,null,null,null,{"$error":"#N/A"}]
[null,null,null,null,null,"1005FACCNS..CA","Arkhola S&G #2, Muskogee","3001600217",1083,"Arkansas River 0","0297",3453,{"$error":"#N/A"},{"$error":"#N/A"},null,null,null,null,null,null,null,null,null,null,null,null,null,null,null,null,null,null,null,null,null,null,"1005GDCMLD","Base Rock Minerals, Fruitland","",null,null,null,null,{"$error":"#N/A"}]
[null,null,null,null,null,"1005FACCNS..CA","BMC Sand (Lincoln County Sand & Gravel,Old Monroe)","3212600113",2020,"Glacial Sand GLACIAL SAND","2772",5646,{"$f":"IF(AND($F$17=H689,$AK$44=F689),J689,\"\")","v":{"$error":"#N/A"}},{"$f":"IF(AND($F$17=H689,$AK$44=F689),L689,\"\")","v":{"$error":"#N/A"}},null,null,null,null,null,null,null,null,null,null,null,null,null,null,null,null,null,null,null,null,null,null,"1005GDCMLD","Cameron Concrete Company","",null,null,null,null,{"$error":"#N/A"}]
[null,null,null,null,null,"1005FACCNS..CA","Buckhart Sand & Gravel","3412100113",3570,"Glacial Sand SAND","5713",6779,{"$error":"#N/A"},{"$error":"#N/A"},null,null,null,null,null,null,null,null,null,null,null,null,null,null,null,null,null,null,null,null,null,null,"1005GDCMLD","Cantera Aggregates #1, Plano Qy, Plano, IA","",null,null,null,null,{"$error":"#N/A"}]
[null,null,null,null,null,"1005FACCNS..CA","Builders Choice Aggregates","3425800114",3743,"Kansas River Sand SAND","6149",6849,{"$error":"#N/A"},{"$error":"#N/A"},null,null,null,null,null,null,null,null,null,null,null,null,null,null,null,null,null,null,null,null,null,null,"1005GDCMLD","Capital Materials, Sedalia (Snow Rd-Dresden)","",null,null,null,null,{"$error":"#N/A"}]
[null,null,null,null,null,"1005FACCNS..CA","Bussen #11, Koch Sand","3005701116",1152,"Blended Natural Sand/Limestone NS/LS","2852",3729,{"$error":"#N/A"},{"$error":"#N/A"},null,null,null,null,null,null,null,null,null,null,null,null,null,null,null,null,null,null,null,null,null,null,"1005GDCMLD","Capital Materials, Tightwad (APAC)","",null,null,null,null,{"$error":"#N/A"}]
[null,null,null,null,null,"1005FACCNS..CA","Bussen #11, Koch Sand","3005701116",1152,"Mississippi River Sand SAND","0747",3728,{"$error":"#N/A"},{"$error":"#N/A"},null,null,null,null,null,null,null,null,null,null,null,null,null,null,null,null,null,null,null,null,null,null,"1005GDCMLD","Capital Quarries #5, California","",null,null,null,null,{"$error":"#N/A"}]
[null,null,null,null,null,"1005FACCNS..CA","Cameron Concrete Company","3015500231",1132,"Cameron Concrete Co., Cameron cameron","6661",3595,{"$error":"#N/A"},{"$error":"#N/A"},null,null,null,null,null,null,null,null,null,null,null,null,null,null,null,null,null,null,null,null,null,null,"1005GDCMLD","Capital Quarries, Thayer (King Quarry)","",null,null,null,null,{"$error":"#N/A"}]
[null,null,null,null,null,"1005FACCNS..CA","Cane Creek Stone, Doniphan","3411400239",5356,"Cane Creek Stone, Sand SAND","7696",7689,{"$error":"#N/A"},{"$error":"#N/A"},null,null,null,null,null,null,null,null,null,null,null,null,null,null,null,null,null,null,null,null,null,null,"1005GDCMLD","Central Stone #1, Hannibal (Huntington)","",null,null,null,null,{"$error":"#N/A"}]
[null,null,null,null,null,"1005FACCNS..CA","Capital Sand #1,  Wardsville (Osage Riv)","3006400615",1922,"Osage River Sand SAND","2075",5468,{"$error":"#N/A"},{"$error":"#N/A"},null,null,null,null,null,null,null,null,null,null,null,null,null,null,null,null,null,null,null,null,null,null,"1005GDCMLD","Concrete Industries","",null,null,null,null,{"$error":"#N/A"}]
[null,null,null,null,null,"1005FACCNS..CA","Capital Sand #12, (Farmers) Washington","3057900216",2050,"Missouri River Sand SAND","3228",5695,{"$error":"#N/A"},{"$error":"#N/A"},null,null,null,null,null,null,null,null,null,null,null,null,null,null,null,null,null,null,null,null,null,null,"1005GDCMLD","Fischer Concrete","",null,null,null,null,{"$error":"#N/A"}]
[null,null,null,null,null,"1005FACCNS..CA","Capital Sand #2, Jefferson City","3006400115",966,"Missouri River NS/GV","0498",3155,{"$error":"#N/A"},{"$error":"#N/A"},null,null,null,null,null,null,null,null,null,null,null,null,null,null,null,null,null,null,null,null,null,null,"1005GDCMLD","Herzog, Wathena Stone","",null,null,null,null,{"$error":"#N/A"}]
[null,null,null,null,null,"1005FACCNS..CA","Capital Sand #20, Riverbend (MO Sand Company)","3020701214",937,"Missouri River Field Sand SAND","6077",2924,{"$error":"#N/A"},{"$error":"#N/A"},null,null,null,null,null,null,null,null,null,null,null,null,null,null,null,null,null,null,null,null,null,null,"1005GDCMLD","Holliday Sand and Stone, S&K (Ash Grove)","",null,null,null,null,{"$error":"#N/A"}]
[null,null,null,null,null,"1005FACCNS..CA","Capital Sand #3, Glasgow","3006400312",1120,"Missouri River Sand SAND","6606",3589,{"$error":"#N/A"},{"$error":"#N/A"},null,null,null,null,null,null,null,null,null,null,null,null,null,null,null,null,null,null,null,null,null,null,"1005GDCMLD","Holt Co Ready Mix","",null,null,null,null,{"$error":"#N/A"}]
[null,null,null,null,null,"1005FACCNS..CA","Capital Sand #3, Glasgow","3006400312",1120,"Natural Sand NATURAL SAND","2357",3588,{"$error":"#N/A"},{"$error":"#N/A"},null,null,null,null,null,null,null,null,null,null,null,null,null,null,null,null,null,null,null,null,null,null,"1005GDCMLD","Ideal Ready Mix","",null,null,null,null,{"$error":"#N/A"}]
[null,null,null,null,null,"1005FACCNS..CA","Capital Sand #5, Boonville","3006400515",1543,"Missouri River Sand SAND","1955",4718,{"$error":"#N/A"},{"$error":"#N/A"},null,null,null,null,null,null,null,null,null,null,null,null,null,null,null,null,null,null,null,null,null,null,"1005GDCMLD","Ideker Mosby Quarry","",null,null,null,null,{"$error":"#N/A"}]
[null,null,null,null,null,"1005FACCNS..CA","Capital Sand #6, (Columbia) Rocheport","3009500115",55,"Missouri River NS/GV","2127",106,{"$error":"#N/A"},{"$error":"#N/A"},null,null,null,null,null,null,null,null,null,null,null,null,null,null,null,null,null,null,null,null,null,null,"1005GDCMLD","L & W Construction, Mystic","",null,null,null,null,{"$error":"#N/A"}]
[null,null,null,null,null,"1005FACCNS..CA","Capital Sand #8, Lexington","3006400414",1121,"Missouri River Sand SAND","2257",3590,{"$error":"#N/A"},{"$error":"#N/A"},null,null,null,null,null,null,null,null,null,null,null,null,null,null,null,null,null,null,null,null,null,null,"1005GDCMLD","Loch Sand","",null,null,null,null,{"$error":"#N/A"}]
[null,null,null,null,null,"1005FACCNS..CA","Capital Sand Company (Missouri City) Plant 22","3534300114",5198,"Missouri River Sand Sand","7435",7417,{"$error":"#N/A"},{"$error":"#N/A"},null,null,null,null,null,null,null,null,null,null,null,null,null,null,null,null,null,null,null,null,null,null,"1005GDCMLD","Martin Marietta, Ferrelview (Stamper)","",null,null,null,null,{"$error":"#N/A"}]
[null,null,null,null,null,"1005FACCNS..CA","Capital Sand, Brunswick","3006400911",4529,"Missouri River Sand SAND","6932",6914,{"$error":"#N/A"},{"$error":"#N/A"},null,null,null,null,null,null,null,null,null,null,null,null,null,null,null,null,null,null,null,null,null,null,"1005GDCMLD","Martin Marietta, Greenwood SW","",null,null,null,null,{"$error":"#N/A"}]
[null,null,null,null,null,"1005FACCNS..CA","Central Stone #31, Sand Plant, Florissant","3007906116",1297,"Missouri River Sand 0","0215",4101,{"$error":"#N/A"},{"$error":"#N/A"},null,null,null,null,null,null,null,null,null,null,null,null,null,null,null,null,null,null,null,null,null,null,"1005GDCMLD","Martin Marietta, Randolph","",null,null,null,null,{"$error":"#N/A"}]
[null,null,null,null,null,"1005FACCNS..CA","Central Stone #61, LaGrange Sand & Gravel","3007926113",4546,"Glacial Sand SAND","6624",6923,{"$error":"#N/A"},{"$error":"#N/A"},null,null,null,null,null,null,null,null,null,null,null,null,null,null,null,null,null,null,null,null,null,null,"1005GDCMLD","Martin Marietta, Weeping Water,NE","",null,null,null,null,{"$error":"#N/A"}]
[null,null,null,null,null,"1005FACCNS..CA","Concrete Industries","3009900331",2923,"Concrete Industries,  Auburn, NE Auburn","6670",6444,{"$error":"#N/A"},{"$error":"#N/A"},null,null,null,null,null,null,null,null,null,null,null,null,null,null,null,null,null,null,null,null,null,null,"1005GDCMLD","Milan Ready Mix (Sullivan County RM)","",null,null,null,null,{"$error":"#N/A"}]
[null,null,null,null,null,"1005FACCNS..CA","Concrete Industries","3009900331",2923,"Concrete Industries, Falls City, NE Falls City","6470",6442,{"$error":"#N/A"},{"$error":"#N/A"},null,null,null,null,null,null,null,null,null,null,null,null,null,null,null,null,null,null,null,null,null,null,"1005GDCMLD","New Frontier, New Melle Quarry","",null,null,null,null,{"$error":"#N/A"}]
[null,null,null,null,null,"1005FACCNS..CA","Concrete Industries","3009900331",2923,"Concrete Industries, Nebraska City, NE Nebraska City","6471",6443,{"$error":"#N/A"},{"$error":"#N/A"},null,null,null,null,null,null,null,null,null,null,null,null,null,null,null,null,null,null,null,null,null,null,"1005GDCMLD","Norris Quarries LLC, Akron (Jefferies Quarry)","",null,null,null,null,{"$error":"#N/A"}]
[null,null,null,null,null,"1005FACCNS..CA","CornejO Materials, Oxford, KS (Lafarge Sand)","3134800217",3051,"Arkansas River Sand","5208",6496,{"$error":"#N/A"},{"$error":"#N/A"},null,null,null,null,null,null,null,null,null,null,null,null,null,null,null,null,null,null,null,null,null,null,"1005GDCMLD","Norris Quarries LLC, Kingston (APAC - Kingston)","",null,null,null,null,{"$error":"#N/A"}]
[null,null,null,null,null,"1005FACCNS..CA","Dexter Sand & Gravel","3457000110",4586,"Field Sand SAND","6855",6946,{"$error":"#N/A"},{"$error":"#N/A"},null,null,null,null,null,null,null,null,null,null,null,null,null,null,null,null,null,null,null,null,null,null,"1005GDCMLD","Norris Quarries, Amazonia Quarry","",null,null,null,null,{"$error":"#N/A"}]
[null,null,null,null,null,"1005FACCNS..CA","Gateway Sand and Gravel Ltd.","3264100116",2749,"Mississippi River Field Sand SAND","5022",6327,{"$error":"#N/A"},{"$error":"#N/A"},null,null,null,null,null,null,null,null,null,null,null,null,null,null,null,null,null,null,null,null,null,null,"1005GDCMLD","Norris Quarries, Bethany","",null,null,null,null,{"$error":"#N/A"}]
[null,null,null,null,null,"1005FACCNS..CA","Hallett #282, Shenandoah","3017128211",970,"Nishnabotna River Sand SAND","0762",3169,{"$error":"#N/A"},{"$error":"#N/A"},null,null,null,null,null,null,null,null,null,null,null,null,null,null,null,null,null,null,null,null,null,null,"1005GDCMLD","Norris Quarries, Blue Mound","",null,null,null,null,{"$error":"#N/A"}]
[null,null,null,null,null,"1005FACCNS..CA","Hamm Sand, Desoto, KS (Sahara Sand)","3126500214",714,"Kansas River Field Sand FIELD SAND","7828",7822,{"$error":"#N/A"},{"$error":"#N/A"},null,null,null,null,null,null,null,null,null,null,null,null,null,null,null,null,null,null,null,null,null,null,"1005GDCMLD","Norris Quarries, Breit Quarry, Savannah","",null,null,null,null,{"$error":"#N/A"}]
[null,null,null,null,null,"1005FACCNS..CA","Havin Material Services","3019610036",4712,"Havin Material Services, Sullivan Sullivan","6842",7058,{"$error":"#N/A"},{"$error":"#N/A"},null,null,null,null,null,null,null,null,null,null,null,null,null,null,null,null,null,null,null,null,null,null,"1005GDCMLD","Norris Quarries, Gallatin Quarry","",null,null,null,null,{"$error":"#N/A"}]
[null,null,null,null,null,"1005FACCNS..CA","Hermann Sand & Gravel","3020300115",659,"Missouri River Sand NATURAL SAND","2396",1643,{"$error":"#N/A"},{"$error":"#N/A"},null,null,null,null,null,null,null,null,null,null,null,null,null,null,null,null,null,null,null,null,null,null,"1005GDCMLD","Norris Quarries, Knoxville (Ray County, #1 SW Pit)","",null,null,null,null,{"$error":"#N/A"}]
[null,null,null,null,null,"1005FACCNS..CA","Hermann Sand and Gravel, #2  (Muenks Brothers)","3060800215",567,"Missouri River sand SAND","0918",1416,{"$error":"#N/A"},{"$error":"#N/A"},null,null,null,null,null,null,null,null,null,null,null,null,null,null,null,null,null,null,null,null,null,null,"1005GDCMLD","Norris Quarries, Trenton","",null,null,null,null,{"$error":"#N/A"}]
[null,null,null,null,null,"1005FACCNS..CA","Holliday Sand #7, Bonner Springs","3020700614",2094,"Kansas River Sand SAND","0795",5758,{"$error":"#N/A"},{"$error":"#N/A"},null,null,null,null,null,null,null,null,null,null,null,null,null,null,null,null,null,null,null,null,null,null,"1005GDCMLD","Payless Concrete","",null,null,null,null,{"$error":"#N/A"}]
[null,null,null,null,null,"1005FACCNS..CA","Holliday Sand & Gravel, #3 West, Shawnee","3020700214",934,"Kansas River Field sand FIELD SAND","7243",2918,{"$error":"#N/A"},{"$error":"#N/A"},null,null,null,null,null,null,null,null,null,null,null,null,null,null,null,null,null,null,null,null,null,null,"1005GDCMLD","Penny's Concrete","",null,null,null,null,{"$error":"#N/A"}]
[null,null,null,null,null,"1005FACCNS..CA","Holliday Sand & Gravel, Bixby","3020702117",932,"ARKANSAS RIVER SAND","1957",2917,{"$error":"#N/A"},{"$error":"#N/A"},null,null,null,null,null,null,null,null,null,null,null,null,null,null,null,null,null,null,null,null,null,null,"1005GDCMLD","Politte Ready Mix, LLC","",null,null,null,null,{"$error":"#N/A"}]
[null,null,null,null,null,"1005FACCNS..CA","Holliday Sand & Gravel, Broken Arrow, OK","3020702419",5100,"Arkansas River SAND","7289",7326,{"$error":"#N/A"},{"$error":"#N/A"},null,null,null,null,null,null,null,null,null,null,null,null,null,null,null,null,null,null,null,null,null,null,"1005GDCMLD","Producer Supplier not designated.","",null,null,null,null,{"$error":"#N/A"}]
[null,null,null,null,null,"1005FACCNS..CA","Holliday Sand & Gravel, Cowetta, OK","3020701417",1397,"Arkansas River Sand SAND","3516",4385,{"$error":"#N/A"},{"$error":"#N/A"},null,null,null,null,null,null,null,null,null,null,null,null,null,null,null,null,null,null,null,null,null,null,"1005GDCMLD","Summit Materials, Marshall (Boone Quarries)","",null,null,null,null,{"$error":"#N/A"}]
[null,null,null,null,null,"1005FACCNS..CA","Holliday Sand & Gravel, Randolph","3020700314",938,"Missouri River Sand SAND","2333",2926,{"$error":"#N/A"},{"$error":"#N/A"},null,null,null,null,null,null,null,null,null,null,null,null,null,null,null,null,null,null,null,null,null,null,"1005GDCMLD","Thompson Bros Ready Mix","",null,null,null,null,{"$error":"#N/A"}]
[null,null,null,null,null,"1005FACCNS..CA","Holliday Sand & Gravel, Riverside","3020701114",652,"Missouri River Sand SAND","2379",1600,{"$error":"#N/A"},{"$error":"#N/A"},null,null,null,null,null,null,null,null,null,null,null,null,null,null,null,null,null,null,null,null,null,null,"1005GDCMLD","Trager Limestone, Gallatin (NORTH)","",null,null,null,null,{"$error":"#N/A"}]
[null,null,null,null,null,"1005FACCNS..CA","Holliday Sand & Gravel, St. Joseph","3020700111",653,"Missouri River Sand SAND","0765",1602,{"$error":"#N/A"},{"$error":"#N/A"},null,null,null,null,null,null,null,null,null,null,null,null,null,null,null,null,null,null,null,null,null,null,"1005GDCMLD","Trager Limestone, Gallatin (SOUTH)","",null,null,null,null,{"$error":"#N/A"}]
[null,null,null,null,null,"1005FACCNS..CA","Holt Co Ready Mix","3406500131",3341,"Holt Co Ready Mix, Mound City Mound City","5689",6705,{"$error":"#N/A"},{"$error":"#N/A"},null,null,null,null,null,null,null,null,null,null,null,null,null,null,null,null,null,null,null,null,null,null,"1005GDCMLD","Trager Limestone, Nettleton","",null,null,null,null,{"$error":"#N/A"}]
[null,null,null,null,null,"1005FACCNS..CA","Ideal Ready Mix","3021910033",4713,"Ideal Ready Mix, Canton Canton","6841",7064,{"$error":"#N/A"},{"$error":"#N/A"},null,null,null,null,null,null,null,null,null,null,null,null,null,null,null,null,null,null,null,null,null,null,"1005GDCMLD","Westside Stone (Springfield Underground, Airport)","",null,null,null,null,{"$error":"#N/A"}]
[null,null,null,null,null,"1005FACCNS..CA","Ideal Ready Mix","3021910033",4713,"Ideal Ready Mix, Centerville, IA Centerville","7049",7065,{"$error":"#N/A"},{"$error":"#N/A"},null,null,null,null,null,null,null,null,null,null,null,null,null,null,null,null,null,null,null,null,null,null,"1005GDCMLD","Williamsville Stone #1",{"$f":"IF(AK730=$AK$44,AL730,\"\")","v":""},null,null,null,null,{"$error":"#N/A"}]
[null,null,null,null,null,"1005FACCNS..CA","Ideal Ready Mix","3021910033",4713,"Ideal Ready Mix, Kahoka Kahoka","6840",7063,{"$error":"#N/A"},{"$error":"#N/A"},null,null,null,null,null,null,null,null,null,null,null,null,null,null,null,null,null,null,null,null,null,null,"1005GDCMLS","Magruder Limestone #1, Troy","",null,null,null,null,{"$error":"#N/A"}]
[null,null,null,null,null,"1005FACCNS..CA","Ideal Ready Mix","3021910033",4713,"Ideal Ready Mix, Unionville Unionville","6427",7062,{"$error":"#N/A"},{"$error":"#N/A"},null,null,null,null,null,null,null,null,null,null,null,null,null,null,null,null,null,null,null,null,null,null,"1005GDCMLS","Magruder Limestone, Ashley","",null,null,null,null,{"$error":"#N/A"}]
[null,null,null,null,null,"1005FACCNS..CA","Ideal Sand, Wayland Sand Pit","3021900313",886,"Glacial sand SAND","3102",2702,{"$error":"#N/A"},{"$error":"#N/A"},null,null,null,null,null,null,null,null,null,null,null,null,null,null,null,null,null,null,null,null,null,null,"1005GDCMLS","Martin Marietta, Randolph","",null,null,null,null,{"$error":"#N/A"}]
[null,null,null,null,null,"1005FACCNS..CA","Kaw Valley Sand & Gravel Morse","3024400214",5162,"Kansas River Sand Sand","7381",7363,{"$error":"#N/A"},{"$error":"#N/A"},null,null,null,null,null,null,null,null,null,null,null,null,null,null,null,null,null,null,null,null,null,null,"1005GDCMLS","Producer Supplier not designated.","",null,null,null,null,{"$error":"#N/A"}]
[null,null,null,null,null,"1005FACCNS..CA","Kimaterials","3025200113",678,"Glacial Sand SAND","0758",1714,{"$error":"#N/A"},{"$error":"#N/A"},null,null,null,null,null,null,null,null,null,null,null,null,null,null,null,null,null,null,null,null,null,null,"1005GECMDO","Indian Creek Materials/Couch","",null,null,null,null,{"$error":"#N/A"}]
[null,null,null,null,null,"1005FACCNS..CA","Kirksville Ready Mix","3025500132",1658,"Kirksville Ready Mix, Kirksville Kirksville","6680",5022,{"$error":"#N/A"},{"$error":"#N/A"},null,null,null,null,null,null,null,null,null,null,null,null,null,null,null,null,null,null,null,null,null,null,"1005GECMDO","Lead Belt, Park Hills Stone","",null,null,null,null,{"$error":"#N/A"}]
[null,null,null,null,null,"1005FACCNS..CA","Lafarge Sand, Bridgeton (St. Charles Sand #1)","3043900116",207,"Missouri River Sand SAND","6084",633,{"$error":"#N/A"},{"$error":"#N/A"},null,null,null,null,null,null,null,null,null,null,null,null,null,null,null,null,null,null,null,null,null,null,"1005GECMDO","VLC Aggregate Inc., Desloge","",null,null,null,null,{"$error":"#N/A"}]
[null,null,null,null,null,"1005FACCNS..CA","Lafarge Sand, Chesterfield (St. Charles Sand #2)","3043900216",89,"Missouri River Sand SAND","2154",254,{"$error":"#N/A"},{"$error":"#N/A"},null,null,null,null,null,null,null,null,null,null,null,null,null,null,null,null,null,null,null,null,null,null,"1005GECMGTBD","Martin Marietta (Mill Creek Quarry), OK","",null,null,null,null,{"$error":"#N/A"}]
[null,null,null,null,null,"1005FACCNS..CA","Land-Chariton County Concrete","3026800132",623,"Land-Chariton County Concrete, Moberly Moberly","6562",1514,{"$error":"#N/A"},{"$error":"#N/A"},null,null,null,null,null,null,null,null,null,null,null,null,null,null,null,null,null,null,null,null,null,null,"1005GECMGV","Producer Supplier not designated.","",null,null,null,null,{"$error":"#N/A"}]
[null,null,null,null,null,"1005FACCNS..CA","Lincoln County Sand & Gravel, Winfield","3212600213",5073,"Mississippi River Sand SAND","7136",7316,{"$error":"#N/A"},{"$error":"#N/A"},null,null,null,null,null,null,null,null,null,null,null,null,null,null,null,null,null,null,null,null,null,null,"1005GECMGV","Winter Brothers, Gravel","",null,null,null,null,{"$error":"#N/A"}]
[null,null,null,null,null,"1005FACCNS..CA","Lyman Richey, Gretna, NE Plant No. 50","3028500211",4982,"Platte River Sand SAND","7270",7268,{"$error":"#N/A"},{"$error":"#N/A"},null,null,null,null,null,null,null,null,null,null,null,null,null,null,null,null,null,null,null,null,null,null,"1005GECMGV","Winter Brothers, Hagemann","",null,null,null,null,{"$error":"#N/A"}]
[null,null,null,null,null,"1005FACCNS..CA","Lyman Richey, Gretna, NE Plant No. 51","3028500311",4983,"Platte River Sand SAND","7271",7269,{"$error":"#N/A"},{"$error":"#N/A"},null,null,null,null,null,null,null,null,null,null,null,null,null,null,null,null,null,null,null,null,null,null,"1005GECMLS","Base Rock Minerals, Pit 3","",null,null,null,null,{"$error":"#N/A"}]
[null,null,null,null,null,"1005FACCNS..CA","Lyman Richey, Gretna, NE Plant No. 52","3028501011",5117,"Platte River Sand SAND","7145",7341,{"$error":"#N/A"},{"$error":"#N/A"},null,null,null,null,null,null,null,null,null,null,null,null,null,null,null,null,null,null,null,null,null,null,"1005GECMLS","Bussen #1, Koch Quarry","",null,null,null,null,{"$error":"#N/A"}]
[null,null,null,null,null,"1005FACCNS..CA","Lyman Richey, Plattsmouth, NE Plant No. 3","3028500911",1717,"Platte River Sand SAND","7146",5031,{"$error":"#N/A"},{"$error":"#N/A"},null,null,null,null,null,null,null,null,null,null,null,null,null,null,null,null,null,null,null,null,null,null,"1005GECMLS","Bussen #3, Antire Quarry","",null,null,null,null,{"$error":"#N/A"}]
[null,null,null,null,null,"1005FACCNS..CA","Lyman Richey, Valley, NE Plant No. 7","3028500111",4981,"Platte River Sand SAND","7269",7267,{"$error":"#N/A"},{"$error":"#N/A"},null,null,null,null,null,null,null,null,null,null,null,null,null,null,null,null,null,null,null,null,null,null,"1005GECMLS","Bussen #4, Trautman Quarry","",null,null,null,null,{"$error":"#N/A"}]
[null,null,null,null,null,"1005FACCNS..CA","Madison County Sand (Quality Sand)","3016601416",999,"Mississippi River Sand SAND","5033",3213,{"$error":"#N/A"},{"$error":"#N/A"},null,null,null,null,null,null,null,null,null,null,null,null,null,null,null,null,null,null,null,null,null,null,"1005GECMLS","Cameron Concrete Company","",null,null,null,null,{"$error":"#N/A"}]
[null,null,null,null,null,"1005FACCNS..CA","Midwest Concrete Materials, Inc., Kansas","3502100114",4651,"Midwest Concrete Materials, Field Sand FIELD SAND","7026",6994,{"$error":"#N/A"},{"$error":"#N/A"},null,null,null,null,null,null,null,null,null,null,null,null,null,null,null,null,null,null,null,null,null,null,"1005GECMLS","Capital Materials, Sedalia (Snow Rd-Dresden)","",null,null,null,null,{"$error":"#N/A"}]
[null,null,null,null,null,"1005FACCNS..CA","Milan Ready Mix (Sullivan County RM)","3198400132",1874,"Milan Ready Mix,  Milan Milan","6472",5374,{"$error":"#N/A"},{"$error":"#N/A"},null,null,null,null,null,null,null,null,null,null,null,null,null,null,null,null,null,null,null,null,null,null,"1005GECMLS","Capital Materials, Tightwad (APAC)","",null,null,null,null,{"$error":"#N/A"}]
[null,null,null,null,null,"1005FACCNS..CA","Missouri Sand, Amazonia","3454600111",4760,"Missouri River Sand Sand","6587",7159,{"$error":"#N/A"},{"$error":"#N/A"},null,null,null,null,null,null,null,null,null,null,null,null,null,null,null,null,null,null,null,null,null,null,"1005GECMLS","Capital Quarries #17, Sullivan","",null,null,null,null,{"$error":"#N/A"}]
[null,null,null,null,null,"1005FACCNS..CA","Muskogee Sand","3145700117",418,"Arkansas River Sand SAND","0768",1226,{"$error":"#N/A"},{"$error":"#N/A"},null,null,null,null,null,null,null,null,null,null,null,null,null,null,null,null,null,null,null,null,null,null,"1005GECMLS","Capital Quarries, Holts Summit 1A","",null,null,null,null,{"$error":"#N/A"}]
[null,null,null,null,null,"1005FACCNS..CA","New Frontier, Barnhart Quarry","3049900316",4732,"Burlington-Keokuk 1E","7534",7521,{"$error":"#N/A"},{"$error":"#N/A"},null,null,null,null,null,null,null,null,null,null,null,null,null,null,null,null,null,null,null,null,null,null,"1005GECMLS","Central Stone #1, Hannibal (Huntington)","",null,null,null,null,{"$error":"#N/A"}]
[null,null,null,null,null,"1005FACCNS..CA","New Frontier, Barnhart Quarry","3049900316",4732,"Burlington-Keokuk 1E-F","7529",7516,{"$error":"#N/A"},{"$error":"#N/A"},null,null,null,null,null,null,null,null,null,null,null,null,null,null,null,null,null,null,null,null,null,null,"1005GECMLS","Central Stone #31, Florissant","",null,null,null,null,{"$error":"#N/A"}]
[null,null,null,null,null,"1005FACCNS..CA","New Frontier, Barnhart Quarry","3049900316",4732,"Burlington-Keokuk 1F","7535",7522,{"$f":"IF(AND($F$17=H753,$AK$44=F753),J753,\"\")","v":{"$error":"#N/A"}},{"$f":"IF(AND($F$17=H753,$AK$44=F753),L753,\"\")","v":{"$error":"#N/A"}},null,null,null,null,null,null,null,null,null,null,null,null,null,null,null,null,null,null,null,null,null,null,"1005GECMLS","Central Stone #54 (Bellefontaine)  Farmington","",null,null,null,null,{"$error":"#N/A"}]
[null,null,null,null,null,"1005FACCNS..CA","New Frontier, Barnhart Quarry","3049900316",4732,"Bushberg 1B","7531",7518,{"$error":"#N/A"},{"$error":"#N/A"},null,null,null,null,null,null,null,null,null,null,null,null,null,null,null,null,null,null,null,null,null,null,"1005GECMLS","Conco Quarries, Willard","",null,null,null,null,{"$error":"#N/A"}]
[null,null,null,null,null,"1005FACCNS..CA","New Frontier, Barnhart Quarry","3049900316",4732,"Fern Glen 1C","7532",7519,{"$error":"#N/A"},{"$error":"#N/A"},null,null,null,null,null,null,null,null,null,null,null,null,null,null,null,null,null,null,null,null,null,null,"1005GECMLS","Concrete Industries","",null,null,null,null,{"$error":"#N/A"}]
[null,null,null,null,null,"1005FACCNS..CA","New Frontier, Barnhart Quarry","3049900316",4732,"Fern Glen 1D","7533",7520,{"$error":"#N/A"},{"$error":"#N/A"},null,null,null,null,null,null,null,null,null,null,null,null,null,null,null,null,null,null,null,null,null,null,"1005GECMLS","Fischer Concrete","",null,null,null,null,{"$error":"#N/A"}]
[null,null,null,null,null,"1005FACCNS..CA","New Frontier, Barnhart Quarry","3049900316",4732,"Kimmswick 1-5","6392",7138,{"$error":"#N/A"},{"$error":"#N/A"},null,null,null,null,null,null,null,null,null,null,null,null,null,null,null,null,null,null,null,null,null,null,"1005GECMLS","Herzog, Wathena Stone","",null,null,null,null,{"$error":"#N/A"}]
[null,null,null,null,null,"1005FACCNS..CA","New Frontier, Barnhart Quarry","3049900316",4732,"Maquoketa 1A","7530",7517,{"$error":"#N/A"},{"$error":"#N/A"},null,null,null,null,null,null,null,null,null,null,null,null,null,null,null,null,null,null,null,null,null,null,"1005GECMLS","Higgins Materials, LLC - Otterville","",null,null,null,null,{"$error":"#N/A"}]
[null,null,null,null,null,"1005FACCNS..CA","New Frontier, Barnhart Quarry","3049900316",4732,"Mississippi River Sand SAND","7244",7149,{"$error":"#N/A"},{"$error":"#N/A"},null,null,null,null,null,null,null,null,null,null,null,null,null,null,null,null,null,null,null,null,null,null,"1005GECMLS","Holt Co Ready Mix","",null,null,null,null,{"$error":"#N/A"}]
[null,null,null,null,null,"1005FACCNS..CA","Penny's Concrete","3055810037",4719,"Penny's, Carrolton (Green) Carrolton","6904",7091,{"$error":"#N/A"},{"$error":"#N/A"},null,null,null,null,null,null,null,null,null,null,null,null,null,null,null,null,null,null,null,null,null,null,"1005GECMLS","Ideal Ready Mix","",null,null,null,null,{"$error":"#N/A"}]
[null,null,null,null,null,"1005FACCNS..CA","Penny's Concrete","3055810037",4719,"Penny's, Chillicothe (Green) Chillicothe","6905",7092,{"$error":"#N/A"},{"$error":"#N/A"},null,null,null,null,null,null,null,null,null,null,null,null,null,null,null,null,null,null,null,null,null,null,"1005GECMLS","Indian Creek Materials/Couch","",null,null,null,null,{"$error":"#N/A"}]
[null,null,null,null,null,"1005FACCNS..CA","Penny's Concrete","3055810037",4719,"Penny's, Concordia (Green) Concordia","6906",7093,{"$error":"#N/A"},{"$error":"#N/A"},null,null,null,null,null,null,null,null,null,null,null,null,null,null,null,null,null,null,null,null,null,null,"1005GECMLS","Joplin Stone","",null,null,null,null,{"$error":"#N/A"}]
[null,null,null,null,null,"1005FACCNS..CA","Penny's Concrete","3055810037",4719,"Penny's, Excelsior Springs (Green) Excelsior Springs","6907",7094,{"$error":"#N/A"},{"$error":"#N/A"},null,null,null,null,null,null,null,null,null,null,null,null,null,null,null,null,null,null,null,null,null,null,"1005GECMLS","Kerford Limestone Co., NE","",null,null,null,null,{"$error":"#N/A"}]
[null,null,null,null,null,"1005FACCNS..CA","Penny's Concrete","3055810037",4719,"Penny's, Grain Valley Grain Valley","6978",7100,{"$error":"#N/A"},{"$error":"#N/A"},null,null,null,null,null,null,null,null,null,null,null,null,null,null,null,null,null,null,null,null,null,null,"1005GECMLS","L & W Construction, Mystic","",null,null,null,null,{"$error":"#N/A"}]
[null,null,null,null,null,"1005FACCNS..CA","Penny's Concrete","3055810037",4719,"Penny's, Hamilton Hamilton","6479",7090,{"$error":"#N/A"},{"$error":"#N/A"},null,null,null,null,null,null,null,null,null,null,null,null,null,null,null,null,null,null,null,null,null,null,"1005GECMLS","Land-Chariton County Concrete","",null,null,null,null,{"$error":"#N/A"}]
[null,null,null,null,null,"1005FACCNS..CA","Penny's Concrete","3055810037",4719,"Penny's, Higginsville (Green) Higginsville","6974",7096,{"$error":"#N/A"},{"$error":"#N/A"},null,null,null,null,null,null,null,null,null,null,null,null,null,null,null,null,null,null,null,null,null,null,"1005GECMLS","Loch Sand","",null,null,null,null,{"$error":"#N/A"}]
[null,null,null,null,null,"1005FACCNS..CA","Penny's Concrete","3055810037",4719,"Penny's, Lansing KS Lansing","6975",7097,{"$error":"#N/A"},{"$error":"#N/A"},null,null,null,null,null,null,null,null,null,null,null,null,null,null,null,null,null,null,null,null,null,null,"1005GECMLS","Martin Marietta, Ferrelview (Stamper)","",null,null,null,null,{"$error":"#N/A"}]
[null,null,null,null,null,"1005FACCNS..CA","Penny's Concrete","3055810037",4719,"Penny's, Martin City Martin City","6976",7098,{"$error":"#N/A"},{"$error":"#N/A"},null,null,null,null,null,null,null,null,null,null,null,null,null,null,null,null,null,null,null,null,null,null,"1005GECMLS","Martin Marietta, Greenwood SW","",null,null,null,null,{"$error":"#N/A"}]
[null,null,null,null,null,"1005FACCNS..CA","Penny's Concrete","3055810037",4719,"Penny's, Parvin Rd Parvin","6977",7099,{"$error":"#N/A"},{"$error":"#N/A"},null,null,null,null,null,null,null,null,null,null,null,null,null,null,null,null,null,null,null,null,null,null,"1005GECMLS","Martin Marietta, Randolph","",null,null,null,null,{"$error":"#N/A"}]
[null,null,null,null,null,"1005FACCNS..CA","Penny's Concrete","3055810037",4719,"Penny's, Richmond (Green) Richmond","6908",7095,{"$error":"#N/A"},{"$error":"#N/A"},null,null,null,null,null,null,null,null,null,null,null,null,null,null,null,null,null,null,null,null,null,null,"1005GECMLS","Martin Marietta, Weeping Water,NE","",null,null,null,null,{"$error":"#N/A"}]
[null,null,null,null,null,"1005FACCNS..CA","Penny's Schaake Plant, Lawrence (Kaw Sand)","3126500114",715,"Kansas River Sand SAND","4971",1842,{"$error":"#N/A"},{"$error":"#N/A"},null,null,null,null,null,null,null,null,null,null,null,null,null,null,null,null,null,null,null,null,null,null,"1005GECMLS","Mid Missouri Limestone (Auxvasse - South Gate)","",null,null,null,null,{"$error":"#N/A"}]
[null,null,null,null,null,"1005FACCNS..CA","River Products, Fredonia","3039300213",322,"Cedar River Sand SAND 2","7518",7505,{"$error":"#N/A"},{"$error":"#N/A"},null,null,null,null,null,null,null,null,null,null,null,null,null,null,null,null,null,null,null,null,null,null,"1005GECMLS","Milan Ready Mix (Sullivan County RM)","",null,null,null,null,{"$error":"#N/A"}]
[null,null,null,null,null,"1005FACCNS..CA","River Valley Materials, LLC","3525900117",5089,"Arkansas River Sand SAND","7274",7322,{"$error":"#N/A"},{"$error":"#N/A"},null,null,null,null,null,null,null,null,null,null,null,null,null,null,null,null,null,null,null,null,null,null,"1005GECMLS","New Frontier, Alton Weber #8","",null,null,null,null,{"$error":"#N/A"}]
[null,null,null,null,null,"1005FACCNS..CA","Rock-It Natural Stone, Inc.","3916000158",4984,"Arkansas River Sand SAND","7092",7270,{"$error":"#N/A"},{"$error":"#N/A"},null,null,null,null,null,null,null,null,null,null,null,null,null,null,null,null,null,null,null,null,null,null,"1005GECMLS","New Frontier, New Melle Quarry","",null,null,null,null,{"$error":"#N/A"}]
[null,null,null,null,null,"1005FACCNS..CA","Shawnee Sand & Gravel, IL","3042900210",3472,"Mississippi Field Sand SAND","5878",6750,{"$error":"#N/A"},{"$error":"#N/A"},null,null,null,null,null,null,null,null,null,null,null,null,null,null,null,null,null,null,null,null,null,null,"1005GECMLS","Norris Quarries LLC, Akron (Jefferies Quarry)","",null,null,null,null,{"$error":"#N/A"}]
[null,null,null,null,null,"1005FACCNS..CA","St. Charles County Concrete","3021200836",1797,"St. Charles Concrete, Wentzville Wentzville","6634",5307,{"$error":"#N/A"},{"$error":"#N/A"},null,null,null,null,null,null,null,null,null,null,null,null,null,null,null,null,null,null,null,null,null,null,"1005GECMLS","Norris Quarries LLC, Kingston (APAC - Kingston)","",null,null,null,null,{"$error":"#N/A"}]
[null,null,null,null,null,"1005FACCNS..CA","Thompson Bros Ready Mix","3046000232",1657,"Thompsom Bros Ready Mix, Brookfield Brookfield","6516",5021,{"$error":"#N/A"},{"$error":"#N/A"},null,null,null,null,null,null,null,null,null,null,null,null,null,null,null,null,null,null,null,null,null,null,"1005GECMLS","Norris Quarries, Amazonia Quarry","",null,null,null,null,{"$error":"#N/A"}]
[null,null,null,null,null,"1005FACCNS..CA","Vernon County Ready Mix","3433900137",3761,"Vernon County RM, Nevada nevada","6730",6851,{"$error":"#N/A"},{"$error":"#N/A"},null,null,null,null,null,null,null,null,null,null,null,null,null,null,null,null,null,null,null,null,null,null,"1005GECMLS","Norris Quarries, Bethany","",null,null,null,null,{"$error":"#N/A"}]
[null,null,null,null,null,"1005FACCNS..CA","Vulcan Materials, Rochester, IL","3298900413",3764,"Glacial Sand SAND","2303",6854,{"$error":"#N/A"},{"$error":"#N/A"},null,null,null,null,null,null,null,null,null,null,null,null,null,null,null,null,null,null,null,null,null,null,"1005GECMLS","Norris Quarries, Blue Mound","",null,null,null,null,{"$error":"#N/A"}]
[null,null,null,null,null,"1005FACCNS..CA","Wayland Sand (M & O Concrete)","3185200213",5438,"Glacial Sand 1","7827",7821,{"$error":"#N/A"},{"$error":"#N/A"},null,null,null,null,null,null,null,null,null,null,null,null,null,null,null,null,null,null,null,null,null,null,"1005GECMLS","Norris Quarries, Breit Quarry, Savannah","",null,null,null,null,{"$error":"#N/A"}]
[null,null,null,null,null,"1005FACCNS..CA","Wayne B. Smith, Louisiana Sand","3049501113",132,"Mississippi River Sand SAND","0757",536,{"$error":"#N/A"},{"$error":"#N/A"},null,null,null,null,null,null,null,null,null,null,null,null,null,null,null,null,null,null,null,null,null,null,"1005GECMLS","Norris Quarries, Gallatin Quarry","",null,null,null,null,{"$error":"#N/A"}]
[null,null,null,null,null,"1005FACCNS..CA","Western Sand & Gravel, Louisville Pit","3034300411",3345,"Platte River Sand SAND","5702",6709,{"$error":"#N/A"},{"$error":"#N/A"},null,null,null,null,null,null,null,null,null,null,null,null,null,null,null,null,null,null,null,null,null,null,"1005GECMLS","Norris Quarries, Trenton","",null,null,null,null,{"$error":"#N/A"}]
[null,null,null,null,null,"1005FACCNS..CA","Winter Brothers, Hagemann","3050600216",3729,"Meramec River Sand SAND","6081",6841,{"$error":"#N/A"},{"$error":"#N/A"},null,null,null,null,null,null,null,null,null,null,null,null,null,null,null,null,null,null,null,null,null,null,"1005GECMLS","North Central Arkansas Quarries","",null,null,null,null,{"$error":"#N/A"}]
[null,null,null,null,null,"1005FACCNS..CA","Yeary Trucking, Beaver Creek","3197800118",1954,"Natural Sand - Beaver Creek SAND","2220",5499,{"$error":"#N/A"},{"$error":"#N/A"},null,null,null,null,null,null,null,null,null,null,null,null,null,null,null,null,null,null,null,null,null,null,"1005GECMLS","Payless Concrete","",null,null,null,null,{"$error":"#N/A"}]
[null,null,null,null,null,"1005FACCNS..CB","Arkhola S&G #2, Muskogee","3001600217",1083,"Arkansas River 0","0297",3453,{"$error":"#N/A"},{"$error":"#N/A"},null,null,null,null,null,null,null,null,null,null,null,null,null,null,null,null,null,null,null,null,null,null,"1005GECMLS","Penny's Concrete","",null,null,null,null,{"$error":"#N/A"}]
[null,null,null,null,null,"1005FACCNS..CB","BMC Sand (Lincoln County Sand & Gravel,Old Monroe)","3212600113",2020,"Glacial Sand GLACIAL SAND","2772",5646,{"$error":"#N/A"},{"$error":"#N/A"},null,null,null,null,null,null,null,null,null,null,null,null,null,null,null,null,null,null,null,null,null,null,"1005GECMLS","Southeast Missouri Stone (SEMO)","",null,null,null,null,{"$error":"#N/A"}]
[null,null,null,null,null,"1005FACCNS..CB","Big Creek Sand & Gravel (Vaughn RM)","3231800119",2588,"Big Creek Sand SAND","3372",6231,{"$error":"#N/A"},{"$error":"#N/A"},null,null,null,null,null,null,null,null,null,null,null,null,null,null,null,null,null,null,null,null,null,null,"1005GECMLS","Summit Materials, Marshall (Boone Quarries)","",null,null,null,null,{"$error":"#N/A"}]
[null,null,null,null,null,"1005FACCNS..CB","Capital Sand #1,  Wardsville (Osage Riv)","3006400615",1922,"Osage River Sand SAND","2075",5468,{"$error":"#N/A"},{"$error":"#N/A"},null,null,null,null,null,null,null,null,null,null,null,null,null,null,null,null,null,null,null,null,null,null,"1005GECMLS","Thompson Bros Ready Mix","",null,null,null,null,{"$error":"#N/A"}]
[null,null,null,null,null,"1005FACCNS..CB","Fischer Concrete","3151700135",1019,"Fischer Concrete, Bethany (Bethany Ready Mix) Bethany","7211",3283,{"$error":"#N/A"},{"$error":"#N/A"},null,null,null,null,null,null,null,null,null,null,null,null,null,null,null,null,null,null,null,null,null,null,"1005GECMLS","Trager Limestone, Gallatin (SOUTH)","",null,null,null,null,{"$error":"#N/A"}]
[null,null,null,null,null,"1005FACCNS..CB","Fischer Concrete","3151700135",1019,"Fischer Concrete, Trenton (Trenton Ready Mix) Trenton","7365",7346,{"$error":"#N/A"},{"$error":"#N/A"},null,null,null,null,null,null,null,null,null,null,null,null,null,null,null,null,null,null,null,null,null,null,"1005GECMLS","Trager Limestone, Nettleton","",null,null,null,null,{"$error":"#N/A"}]
[null,null,null,null,null,"1005FACCNS..CB","Ideal Sand, Wayland Sand Pit","3021900313",886,"Glacial sand SAND","3102",2702,{"$error":"#N/A"},{"$error":"#N/A"},null,null,null,null,null,null,null,null,null,null,null,null,null,null,null,null,null,null,null,null,null,null,"1005GECMLS","Williamsville Stone #1","",null,null,null,null,{"$error":"#N/A"}]
[null,null,null,null,null,"1005FACCNS..CB","JR Sand and Gravel","3506200119",4758,"Bryant Creek Sand SAND","6640",7157,{"$error":"#N/A"},{"$error":"#N/A"},null,null,null,null,null,null,null,null,null,null,null,null,null,null,null,null,null,null,null,null,null,null,"1005GECMLSBD","Bussen #4, Trautman Quarry","",null,null,null,null,{"$error":"#N/A"}]
[null,null,null,null,null,"1005FACCNS..CB","Kimaterials","3025200113",678,"Glacial Sand SAND","0758",1714,{"$error":"#N/A"},{"$error":"#N/A"},null,null,null,null,null,null,null,null,null,null,null,null,null,null,null,null,null,null,null,null,null,null,"1005GECMLSBD","Cantera Aggregates #1, Plano Qy, Plano, IA","",null,null,null,null,{"$error":"#N/A"}]
[null,null,null,null,null,"1005FACCNS..CB","Mtn. Home Ready Mix","3520100139",4953,"Sand SAND","7238",7260,{"$error":"#N/A"},{"$error":"#N/A"},null,null,null,null,null,null,null,null,null,null,null,null,null,null,null,null,null,null,null,null,null,null,"1005GECMLSBD","Capital Materials, Tightwad (APAC)",{"$f":"IF(AK794=$AK$44,AL794,\"\")","v":""},null,null,null,null,{"$error":"#N/A"}]
[null,null,null,null,null,"1005FACCNS..CB","Norris Quarries Sand (Kenny Stoner)","3061700111",197,"Thompson River Sand SAND","0759",630,{"$error":"#N/A"},{"$error":"#N/A"},null,null,null,null,null,null,null,null,null,null,null,null,null,null,null,null,null,null,null,null,null,null,"1005GECMLSBD","Capital Quarries #17, Sullivan","",null,null,null,null,{"$error":"#N/A"}]
[null,null,null,null,null,"1005FACCNS..CB","Norris Sand, Stanberry","3140300111",493,"Grand River Sand SAND","0871",1357,{"$error":"#N/A"},{"$error":"#N/A"},null,null,null,null,null,null,null,null,null,null,null,null,null,null,null,null,null,null,null,null,null,null,"1005GECMLSBD","Central Stone #1, Hannibal (Huntington)","",null,null,null,null,{"$error":"#N/A"}]
[null,null,null,null,null,"1005FACCNS..CB","Old Monroe Materials","3227400213",3029,"Glacial Sand SAND","4685",6493,{"$error":"#N/A"},{"$error":"#N/A"},null,null,null,null,null,null,null,null,null,null,null,null,null,null,null,null,null,null,null,null,null,null,"1005GECMLSBD","Central Stone #31, Florissant","",null,null,null,null,{"$error":"#N/A"}]
[null,null,null,null,null,"1005FACCNS..CB","River Bend Materials, Pit #2 (County Materials)","3422900113",3739,"Glacial Sand SAND","6094",6847,{"$error":"#N/A"},{"$error":"#N/A"},null,null,null,null,null,null,null,null,null,null,null,null,null,null,null,null,null,null,null,null,null,null,"1005GECMLSBD","Central Stone #31, Sand Plant, Florissant","",null,null,null,null,{"$error":"#N/A"}]
[null,null,null,null,null,"1005FACCNS..CB","River Valley Materials, LLC","3525900117",5089,"Arkansas River Sand SAND","7274",7322,{"$error":"#N/A"},{"$error":"#N/A"},null,null,null,null,null,null,null,null,null,null,null,null,null,null,null,null,null,null,null,null,null,null,"1005GECMLSBD","Conco Quarries, Willard","",null,null,null,null,{"$error":"#N/A"}]
[null,null,null,null,null,"1005FACCNS..CB","Simpson S&G, Peerless Park","3042400216",240,"Meramec River SAND","0749",759,{"$error":"#N/A"},{"$error":"#N/A"},null,null,null,null,null,null,null,null,null,null,null,null,null,null,null,null,null,null,null,null,null,null,"1005GECMLSBD","Kerford Limestone Co., NE","",null,null,null,null,{"$error":"#N/A"}]
[null,null,null,null,null,"1005FACCNS..CB","Smith Sand & Gravel","3427700119",3690,"Little Piney River Sand SAND","6150",6828,{"$error":"#N/A"},{"$error":"#N/A"},null,null,null,null,null,null,null,null,null,null,null,null,null,null,null,null,null,null,null,null,null,null,"1005GECMLSBD","Millstone Weber Concrete plants","",null,null,null,null,{"$error":"#N/A"}]
[null,null,null,null,null,"1005FACCNS..CB","Stewart-Morrison - Spring Creek Materials","3112700139",194,"Spring Creek Sand SAND","3096",626,{"$error":"#N/A"},{"$error":"#N/A"},null,null,null,null,null,null,null,null,null,null,null,null,null,null,null,null,null,null,null,null,null,null,"1005GECMLSBD","New Frontier, New Melle Quarry","",null,null,null,null,{"$error":"#N/A"}]
[null,null,null,null,null,"1005FACCNS..CC","49 Sand & Gravel Products","3228100110",2365,"Natural Sand SAND","4730",6047,{"$error":"#N/A"},{"$error":"#N/A"},null,null,null,null,null,null,null,null,null,null,null,null,null,null,null,null,null,null,null,null,null,null,"1005GECMLSBD","Norris Quarries, Breit Quarry, Savannah","",null,null,null,null,{"$error":"#N/A"}]
[null,null,null,null,null,"1005FACCNS..CC","B & B Materials","3917300155",5057,"Tavern Creek Sand SAND","7133",7314,{"$error":"#N/A"},{"$error":"#N/A"},null,null,null,null,null,null,null,null,null,null,null,null,null,null,null,null,null,null,null,null,null,null,"1005GECMLSBD","Summit Materials, Marshall (Boone Quarries)","",null,null,null,null,{"$error":"#N/A"}]
[null,null,null,null,null,"1005FACCNS..CC","Big Piney Sand, Houston (River Rock)","3020900119",916,"Piney Creek Sand SAND","0665",2817,{"$error":"#N/A"},{"$error":"#N/A"},null,null,null,null,null,null,null,null,null,null,null,null,null,null,null,null,null,null,null,null,null,null,"1005GECMLSBD","Western Ready Mix, (Metro Materials)","",null,null,null,null,{"$error":"#N/A"}]
[null,null,null,null,null,"1005FACCNS..CC","Callaway Gravel, Sand, and Soil","3919100155",5214,"Auxvasee,Middle River, Crows Fork, Stenson Creek SAND","7466",7448,{"$error":"#N/A"},{"$error":"#N/A"},null,null,null,null,null,null,null,null,null,null,null,null,null,null,null,null,null,null,null,null,null,null,"1005GFCPLS","Beyers Crushed Rock Co.","",null,null,null,null,{"$error":"#N/A"}]
[null,null,null,null,null,"1005FACCNS..CC","Cane Creek Stone, Doniphan","3411400239",5356,"Cane Creek Stone, Sand SAND","7696",7689,{"$error":"#N/A"},{"$error":"#N/A"},null,null,null,null,null,null,null,null,null,null,null,null,null,null,null,null,null,null,null,null,null,null,"1005GFCPLS","Cameron Concrete Company","",null,null,null,null,{"$error":"#N/A"}]
[null,null,null,null,null,"1005FACCNS..CC","Hermann Sand & Gravel","3020300115",659,"Bear Creek Sand NATURAL SAND 4","7237",1650,{"$error":"#N/A"},{"$error":"#N/A"},null,null,null,null,null,null,null,null,null,null,null,null,null,null,null,null,null,null,null,null,null,null,"1005GFCPLS","Capital Materials, Tightwad (APAC)","",null,null,null,null,{"$error":"#N/A"}]
[null,null,null,null,null,"1005FACCNS..CC","JR Sand and Gravel","3506200119",4758,"Bryant Creek Sand SAND","6640",7157,{"$error":"#N/A"},{"$error":"#N/A"},null,null,null,null,null,null,null,null,null,null,null,null,null,null,null,null,null,null,null,null,null,null,"1005GFCPLS","Central Stone #1, Hannibal (Huntington)","",null,null,null,null,{"$error":"#N/A"}]
[null,null,null,null,null,"1005FACCNS..CC","Parks Sand & Gravel","3282900119",2906,"Meramec River SAND","5549",6416,{"$error":"#N/A"},{"$error":"#N/A"},null,null,null,null,null,null,null,null,null,null,null,null,null,null,null,null,null,null,null,null,null,null,"1005GFCPLS","Concrete Industries","",null,null,null,null,{"$error":"#N/A"}]
[null,null,null,null,null,"1005FACCNS..CC","RMC, Logan Creek (Ellington)","3134700319",446,"Logan Creek sand SAND","2342",1284,{"$error":"#N/A"},{"$error":"#N/A"},null,null,null,null,null,null,null,null,null,null,null,null,null,null,null,null,null,null,null,null,null,null,"1005GFCPLS","Fischer Concrete","",null,null,null,null,{"$error":"#N/A"}]
[null,null,null,null,null,"1005FACCNS..CC","Smith Sand & Gravel","3427700119",3690,"Little Piney River Sand SAND","6150",6828,{"$error":"#N/A"},{"$error":"#N/A"},null,null,null,null,null,null,null,null,null,null,null,null,null,null,null,null,null,null,null,null,null,null,"1005GFCPLS","Herzog, Wathena Stone","",null,null,null,null,{"$error":"#N/A"}]
[null,null,null,null,null,"1005FACCNS..CC","Stewart-Morrison - Spring Creek Materials","3112700139",194,"Bryant Creek/North Fork White River Blend Sand SAND2","6339",628,{"$error":"#N/A"},{"$error":"#N/A"},null,null,null,null,null,null,null,null,null,null,null,null,null,null,null,null,null,null,null,null,null,null,"1005GFCPLS","Holt Co Ready Mix","",null,null,null,null,{"$error":"#N/A"}]
[null,null,null,null,null,"1005FACCNS..CC","Stewart-Morrison - Spring Creek Materials","3112700139",194,"Spring Creek Sand SAND","3096",626,{"$error":"#N/A"},{"$error":"#N/A"},null,null,null,null,null,null,null,null,null,null,null,null,null,null,null,null,null,null,null,null,null,null,"1005GFCPLS","Ideal Ready Mix","",null,null,null,null,{"$error":"#N/A"}]
[null,null,null,null,null,"1005FACCNS..CC","Tucker Sand & Gravel, LLC.","3528100110",5125,"Logan Creek Sand SAND","7301",7342,{"$error":"#N/A"},{"$error":"#N/A"},null,null,null,null,null,null,null,null,null,null,null,null,null,null,null,null,null,null,null,null,null,null,"1005GFCPLS","Kerford Limestone Co., NE","",null,null,null,null,{"$error":"#N/A"}]
[null,null,null,null,null,"1005FACCNS..CC","Yeary Trucking, Beaver Creek","3197800118",1954,"Natural Sand - Beaver Creek SAND","2220",5499,{"$error":"#N/A"},{"$error":"#N/A"},null,null,null,null,null,null,null,null,null,null,null,null,null,null,null,null,null,null,null,null,null,null,"1005GFCPLS","Loch Sand","",null,null,null,null,{"$error":"#N/A"}]
[null,null,null,null,null,"1005FACCNS..CD","Mtn. Home Ready Mix","3520100139",4953,"Sand SAND","7238",7260,{"$f":"IF(AND($F$17=H817,$AK$44=F817),J817,\"\")","v":{"$error":"#N/A"}},{"$f":"IF(AND($F$17=H817,$AK$44=F817),L817,\"\")","v":{"$error":"#N/A"}},null,null,null,null,null,null,null,null,null,null,null,null,null,null,null,null,null,null,null,null,null,null,"1005GFCPLS","Martin Marietta, Ferrelview (Stamper)","",null,null,null,null,{"$error":"#N/A"}]
[null,null,null,null,null,"1005FACCNS..CD","Yeary Trucking, Beaver Creek","3197800118",1954,"Natural Sand - Beaver Creek SAND","2220",5499,{"$error":"#N/A"},{"$error":"#N/A"},null,null,null,null,null,null,null,null,null,null,null,null,null,null,null,null,null,null,null,null,null,null,"1005GFCPLS","Martin Marietta, Weeping Water,NE","",null,null,null,null,{"$error":"#N/A"}]
[null,null,null,null,null,"1005GDCMGV","49 Sand & Gravel Products","3228100110",2365,"Field Deposit Gravel GRAVEL","3202",6048,{"$error":"#N/A"},{"$error":"#N/A"},null,null,null,null,null,null,null,null,null,null,null,null,null,null,null,null,null,null,null,null,null,null,"1005GFCPLS","Milan Ready Mix (Sullivan County RM)","",null,null,null,null,{"$error":"#N/A"}]
[null,null,null,null,null,"1005GDCMGV","Big Piney Sand, Houston (River Rock)","3020900119",916,"Piney Creek Gravel GRAVEL","0664",2816,{"$error":"#N/A"},{"$error":"#N/A"},null,null,null,null,null,null,null,null,null,null,null,null,null,null,null,null,null,null,null,null,null,null,"1005GFCPLS","Norris Quarries, Breit Quarry, Savannah","",null,null,null,null,{"$error":"#N/A"}]
[null,null,null,null,null,"1005GDCMGV","Capital Sand #1,  Wardsville (Osage Riv)","3006400615",1922,"Osage River gravel GRAVEL","3093",5469,{"$error":"#N/A"},{"$error":"#N/A"},null,null,null,null,null,null,null,null,null,null,null,null,null,null,null,null,null,null,null,null,null,null,"1005GFCPLS","Payless Concrete","",null,null,null,null,{"$error":"#N/A"}]
[null,null,null,null,null,"1005GDCMGV","Central Stone #61, LaGrange Sand & Gravel","3007926113",4546,"Glacial Gravel GRAVEL","6626",6924,{"$error":"#N/A"},{"$error":"#N/A"},null,null,null,null,null,null,null,null,null,null,null,null,null,null,null,null,null,null,null,null,null,null,"1005GFCPLS","Penny's Concrete","",null,null,null,null,{"$error":"#N/A"}]
[null,null,null,null,null,"1005GDCMGV","Havin Materials, Meramec Aggr, St. Clair","3019600716",2049,"Meramec River Gravel GRAVEL","3711",5694,{"$error":"#N/A"},{"$error":"#N/A"},null,null,null,null,null,null,null,null,null,null,null,null,null,null,null,null,null,null,null,null,null,null,"1005GFCPLS","Producer Supplier not designated.","",null,null,null,null,{"$error":"#N/A"}]
[null,null,null,null,null,"1005GDCMGV","Houston Ready Mix, Spring Creek","3020900319",268,"Spring Creek Gravel GRAVEL","6911",908,{"$error":"#N/A"},{"$error":"#N/A"},null,null,null,null,null,null,null,null,null,null,null,null,null,null,null,null,null,null,null,null,null,null,"1005GFCPLS","Summit Materials, Marshall (Boone Quarries)","",null,null,null,null,{"$error":"#N/A"}]
[null,null,null,null,null,"1005GDCMGV","Politte Ready Mix LLC, Big River","3037000619",500,"Big River Gravel GRAVEL","3231",1359,{"$error":"#N/A"},{"$error":"#N/A"},null,null,null,null,null,null,null,null,null,null,null,null,null,null,null,null,null,null,null,null,null,null,"1005GFCPLS","Trager Limestone, Gallatin (SOUTH)","",null,null,null,null,{"$error":"#N/A"}]
[null,null,null,null,null,"1005GDCMGV","Stewart-Morrison - Spring Creek Materials","3112700139",194,"Bryant Creek/North Fork White River Blend Gravel GRAVEL2","6336",627,{"$error":"#N/A"},{"$error":"#N/A"},null,null,null,null,null,null,null,null,null,null,null,null,null,null,null,null,null,null,null,null,null,null,"1005LWA","Arcosa Lightweight (IN)","",null,null,null,null,{"$error":"#N/A"}]
[null,null,null,null,null,"1005GDCMGV","Stewart-Morrison - Spring Creek Materials","3112700139",194,"Spring Creek Gravel GRAVEL","2756",625,{"$error":"#N/A"},{"$error":"#N/A"},null,null,null,null,null,null,null,null,null,null,null,null,null,null,null,null,null,null,null,null,null,null,"1005LWA","Arcosa Lightweight (KY)","",null,null,null,null,{"$error":"#N/A"}]
[null,null,null,null,null,"1005GDCMGV","Winter Brothers, Hagemann","3050600216",3729,"Meramec River Gravel GRAVEL","6082",6842,{"$error":"#N/A"},{"$error":"#N/A"},null,null,null,null,null,null,null,null,null,null,null,null,null,null,null,null,null,null,null,null,null,null,"1005LWA","Arcosa Lightweight (LA)","",null,null,null,null,{"$error":"#N/A"}]
[null,null,null,null,null,"1005GDCMGV","Yeary Trucking, Beaver Creek","3197800118",1954,"Gravel - Beaver Creek GRAVEL","4736",5500,{"$error":"#N/A"},{"$error":"#N/A"},null,null,null,null,null,null,null,null,null,null,null,null,null,null,null,null,null,null,null,null,null,null,"1005LWA","Buildex, Inc., New Market, MO","",null,null,null,null,{"$error":"#N/A"}]
[null,null,null,null,null,"1005GDCMLD","APAC-Kansas Bates City Quarry","3176703314",1752,"Bethany Falls 1-4","2762",5086,{"$error":"#N/A"},{"$error":"#N/A"},null,null,null,null,null,null,null,null,null,null,null,null,null,null,null,null,null,null,null,null,null,null,"1005LWA","Lafarge Slag, East Chicago, IN","",null,null,null,null,{"$error":"#N/A"}]
[null,null,null,null,null,"1005GDCMLD","Base Rock Minerals, Fruitland","3242100310",4680,"Kimmswick 24-25","7217",7009,{"$error":"#N/A"},{"$error":"#N/A"},null,null,null,null,null,null,null,null,null,null,null,null,null,null,null,null,null,null,null,null,null,null,"1005MSCCMS..CD","Boone Quarries, Millersburg (Mid MO Mertens)","",null,null,null,null,{"$error":"#N/A"}]
[null,null,null,null,null,"1005GDCMLD","Cameron Concrete Company","3015500231",1132,"Cameron Concrete Co., Cameron cameron","6661",3595,{"$error":"#N/A"},{"$error":"#N/A"},null,null,null,null,null,null,null,null,null,null,null,null,null,null,null,null,null,null,null,null,null,null,"1005MSCCMS..CD","Conco Quarries, Willard","",null,null,null,null,{"$error":"#N/A"}]
[null,null,null,null,null,"1005GDCMLD","Cantera Aggregates #1, Plano Qy, Plano, IA","3532100111",5171,"Exline 1","7395",7377,{"$error":"#N/A"},{"$error":"#N/A"},null,null,null,null,null,null,null,null,null,null,null,null,null,null,null,null,null,null,null,null,null,null,"1005MSCCMS..CD","Martin Marietta, Randolph","",null,null,null,null,{"$error":"#N/A"}]
[null,null,null,null,null,"1005GDCMLD","Capital Materials, Tightwad (APAC)","3020600114",927,"Burlington 1,2,3","2328",2872,{"$error":"#N/A"},{"$error":"#N/A"},null,null,null,null,null,null,null,null,null,null,null,null,null,null,null,null,null,null,null,null,null,null,"1007..RAP1","Herzog Asphalt","",null,null,null,null,{"$error":"#N/A"}]
[null,null,null,null,null,"1005GDCMLD","Capital Quarries #5, California","3170701615",1436,"Burlington-Chouteau 3-7","4499",4506,{"$error":"#N/A"},{"$error":"#N/A"},null,null,null,null,null,null,null,null,null,null,null,null,null,null,null,null,null,null,null,null,null,null,"1007..RAP1","MoDOT (Jobsite, roadway or other similar site)","",null,null,null,null,{"$error":"#N/A"}]
[null,null,null,null,null,"1005GDCMLD","Capital Quarries, Thayer (King Quarry)","3025300119",679,"Jefferson City 3-5-6","5560",1720,{"$error":"#N/A"},{"$error":"#N/A"},null,null,null,null,null,null,null,null,null,null,null,null,null,null,null,null,null,null,null,null,null,null,"1007..RCBT1T5","ECO Recycling Inc.","",null,null,null,null,{"$error":"#N/A"}]
[null,null,null,null,null,"1005GDCMLD","Central Stone #1, Hannibal (Huntington)","3007900113",948,"Cedar Valley 13-11","0001",3038,{"$error":"#N/A"},{"$error":"#N/A"},null,null,null,null,null,null,null,null,null,null,null,null,null,null,null,null,null,null,null,null,null,null,"1007..RCBT1T5","Geiger Ready Mix","",null,null,null,null,{"$error":"#N/A"}]
[null,null,null,null,null,"1005GDCMLD","Central Stone #1, Hannibal (Huntington)","3007900113",948,"Kimmswick 10-1","0191",3041,{"$error":"#N/A"},{"$error":"#N/A"},null,null,null,null,null,null,null,null,null,null,null,null,null,null,null,null,null,null,null,null,null,null,"1007..RCBT1T5","Houston Excavating & Demolition, Kansas City, MO","",null,null,null,null,{"$error":"#N/A"}]
[null,null,null,null,null,"1005GDCMLD","Concrete Industries","3009900331",2923,"Concrete Industries,  Auburn, NE Auburn","6670",6444,{"$error":"#N/A"},{"$error":"#N/A"},null,null,null,null,null,null,null,null,null,null,null,null,null,null,null,null,null,null,null,null,null,null,"1007..RCBT1T5","Leavenworth Exc.","",null,null,null,null,{"$error":"#N/A"}]
[null,null,null,null,null,"1005GDCMLD","Concrete Industries","3009900331",2923,"Concrete Industries, Falls City, NE Falls City","6470",6442,{"$error":"#N/A"},{"$error":"#N/A"},null,null,null,null,null,null,null,null,null,null,null,null,null,null,null,null,null,null,null,null,null,null,"1007..RCBT1T5","MoDOT (Jobsite, roadway or other similar site)","",null,null,null,null,{"$error":"#N/A"}]
[null,null,null,null,null,"1005GDCMLD","Concrete Industries","3009900331",2923,"Concrete Industries, Nebraska City, NE Nebraska City","6471",6443,{"$error":"#N/A"},{"$error":"#N/A"},null,null,null,null,null,null,null,null,null,null,null,null,null,null,null,null,null,null,null,null,null,null,"1007..RCBT1T5","Producer Supplier not designated.","",null,null,null,null,{"$error":"#N/A"}]
[null,null,null,null,null,"1005GDCMLD","Fischer Concrete","3151700135",1019,"Fischer Concrete, Bethany (Bethany Ready Mix) Bethany","7211",3283,{"$error":"#N/A"},{"$error":"#N/A"},null,null,null,null,null,null,null,null,null,null,null,null,null,null,null,null,null,null,null,null,null,null,"1007..RCBT1T5","Simpson Construction Materials, Asphalt","",null,null,null,null,{"$error":"#N/A"}]
[null,null,null,null,null,"1005GDCMLD","Fischer Concrete","3151700135",1019,"Fischer Concrete, Chillicothe Chillicothe","7406",7388,{"$error":"#N/A"},{"$error":"#N/A"},null,null,null,null,null,null,null,null,null,null,null,null,null,null,null,null,null,null,null,null,null,null,"1007..RCBT1T5","Simpson S&G, Peerless Park","",null,null,null,null,{"$error":"#N/A"}]
[null,null,null,null,null,"1005GDCMLD","Fischer Concrete","3151700135",1019,"Fischer Concrete, Trenton (Trenton Ready Mix) Trenton","7365",7346,{"$error":"#N/A"},{"$error":"#N/A"},null,null,null,null,null,null,null,null,null,null,null,null,null,null,null,null,null,null,null,null,null,null,"1007CAAB.","Hamm Quarries, Leavenworth","",null,null,null,null,{"$error":"#N/A"}]
[null,null,null,null,null,"1005GDCMLD","Herzog, Wathena Stone","3020400411",663,"Amazonia 1A-2A","0023",1655,{"$error":"#N/A"},{"$error":"#N/A"},null,null,null,null,null,null,null,null,null,null,null,null,null,null,null,null,null,null,null,null,null,null,"1007CAAB.","Joplin Stone","",null,null,null,null,{"$error":"#N/A"}]
[null,null,null,null,null,"1005GDCMLD","Holt Co Ready Mix","3406500131",3341,"Holt Co Ready Mix, Mound City Mound City","5689",6705,{"$error":"#N/A"},{"$error":"#N/A"},null,null,null,null,null,null,null,null,null,null,null,null,null,null,null,null,null,null,null,null,null,null,"1007CAAB.","Westside Stone (Springfield Underground, Airport)","",null,null,null,null,{"$error":"#N/A"}]
[null,null,null,null,null,"1005GDCMLD","Ideal Ready Mix","3021910033",4713,"Ideal Ready Mix, Canton Canton","6841",7064,{"$error":"#N/A"},{"$error":"#N/A"},null,null,null,null,null,null,null,null,null,null,null,null,null,null,null,null,null,null,null,null,null,null,"1007T1ABDO..T5","Bailey Quarries #2, Dolomite","",null,null,null,null,{"$error":"#N/A"}]
[null,null,null,null,null,"1005GDCMLD","Ideal Ready Mix","3021910033",4713,"Ideal Ready Mix, Centerville, IA Centerville","7049",7065,{"$error":"#N/A"},{"$error":"#N/A"},null,null,null,null,null,null,null,null,null,null,null,null,null,null,null,null,null,null,null,null,null,null,"1007T1ABDO..T5","Indian Creek Materials, Zalma","",null,null,null,null,{"$error":"#N/A"}]
[null,null,null,null,null,"1005GDCMLD","Ideal Ready Mix","3021910033",4713,"Ideal Ready Mix, Kahoka Kahoka","6840",7063,{"$error":"#N/A"},{"$error":"#N/A"},null,null,null,null,null,null,null,null,null,null,null,null,null,null,null,null,null,null,null,null,null,null,"1007T1ABDO..T5","Mertens #6, Treloar","",null,null,null,null,{"$error":"#N/A"}]
[null,null,null,null,null,"1005GDCMLD","Ideal Ready Mix","3021910033",4713,"Ideal Ready Mix, Unionville Unionville","6427",7062,{"$error":"#N/A"},{"$error":"#N/A"},null,null,null,null,null,null,null,null,null,null,null,null,null,null,null,null,null,null,null,null,null,null,"1007T1ABDO..T5","Producer Supplier not designated.","",null,null,null,null,{"$error":"#N/A"}]
[null,null,null,null,null,"1005GDCMLD","Ideker Mosby Quarry","3503800114",4856,"Bethany Falls 1BF-3BF","6595",7216,{"$error":"#N/A"},{"$error":"#N/A"},null,null,null,null,null,null,null,null,null,null,null,null,null,null,null,null,null,null,null,null,null,null,"1007T1ABLD","AA Quarry, LLC","",null,null,null,null,{"$error":"#N/A"}]
[null,null,null,null,null,"1005GDCMLD","L & W Construction, Mystic","3026300512",670,"Exline 1E","0397",1669,{"$error":"#N/A"},{"$error":"#N/A"},null,null,null,null,null,null,null,null,null,null,null,null,null,null,null,null,null,null,null,null,null,null,"1007T1ABLD","APAC-Central, Busiek (Anderson Qy)","",null,null,null,null,{"$error":"#N/A"}]
[null,null,null,null,null,"1005GDCMLD","Loch Sand","3028200131",615,"Loch Sand, Maryville Maryville","6422",1496,{"$error":"#N/A"},{"$error":"#N/A"},null,null,null,null,null,null,null,null,null,null,null,null,null,null,null,null,null,null,null,null,null,null,"1007T1ABLD","Bedrock Quarry","",null,null,null,null,{"$error":"#N/A"}]
[null,null,null,null,null,"1005GDCMLD","Martin Marietta, Ferrelview (Stamper)","3021300214",925,"Bethany Falls 1BF","3154",2854,{"$error":"#N/A"},{"$error":"#N/A"},null,null,null,null,null,null,null,null,null,null,null,null,null,null,null,null,null,null,null,null,null,null,"1007T1ABLD","Blackwater Quarries, LLC","",null,null,null,null,{"$error":"#N/A"}]
[null,null,null,null,null,"1005GDCMLD","Martin Marietta, Ferrelview (Stamper)","3021300214",925,"Bethany Falls 1BF-2BF-3BF","4600",2860,{"$error":"#N/A"},{"$error":"#N/A"},null,null,null,null,null,null,null,null,null,null,null,null,null,null,null,null,null,null,null,null,null,null,"1007T1ABLD","Boone Quarry #1, Columbia","",null,null,null,null,{"$error":"#N/A"}]
[null,null,null,null,null,"1005GDCMLD","Martin Marietta, Ferrelview (Stamper)","3021300214",925,"Bethany Falls 3BF","3619",2856,{"$error":"#N/A"},{"$error":"#N/A"},null,null,null,null,null,null,null,null,null,null,null,null,null,null,null,null,null,null,null,null,null,null,"1007T1ABLD","Bussen #1, Koch Quarry","",null,null,null,null,{"$error":"#N/A"}]
[null,null,null,null,null,"1005GDCMLD","Martin Marietta, Ferrelview (Stamper)","3021300214",925,"Spring Hill 1-3","2849",2864,{"$error":"#N/A"},{"$error":"#N/A"},null,null,null,null,null,null,null,null,null,null,null,null,null,null,null,null,null,null,null,null,null,null,"1007T1ABLD","Bussen #3, Antire Quarry","",null,null,null,null,{"$error":"#N/A"}]
[null,null,null,null,null,"1005GDCMLD","Martin Marietta, Greenwood SW","3030652714",829,"Bethany Falls 1-4","3205",2440,{"$error":"#N/A"},{"$error":"#N/A"},null,null,null,null,null,null,null,null,null,null,null,null,null,null,null,null,null,null,null,null,null,null,"1007T1ABLD","Capital Materials, Adrian (APAC)",{"$f":"IF(AK858=$AK$44,AL858,\"\")","v":""},null,null,null,null,{"$error":"#N/A"}]
[null,null,null,null,null,"1005GDCMLD","Martin Marietta, Randolph","3021300114",900,"Cedar Valley 1CV","6963",2774,{"$error":"#N/A"},{"$error":"#N/A"},null,null,null,null,null,null,null,null,null,null,null,null,null,null,null,null,null,null,null,null,null,null,"1007T1ABLD","Capital Materials, Palo Quarry (Smasal)","",null,null,null,null,{"$error":"#N/A"}]
[null,null,null,null,null,"1005GDCMLD","Martin Marietta, Weeping Water,NE","3030627311",789,"Kereford and Plattsmouth 1K-5P","4905",2108,{"$error":"#N/A"},{"$error":"#N/A"},null,null,null,null,null,null,null,null,null,null,null,null,null,null,null,null,null,null,null,null,null,null,"1007T1ABLD","Capital Quarries, Cuba (Voss Quarry)","",null,null,null,null,{"$error":"#N/A"}]
[null,null,null,null,null,"1005GDCMLD","Milan Ready Mix (Sullivan County RM)","3198400132",1874,"Milan Ready Mix,  Milan Milan","6472",5374,{"$error":"#N/A"},{"$error":"#N/A"},null,null,null,null,null,null,null,null,null,null,null,null,null,null,null,null,null,null,null,null,null,null,"1007T1ABLD","Capital Quarries, Holts Summit 1A","",null,null,null,null,{"$error":"#N/A"}]
[null,null,null,null,null,"1005GDCMLD","Norris Quarries LLC, Akron (Jefferies Quarry)","3030615411",807,"Bethany Falls 2BF-4BF","5233",2207,{"$error":"#N/A"},{"$error":"#N/A"},null,null,null,null,null,null,null,null,null,null,null,null,null,null,null,null,null,null,null,null,null,null,"1007T1ABLD","Capital Quarries, Stadium W","",null,null,null,null,{"$error":"#N/A"}]
[null,null,null,null,null,"1005GDCMLD","Norris Quarries LLC, Kingston (APAC - Kingston)","3014800411",1033,"Bethany Falls 1BF-4BF","0015",3337,{"$error":"#N/A"},{"$error":"#N/A"},null,null,null,null,null,null,null,null,null,null,null,null,null,null,null,null,null,null,null,null,null,null,"1007T1ABLD","Central Stone #1, Hannibal (Huntington)","",null,null,null,null,{"$error":"#N/A"}]
[null,null,null,null,null,"1005GDCMLD","Norris Quarries, Amazonia Quarry","3061800211",888,"Kereford 1K","1929",2717,{"$error":"#N/A"},{"$error":"#N/A"},null,null,null,null,null,null,null,null,null,null,null,null,null,null,null,null,null,null,null,null,null,null,"1007T1ABLD","Central Stone #2, Bethel","",null,null,null,null,{"$error":"#N/A"}]
[null,null,null,null,null,"1005GDCMLD","Norris Quarries, Bethany","3030616611",809,"Bethany Falls 9BF-12BF","3170",2228,{"$error":"#N/A"},{"$error":"#N/A"},null,null,null,null,null,null,null,null,null,null,null,null,null,null,null,null,null,null,null,null,null,null,"1007T1ABLD","Central Stone #6, New London","",null,null,null,null,{"$error":"#N/A"}]
[null,null,null,null,null,"1005GDCMLD","Norris Quarries, Bethany","3030616611",809,"Bethany Falls 9BF-14B","2346",2226,{"$error":"#N/A"},{"$error":"#N/A"},null,null,null,null,null,null,null,null,null,null,null,null,null,null,null,null,null,null,null,null,null,null,"1007T1ABLD","Central Stone #7, Curryville","",null,null,null,null,{"$error":"#N/A"}]
[null,null,null,null,null,"1005GDCMLD","Norris Quarries, Bethany","3030616611",809,"Winterset 3-5","5249",2232,{"$error":"#N/A"},{"$error":"#N/A"},null,null,null,null,null,null,null,null,null,null,null,null,null,null,null,null,null,null,null,null,null,null,"1007T1ABLD","Conco Quarries, Springfield","",null,null,null,null,{"$error":"#N/A"}]
[null,null,null,null,null,"1005GDCMLD","Norris Quarries, Blue Mound","3018700212",849,"Bethany Falls 2BF-3BF","5884",2612,{"$error":"#N/A"},{"$error":"#N/A"},null,null,null,null,null,null,null,null,null,null,null,null,null,null,null,null,null,null,null,null,null,null,"1007T1ABLD","Holliday Sand and Stone, Wheatland (Ash Grove)","",null,null,null,null,{"$error":"#N/A"}]
[null,null,null,null,null,"1005GDCMLD","Norris Quarries, Breit Quarry, Savannah","3030693411",806,"Amazonia 8AZ","0999",2184,{"$error":"#N/A"},{"$error":"#N/A"},null,null,null,null,null,null,null,null,null,null,null,null,null,null,null,null,null,null,null,null,null,null,"1007T1ABLD","Hostetler Quarry, Buffalo","",null,null,null,null,{"$error":"#N/A"}]
[null,null,null,null,null,"1005GDCMLD","Norris Quarries, Breit Quarry, Savannah","3030693411",806,"Kereford 1K","1924",2194,{"$error":"#N/A"},{"$error":"#N/A"},null,null,null,null,null,null,null,null,null,null,null,null,null,null,null,null,null,null,null,null,null,null,"1007T1ABLD","Ideker Mosby Quarry","",null,null,null,null,{"$error":"#N/A"}]
[null,null,null,null,null,"1005GDCMLD","Norris Quarries, Breit Quarry, Savannah","3030693411",806,"Plattsmouth 1P-4P","5066",2190,{"$error":"#N/A"},{"$error":"#N/A"},null,null,null,null,null,null,null,null,null,null,null,null,null,null,null,null,null,null,null,null,null,null,"1007T1ABLD","Jasper Stone, LLC","",null,null,null,null,{"$error":"#N/A"}]
[null,null,null,null,null,"1005GDCMLD","Norris Quarries, Breit Quarry, Savannah","3030693411",806,"Toronto 6T","0527",2182,{"$error":"#N/A"},{"$error":"#N/A"},null,null,null,null,null,null,null,null,null,null,null,null,null,null,null,null,null,null,null,null,null,null,"1007T1ABLD","Jo Rock Quarry","",null,null,null,null,{"$error":"#N/A"}]
[null,null,null,null,null,"1005GDCMLD","Norris Quarries, Gallatin Quarry","3030616511",811,"Bethany Falls 2BF-3BF","2801",2271,{"$error":"#N/A"},{"$error":"#N/A"},null,null,null,null,null,null,null,null,null,null,null,null,null,null,null,null,null,null,null,null,null,null,"1007T1ABLD","Knox County Stone","",null,null,null,null,{"$error":"#N/A"}]
[null,null,null,null,null,"1005GDCMLD","Norris Quarries, Knoxville (Ray County, #1 SW Pit)","3021301914",2347,"Bethany Falls 1-3","3474",5983,{"$error":"#N/A"},{"$error":"#N/A"},null,null,null,null,null,null,null,null,null,null,null,null,null,null,null,null,null,null,null,null,null,null,"1007T1ABLD","Magruder Limestone #1, Troy","",null,null,null,null,{"$error":"#N/A"}]
[null,null,null,null,null,"1005GDCMLD","Norris Quarries, Trenton","3030601212",788,"Bethany Falls 1B-3B","3393",2080,{"$error":"#N/A"},{"$error":"#N/A"},null,null,null,null,null,null,null,null,null,null,null,null,null,null,null,null,null,null,null,null,null,null,"1007T1ABLD","Magruder Limestone, Ashley","",null,null,null,null,{"$error":"#N/A"}]
[null,null,null,null,null,"1005GDCMLD","Payless Concrete","3131800131",519,"Payless Concrete, St. Joesph st. joesph","6715",1380,{"$error":"#N/A"},{"$error":"#N/A"},null,null,null,null,null,null,null,null,null,null,null,null,null,null,null,null,null,null,null,null,null,null,"1007T1ABLD","Mid Missouri Limestone (Big Springs)","",null,null,null,null,{"$error":"#N/A"}]
[null,null,null,null,null,"1005GDCMLD","Penny's Concrete","3055810037",4719,"Penny's, Carrolton (Green) Carrolton","6904",7091,{"$error":"#N/A"},{"$error":"#N/A"},null,null,null,null,null,null,null,null,null,null,null,null,null,null,null,null,null,null,null,null,null,null,"1007T1ABLD","Norris Quarries LLC, Agency (APAC - Agency)","",null,null,null,null,{"$error":"#N/A"}]
[null,null,null,null,null,"1005GDCMLD","Penny's Concrete","3055810037",4719,"Penny's, Chillicothe (Green) Chillicothe","6905",7092,{"$error":"#N/A"},{"$error":"#N/A"},null,null,null,null,null,null,null,null,null,null,null,null,null,null,null,null,null,null,null,null,null,null,"1007T1ABLD","Norris Quarries LLC, Akron (Jefferies Quarry)","",null,null,null,null,{"$error":"#N/A"}]
[null,null,null,null,null,"1005GDCMLD","Penny's Concrete","3055810037",4719,"Penny's, Concordia (Green) Concordia","6906",7093,{"$error":"#N/A"},{"$error":"#N/A"},null,null,null,null,null,null,null,null,null,null,null,null,null,null,null,null,null,null,null,null,null,null,"1007T1ABLD","Norris Quarries LLC, Cameron South (APAC)","",null,null,null,null,{"$error":"#N/A"}]
[null,null,null,null,null,"1005GDCMLD","Penny's Concrete","3055810037",4719,"Penny's, Excelsior Springs (Green) Excelsior Springs","6907",7094,{"$error":"#N/A"},{"$error":"#N/A"},null,null,null,null,null,null,null,null,null,null,null,null,null,null,null,null,null,null,null,null,null,null,"1007T1ABLD","Norris Quarries LLC, Kingston (APAC - Kingston)","",null,null,null,null,{"$error":"#N/A"}]
[null,null,null,null,null,"1005GDCMLD","Penny's Concrete","3055810037",4719,"Penny's, Grain Valley Grain Valley","6978",7100,{"$f":"IF(AND($F$17=H881,$AK$44=F881),J881,\"\")","v":{"$error":"#N/A"}},{"$f":"IF(AND($F$17=H881,$AK$44=F881),L881,\"\")","v":{"$error":"#N/A"}},null,null,null,null,null,null,null,null,null,null,null,null,null,null,null,null,null,null,null,null,null,null,"1007T1ABLD","Norris Quarries LLC, Plattsburg South (APAC)","",null,null,null,null,{"$error":"#N/A"}]
[null,null,null,null,null,"1005GDCMLD","Penny's Concrete","3055810037",4719,"Penny's, Hamilton Hamilton","6479",7090,{"$error":"#N/A"},{"$error":"#N/A"},null,null,null,null,null,null,null,null,null,null,null,null,null,null,null,null,null,null,null,null,null,null,"1007T1ABLD","Norris Quarries LLC, Stanberry (APAC - Stanberry)","",null,null,null,null,{"$error":"#N/A"}]
[null,null,null,null,null,"1005GDCMLD","Penny's Concrete","3055810037",4719,"Penny's, Higginsville (Green) Higginsville","6974",7096,{"$error":"#N/A"},{"$error":"#N/A"},null,null,null,null,null,null,null,null,null,null,null,null,null,null,null,null,null,null,null,null,null,null,"1007T1ABLD","Norris Quarries, Amazonia Quarry","",null,null,null,null,{"$error":"#N/A"}]
[null,null,null,null,null,"1005GDCMLD","Penny's Concrete","3055810037",4719,"Penny's, Lansing KS Lansing","6975",7097,{"$error":"#N/A"},{"$error":"#N/A"},null,null,null,null,null,null,null,null,null,null,null,null,null,null,null,null,null,null,null,null,null,null,"1007T1ABLD","Norris Quarries, Barnard Quarry","",null,null,null,null,{"$error":"#N/A"}]
[null,null,null,null,null,"1005GDCMLD","Penny's Concrete","3055810037",4719,"Penny's, Martin City Martin City","6976",7098,{"$error":"#N/A"},{"$error":"#N/A"},null,null,null,null,null,null,null,null,null,null,null,null,null,null,null,null,null,null,null,null,null,null,"1007T1ABLD","Norris Quarries, Bethany","",null,null,null,null,{"$error":"#N/A"}]
[null,null,null,null,null,"1005GDCMLD","Penny's Concrete","3055810037",4719,"Penny's, Parvin Rd Parvin","6977",7099,{"$error":"#N/A"},{"$error":"#N/A"},null,null,null,null,null,null,null,null,null,null,null,null,null,null,null,null,null,null,null,null,null,null,"1007T1ABLD","Norris Quarries, Blue Mound","",null,null,null,null,{"$error":"#N/A"}]
[null,null,null,null,null,"1005GDCMLD","Penny's Concrete","3055810037",4719,"Penny's, Richmond (Green) Richmond","6908",7095,{"$error":"#N/A"},{"$error":"#N/A"},null,null,null,null,null,null,null,null,null,null,null,null,null,null,null,null,null,null,null,null,null,null,"1007T1ABLD","Norris Quarries, Breit Quarry, Savannah","",null,null,null,null,{"$error":"#N/A"}]
[null,null,null,null,null,"1005GDCMLD","Summit Materials, Marshall (Boone Quarries)","3176713215",1976,"Burlington 1B-2B","5002",5586,{"$error":"#N/A"},{"$error":"#N/A"},null,null,null,null,null,null,null,null,null,null,null,null,null,null,null,null,null,null,null,null,null,null,"1007T1ABLD","Norris Quarries, Gallatin Quarry","",null,null,null,null,{"$error":"#N/A"}]
[null,null,null,null,null,"1005GDCMLD","Summit Materials, Marshall (Boone Quarries)","3176713215",1976,"Cedar Valley 5CA-9CA","6605",5592,{"$error":"#N/A"},{"$error":"#N/A"},null,null,null,null,null,null,null,null,null,null,null,null,null,null,null,null,null,null,null,null,null,null,"1007T1ABLD","Norris Quarries, Gooden Quarry, Ravenwood","",null,null,null,null,{"$error":"#N/A"}]
[null,null,null,null,null,"1005GDCMLD","Summit Materials, Marshall (Boone Quarries)","3176713215",1976,"Cedar Valley 8CA-9CA","5561",5587,{"$error":"#N/A"},{"$error":"#N/A"},null,null,null,null,null,null,null,null,null,null,null,null,null,null,null,null,null,null,null,null,null,null,"1007T1ABLD","Norris Quarries, Maitland Quarry","",null,null,null,null,{"$error":"#N/A"}]
[null,null,null,null,null,"1005GDCMLD","Summit Materials, Marshall (Boone Quarries)","3176713215",1976,"Chouteau 2C-3C","5613",5589,{"$error":"#N/A"},{"$error":"#N/A"},null,null,null,null,null,null,null,null,null,null,null,null,null,null,null,null,null,null,null,null,null,null,"1007T1ABLD","Norris Quarries, Mercer (S. Pit)","",null,null,null,null,{"$error":"#N/A"}]
[null,null,null,null,null,"1005GDCMLD","Summit Materials, Marshall (Boone Quarries)","3176713215",1976,"Chouteau - Cedar Valley 4C,5-9CA","7158",5593,{"$error":"#N/A"},{"$error":"#N/A"},null,null,null,null,null,null,null,null,null,null,null,null,null,null,null,null,null,null,null,null,null,null,"1007T1ABLD","Norris Quarries, Princeton Quarry","",null,null,null,null,{"$error":"#N/A"}]
[null,null,null,null,null,"1005GDCMLD","Thompson Bros Ready Mix","3046000232",1657,"Thompsom Bros Ready Mix, Brookfield Brookfield","6516",5021,{"$error":"#N/A"},{"$error":"#N/A"},null,null,null,null,null,null,null,null,null,null,null,null,null,null,null,null,null,null,null,null,null,null,"1007T1ABLD","Norris Quarries, Trenton","",null,null,null,null,{"$error":"#N/A"}]
[null,null,null,null,null,"1005GDCMLD","Trager Limestone, Gallatin (NORTH)","3176702014",1096,"Bethany Falls 1BF-2BF-3BF","4327",3529,{"$error":"#N/A"},{"$error":"#N/A"},null,null,null,null,null,null,null,null,null,null,null,null,null,null,null,null,null,null,null,null,null,null,"1007T1ABLD","Producer Supplier not designated.","",null,null,null,null,{"$error":"#N/A"}]
[null,null,null,null,null,"1005GDCMLD","Trager Limestone, Gallatin (SOUTH)","3160800111",365,"Bethany Falls 2BF - 5BF","5873",1146,{"$error":"#N/A"},{"$error":"#N/A"},null,null,null,null,null,null,null,null,null,null,null,null,null,null,null,null,null,null,null,null,null,null,"1007T1ABLD","Schildberg Construction, Braddyville, IA","",null,null,null,null,{"$error":"#N/A"}]
[null,null,null,null,null,"1005GDCMLD","Trager Limestone, Nettleton","3176715011",2385,"Bethany Falls 1BF","3477",6078,{"$error":"#N/A"},{"$error":"#N/A"},null,null,null,null,null,null,null,null,null,null,null,null,null,null,null,null,null,null,null,null,null,null,"1007T1ABLD","Schildberg Construction, Graham","",null,null,null,null,{"$error":"#N/A"}]
[null,null,null,null,null,"1005GDCMLD","Trager Limestone, Nettleton","3176715011",2385,"Bethany Falls 1BF-4BF","3478",6079,{"$error":"#N/A"},{"$error":"#N/A"},null,null,null,null,null,null,null,null,null,null,null,null,null,null,null,null,null,null,null,null,null,null,"1007T1ABLD","Skyline Materials (Glasgow, Gilliam Rock)","",null,null,null,null,{"$error":"#N/A"}]
[null,null,null,null,null,"1005GDCMLD","Trager Limestone, Nettleton","3176715011",2385,"Winterset 1W-4W","3480",6081,{"$error":"#N/A"},{"$error":"#N/A"},null,null,null,null,null,null,null,null,null,null,null,null,null,null,null,null,null,null,null,null,null,null,"1007T1ABLD","Skyline Materials - Shelby County","",null,null,null,null,{"$error":"#N/A"}]
[null,null,null,null,null,"1005GDCMLD","Westside Stone (Springfield Underground, Airport)","3415300118",3510,"Burlington E","7157",6765,{"$error":"#N/A"},{"$error":"#N/A"},null,null,null,null,null,null,null,null,null,null,null,null,null,null,null,null,null,null,null,null,null,null,"1007T1ABLD","Trager Limestone, Gallatin (NORTH)","",null,null,null,null,{"$error":"#N/A"}]
[null,null,null,null,null,"1005GDCMLD","Williamsville Stone #1","3050400110",81,"Gasconade 14-6","7680",7673,{"$error":"#N/A"},{"$error":"#N/A"},null,null,null,null,null,null,null,null,null,null,null,null,null,null,null,null,null,null,null,null,null,null,"1007T1ABLD","Trager Limestone, Gallatin (SOUTH)","",null,null,null,null,{"$error":"#N/A"}]
[null,null,null,null,null,"1005GDCMLS","Magruder Limestone #1, Troy","3029700113",842,"Burlington 1-7","2068",2543,{"$error":"#N/A"},{"$error":"#N/A"},null,null,null,null,null,null,null,null,null,null,null,null,null,null,null,null,null,null,null,null,null,null,"1007T1ABLD","Trager Limestone, Nettleton","",null,null,null,null,{"$error":"#N/A"}]
[null,null,null,null,null,"1005GDCMLS","Magruder Limestone #1, Troy","3029700113",842,"Burlington 3-7","0144",2538,{"$error":"#N/A"},{"$error":"#N/A"},null,null,null,null,null,null,null,null,null,null,null,null,null,null,null,null,null,null,null,null,null,null,"1007T1ABLD","Twin States Sand & Gravel","",null,null,null,null,{"$error":"#N/A"}]
[null,null,null,null,null,"1005GDCMLS","Magruder Limestone #1, Troy","3029700113",842,"Chouteau 1C-8C","0142",2537,{"$error":"#N/A"},{"$error":"#N/A"},null,null,null,null,null,null,null,null,null,null,null,null,null,null,null,null,null,null,null,null,null,null,"1007T1ABLD..T5","AA Quarry, LLC","",null,null,null,null,{"$error":"#N/A"}]
[null,null,null,null,null,"1005GDCMLS","Magruder Limestone, Ashley","3029700313",838,"Burlington 1-3","0146",2477,{"$error":"#N/A"},{"$error":"#N/A"},null,null,null,null,null,null,null,null,null,null,null,null,null,null,null,null,null,null,null,null,null,null,"1007T1ABLD..T5","APAC - Gravette quarry","",null,null,null,null,{"$error":"#N/A"}]
[null,null,null,null,null,"1005GDCMLS","Martin Marietta, Randolph","3021300114",900,"Cedar Valley 1CV","6963",2774,{"$error":"#N/A"},{"$error":"#N/A"},null,null,null,null,null,null,null,null,null,null,null,null,null,null,null,null,null,null,null,null,null,null,"1007T1ABLD..T5","APAC-Central (Missouri) Branson Qry","",null,null,null,null,{"$error":"#N/A"}]
[null,null,null,null,null,"1005GECMDO","Indian Creek Materials/Couch","3012905219",1228,"Jefferson City 1","2181",3937,{"$error":"#N/A"},{"$error":"#N/A"},null,null,null,null,null,null,null,null,null,null,null,null,null,null,null,null,null,null,null,null,null,null,"1007T1ABLD..T5","APAC-Central, Busiek (Anderson Qy)","",null,null,null,null,{"$error":"#N/A"}]
[null,null,null,null,null,"1005GECMDO","Lead Belt, Park Hills Stone","3027000110",630,"Derby-Doe Run 4-1","0424",1521,{"$error":"#N/A"},{"$error":"#N/A"},null,null,null,null,null,null,null,null,null,null,null,null,null,null,null,null,null,null,null,null,null,null,"1007T1ABLD..T5","APAC-Kansas Bates City Quarry","",null,null,null,null,{"$error":"#N/A"}]
[null,null,null,null,null,"1005GECMDO","VLC Aggregate Inc., Desloge","3027000410",627,"Bonne Terre 1-2","0419",1518,{"$error":"#N/A"},{"$error":"#N/A"},null,null,null,null,null,null,null,null,null,null,null,null,null,null,null,null,null,null,null,null,null,null,"1007T1ABLD..T5","APAC-Kansas Harrisonville Quarry","",null,null,null,null,{"$error":"#N/A"}]
[null,null,null,null,null,"1005GECMGTBD","Martin Marietta (Mill Creek Quarry), OK","3434900114",3595,"Troy Granite 1","6025",6810,{"$error":"#N/A"},{"$error":"#N/A"},null,null,null,null,null,null,null,null,null,null,null,null,null,null,null,null,null,null,null,null,null,null,"1007T1ABLD..T5","AQ Properties LLC","",null,null,null,null,{"$error":"#N/A"}]
[null,null,null,null,null,"1005GECMGV","Winter Brothers, Gravel","3050600116",60,"Meramec River Gravel GRAVEL","0488",119,{"$error":"#N/A"},{"$error":"#N/A"},null,null,null,null,null,null,null,null,null,null,null,null,null,null,null,null,null,null,null,null,null,null,"1007T1ABLD..T5","Anchor Stone - Joplin","",null,null,null,null,{"$error":"#N/A"}]
[null,null,null,null,null,"1005GECMGV","Winter Brothers, Hagemann","3050600216",3729,"Meramec River Gravel GRAVEL","6082",6842,{"$error":"#N/A"},{"$error":"#N/A"},null,null,null,null,null,null,null,null,null,null,null,null,null,null,null,null,null,null,null,null,null,null,"1007T1ABLD..T5","Anchor Stone, Jane (Bailey)","",null,null,null,null,{"$error":"#N/A"}]
[null,null,null,null,null,"1005GECMLS","Base Rock Minerals, Pit 3","3038300310",1757,"Bonne Terre 7-10","7179",5108,{"$error":"#N/A"},{"$error":"#N/A"},null,null,null,null,null,null,null,null,null,null,null,null,null,null,null,null,null,null,null,null,null,null,"1007T1ABLD..T5","Anchor Stone/Howe Quarry, Granby","",null,null,null,null,{"$error":"#N/A"}]
[null,null,null,null,null,"1005GECMLS","Bussen #3, Antire Quarry","3005700316",1154,"Plattin 15-18,19-21","5749",3751,{"$error":"#N/A"},{"$error":"#N/A"},null,null,null,null,null,null,null,null,null,null,null,null,null,null,null,null,null,null,null,null,null,null,"1007T1ABLD..T5","Ash Grove Aggr #87, Eldorado Springs","",null,null,null,null,{"$error":"#N/A"}]
[null,null,null,null,null,"1005GECMLS","Bussen #4, Trautman Quarry","3005700416",1155,"Plattin 3-5","3082",3782,{"$error":"#N/A"},{"$error":"#N/A"},null,null,null,null,null,null,null,null,null,null,null,null,null,null,null,null,null,null,null,null,null,null,"1007T1ABLD..T5","BMC Stone, LLC, Defiance  (APAC Defiance Quarry)","",null,null,null,null,{"$error":"#N/A"}]
[null,null,null,null,null,"1005GECMLS","Cameron Concrete Company","3015500231",1132,"Cameron Concrete Co., Cameron cameron","6661",3595,{"$error":"#N/A"},{"$error":"#N/A"},null,null,null,null,null,null,null,null,null,null,null,null,null,null,null,null,null,null,null,null,null,null,"1007T1ABLD..T5","Bailey (Roach) Quarry","",null,null,null,null,{"$error":"#N/A"}]
[null,null,null,null,null,"1005GECMLS","Capital Materials, Tightwad (APAC)","3020600114",927,"Burlington 1,2,3","2328",2872,{"$error":"#N/A"},{"$error":"#N/A"},null,null,null,null,null,null,null,null,null,null,null,null,null,null,null,null,null,null,null,null,null,null,"1007T1ABLD..T5","Bailey Quarries #2, Dolomite","",null,null,null,null,{"$error":"#N/A"}]
[null,null,null,null,null,"1005GECMLS","Capital Quarries #17, Sullivan","3170701719",1801,"Potosi 1-2","7255",5312,{"$error":"#N/A"},{"$error":"#N/A"},null,null,null,null,null,null,null,null,null,null,null,null,null,null,null,null,null,null,null,null,null,null,"1007T1ABLD..T5","Bailey Quarries #3, Stockton","",null,null,null,null,{"$error":"#N/A"}]
[null,null,null,null,null,"1005GECMLS","Capital Quarries, Holts Summit 1A","3170701515",1142,"Chouteau-Burlington-Cedar Valley 1A,1B,1,2,3","5982",3624,{"$error":"#N/A"},{"$error":"#N/A"},null,null,null,null,null,null,null,null,null,null,null,null,null,null,null,null,null,null,null,null,null,null,"1007T1ABLD..T5","Barrett Materials Quarry, Belle","",null,null,null,null,{"$error":"#N/A"}]
[null,null,null,null,null,"1005GECMLS","Central Stone #1, Hannibal (Huntington)","3007900113",948,"Cedar Valley 13-11","0001",3038,{"$error":"#N/A"},{"$error":"#N/A"},null,null,null,null,null,null,null,null,null,null,null,null,null,null,null,null,null,null,null,null,null,null,"1007T1ABLD..T5","Base Rock Materials Quarry","",null,null,null,null,{"$error":"#N/A"}]
[null,null,null,null,null,"1005GECMLS","Central Stone #1, Hannibal (Huntington)","3007900113",948,"Kimmswick 10-1","0191",3041,{"$error":"#N/A"},{"$error":"#N/A"},null,null,null,null,null,null,null,null,null,null,null,null,null,null,null,null,null,null,null,null,null,null,"1007T1ABLD..T5","Base Rock Minerals, Fruitland","",null,null,null,null,{"$error":"#N/A"}]
[null,null,null,null,null,"1005GECMLS","Central Stone #31, Florissant","3007903116",947,"St. Louis 3-9","0197",2997,{"$error":"#N/A"},{"$error":"#N/A"},null,null,null,null,null,null,null,null,null,null,null,null,null,null,null,null,null,null,null,null,null,null,"1007T1ABLD..T5","Bedrock Quarry","",null,null,null,null,{"$error":"#N/A"}]
[null,null,null,null,null,"1005GECMLS","Central Stone #54 (Bellefontaine)  Farmington","3044000110",1463,"Derby-Doe Run 5","1980",4522,{"$error":"#N/A"},{"$error":"#N/A"},null,null,null,null,null,null,null,null,null,null,null,null,null,null,null,null,null,null,null,null,null,null,"1007T1ABLD..T5","Big Creek Quarry, Moscow Mills",{"$f":"IF(AK922=$AK$44,AL922,\"\")","v":""},null,null,null,null,{"$error":"#N/A"}]
[null,null,null,null,null,"1005GECMLS","Conco Quarries, Willard","3009800218",1275,"Burlington 1E-1BE & 1W-1CW","7747",7740,{"$error":"#N/A"},{"$error":"#N/A"},null,null,null,null,null,null,null,null,null,null,null,null,null,null,null,null,null,null,null,null,null,null,"1007T1ABLD..T5","Blackwater Quarries, LLC","",null,null,null,null,{"$error":"#N/A"}]
[null,null,null,null,null,"1005GECMLS","Conco Quarries, Willard","3009800218",1275,"Burlington 2E-1BE & 2W-1CW","7471",7453,{"$error":"#N/A"},{"$error":"#N/A"},null,null,null,null,null,null,null,null,null,null,null,null,null,null,null,null,null,null,null,null,null,null,"1007T1ABLD..T5","Blevins - Brewster Chat Pile","",null,null,null,null,{"$error":"#N/A"}]
[null,null,null,null,null,"1005GECMLS","Concrete Industries","3009900331",2923,"Concrete Industries,  Auburn, NE Auburn","6670",6444,{"$error":"#N/A"},{"$error":"#N/A"},null,null,null,null,null,null,null,null,null,null,null,null,null,null,null,null,null,null,null,null,null,null,"1007T1ABLD..T5","Boone Quarries East (Southdown)","",null,null,null,null,{"$error":"#N/A"}]
[null,null,null,null,null,"1005GECMLS","Concrete Industries","3009900331",2923,"Concrete Industries, Falls City, NE Falls City","6470",6442,{"$error":"#N/A"},{"$error":"#N/A"},null,null,null,null,null,null,null,null,null,null,null,null,null,null,null,null,null,null,null,null,null,null,"1007T1ABLD..T5","Boone Quarries, Booneville (APAC)","",null,null,null,null,{"$error":"#N/A"}]
[null,null,null,null,null,"1005GECMLS","Concrete Industries","3009900331",2923,"Concrete Industries, Nebraska City, NE Nebraska City","6471",6443,{"$error":"#N/A"},{"$error":"#N/A"},null,null,null,null,null,null,null,null,null,null,null,null,null,null,null,null,null,null,null,null,null,null,"1007T1ABLD..T5","Boone Quarries, Jefferson City(Stockman Quarry 54)","",null,null,null,null,{"$error":"#N/A"}]
[null,null,null,null,null,"1005GECMLS","Fischer Concrete","3151700135",1019,"Fischer Concrete, Bethany (Bethany Ready Mix) Bethany","7211",3283,{"$error":"#N/A"},{"$error":"#N/A"},null,null,null,null,null,null,null,null,null,null,null,null,null,null,null,null,null,null,null,null,null,null,"1007T1ABLD..T5","Boone Quarries, Millersburg (Mid MO Mertens)","",null,null,null,null,{"$error":"#N/A"}]
[null,null,null,null,null,"1005GECMLS","Fischer Concrete","3151700135",1019,"Fischer Concrete, Chillicothe Chillicothe","7406",7388,{"$error":"#N/A"},{"$error":"#N/A"},null,null,null,null,null,null,null,null,null,null,null,null,null,null,null,null,null,null,null,null,null,null,"1007T1ABLD..T5","Boone Quarries, Riggs (Mid MO Mertens)","",null,null,null,null,{"$error":"#N/A"}]
[null,null,null,null,null,"1005GECMLS","Fischer Concrete","3151700135",1019,"Fischer Concrete, Trenton (Trenton Ready Mix) Trenton","7365",7346,{"$error":"#N/A"},{"$error":"#N/A"},null,null,null,null,null,null,null,null,null,null,null,null,null,null,null,null,null,null,null,null,null,null,"1007T1ABLD..T5","Boone Quarries, Tipton (Mid MO Prestage)","",null,null,null,null,{"$error":"#N/A"}]
[null,null,null,null,null,"1005GECMLS","Herzog, Wathena Stone","3020400411",663,"Amazonia 1A-2A","0023",1655,{"$error":"#N/A"},{"$error":"#N/A"},null,null,null,null,null,null,null,null,null,null,null,null,null,null,null,null,null,null,null,null,null,null,"1007T1ABLD..T5","Boone Quarry #1, Columbia","",null,null,null,null,{"$error":"#N/A"}]
[null,null,null,null,null,"1005GECMLS","Holt Co Ready Mix","3406500131",3341,"Holt Co Ready Mix, Mound City Mound City","5689",6705,{"$error":"#N/A"},{"$error":"#N/A"},null,null,null,null,null,null,null,null,null,null,null,null,null,null,null,null,null,null,null,null,null,null,"1007T1ABLD..T5","Bussen #1, Koch Quarry","",null,null,null,null,{"$error":"#N/A"}]
[null,null,null,null,null,"1005GECMLS","Ideal Ready Mix","3021910033",4713,"Ideal Ready Mix, Canton Canton","6841",7064,{"$error":"#N/A"},{"$error":"#N/A"},null,null,null,null,null,null,null,null,null,null,null,null,null,null,null,null,null,null,null,null,null,null,"1007T1ABLD..T5","Bussen #3, Antire Quarry","",null,null,null,null,{"$error":"#N/A"}]
[null,null,null,null,null,"1005GECMLS","Ideal Ready Mix","3021910033",4713,"Ideal Ready Mix, Centerville, IA Centerville","7049",7065,{"$error":"#N/A"},{"$error":"#N/A"},null,null,null,null,null,null,null,null,null,null,null,null,null,null,null,null,null,null,null,null,null,null,"1007T1ABLD..T5","Bussen #4, Trautman Quarry","",null,null,null,null,{"$error":"#N/A"}]
[null,null,null,null,null,"1005GECMLS","Ideal Ready Mix","3021910033",4713,"Ideal Ready Mix, Kahoka Kahoka","6840",7063,{"$error":"#N/A"},{"$error":"#N/A"},null,null,null,null,null,null,null,null,null,null,null,null,null,null,null,null,null,null,null,null,null,null,"1007T1ABLD..T5","Cane Creek Stone","",null,null,null,null,{"$error":"#N/A"}]
[null,null,null,null,null,"1005GECMLS","Ideal Ready Mix","3021910033",4713,"Ideal Ready Mix, Unionville Unionville","6427",7062,{"$error":"#N/A"},{"$error":"#N/A"},null,null,null,null,null,null,null,null,null,null,null,null,null,null,null,null,null,null,null,null,null,null,"1007T1ABLD..T5","Capital Materials, Adrian (APAC)","",null,null,null,null,{"$error":"#N/A"}]
[null,null,null,null,null,"1005GECMLS","Indian Creek Materials/Couch","3012905219",1228,"Jefferson City 1","2181",3937,{"$error":"#N/A"},{"$error":"#N/A"},null,null,null,null,null,null,null,null,null,null,null,null,null,null,null,null,null,null,null,null,null,null,"1007T1ABLD..T5","Capital Materials, Bagnell (APAC)","",null,null,null,null,{"$error":"#N/A"}]
[null,null,null,null,null,"1005GECMLS","Joplin Stone","3023600117",730,"Warsaw 1","2489",1937,{"$error":"#N/A"},{"$error":"#N/A"},null,null,null,null,null,null,null,null,null,null,null,null,null,null,null,null,null,null,null,null,null,null,"1007T1ABLD..T5","Capital Materials, Fairplay (T & M Stone Quarry)","",null,null,null,null,{"$error":"#N/A"}]
[null,null,null,null,null,"1005GECMLS","Joplin Stone","3023600117",730,"Warsaw 1-3","0364",1936,{"$error":"#N/A"},{"$error":"#N/A"},null,null,null,null,null,null,null,null,null,null,null,null,null,null,null,null,null,null,null,null,null,null,"1007T1ABLD..T5","Capital Materials, Laurie (APAC)","",null,null,null,null,{"$error":"#N/A"}]
[null,null,null,null,null,"1005GECMLS","Kerford Limestone Co., NE","3024600111",699,"Kereford & Plattsmouth 1K-4P","5096",1805,{"$error":"#N/A"},{"$error":"#N/A"},null,null,null,null,null,null,null,null,null,null,null,null,null,null,null,null,null,null,null,null,null,null,"1007T1ABLD..T5","Capital Materials, Leeton (APAC)","",null,null,null,null,{"$error":"#N/A"}]
[null,null,null,null,null,"1005GECMLS","Kerford Limestone Co., NE","3024600111",699,"Plattsmouth 1P-4P","0034",1801,{"$error":"#N/A"},{"$error":"#N/A"},null,null,null,null,null,null,null,null,null,null,null,null,null,null,null,null,null,null,null,null,null,null,"1007T1ABLD..T5","Capital Materials, Linn Creek (APAC)","",null,null,null,null,{"$error":"#N/A"}]
[null,null,null,null,null,"1005GECMLS","L & W Construction, Mystic","3026300512",670,"Exline 1E","0397",1669,{"$error":"#N/A"},{"$error":"#N/A"},null,null,null,null,null,null,null,null,null,null,null,null,null,null,null,null,null,null,null,null,null,null,"1007T1ABLD..T5","Capital Materials, Ozark (Journagan, Journagan Qy)","",null,null,null,null,{"$error":"#N/A"}]
[null,null,null,null,null,"1005GECMLS","Land-Chariton County Concrete","3026800132",623,"Land-Chariton County Concrete, Moberly Moberly","6562",1514,{"$error":"#N/A"},{"$error":"#N/A"},null,null,null,null,null,null,null,null,null,null,null,null,null,null,null,null,null,null,null,null,null,null,"1007T1ABLD..T5","Capital Materials, Palo Quarry (Smasal)","",null,null,null,null,{"$error":"#N/A"}]
[null,null,null,null,null,"1005GECMLS","Loch Sand","3028200131",615,"Loch Sand, Maryville Maryville","6422",1496,{"$error":"#N/A"},{"$error":"#N/A"},null,null,null,null,null,null,null,null,null,null,null,null,null,null,null,null,null,null,null,null,null,null,"1007T1ABLD..T5","Capital Materials, Sedalia (Snow Rd-Dresden)","",null,null,null,null,{"$error":"#N/A"}]
[null,null,null,null,null,"1005GECMLS","Martin Marietta, Ferrelview (Stamper)","3021300214",925,"Bethany Falls 1BF-2BF-3BF","4600",2860,{"$f":"IF(AND($F$17=H945,$AK$44=F945),J945,\"\")","v":{"$error":"#N/A"}},{"$f":"IF(AND($F$17=H945,$AK$44=F945),L945,\"\")","v":{"$error":"#N/A"}},null,null,null,null,null,null,null,null,null,null,null,null,null,null,null,null,null,null,null,null,null,null,"1007T1ABLD..T5","Capital Materials, South Hollister (Journagan #7)","",null,null,null,null,{"$error":"#N/A"}]
[null,null,null,null,null,"1005GECMLS","Martin Marietta, Randolph","3021300114",900,"Cedar Valley 1CV","6963",2774,{"$error":"#N/A"},{"$error":"#N/A"},null,null,null,null,null,null,null,null,null,null,null,null,null,null,null,null,null,null,null,null,null,null,"1007T1ABLD..T5","Capital Materials, Tightwad (APAC)","",null,null,null,null,{"$error":"#N/A"}]
[null,null,null,null,null,"1005GECMLS","Martin Marietta, Weeping Water,NE","3030627311",789,"Kereford and Plattsmouth 1K-5P","4905",2108,{"$error":"#N/A"},{"$error":"#N/A"},null,null,null,null,null,null,null,null,null,null,null,null,null,null,null,null,null,null,null,null,null,null,"1007T1ABLD..T5","Capital Materials, Warsaw (APAC)","",null,null,null,null,{"$error":"#N/A"}]
[null,null,null,null,null,"1005GECMLS","Mid Missouri Limestone (Auxvasse - South Gate)","3001900115",1351,"Cedar Valley 6-7-8-9","7411",7393,{"$error":"#N/A"},{"$error":"#N/A"},null,null,null,null,null,null,null,null,null,null,null,null,null,null,null,null,null,null,null,null,null,null,"1007T1ABLD..T5","Capital Quarries #10, Quinn Pit (Beck)","",null,null,null,null,{"$error":"#N/A"}]
[null,null,null,null,null,"1005GECMLS","Milan Ready Mix (Sullivan County RM)","3198400132",1874,"Milan Ready Mix,  Milan Milan","6472",5374,{"$error":"#N/A"},{"$error":"#N/A"},null,null,null,null,null,null,null,null,null,null,null,null,null,null,null,null,null,null,null,null,null,null,"1007T1ABLD..T5","Capital Quarries #13, Owensville","",null,null,null,null,{"$error":"#N/A"}]
[null,null,null,null,null,"1005GECMLS","New Frontier, Alton Weber #8","3032400116",577,"St. Louis 1-7","4333",1423,{"$error":"#N/A"},{"$error":"#N/A"},null,null,null,null,null,null,null,null,null,null,null,null,null,null,null,null,null,null,null,null,null,null,"1007T1ABLD..T5","Capital Quarries #14 (Staggenborg) - North Pit","",null,null,null,null,{"$error":"#N/A"}]
[null,null,null,null,null,"1005GECMLS","New Frontier, New Melle Quarry","3016600716",117,"Plattin 2-4,4-7","5041",443,{"$error":"#N/A"},{"$error":"#N/A"},null,null,null,null,null,null,null,null,null,null,null,null,null,null,null,null,null,null,null,null,null,null,"1007T1ABLD..T5","Capital Quarries #20, Linn","",null,null,null,null,{"$error":"#N/A"}]
[null,null,null,null,null,"1005GECMLS","Norris Quarries LLC, Akron (Jefferies Quarry)","3030615411",807,"Bethany Falls 2BF-4BF","5233",2207,{"$error":"#N/A"},{"$error":"#N/A"},null,null,null,null,null,null,null,null,null,null,null,null,null,null,null,null,null,null,null,null,null,null,"1007T1ABLD..T5","Capital Quarries #5, California","",null,null,null,null,{"$error":"#N/A"}]
[null,null,null,null,null,"1005GECMLS","Norris Quarries LLC, Kingston (APAC - Kingston)","3014800411",1033,"Bethany Falls 1BF-4BF","0015",3337,{"$error":"#N/A"},{"$error":"#N/A"},null,null,null,null,null,null,null,null,null,null,null,null,null,null,null,null,null,null,null,null,null,null,"1007T1ABLD..T5","Capital Quarries #7, Salem","",null,null,null,null,{"$error":"#N/A"}]
[null,null,null,null,null,"1005GECMLS","Norris Quarries, Amazonia Quarry","3061800211",888,"Kereford 1K","1929",2717,{"$error":"#N/A"},{"$error":"#N/A"},null,null,null,null,null,null,null,null,null,null,null,null,null,null,null,null,null,null,null,null,null,null,"1007T1ABLD..T5","Capital Quarries, Cuba (Voss Quarry)","",null,null,null,null,{"$error":"#N/A"}]
[null,null,null,null,null,"1005GECMLS","Norris Quarries, Amazonia Quarry","3061800211",888,"Kereford 1K-2K","0030",2703,{"$error":"#N/A"},{"$error":"#N/A"},null,null,null,null,null,null,null,null,null,null,null,null,null,null,null,null,null,null,null,null,null,null,"1007T1ABLD..T5","Capital Quarries, Danville (Pace Construction)","",null,null,null,null,{"$error":"#N/A"}]
[null,null,null,null,null,"1005GECMLS","Norris Quarries, Amazonia Quarry","3061800211",888,"Kereford 2K","0532",2715,{"$error":"#N/A"},{"$error":"#N/A"},null,null,null,null,null,null,null,null,null,null,null,null,null,null,null,null,null,null,null,null,null,null,"1007T1ABLD..T5","Capital Quarries, Holts Summit 1A","",null,null,null,null,{"$error":"#N/A"}]
[null,null,null,null,null,"1005GECMLS","Norris Quarries, Bethany","3030616611",809,"Bethany Falls 9BF-12BF","3170",2228,{"$error":"#N/A"},{"$error":"#N/A"},null,null,null,null,null,null,null,null,null,null,null,null,null,null,null,null,null,null,null,null,null,null,"1007T1ABLD..T5","Capital Quarries, Rolla","",null,null,null,null,{"$error":"#N/A"}]
[null,null,null,null,null,"1005GECMLS","Norris Quarries, Bethany","3030616611",809,"Bethany Falls 9BF-14B","2346",2226,{"$error":"#N/A"},{"$error":"#N/A"},null,null,null,null,null,null,null,null,null,null,null,null,null,null,null,null,null,null,null,null,null,null,"1007T1ABLD..T5","Capital Quarries, Stadium W","",null,null,null,null,{"$error":"#N/A"}]
[null,null,null,null,null,"1005GECMLS","Norris Quarries, Blue Mound","3018700212",849,"Bethany Falls 2BF-3BF","5884",2612,{"$error":"#N/A"},{"$error":"#N/A"},null,null,null,null,null,null,null,null,null,null,null,null,null,null,null,null,null,null,null,null,null,null,"1007T1ABLD..T5","Capital Quarries, Thayer (King Quarry)","",null,null,null,null,{"$error":"#N/A"}]
[null,null,null,null,null,"1005GECMLS","Norris Quarries, Breit Quarry, Savannah","3030693411",806,"Amazonia 8AZ","0999",2184,{"$error":"#N/A"},{"$error":"#N/A"},null,null,null,null,null,null,null,null,null,null,null,null,null,null,null,null,null,null,null,null,null,null,"1007T1ABLD..T5","Carthage Crushed Limestone","",null,null,null,null,{"$error":"#N/A"}]
[null,null,null,null,null,"1005GECMLS","Norris Quarries, Breit Quarry, Savannah","3030693411",806,"Kereford 1K","1924",2194,{"$error":"#N/A"},{"$error":"#N/A"},null,null,null,null,null,null,null,null,null,null,null,null,null,null,null,null,null,null,null,null,null,null,"1007T1ABLD..T5","Central Stone #1, Hannibal (Huntington)","",null,null,null,null,{"$error":"#N/A"}]
[null,null,null,null,null,"1005GECMLS","Norris Quarries, Breit Quarry, Savannah","3030693411",806,"Leavenworth 5L","0930",2183,{"$error":"#N/A"},{"$error":"#N/A"},null,null,null,null,null,null,null,null,null,null,null,null,null,null,null,null,null,null,null,null,null,null,"1007T1ABLD..T5","Central Stone #2, Bethel","",null,null,null,null,{"$error":"#N/A"}]
[null,null,null,null,null,"1005GECMLS","Norris Quarries, Gallatin Quarry","3030616511",811,"Bethany Falls 2BF-3BF","2801",2271,{"$error":"#N/A"},{"$error":"#N/A"},null,null,null,null,null,null,null,null,null,null,null,null,null,null,null,null,null,null,null,null,null,null,"1007T1ABLD..T5","Central Stone #31, Florissant","",null,null,null,null,{"$error":"#N/A"}]
[null,null,null,null,null,"1005GECMLS","Norris Quarries, Trenton","3030601212",788,"Bethany Falls 1B-3B","3393",2080,{"$error":"#N/A"},{"$error":"#N/A"},null,null,null,null,null,null,null,null,null,null,null,null,null,null,null,null,null,null,null,null,null,null,"1007T1ABLD..T5","Central Stone #36, Ewing","",null,null,null,null,{"$error":"#N/A"}]
[null,null,null,null,null,"1005GECMLS","Norris Quarries, Trenton","3030601212",788,"Bethany Falls 1B-4B","0373",2076,{"$error":"#N/A"},{"$error":"#N/A"},null,null,null,null,null,null,null,null,null,null,null,null,null,null,null,null,null,null,null,null,null,null,"1007T1ABLD..T5","Central Stone #39, Taylor","",null,null,null,null,{"$error":"#N/A"}]
[null,null,null,null,null,"1005GECMLS","Norris Quarries, Trenton","3030601212",788,"Bethany Falls 1B-5B","5078",2083,{"$error":"#N/A"},{"$error":"#N/A"},null,null,null,null,null,null,null,null,null,null,null,null,null,null,null,null,null,null,null,null,null,null,"1007T1ABLD..T5","Central Stone #4, Paris","",null,null,null,null,{"$error":"#N/A"}]
[null,null,null,null,null,"1005GECMLS","Norris Quarries, Trenton","3030601212",788,"Bethany Falls 4-5","2865",2079,{"$error":"#N/A"},{"$error":"#N/A"},null,null,null,null,null,null,null,null,null,null,null,null,null,null,null,null,null,null,null,null,null,null,"1007T1ABLD..T5","Central Stone #54 (Bellefontaine)  Farmington","",null,null,null,null,{"$error":"#N/A"}]
[null,null,null,null,null,"1005GECMLS","Norris Quarries, Trenton","3030601212",788,"Winterset 1-5","0402",2086,{"$error":"#N/A"},{"$error":"#N/A"},null,null,null,null,null,null,null,null,null,null,null,null,null,null,null,null,null,null,null,null,null,null,"1007T1ABLD..T5","Central Stone #55 (Bellefontaine North)","",null,null,null,null,{"$error":"#N/A"}]
[null,null,null,null,null,"1005GECMLS","North Central Arkansas Quarries","3435600119",3632,"Cotter 3","6080",6814,{"$error":"#N/A"},{"$error":"#N/A"},null,null,null,null,null,null,null,null,null,null,null,null,null,null,null,null,null,null,null,null,null,null,"1007T1ABLD..T5","Central Stone #56 (Bellefontaine South)","",null,null,null,null,{"$error":"#N/A"}]
[null,null,null,null,null,"1005GECMLS","Payless Concrete","3131800131",519,"Payless Concrete, St. Joesph st. joesph","6715",1380,{"$error":"#N/A"},{"$error":"#N/A"},null,null,null,null,null,null,null,null,null,null,null,null,null,null,null,null,null,null,null,null,null,null,"1007T1ABLD..T5","Central Stone #57, Moscow Mills (Lincoln Co Stone)","",null,null,null,null,{"$error":"#N/A"}]
[null,null,null,null,null,"1005GECMLS","Penny's Concrete","3055810037",4719,"Penny's, Carrolton (Green) Carrolton","6904",7091,{"$error":"#N/A"},{"$error":"#N/A"},null,null,null,null,null,null,null,null,null,null,null,null,null,null,null,null,null,null,null,null,null,null,"1007T1ABLD..T5","Central Stone #6, New London","",null,null,null,null,{"$error":"#N/A"}]
[null,null,null,null,null,"1005GECMLS","Penny's Concrete","3055810037",4719,"Penny's, Chillicothe (Green) Chillicothe","6905",7092,{"$error":"#N/A"},{"$error":"#N/A"},null,null,null,null,null,null,null,null,null,null,null,null,null,null,null,null,null,null,null,null,null,null,"1007T1ABLD..T5","Central Stone #7, Curryville","",null,null,null,null,{"$error":"#N/A"}]
[null,null,null,null,null,"1005GECMLS","Penny's Concrete","3055810037",4719,"Penny's, Concordia (Green) Concordia","6906",7093,{"$error":"#N/A"},{"$error":"#N/A"},null,null,null,null,null,null,null,null,null,null,null,null,null,null,null,null,null,null,null,null,null,null,"1007T1ABLD..T5","Central Stone, Potosi (GP Materials)","",null,null,null,null,{"$error":"#N/A"}]
[null,null,null,null,null,"1005GECMLS","Penny's Concrete","3055810037",4719,"Penny's, Excelsior Springs (Green) Excelsior Springs","6907",7094,{"$error":"#N/A"},{"$error":"#N/A"},null,null,null,null,null,null,null,null,null,null,null,null,null,null,null,null,null,null,null,null,null,null,"1007T1ABLD..T5","Clever Stone Co","",null,null,null,null,{"$error":"#N/A"}]
[null,null,null,null,null,"1005GECMLS","Penny's Concrete","3055810037",4719,"Penny's, Grain Valley Grain Valley","6978",7100,{"$error":"#N/A"},{"$error":"#N/A"},null,null,null,null,null,null,null,null,null,null,null,null,null,null,null,null,null,null,null,null,null,null,"1007T1ABLD..T5","Colt Rock and Lime (Scaggs) - Pit #2","",null,null,null,null,{"$error":"#N/A"}]
[null,null,null,null,null,"1005GECMLS","Penny's Concrete","3055810037",4719,"Penny's, Hamilton Hamilton","6479",7090,{"$error":"#N/A"},{"$error":"#N/A"},null,null,null,null,null,null,null,null,null,null,null,null,null,null,null,null,null,null,null,null,null,null,"1007T1ABLD..T5","Conco #0465, Fairplay (Ash Grove)","",null,null,null,null,{"$error":"#N/A"}]
[null,null,null,null,null,"1005GECMLS","Penny's Concrete","3055810037",4719,"Penny's, Higginsville (Green) Higginsville","6974",7096,{"$error":"#N/A"},{"$error":"#N/A"},null,null,null,null,null,null,null,null,null,null,null,null,null,null,null,null,null,null,null,null,null,null,"1007T1ABLD..T5","Conco #0496, Marshfield (Ash Grove)","",null,null,null,null,{"$error":"#N/A"}]
[null,null,null,null,null,"1005GECMLS","Penny's Concrete","3055810037",4719,"Penny's, Lansing KS Lansing","6975",7097,{"$error":"#N/A"},{"$error":"#N/A"},null,null,null,null,null,null,null,null,null,null,null,null,null,null,null,null,null,null,null,null,null,null,"1007T1ABLD..T5","Conco #0497, Fairgrove (Ash Grove)","",null,null,null,null,{"$error":"#N/A"}]
[null,null,null,null,null,"1005GECMLS","Penny's Concrete","3055810037",4719,"Penny's, Martin City Martin City","6976",7098,{"$error":"#N/A"},{"$error":"#N/A"},null,null,null,null,null,null,null,null,null,null,null,null,null,null,null,null,null,null,null,null,null,null,"1007T1ABLD..T5","Conco Quarries, Springfield","",null,null,null,null,{"$error":"#N/A"}]
[null,null,null,null,null,"1005GECMLS","Penny's Concrete","3055810037",4719,"Penny's, Parvin Rd Parvin","6977",7099,{"$error":"#N/A"},{"$error":"#N/A"},null,null,null,null,null,null,null,null,null,null,null,null,null,null,null,null,null,null,null,null,null,null,"1007T1ABLD..T5","Conco Quarries, Willard","",null,null,null,null,{"$error":"#N/A"}]
[null,null,null,null,null,"1005GECMLS","Penny's Concrete","3055810037",4719,"Penny's, Richmond (Green) Richmond","6908",7095,{"$error":"#N/A"},{"$error":"#N/A"},null,null,null,null,null,null,null,null,null,null,null,null,null,null,null,null,null,null,null,null,null,null,"1007T1ABLD..T5","Crider Bros, Eminence","",null,null,null,null,{"$error":"#N/A"}]
[null,null,null,null,null,"1005GECMLS","Southeast Missouri Stone (SEMO)","3042800110",248,"Plattin 21-20","6092",856,{"$error":"#N/A"},{"$error":"#N/A"},null,null,null,null,null,null,null,null,null,null,null,null,null,null,null,null,null,null,null,null,null,null,"1007T1ABLD..T5","Double Eagle Quarry, Ava (Journagan)","",null,null,null,null,{"$error":"#N/A"}]
[null,null,null,null,null,"1005GECMLS","Southeast Missouri Stone (SEMO)","3042800110",248,"Plattin 6A-26A","5988",854,{"$error":"#N/A"},{"$error":"#N/A"},null,null,null,null,null,null,null,null,null,null,null,null,null,null,null,null,null,null,null,null,null,null,"1007T1ABLD..T5","E and S Rock, LLC","",null,null,null,null,{"$error":"#N/A"}]
[null,null,null,null,null,"1005GECMLS","Summit Materials, Marshall (Boone Quarries)","3176713215",1976,"Cedar Valley 5CA-9CA","6605",5592,{"$error":"#N/A"},{"$error":"#N/A"},null,null,null,null,null,null,null,null,null,null,null,null,null,null,null,null,null,null,null,null,null,null,"1007T1ABLD..T5","ESI-KC","",null,null,null,null,{"$error":"#N/A"}]
[null,null,null,null,null,"1005GECMLS","Summit Materials, Marshall (Boone Quarries)","3176713215",1976,"Cedar Valley 8CA-9CA","5561",5587,{"$error":"#N/A"},{"$error":"#N/A"},null,null,null,null,null,null,null,null,null,null,null,null,null,null,null,null,null,null,null,null,null,null,"1007T1ABLD..T5","Fischer Bros Pit #2, Ste. Genevieve","",null,null,null,null,{"$error":"#N/A"}]
[null,null,null,null,null,"1005GECMLS","Summit Materials, Marshall (Boone Quarries)","3176713215",1976,"Cedar Valley 9CA","4258",5579,{"$error":"#N/A"},{"$error":"#N/A"},null,null,null,null,null,null,null,null,null,null,null,null,null,null,null,null,null,null,null,null,null,null,"1007T1ABLD..T5","Fischer Quarry & Hauling, Burfordville (T&M Stone)",{"$f":"IF(AK986=$AK$44,AL986,\"\")","v":""},null,null,null,null,{"$error":"#N/A"}]
[null,null,null,null,null,"1005GECMLS","Summit Materials, Marshall (Boone Quarries)","3176713215",1976,"Chouteau - Cedar Valley 4C,5-9CA","7158",5593,{"$error":"#N/A"},{"$error":"#N/A"},null,null,null,null,null,null,null,null,null,null,null,null,null,null,null,null,null,null,null,null,null,null,"1007T1ABLD..T5","Gray Quarry, Hamilton,IL","",null,null,null,null,{"$error":"#N/A"}]
[null,null,null,null,null,"1005GECMLS","Summit Materials, Marshall (Boone Quarries)","3176713215",1976,"Chouteau-Cedar Valley 4C,5-6CA,8-9CA","6170",5591,{"$error":"#N/A"},{"$error":"#N/A"},null,null,null,null,null,null,null,null,null,null,null,null,null,null,null,null,null,null,null,null,null,null,"1007T1ABLD..T5","Grays Point Stone & Materials, Scott City","",null,null,null,null,{"$error":"#N/A"}]
[null,null,null,null,null,"1005GECMLS","Thompson Bros Ready Mix","3046000232",1657,"Thompsom Bros Ready Mix, Brookfield Brookfield","6516",5021,{"$error":"#N/A"},{"$error":"#N/A"},null,null,null,null,null,null,null,null,null,null,null,null,null,null,null,null,null,null,null,null,null,null,"1007T1ABLD..T5","Hamm Quarries, Lee's Summitt (Barber and Sons)","",null,null,null,null,{"$error":"#N/A"}]
[null,null,null,null,null,"1005GECMLS","Trager Limestone, Gallatin (SOUTH)","3160800111",365,"Bethany Falls 2BF - 5BF","5873",1146,{"$error":"#N/A"},{"$error":"#N/A"},null,null,null,null,null,null,null,null,null,null,null,null,null,null,null,null,null,null,null,null,null,null,"1007T1ABLD..T5","Hamm Quarry, La Cygne (Mid-State)","",null,null,null,null,{"$error":"#N/A"}]
[null,null,null,null,null,"1005GECMLS","Trager Limestone, Nettleton","3176715011",2385,"Bethany Falls 1BF-4BF","3478",6079,{"$error":"#N/A"},{"$error":"#N/A"},null,null,null,null,null,null,null,null,null,null,null,null,null,null,null,null,null,null,null,null,null,null,"1007T1ABLD..T5","Heartland Materials, LLC","",null,null,null,null,{"$error":"#N/A"}]
[null,null,null,null,null,"1005GECMLS","Williamsville Stone #1","3050400110",81,"Gasconade 14-6","7680",7673,{"$error":"#N/A"},{"$error":"#N/A"},null,null,null,null,null,null,null,null,null,null,null,null,null,null,null,null,null,null,null,null,null,null,"1007T1ABLD..T5","Holliday Sand and Stone, Deepwater (East)","",null,null,null,null,{"$error":"#N/A"}]
[null,null,null,null,null,"1005GECMLSBD","Bussen #4, Trautman Quarry","3005700416",1155,"Plattin 3-5","3082",3782,{"$error":"#N/A"},{"$error":"#N/A"},null,null,null,null,null,null,null,null,null,null,null,null,null,null,null,null,null,null,null,null,null,null,"1007T1ABLD..T5","Holliday Sand and Stone, Dever (Ash Grove)","",null,null,null,null,{"$error":"#N/A"}]
[null,null,null,null,null,"1005GECMLSBD","Cantera Aggregates #1, Plano Qy, Plano, IA","3532100111",5171,"Exline 1","7395",7377,{"$error":"#N/A"},{"$error":"#N/A"},null,null,null,null,null,null,null,null,null,null,null,null,null,null,null,null,null,null,null,null,null,null,"1007T1ABLD..T5","Holliday Sand and Stone, La Cygnes (Ash Grove)","",null,null,null,null,{"$error":"#N/A"}]
[null,null,null,null,null,"1005GECMLSBD","Capital Materials, Tightwad (APAC)","3020600114",927,"Burlington 1,2,3","2328",2872,{"$error":"#N/A"},{"$error":"#N/A"},null,null,null,null,null,null,null,null,null,null,null,null,null,null,null,null,null,null,null,null,null,null,"1007T1ABLD..T5","Holliday Sand and Stone, S&K (Ash Grove)","",null,null,null,null,{"$error":"#N/A"}]
[null,null,null,null,null,"1005GECMLSBD","Capital Quarries #17, Sullivan","3170701719",1801,"Potosi 1-2","7255",5312,{"$error":"#N/A"},{"$error":"#N/A"},null,null,null,null,null,null,null,null,null,null,null,null,null,null,null,null,null,null,null,null,null,null,"1007T1ABLD..T5","Holliday Sand and Stone, Wheatland (Ash Grove)","",null,null,null,null,{"$error":"#N/A"}]
[null,null,null,null,null,"1005GECMLSBD","Central Stone #1, Hannibal (Huntington)","3007900113",948,"Cedar Valley 13-11","0001",3038,{"$error":"#N/A"},{"$error":"#N/A"},null,null,null,null,null,null,null,null,null,null,null,null,null,null,null,null,null,null,null,null,null,null,"1007T1ABLD..T5","Hostetler Quarry, Buffalo","",null,null,null,null,{"$error":"#N/A"}]
[null,null,null,null,null,"1005GECMLSBD","Central Stone #1, Hannibal (Huntington)","3007900113",948,"Kimmswick 10-1","0191",3041,{"$error":"#N/A"},{"$error":"#N/A"},null,null,null,null,null,null,null,null,null,null,null,null,null,null,null,null,null,null,null,null,null,null,"1007T1ABLD..T5","Houston Excavating & Demolition, Kansas City, MO","",null,null,null,null,{"$error":"#N/A"}]
[null,null,null,null,null,"1005GECMLSBD","Central Stone #31, Florissant","3007903116",947,"St. Louis 3-9","0197",2997,{"$error":"#N/A"},{"$error":"#N/A"},null,null,null,null,null,null,null,null,null,null,null,null,null,null,null,null,null,null,null,null,null,null,"1007T1ABLD..T5","Hutchen's, Shell Knob Quarry (Journagan)","",null,null,null,null,{"$error":"#N/A"}]
[null,null,null,null,null,"1005GECMLSBD","Conco Quarries, Willard","3009800218",1275,"Burlington 2E-1BE & 2W-1CW","7471",7453,{"$error":"#N/A"},{"$error":"#N/A"},null,null,null,null,null,null,null,null,null,null,null,null,null,null,null,null,null,null,null,null,null,null,"1007T1ABLD..T5","Hutchens Lime, Purdy","",null,null,null,null,{"$error":"#N/A"}]
[null,null,null,null,null,"1005GECMLSBD","Norris Quarries, Breit Quarry, Savannah","3030693411",806,"Amazonia 8AZ","0999",2184,{"$error":"#N/A"},{"$error":"#N/A"},null,null,null,null,null,null,null,null,null,null,null,null,null,null,null,null,null,null,null,null,null,null,"1007T1ABLD..T5","Hutchens Quarries, Sarcoxie (Bailey)","",null,null,null,null,{"$error":"#N/A"}]
[null,null,null,null,null,"1005GECMLSBD","Western Ready Mix, (Metro Materials)","3169610036",4551,"Western RM, Western Elm Western Elm","6440",6925,{"$error":"#N/A"},{"$error":"#N/A"},null,null,null,null,null,null,null,null,null,null,null,null,null,null,null,null,null,null,null,null,null,null,"1007T1ABLD..T5","Indian Creek Materials, Zalma","",null,null,null,null,{"$error":"#N/A"}]
[null,null,null,null,null,"1005GFCPLS","Central Stone #1, Hannibal (Huntington)","3007900113",948,"Kimmswick 10-1","0191",3041,{"$error":"#N/A"},{"$error":"#N/A"},null,null,null,null,null,null,null,null,null,null,null,null,null,null,null,null,null,null,null,null,null,null,"1007T1ABLD..T5","Jo Rock Quarry","",null,null,null,null,{"$error":"#N/A"}]
[null,null,null,null,null,"1005GFCPLS","Fischer Concrete","3151700135",1019,"Fischer Concrete, Trenton (Trenton Ready Mix) Trenton","7365",7346,{"$error":"#N/A"},{"$error":"#N/A"},null,null,null,null,null,null,null,null,null,null,null,null,null,null,null,null,null,null,null,null,null,null,"1007T1ABLD..T5","Lead Belt, Park Hills Stone","",null,null,null,null,{"$error":"#N/A"}]
[null,null,null,null,null,"1005GFCPLS","Ideal Ready Mix","3021910033",4713,"Ideal Ready Mix, Centerville, IA Centerville","7049",7065,{"$error":"#N/A"},{"$error":"#N/A"},null,null,null,null,null,null,null,null,null,null,null,null,null,null,null,null,null,null,null,null,null,null,"1007T1ABLD..T5","Magruder Limestone, Ashley","",null,null,null,null,{"$error":"#N/A"}]
[null,null,null,null,null,"1005GFCPLS","Martin Marietta, Ferrelview (Stamper)","3021300214",925,"Bethany Falls 1BF-2BF-3BF","4600",2860,{"$error":"#N/A"},{"$error":"#N/A"},null,null,null,null,null,null,null,null,null,null,null,null,null,null,null,null,null,null,null,null,null,null,"1007T1ABLD..T5","Magruder Limestone, Silex","",null,null,null,null,{"$error":"#N/A"}]
[null,null,null,null,null,"1005GFCPLS","Penny's Concrete","3055810037",4719,"Penny's, Chillicothe (Green) Chillicothe","6905",7092,{"$error":"#N/A"},{"$error":"#N/A"},null,null,null,null,null,null,null,null,null,null,null,null,null,null,null,null,null,null,null,null,null,null,"1007T1ABLD..T5","Mertens, First Creek Quarry","",null,null,null,null,{"$error":"#N/A"}]
[null,null,null,null,null,"1005GFCPLS","Penny's Concrete","3055810037",4719,"Penny's, Higginsville (Green) Higginsville","6974",7096,{"$error":"#N/A"},{"$error":"#N/A"},null,null,null,null,null,null,null,null,null,null,null,null,null,null,null,null,null,null,null,null,null,null,"1007T1ABLD..T5","Mid-States Materials, LLC, Northview","",null,null,null,null,{"$error":"#N/A"}]
[null,null,null,null,null,"1005GFCPLS","Summit Materials, Marshall (Boone Quarries)","3176713215",1976,"Chouteau - Cedar Valley 4C,5-9CA","7158",5593,{"$error":"#N/A"},{"$error":"#N/A"},null,null,null,null,null,null,null,null,null,null,null,null,null,null,null,null,null,null,null,null,null,null,"1007T1ABLD..T5","Mulberry Limestone – Joplin Quarry","",null,null,null,null,{"$error":"#N/A"}]
[null,null,null,null,null,"1005LWA","Arcosa Lightweight (IN)","3533800319",5304,"Arcosa Lightweight (IN), Haydite Haydite","7599",7590,{"$error":"#N/A"},{"$error":"#N/A"},null,null,null,null,null,null,null,null,null,null,null,null,null,null,null,null,null,null,null,null,null,null,"1007T1ABLD..T5","New Frontier, Alton Weber #8","",null,null,null,null,{"$error":"#N/A"}]
[null,null,null,null,null,"1005MSCCMS..CD","Conco Quarries, Willard","3009800218",1275,"Burlington 1BE, 1BW, & 1CW","7445",7427,{"$error":"#N/A"},{"$error":"#N/A"},null,null,null,null,null,null,null,null,null,null,null,null,null,null,null,null,null,null,null,null,null,null,"1007T1ABLD..T5","Norris Quarries LLC, Kingston (APAC - Kingston)","",null,null,null,null,{"$error":"#N/A"}]
[null,null,null,null,null,"1005MSCCMS..CD","Conco Quarries, Willard","3009800218",1275,"Burlington 1E-1BE & 1W-1CW","7747",7740,{"$error":"#N/A"},{"$error":"#N/A"},null,null,null,null,null,null,null,null,null,null,null,null,null,null,null,null,null,null,null,null,null,null,"1007T1ABLD..T5","Norris Quarries LLC, Plattsburg North (APAC)","",null,null,null,null,{"$error":"#N/A"}]
[null,null,null,null,null,"1007..RAP1","Herzog Asphalt","3020400021",1794,"Herzog, Savannah - port Savannah","3824",5291,{"$error":"#N/A"},{"$error":"#N/A"},null,null,null,null,null,null,null,null,null,null,null,null,null,null,null,null,null,null,null,null,null,null,"1007T1ABLD..T5","Norris Quarries, Bethany","",null,null,null,null,{"$error":"#N/A"}]
[null,null,null,null,null,"1007..RCBT1T5","Simpson S&G, Peerless Park","3042400216",240,"Recycled Concrete used as Aggregate RECYCLECONC","7405",7387,{"$error":"#N/A"},{"$error":"#N/A"},null,null,null,null,null,null,null,null,null,null,null,null,null,null,null,null,null,null,null,null,null,null,"1007T1ABLD..T5","Norris Quarries, Knoxville (Ray County, #1 SW Pit)","",null,null,null,null,{"$error":"#N/A"}]
[null,null,null,null,null,"1007T1ABLD","Blackwater Quarries, LLC","3505100115",4863,"Burlington 3","7062",7239,{"$error":"#N/A"},{"$error":"#N/A"},null,null,null,null,null,null,null,null,null,null,null,null,null,null,null,null,null,null,null,null,null,null,"1007T1ABLD..T5","Producer Supplier not designated.","",null,null,null,null,{"$error":"#N/A"}]
[null,null,null,null,null,"1007T1ABLD","Bussen #1, Koch Quarry","3005700116",1151,"St. Louis-Salem 16-21","0194",3682,{"$f":"IF(AND($F$17=H1073,$AK$44=F1073),J1073,\"\")","v":{"$error":"#N/A"}},{"$f":"IF(AND($F$17=H1073,$AK$44=F1073),L1073,\"\")","v":{"$error":"#N/A"}},null,null,null,null,null,null,null,null,null,null,null,null,null,null,null,null,null,null,null,null,null,null,"1007T1ABLD..T5","Riverstone Quarry","",null,null,null,null,{"$error":"#N/A"}]
[null,null,null,null,null,"1007T1ABLD","Capital Quarries, Stadium W","3170700215",965,"Jefferson City 1A,1B,1-3","7330",3146,{"$error":"#N/A"},{"$error":"#N/A"},null,null,null,null,null,null,null,null,null,null,null,null,null,null,null,null,null,null,null,null,null,null,"1007T1ABLD..T5","Skyline Materials (Glasgow, Gilliam Rock)","",null,null,null,null,{"$error":"#N/A"}]
[null,null,null,null,null,"1007T1ABLD","Jasper Stone, LLC","3437300117",3765,"Warsaw 1","6236",6856,{"$error":"#N/A"},{"$error":"#N/A"},null,null,null,null,null,null,null,null,null,null,null,null,null,null,null,null,null,null,null,null,null,null,"1007T1ABLD..T5","Table Rock, Branson Stone Northeast Extension","",null,null,null,null,{"$error":"#N/A"}]
[null,null,null,null,null,"1007T1ABLD","Knox County Stone","3025800113",683,"Chouteau 15-22","6394",1745,{"$error":"#N/A"},{"$error":"#N/A"},null,null,null,null,null,null,null,null,null,null,null,null,null,null,null,null,null,null,null,null,null,null,"1007T1ABLD..T5","Twin States Sand & Gravel","",null,null,null,null,{"$error":"#N/A"}]
[null,null,null,null,null,"1007T1ABLD","Mid Missouri Limestone (Big Springs)","3031800413",1427,"Plattin 1","0188",4458,{"$error":"#N/A"},{"$error":"#N/A"},null,null,null,null,null,null,null,null,null,null,null,null,null,null,null,null,null,null,null,null,null,null,"1007T1ABLD..T5","Washington County Aggregates, Inc. (Potosi)","",null,null,null,null,{"$error":"#N/A"}]
[null,null,null,null,null,"1007T1ABLD","Norris Quarries LLC, Cameron South (APAC)","3014800311",1032,"Stoner 1S-2S","0009",3321,{"$error":"#N/A"},{"$error":"#N/A"},null,null,null,null,null,null,null,null,null,null,null,null,null,null,null,null,null,null,null,null,null,null,"1007T1ABLD..T5","Wright City Quarry - BMC Stone, LLC","",null,null,null,null,{"$error":"#N/A"}]
[null,null,null,null,null,"1007T1ABLD","Norris Quarries, Amazonia Quarry","3061800211",888,"Kereford 1K-2K","0030",2703,{"$error":"#N/A"},{"$error":"#N/A"},null,null,null,null,null,null,null,null,null,null,null,null,null,null,null,null,null,null,null,null,null,null,"1007T1ABLS","Wayland Stone, LLC","",null,null,null,null,{"$error":"#N/A"}]
[null,null,null,null,null,"1007T1ABLD","Norris Quarries, Bethany","3030616611",809,"Bethany Falls 9BF-12BF","3170",2228,{"$error":"#N/A"},{"$error":"#N/A"},null,null,null,null,null,null,null,null,null,null,null,null,null,null,null,null,null,null,null,null,null,null,"1007T1ABLS..T5","Southeast Missouri Stone (SEMO)","",null,null,null,null,{"$error":"#N/A"}]
[null,null,null,null,null,"1007T1ABLD","Norris Quarries, Bethany","3030616611",809,"Winterset 3-5","5249",2232,{"$error":"#N/A"},{"$error":"#N/A"},null,null,null,null,null,null,null,null,null,null,null,null,null,null,null,null,null,null,null,null,null,null,"1007T5ABLD..T5","Magruder Limestone, Shelby County Quarry","",null,null,null,null,{"$error":"#N/A"}]
[null,null,null,null,null,"1007T1ABLD","Norris Quarries, Breit Quarry, Savannah","3030693411",806,"Amazonia 8AZ","0999",2184,{"$error":"#N/A"},{"$error":"#N/A"},null,null,null,null,null,null,null,null,null,null,null,null,null,null,null,null,null,null,null,null,null,null,"1007T5ABLD..T5","Norris Quarries, LLC - Mt. Airy","",null,null,null,null,{"$error":"#N/A"}]
[null,null,null,null,null,"1007T1ABLD","Norris Quarries, Breit Quarry, Savannah","3030693411",806,"Plattsmouth 1P-3P","3770",2188,{"$error":"#N/A"},{"$error":"#N/A"},null,null,null,null,null,null,null,null,null,null,null,null,null,null,null,null,null,null,null,null,null,null,"1007T7ABLD","AQ Properties LLC","",null,null,null,null,{"$error":"#N/A"}]
[null,null,null,null,null,"1007T1ABLD","Norris Quarries, Gallatin Quarry","3030616511",811,"Winterset 4W-6W","3189",2273,{"$error":"#N/A"},{"$error":"#N/A"},null,null,null,null,null,null,null,null,null,null,null,null,null,null,null,null,null,null,null,null,null,null,"1007T7ABLD","Central Stone #56 (Bellefontaine South)","",null,null,null,null,{"$error":"#N/A"}]
[null,null,null,null,null,"1007T1ABLD","Norris Quarries, Trenton","3030601212",788,"Bethany Falls 1B-3B","3393",2080,{"$error":"#N/A"},{"$error":"#N/A"},null,null,null,null,null,null,null,null,null,null,null,null,null,null,null,null,null,null,null,null,null,null,"1007T7ABLD","MoDOT (Jobsite, roadway or other similar site)","",null,null,null,null,{"$error":"#N/A"}]
[null,null,null,null,null,"1007T1ABLD","Schildberg Construction, Graham","3041404811",293,"Ervine Creek 1EC-4EC","0061",1000,{"$error":"#N/A"},{"$error":"#N/A"},null,null,null,null,null,null,null,null,null,null,null,null,null,null,null,null,null,null,null,null,null,null,"1007T7ABRCP","Hartman and Company, Inc.","",null,null,null,null,{"$error":"#N/A"}]
[null,null,null,null,null,"1007T1ABLD","Trager Limestone, Nettleton","3176715011",2385,"Bethany Falls 1BF-4BF","3478",6079,{"$error":"#N/A"},{"$error":"#N/A"},null,null,null,null,null,null,null,null,null,null,null,null,null,null,null,null,null,null,null,null,null,null,"1009G1DRNS","Dexter Sand & Gravel","",null,null,null,null,{"$error":"#N/A"}]
[null,null,null,null,null,"1007T1ABLD..T5","AA Quarry, LLC","3514700114",4621,"Bethany Falls 1BF","6550",6977,{"$error":"#N/A"},{"$error":"#N/A"},null,null,null,null,null,null,null,null,null,null,null,null,null,null,null,null,null,null,null,null,null,null,"1009G3DRGV","Ideker Mosby Quarry","",null,null,null,null,{"$error":"#N/A"}]
[null,null,null,null,null,"1007T1ABLD..T5","APAC-Central (Missouri) Branson Qry","3176703418",2143,"Jefferson City - Cotter 1B-10","5240",5788,{"$error":"#N/A"},{"$error":"#N/A"},null,null,null,null,null,null,null,null,null,null,null,null,null,null,null,null,null,null,null,null,null,null,"1009G3DRLD","Cane Creek Stone","",null,null,null,null,{"$error":"#N/A"}]
[null,null,null,null,null,"1007T1ABLD..T5","AQ Properties LLC","3000700117",46,"Burlington-Keokuk 7-8","7688",7681,{"$error":"#N/A"},{"$error":"#N/A"},null,null,null,null,null,null,null,null,null,null,null,null,null,null,null,null,null,null,null,null,null,null,"1009G3DRLD","Conco #0496, Marshfield (Ash Grove)","",null,null,null,null,{"$error":"#N/A"}]
[null,null,null,null,null,"1007T1ABLD..T5","Anchor Stone - Joplin","3150800217",1091,"Warsaw 3","1396",3489,{"$error":"#N/A"},{"$error":"#N/A"},null,null,null,null,null,null,null,null,null,null,null,null,null,null,null,null,null,null,null,null,null,null,"1009G3DRLD","Indian Creek Materials, Zalma","",null,null,null,null,{"$error":"#N/A"}]
[null,null,null,null,null,"1007T1ABLD..T5","Anchor Stone/Howe Quarry, Granby","3016800317",3405,"Burlington 9","7088",6738,{"$error":"#N/A"},{"$error":"#N/A"},null,null,null,null,null,null,null,null,null,null,null,null,null,null,null,null,null,null,null,null,null,null,"1009G3DRLD","Norris Quarries, Knoxville (Ray County, #1 SW Pit)","",null,null,null,null,{"$error":"#N/A"}]
[null,null,null,null,null,"1007T1ABLD..T5","Bailey (Roach) Quarry","3039800117",314,"Jefferson City-Cotter 6-7","6625",1047,{"$error":"#N/A"},{"$error":"#N/A"},null,null,null,null,null,null,null,null,null,null,null,null,null,null,null,null,null,null,null,null,null,null,"1009G3DRLS","Magruder Limestone #1, Troy","",null,null,null,null,{"$error":"#N/A"}]
[null,null,null,null,null,"1007T1ABLD..T5","Base Rock Minerals, Fruitland","3242100310",4680,"Decorah 23","7566",7556,{"$error":"#N/A"},{"$error":"#N/A"},null,null,null,null,null,null,null,null,null,null,null,null,null,null,null,null,null,null,null,null,null,null,"1009G4DRLDAA","Central Stone #39, Taylor","",null,null,null,null,{"$error":"#N/A"}]
[null,null,null,null,null,"1007T1ABLD..T5","Base Rock Minerals, Fruitland","3242100310",4680,"Kimmswick 24-25","7217",7009,{"$error":"#N/A"},{"$error":"#N/A"},null,null,null,null,null,null,null,null,null,null,null,null,null,null,null,null,null,null,null,null,null,null,"1009G4DRLDAA","Central Stone #7, Curryville",{"$f":"IF(AK1178=$AK$44,AL1178,\"\")","v":""},null,null,null,null,{"$error":"#N/A"}]
[null,null,null,null,null,"1007T1ABLD..T5","Bedrock Quarry","3016601813",108,"Burlington 9","7265",332,{"$error":"#N/A"},{"$error":"#N/A"},null,null,null,null,null,null,null,null,null,null,null,null,null,null,null,null,null,null,null,null,null,null,"1009G4DRLDAA","Producer Supplier not designated.","",null,null,null,null,{"$error":"#N/A"}]
[null,null,null,null,null,"1007T1ABLD..T5","Boone Quarries, Booneville (APAC)","3176713115",1975,"Burlington 1-4","6385",5559,{"$error":"#N/A"},{"$error":"#N/A"},null,null,null,null,null,null,null,null,null,null,null,null,null,null,null,null,null,null,null,null,null,null,"1009G4DRLDAB","Cane Creek Stone","",null,null,null,null,{"$error":"#N/A"}]
[null,null,null,null,null,"1007T1ABLD..T5","Boone Quarry #1, Columbia","3004600115",1192,"Burlington 4B-5","2864",3840,{"$error":"#N/A"},{"$error":"#N/A"},null,null,null,null,null,null,null,null,null,null,null,null,null,null,null,null,null,null,null,null,null,null,"1009G4DRLDAB","Magruder Limestone, Frankford","",null,null,null,null,{"$error":"#N/A"}]
[null,null,null,null,null,"1007T1ABLD..T5","Bussen #4, Trautman Quarry","3005700416",1155,"Plattin 6-7","6559",3792,{"$error":"#N/A"},{"$error":"#N/A"},null,null,null,null,null,null,null,null,null,null,null,null,null,null,null,null,null,null,null,null,null,null,"1009G4DRLSABSB","APAC-Kansas Bates City Quarry","",null,null,null,null,{"$error":"#N/A"}]
[null,null,null,null,null,"1007T1ABLD..T5","Capital Materials, Adrian (APAC)","3234300117",2636,"Bethany Falls 10-12","4811",6249,{"$error":"#N/A"},{"$error":"#N/A"},null,null,null,null,null,null,null,null,null,null,null,null,null,null,null,null,null,null,null,null,null,null,"1009G5DRDO","Indian Creek Materials, Willow Springs (Gabel Ston","",null,null,null,null,{"$error":"#N/A"}]
[null,null,null,null,null,"1007T1ABLD..T5","Capital Materials, Leeton (APAC)","3021300314",923,"Higginsville 1-2","6244",2840,{"$error":"#N/A"},{"$error":"#N/A"},null,null,null,null,null,null,null,null,null,null,null,null,null,null,null,null,null,null,null,null,null,null,"1009G5DRLS","Base Rock Minerals, Fruitland","",null,null,null,null,{"$error":"#N/A"}]
[null,null,null,null,null,"1007T1ABLD..T5","Capital Materials, Palo Quarry (Smasal)","3133300715",2947,"Burlington 2-3","6856",6455,{"$error":"#N/A"},{"$error":"#N/A"},null,null,null,null,null,null,null,null,null,null,null,null,null,null,null,null,null,null,null,null,null,null,"1009G5DRLS","Capital Materials, Bagnell (APAC)","",null,null,null,null,{"$error":"#N/A"}]
[null,null,null,null,null,"1007T1ABLD..T5","Capital Materials, Warsaw (APAC)","3020600415",930,"Pierson-Chouteau 4-5","5361",2911,{"$error":"#N/A"},{"$error":"#N/A"},null,null,null,null,null,null,null,null,null,null,null,null,null,null,null,null,null,null,null,null,null,null,"1009G5DRLS","Central Stone #4, Paris","",null,null,null,null,{"$error":"#N/A"}]
[null,null,null,null,null,"1007T1ABLD..T5","Capital Quarries #5, California","3170701615",1436,"Burlington 3-4","1097",4504,{"$error":"#N/A"},{"$error":"#N/A"},null,null,null,null,null,null,null,null,null,null,null,null,null,null,null,null,null,null,null,null,null,null,"1009G5DRLS","Crider Bros, Eminence","",null,null,null,null,{"$error":"#N/A"}]
[null,null,null,null,null,"1007T1ABLD..T5","Capital Quarries, Danville (Pace Construction)","3035901313",533,"Plattin 1-3","3703",1397,{"$error":"#N/A"},{"$error":"#N/A"},null,null,null,null,null,null,null,null,null,null,null,null,null,null,null,null,null,null,null,null,null,null,"1009G5DRLS","Martin Marietta, Ferrelview (Stamper)","",null,null,null,null,{"$error":"#N/A"}]
[null,null,null,null,null,"1007T1ABLD..T5","Central Stone #1, Hannibal (Huntington)","3007900113",948,"Cedar Valley 13-11","0001",3038,{"$error":"#N/A"},{"$error":"#N/A"},null,null,null,null,null,null,null,null,null,null,null,null,null,null,null,null,null,null,null,null,null,null,"1009G5DRLS","Producer Supplier not designated.","",null,null,null,null,{"$error":"#N/A"}]
[null,null,null,null,null,"1007T1ABLD..T5","Central Stone #1, Hannibal (Huntington)","3007900113",948,"Kimmswick D-E","5369",3060,{"$error":"#N/A"},{"$error":"#N/A"},null,null,null,null,null,null,null,null,null,null,null,null,null,null,null,null,null,null,null,null,null,null,"1009G5DRLS","Southeast Missouri Stone (SEMO)","",null,null,null,null,{"$error":"#N/A"}]
[null,null,null,null,null,"1007T1ABLD..T5","Central Stone #2, Bethel","3007900213",944,"Burlington-Chouteau F-5","0136",2932,{"$error":"#N/A"},{"$error":"#N/A"},null,null,null,null,null,null,null,null,null,null,null,null,null,null,null,null,null,null,null,null,null,null,"1009G5DRLS","Willard Constr, Sleeper","",null,null,null,null,{"$error":"#N/A"}]
[null,null,null,null,null,"1007T1ABLD..T5","Central Stone #4, Paris","3007900413",950,"Burlington 4-15","0129",3089,{"$error":"#N/A"},{"$error":"#N/A"},null,null,null,null,null,null,null,null,null,null,null,null,null,null,null,null,null,null,null,null,null,null,"1010SGBF","Anchor Stone - Joplin","",null,null,null,null,{"$error":"#N/A"}]
[null,null,null,null,null,"1007T1ABLD..T5","Central Stone #56 (Bellefontaine South)","3039700216",1325,"Plattin 9-11","2189",4154,{"$error":"#N/A"},{"$error":"#N/A"},null,null,null,null,null,null,null,null,null,null,null,null,null,null,null,null,null,null,null,null,null,null,"1010SGBF","Boone Quarries East (Southdown)","",null,null,null,null,{"$error":"#N/A"}]
[null,null,null,null,null,"1007T1ABLD..T5","Clever Stone Co","3009100118",1289,"Burlington-Reed Springs 1-D","7656",7647,{"$error":"#N/A"},{"$error":"#N/A"},null,null,null,null,null,null,null,null,null,null,null,null,null,null,null,null,null,null,null,null,null,null,"1010SGBF","Capital Materials, South Hollister (Journagan #7)","",null,null,null,null,{"$error":"#N/A"}]
[null,null,null,null,null,"1007T1ABLD..T5","Conco #0496, Marshfield (Ash Grove)","3002909618",1070,"Jefferson City - Cotter 1-3","2887",3429,{"$error":"#N/A"},{"$error":"#N/A"},null,null,null,null,null,null,null,null,null,null,null,null,null,null,null,null,null,null,null,null,null,null,"1010SGBF","Central Stone #31, Florissant","",null,null,null,null,{"$error":"#N/A"}]
[null,null,null,null,null,"1007T1ABLD..T5","Conco Quarries, Springfield","3001704018",1088,"BURLINGTON 3 & 4","7447",7429,{"$error":"#N/A"},{"$error":"#N/A"},null,null,null,null,null,null,null,null,null,null,null,null,null,null,null,null,null,null,null,null,null,null,"1010SGBF","Central Stone #56 (Bellefontaine South)","",null,null,null,null,{"$error":"#N/A"}]
[null,null,null,null,null,"1007T1ABLD..T5","Double Eagle Quarry, Ava (Journagan)","3027414418",735,"Jefferson City 2-3","4794",1955,{"$error":"#N/A"},{"$error":"#N/A"},null,null,null,null,null,null,null,null,null,null,null,null,null,null,null,null,null,null,null,null,null,null,"1010SGBF","Hutchens Lime, Purdy","",null,null,null,null,{"$error":"#N/A"}]
[null,null,null,null,null,"1007T1ABLD..T5","Fischer Quarry & Hauling, Burfordville (T&M Stone)","3242000110",2485,"Smith-Powell 21-22","7788",7781,{"$error":"#N/A"},{"$error":"#N/A"},null,null,null,null,null,null,null,null,null,null,null,null,null,null,null,null,null,null,null,null,null,null,"1010SGBF","Joplin Stone","",null,null,null,null,{"$error":"#N/A"}]
[null,null,null,null,null,"1007T1ABLD..T5","Heartland Materials, LLC","3453100150",4779,"Kimmswick 30","6474",7168,{"$error":"#N/A"},{"$error":"#N/A"},null,null,null,null,null,null,null,null,null,null,null,null,null,null,null,null,null,null,null,null,null,null,"1010SGBF","Magruder Limestone, Ashley","",null,null,null,null,{"$error":"#N/A"}]
[null,null,null,null,null,"1007T1ABLD..T5","Holliday Sand and Stone, Dever (Ash Grove)","3002948617",3010,"Warsaw 3","5404",6489,{"$error":"#N/A"},{"$error":"#N/A"},null,null,null,null,null,null,null,null,null,null,null,null,null,null,null,null,null,null,null,null,null,null,"1010SGBF","Mansfield Quarry, Mansfield","",null,null,null,null,{"$error":"#N/A"}]
[null,null,null,null,null,"1007T1ABLD..T5","Hutchen's, Shell Knob Quarry (Journagan)","3027401417",728,"Jefferson City 6","3989",1922,{"$error":"#N/A"},{"$error":"#N/A"},null,null,null,null,null,null,null,null,null,null,null,null,null,null,null,null,null,null,null,null,null,null,"1010SGBF","Mill Creek Quarry (Kemp Quarries)","",null,null,null,null,{"$error":"#N/A"}]
[null,null,null,null,null,"1007T1ABLD..T5","Ideker Mosby Quarry","3503800114",4856,"Bethany Falls 1BF-3BF","6595",7216,{"$error":"#N/A"},{"$error":"#N/A"},null,null,null,null,null,null,null,null,null,null,null,null,null,null,null,null,null,null,null,null,null,null,"1010SGBF","Norris Quarries, Princeton Quarry","",null,null,null,null,{"$error":"#N/A"}]
[null,null,null,null,null,"1007T1ABLD..T5","Indian Creek Materials, Zalma","3162200110",58,"Cotter-Powell 8","6242",112,{"$error":"#N/A"},{"$error":"#N/A"},null,null,null,null,null,null,null,null,null,null,null,null,null,null,null,null,null,null,null,null,null,null,"1010SGBF","Summit Materials, Marshall (Boone Quarries)","",null,null,null,null,{"$error":"#N/A"}]
[null,null,null,null,null,"1007T1ABLD..T5","Indian Creek Materials/Couch","3012905219",1228,"Jefferson City 1","2181",3937,{"$error":"#N/A"},{"$error":"#N/A"},null,null,null,null,null,null,null,null,null,null,null,null,null,null,null,null,null,null,null,null,null,null,"1010SGBF","Talon Aggregates, Courtney Ridge (Lafarge)","",null,null,null,null,{"$error":"#N/A"}]
[null,null,null,null,null,"1007T1ABLD..T5","Joplin Stone","3023600117",730,"Warsaw 1-3","0364",1936,{"$error":"#N/A"},{"$error":"#N/A"},null,null,null,null,null,null,null,null,null,null,null,null,null,null,null,null,null,null,null,null,null,null,null,null,0,null,null,null,null,{"$error":"#N/A"}]
[null,null,null,null,null,"1007T1ABLD..T5","Kemp Stone, Neosho (Inland River Aggregates)","3156600517",1605,"Burlington 10","2393",4755,{"$error":"#N/A"},{"$error":"#N/A"},null,null,null,null,null,null,null,null,null,null,null,null,null,null,null,null,null,null,null,null,null,null,null,null,0,null,null,null,null,{"$error":"#N/A"}]
[null,null,null,null,null,"1007T1ABLD..T5","L & W #2, Kahoka","3163400213",672,"St. Louis 2-4","0415",1690,{"$error":"#N/A"},{"$error":"#N/A"},null,null,null,null,null,null,null,null,null,null,null,null,null,null,null,null,null,null,null,null,null,null,null,null,0,null,null,null,null,{"$error":"#N/A"}]
[null,null,null,null,null,"1007T1ABLD..T5","Magruder Limestone #1, Troy","3029700113",842,"Burlington 1-7","2068",2543,{"$error":"#N/A"},{"$error":"#N/A"},null,null,null,null,null,null,null,null,null,null,null,null,null,null,null,null,null,null,null,null,null,null,null,null,0,null,null,null,null,{"$error":"#N/A"}]
[null,null,null,null,null,"1007T1ABLD..T5","Magruder Limestone, Foley","3139700113",1382,"Plattin 2-4","5450",4373,{"$error":"#N/A"},{"$error":"#N/A"},null,null,null,null,null,null,null,null,null,null,null,null,null,null,null,null,null,null,null,null,null,null,null,null,0,null,null,null,null,{"$error":"#N/A"}]
[null,null,null,null,null,"1007T1ABLD..T5","Magruder Limestone, Silex","3029700613",841,"Plattin 22","7254",2531,{"$error":"#N/A"},{"$error":"#N/A"},null,null,null,null,null,null,null,null,null,null,null,null,null,null,null,null,null,null,null,null,null,null,null,null,0,null,null,null,null,{"$error":"#N/A"}]
[null,null,null,null,null,"1007T1ABLD..T5","Martin Marietta, Ferrelview (Stamper)","3021300214",925,"Bethany Falls 1BF-2BF-3BF","4600",2860,{"$error":"#N/A"},{"$error":"#N/A"},null,null,null,null,null,null,null,null,null,null,null,null,null,null,null,null,null,null,null,null,null,null,null,null,0,null,null,null,null,{"$error":"#N/A"}]
[null,null,null,null,null,"1007T1ABLD..T5","Mid Missouri Limestone (Big Springs)","3031800413",1427,"Plattin 1","0188",4458,{"$error":"#N/A"},{"$error":"#N/A"},null,null,null,null,null,null,null,null,null,null,null,null,null,null,null,null,null,null,null,null,null,null,null,null,0,null,null,null,null,{"$error":"#N/A"}]
[null,null,null,null,null,"1007T1ABLD..T5","Midwest Minerals, Jasper","3032000117",592,"Warsaw 1-3","0371",1476,{"$error":"#N/A"},{"$error":"#N/A"},null,null,null,null,null,null,null,null,null,null,null,null,null,null,null,null,null,null,null,null,null,null,null,null,0,null,null,null,null,{"$error":"#N/A"}]
[null,null,null,null,null,"1007T1ABLD..T5","Mulberry Quarry, Lamar (Ash Grove Aggr #84)","3045600117",190,"Warsaw 1-3","0365",619,{"$error":"#N/A"},{"$error":"#N/A"},null,null,null,null,null,null,null,null,null,null,null,null,null,null,null,null,null,null,null,null,null,null,null,null,0,null,null,null,null,{"$error":"#N/A"}]
[null,null,null,null,null,"1007T1ABLD..T5","New Frontier, North Quarry #6","3016600116",118,"St. Louis-Salem                       20-28        ","7568",7559,{"$error":"#N/A"},{"$error":"#N/A"},null,null,null,null,null,null,null,null,null,null,null,null,null,null,null,null,null,null,null,null,null,null,null,null,0,null,null,null,null,{"$error":"#N/A"}]
[null,null,null,null,null,"1007T1ABLD..T5","Norris Quarries LLC, Cameron South (APAC)","3014800311",1032,"Spring Hill 4SH-6SH","0011",3323,{"$error":"#N/A"},{"$error":"#N/A"},null,null,null,null,null,null,null,null,null,null,null,null,null,null,null,null,null,null,null,null,null,null,null,null,0,null,null,null,null,{"$error":"#N/A"}]
[null,null,null,null,null,"1007T1ABLD..T5","Norris Quarries LLC, Cameron South (APAC)","3014800311",1032,"Stoner 1S-2S","0009",3321,{"$error":"#N/A"},{"$error":"#N/A"},null,null,null,null,null,null,null,null,null,null,null,null,null,null,null,null,null,null,null,null,null,null,null,null,0,null,null,null,null,{"$error":"#N/A"}]
[null,null,null,null,null,"1007T1ABLD..T5","Norris Quarries, Amazonia Quarry","3061800211",888,"Kereford 1K","1929",2717,{"$error":"#N/A"},{"$error":"#N/A"},null,null,null,null,null,null,null,null,null,null,null,null,null,null,null,null,null,null,null,null,null,null,null,null,{"$f":"IF(AK1370=$AK$44,AL1370,\"\")","v":0},null,null,null,null,{"$error":"#N/A"}]
[null,null,null,null,null,"1007T1ABLD..T5","Norris Quarries, Bethany","3030616611",809,"Bethany Falls 9BF-14B","2346",2226,{"$error":"#N/A"},{"$error":"#N/A"},null,null,null,null,null,null,null,null,null,null,null,null,null,null,null,null,null,null,null,null,null,null,null,null,0,null,null,null,null,{"$error":"#N/A"}]
[null,null,null,null,null,"1007T1ABLD..T5","Norris Quarries, Breit Quarry, Savannah","3030693411",806,"Amazonia 8AZ","0999",2184,{"$error":"#N/A"},{"$error":"#N/A"},null,null,null,null,null,null,null,null,null,null,null,null,null,null,null,null,null,null,null,null,null,null,null,null,0,null,null,null,null,{"$error":"#N/A"}]
[null,null,null,null,null,"1007T1ABLD..T5","Norris Quarries, Breit Quarry, Savannah","3030693411",806,"Plattsmouth 1P-4P","5066",2190,{"$error":"#N/A"},{"$error":"#N/A"},null,null,null,null,null,null,null,null,null,null,null,null,null,null,null,null,null,null,null,null,null,null,null,null,0,null,null,null,null,{"$error":"#N/A"}]
[null,null,null,null,null,"1007T1ABLD..T5","Norris Quarries, Gallatin Quarry","3030616511",811,"Winterset 4W-6W","3189",2273,{"$error":"#N/A"},{"$error":"#N/A"},null,null,null,null,null,null,null,null,null,null,null,null,null,null,null,null,null,null,null,null,null,null,null,null,0,null,null,null,null,{"$error":"#N/A"}]
[null,null,null,null,null,"1007T1ABLD..T5","Norris Quarries, LLC - Mt. Airy","3062100112",1893,"Burlington-Keokuk 5B-7B","7614",7606,{"$error":"#N/A"},{"$error":"#N/A"},null,null,null,null,null,null,null,null,null,null,null,null,null,null,null,null,null,null,null,null,null,null,null,null,0,null,null,null,null,{"$error":"#N/A"}]
[null,null,null,null,null,"1007T1ABLD..T5","Norris Quarries, Trenton","3030601212",788,"Bethany Falls 1B-3B","3393",2080,{"$error":"#N/A"},{"$error":"#N/A"},null,null,null,null,null,null,null,null,null,null,null,null,null,null,null,null,null,null,null,null,null,null,null,null,0,null,null,null,null,{"$error":"#N/A"}]
[null,null,null,null,null,"1007T1ABLD..T5","Producer Supplier not designated.","300000000X",2186,"Special Mix Not Designated","6446",5838,{"$error":"#N/A"},{"$error":"#N/A"},null,null,null,null,null,null,null,null,null,null,null,null,null,null,null,null,null,null,null,null,null,null,null,null,0,null,null,null,null,{"$error":"#N/A"}]
[null,null,null,null,null,"1007T1ABLD..T5","Schildberg Construction, Graham","3041404811",293,"Ervine Creek 2EC-4EC","1464",1002,{"$error":"#N/A"},{"$error":"#N/A"},null,null,null,null,null,null,null,null,null,null,null,null,null,null,null,null,null,null,null,null,null,null,null,null,0,null,null,null,null,{"$error":"#N/A"}]
[null,null,null,null,null,"1007T1ABLD..T5","Southeast Missouri Stone (SEMO)","3042800110",248,"Joachim-Dolomite 27A-42A","6289",859,{"$error":"#N/A"},{"$error":"#N/A"},null,null,null,null,null,null,null,null,null,null,null,null,null,null,null,null,null,null,null,null,null,null,null,null,0,null,null,null,null,{"$error":"#N/A"}]
[null,null,null,null,null,"1007T1ABLD..T5","Summit Materials, Marshall (Boone Quarries)","3176713215",1976,"Cedar Valley 5CA-6CA","3714",5578,{"$error":"#N/A"},{"$error":"#N/A"},null,null,null,null,null,null,null,null,null,null,null,null,null,null,null,null,null,null,null,null,null,null,null,null,0,null,null,null,null,{"$error":"#N/A"}]
[null,null,null,null,null,"1007T1ABLD..T5","Summit Materials, Marshall (Boone Quarries)","3176713215",1976,"Chouteau 2C-3C","5613",5589,{"$error":"#N/A"},{"$error":"#N/A"},null,null,null,null,null,null,null,null,null,null,null,null,null,null,null,null,null,null,null,null,null,null,null,null,0,null,null,null,null,{"$error":"#N/A"}]
[null,null,null,null,null,"1007T1ABLD..T5","Summit Materials, Marshall (Boone Quarries)","3176713215",1976,"Chouteau - Cedar Valley 4C,5CA,6CA","6012",5590,{"$error":"#N/A"},{"$error":"#N/A"},null,null,null,null,null,null,null,null,null,null,null,null,null,null,null,null,null,null,null,null,null,null,null,null,0,null,null,null,null,{"$error":"#N/A"}]
[null,null,null,null,null,"1007T1ABLD..T5","Table Rock, Branson Stone Northeast Extension","3045500218",5112,"Jefferson City/Cotter E & E-1","7442",7424,{"$error":"#N/A"},{"$error":"#N/A"},null,null,null,null,null,null,null,null,null,null,null,null,null,null,null,null,null,null,null,null,null,null,null,null,0,null,null,null,null,{"$error":"#N/A"}]
[null,null,null,null,null,"1007T1ABLD..T5","Trager Limestone, Gallatin (NORTH)","3176702014",1096,"Winterset 1W-7W","6883",3531,{"$error":"#N/A"},{"$error":"#N/A"},null,null,null,null,null,null,null,null,null,null,null,null,null,null,null,null,null,null,null,null,null,null,null,null,0,null,null,null,null,{"$error":"#N/A"}]
[null,null,null,null,null,"1007T1ABLD..T5","Twin States Sand & Gravel","3443800112",3923,"Bethany Falls 1-3","6554",6876,{"$error":"#N/A"},{"$error":"#N/A"},null,null,null,null,null,null,null,null,null,null,null,null,null,null,null,null,null,null,null,null,null,null,null,null,0,null,null,null,null,{"$error":"#N/A"}]
[null,null,null,null,null,"1007T1ABLD..T5","Weber - Auburn","3016610013",107,"Plattin 22-19","1096",308,{"$error":"#N/A"},{"$error":"#N/A"},null,null,null,null,null,null,null,null,null,null,null,null,null,null,null,null,null,null,null,null,null,null,null,null,0,null,null,null,null,{"$error":"#N/A"}]
[null,null,null,null,null,"1007T1ABLD..T5","Williamsville Stone #1","3050400110",81,"Gasconade 14-6","7680",7673,{"$error":"#N/A"},{"$error":"#N/A"},null,null,null,null,null,null,null,null,null,null,null,null,null,null,null,null,null,null,null,null,null,null,null,null,0,null,null,null,null,{"$error":"#N/A"}]
[null,null,null,null,null,"1007T1ABLD..T5","Wright City Quarry - BMC Stone, LLC","3050700113",62,"Burlington 8","7415",7397,{"$error":"#N/A"},{"$error":"#N/A"},null,null,null,null,null,null,null,null,null,null,null,null,null,null,null,null,null,null,null,null,null,null,null,null,0,null,null,null,null,{"$error":"#N/A"}]
[null,null,null,null,null,"1007T1ABLS","Ray County Stone, EE Quarry","3144600114",1047,"Lower Winterset 2W","1239",3398,{"$error":"#N/A"},{"$error":"#N/A"},null,null,null,null,null,null,null,null,null,null,null,null,null,null,null,null,null,null,null,null,null,null,null,null,0,null,null,null,null,{"$error":"#N/A"}]
[null,null,null,null,null,"1007T5ABLD..T5","Conco Quarries, Springfield","3001704018",1088,"BURLINGTON 3 & 4","7447",7429,{"$error":"#N/A"},{"$error":"#N/A"},null,null,null,null,null,null,null,null,null,null,null,null,null,null,null,null,null,null,null,null,null,null,null,null,0,null,null,null,null,{"$error":"#N/A"}]
[null,null,null,null,null,"1007T5ABLD..T5","Norris Quarries LLC, Plattsburg South (APAC)","3014801111",1035,"Stoner 1-4","0017",3365,{"$error":"#N/A"},{"$error":"#N/A"},null,null,null,null,null,null,null,null,null,null,null,null,null,null,null,null,null,null,null,null,null,null,null,null,0,null,null,null,null,{"$error":"#N/A"}]
[null,null,null,null,null,"1007T5ABLD..T5","Norris Quarries, LLC - Mt. Airy","3062100112",1893,"Burlington-Keokuk 1B-5B","6073",5424,{"$error":"#N/A"},{"$error":"#N/A"},null,null,null,null,null,null,null,null,null,null,null,null,null,null,null,null,null,null,null,null,null,null,null,null,0,null,null,null,null,{"$error":"#N/A"}]
[null,null,null,null,null,"1007T7ABLD","Central Stone #56 (Bellefontaine South)","3039700216",1325,"Plattin 6","0473",4171,{"$error":"#N/A"},{"$error":"#N/A"},null,null,null,null,null,null,null,null,null,null,null,null,null,null,null,null,null,null,null,null,null,null,null,null,0,null,null,null,null,{"$error":"#N/A"}]
[null,null,null,null,null,"1007T7ABLD","Wayne B. Smith, Pit #8","3045900813",3787,"Burlington 2","6277",6860,{"$error":"#N/A"},{"$error":"#N/A"},null,null,null,null,null,null,null,null,null,null,null,null,null,null,null,null,null,null,null,null,null,null,null,null,0,null,null,null,null,{"$error":"#N/A"}]
[null,null,null,null,null,"1009G1DRNS","Lafarge Sand, Bridgeton (St. Charles Sand #1)","3043900116",207,"Missouri River Sand SAND","6084",633,{"$error":"#N/A"},{"$error":"#N/A"},null,null,null,null,null,null,null,null,null,null,null,null,null,null,null,null,null,null,null,null,null,null,null,null,0,null,null,null,null,{"$error":"#N/A"}]
[null,null,null,null,null,"1009G3DRLD","Cane Creek Stone","3520200119",4957,"Eminence-Potosi 1-2","7188",7262,{"$error":"#N/A"},{"$error":"#N/A"},null,null,null,null,null,null,null,null,null,null,null,null,null,null,null,null,null,null,null,null,null,null,null,null,0,null,null,null,null,{"$error":"#N/A"}]
[null,null,null,null,null,"1009G3DRLD","Central Stone #31, Florissant","3007903116",947,"St. Louis 3-9","0197",2997,{"$error":"#N/A"},{"$error":"#N/A"},null,null,null,null,null,null,null,null,null,null,null,null,null,null,null,null,null,null,null,null,null,null,null,null,0,null,null,null,null,{"$error":"#N/A"}]
[null,null,null,null,null,"1009G3DRLD","Summit Materials, Marshall (Boone Quarries)","3176713215",1976,"Cedar Valley 5CA-9CA","6605",5592,{"$error":"#N/A"},{"$error":"#N/A"},null,null,null,null,null,null,null,null,null,null,null,null,null,null,null,null,null,null,null,null,null,null,null,null,0,null,null,null,null,{"$error":"#N/A"}]
[null,null,null,null,null,"1009G3DRLS","Magruder Limestone #1, Troy","3029700113",842,"Burlington 1-7","2068",2543,{"$error":"#N/A"},{"$error":"#N/A"},null,null,null,null,null,null,null,null,null,null,null,null,null,null,null,null,null,null,null,null,null,null,null,null,0,null,null,null,null,{"$error":"#N/A"}]
[null,null,null,null,null,"1009G4DRLDAA","New Frontier, North Quarry #6","3016600116",118,"St. Louis 10-18","0449",453,{"$error":"#N/A"},{"$error":"#N/A"},null,null,null,null,null,null,null,null,null,null,null,null,null,null,null,null,null,null,null,null,null,null,null,null,0,null,null,null,null,{"$error":"#N/A"}]
[null,null,null,null,null,"1009G4DRLDAA","Twin States Sand & Gravel","3443800112",3923,"Bethany Falls 1-3","6554",6876,{"$error":"#N/A"},{"$error":"#N/A"},null,null,null,null,null,null,null,null,null,null,null,null,null,null,null,null,null,null,null,null,null,null,null,null,0,null,null,null,null,{"$error":"#N/A"}]
[null,null,null,null,null,"1009G4DRLDAB","Capital Materials, Ozark (Journagan, Journagan Qy)","3027400118",720,"Burlington 1-5","5174",1880,{"$error":"#N/A"},{"$error":"#N/A"},null,null,null,null,null,null,null,null,null,null,null,null,null,null,null,null,null,null,null,null,null,null,null,null,0,null,null,null,null,{"$error":"#N/A"}]
[null,null,null,null,null,"1009G4DRLSABSB","Martin Marietta, Greenwood SW","3030652714",829,"Bethany Falls 1-4","3205",2440,{"$error":"#N/A"},{"$error":"#N/A"},null,null,null,null,null,null,null,null,null,null,null,null,null,null,null,null,null,null,null,null,null,null,null,null,0,null,null,null,null,{"$error":"#N/A"}]
[null,null,null,null,null,"1009G5DRLS","Central Stone #56 (Bellefontaine South)","3039700216",1325,"Plattin 9-11","2189",4154,{"$error":"#N/A"},{"$error":"#N/A"},null,null,null,null,null,null,null,null,null,null,null,null,null,null,null,null,null,null,null,null,null,null,null,null,0,null,null,null,null,{"$error":"#N/A"}]
[null,null,null,null,null,"1009G5DRLS","Willard Constr, Sleeper","3050100418",77,"Jefferson City 1-2","4808",156,{"$error":"#N/A"},{"$error":"#N/A"},null,null,null,null,null,null,null,null,null,null,null,null,null,null,null,null,null,null,null,null,null,null,null,null,0,null,null,null,null,{"$error":"#N/A"}]
[null,null,null,null,null,"1010SGBF","Anchor Stone - Joplin","3150800217",1091,"Warsaw 2","0356",3494,{"$error":"#N/A"},{"$error":"#N/A"},null,null,null,null,null,null,null,null,null,null,null,null,null,null,null,null,null,null,null,null,null,null,null,null,0,null,null,null,null,{"$error":"#N/A"}]
[null,null,null,null,null,"1010SGBF","Bussen #1, Koch Quarry","3005700116",1151,"Salem 22-23","0478",3704,{"$error":"#N/A"},{"$error":"#N/A"},null,null,null,null,null,null,null,null,null,null,null,null,null,null,null,null,null,null,null,null,null,null,null,null,0,null,null,null,null,{"$error":"#N/A"}]
[null,null,null,null,null,"1010SGBF","Capital Materials, Tightwad (APAC)","3020600114",927,"Burlington 1,2,3","2328",2872,{"$error":"#N/A"},{"$error":"#N/A"},null,null,null,null,null,null,null,null,null,null,null,null,null,null,null,null,null,null,null,null,null,null,null,null,0,null,null,null,null,{"$error":"#N/A"}]
[null,null,null,null,null,"1010SGBF","Capital Materials, Tightwad (APAC)","3020600114",927,"Chouteau-LowerBurlington-Pierson 4,5,6,7,3A","5910",2882,{"$error":"#N/A"},{"$error":"#N/A"},null,null,null,null,null,null,null,null,null,null,null,null,null,null,null,null,null,null,null,null,null,null,null,null,0,null,null,null,null,{"$error":"#N/A"}]
[null,null,null,null,null,"1010SGBF","Central Stone #1, Hannibal (Huntington)","3007900113",948,"Kimmswick 10-1","0191",3041,{"$error":"#N/A"},{"$error":"#N/A"},null,null,null,null,null,null,null,null,null,null,null,null,null,null,null,null,null,null,null,null,null,null,null,null,{"$f":"IF(AK1562=$AK$44,AL1562,\"\")","v":0},null,null,null,null,{"$error":"#N/A"}]
[null,null,null,null,null,"1010SGBF","Conco #0496, Marshfield (Ash Grove)","3002909618",1070,"Jefferson City - Cotter 1-3","2887",3429,{"$error":"#N/A"},{"$error":"#N/A"},null,null,null,null,null,null,null,null,null,null,null,null,null,null,null,null,null,null,null,null,null,null,null,null,0,null,null,null,null,{"$error":"#N/A"}]
[null,null,null,null,null,"1010SGBF","Conco Quarries, Willard","3009800218",1275,"Burlington 2W","1004",4036,{"$error":"#N/A"},{"$error":"#N/A"},null,null,null,null,null,null,null,null,null,null,null,null,null,null,null,null,null,null,null,null,null,null,null,null,0,null,null,null,null,{"$error":"#N/A"}]
[null,null,null,null,null,"1010SGBF","Joplin Stone","3023600117",730,"Warsaw 6-8","7682",7675,{"$error":"#N/A"},{"$error":"#N/A"},null,null,null,null,null,null,null,null,null,null,null,null,null,null,null,null,null,null,null,null,null,null,null,null,0,null,null,null,null,{"$error":"#N/A"}]
[null,null,null,null,null,"1010SGBF","Magruder Limestone #1, Troy","3029700113",842,"Chouteau 1C-8C","0142",2537,{"$error":"#N/A"},{"$error":"#N/A"},null,null,null,null,null,null,null,null,null,null,null,null,null,null,null,null,null,null,null,null,null,null,null,null,0,null,null,null,null,{"$error":"#N/A"}]
[null,null,null,null,null,"1010SGBF","Martin Marietta, Greenwood SW","3030652714",829,"Winterset 1W","0084",2442,{"$error":"#N/A"},{"$error":"#N/A"},null,null,null,null,null,null,null,null,null,null,null,null,null,null,null,null,null,null,null,null,null,null,null,null,0,null,null,null,null,{"$error":"#N/A"}]
[null,null,null,null,null,"1010SGBF","Martin Marietta, Parkville (Hunt Martin)","3115500114",515,"Bethany Falls 3BF-4BF","4999",1371,{"$error":"#N/A"},{"$error":"#N/A"},null,null,null,null,null,null,null,null,null,null,null,null,null,null,null,null,null,null,null,null,null,null,null,null,0,null,null,null,null,{"$error":"#N/A"}]
[null,null,null,null,null,"1010SGBF","MoDOT (Jobsite, roadway or other similar site)","333350000X",1306,"Reclaimed Concrete Pavement for Base RCP","6338",4112,{"$error":"#N/A"},{"$error":"#N/A"},null,null,null,null,null,null,null,null,null,null,null,null,null,null,null,null,null,null,null,null,null,null,null,null,0,null,null,null,null,{"$error":"#N/A"}]
[null,null,null,null,null,"1010SGBF","Quality Aggregates (Hillside LLC)","3238600114",2290,"Bethany Falls 3-BF","4245",5947,{"$error":"#N/A"},{"$error":"#N/A"},null,null,null,null,null,null,null,null,null,null,null,null,null,null,null,null,null,null,null,null,null,null,null,null,0,null,null,null,null,{"$error":"#N/A"}]
[null,null,null,null,null,"1010SGBF","Wright City Quarry - BMC Stone, LLC","3050700113",62,"Burlington 2-4","5638",125,{"$error":"#N/A"},{"$error":"#N/A"},null,null,null,null,null,null,null,null,null,null,null,null,null,null,null,null,null,null,null,null,null,null,null,null,0,null,null,null,null,{"$error":"#N/A"}]
[null,null,null,null,null,null,null,null,null,null,null,null,{"$error":"#N/A"},{"$error":"#N/A"},null,null,null,null,null,null,null,null,null,null,null,null,null,null,null,null,null,null,null,null,null,null,null,null,0,null,null,null,null,{"$error":"#N/A"}]
[null,null,null,null,null,null,null,null,null,null,null,null,{"$error":"#N/A"},{"$error":"#N/A"},null,null,null,null,null,null,null,null,null,null,null,null,null,null,null,null,null,null,null,null,null,null,null,null,0,null,null,null,null,{"$error":"#N/A"}]
[null,null,null,null,null,null,null,null,null,null,null,null,{"$error":"#N/A"},{"$error":"#N/A"},null,null,null,null,null,null,null,null,null,null,null,null,null,null,null,null,null,null,null,null,null,null,null,null,0,null,null,null,null,{"$error":"#N/A"}]
[null,null,null,null,null,null,null,null,null,null,null,null,{"$error":"#N/A"},{"$error":"#N/A"},null,null,null,null,null,null,null,null,null,null,null,null,null,null,null,null,null,null,null,null,null,null,null,null,0,null,null,null,null,{"$error":"#N/A"}]
[null,null,null,null,null,null,null,null,null,null,null,null,{"$error":"#N/A"},{"$error":"#N/A"},null,null,null,null,null,null,null,null,null,null,null,null,null,null,null,null,null,null,null,null,null,null,null,null,0,null,null,null,null,{"$error":"#N/A"}]
[null,null,null,null,null,null,null,null,null,null,null,null,{"$error":"#N/A"},{"$error":"#N/A"},null,null,null,null,null,null,null,null,null,null,null,null,null,null,null,null,null,null,null,null,null,null,null,null,0,null,null,null,null,{"$error":"#N/A"}]
[null,null,null,null,null,null,null,null,null,null,null,null,{"$error":"#N/A"},{"$error":"#N/A"},null,null,null,null,null,null,null,null,null,null,null,null,null,null,null,null,null,null,null,null,null,null,null,null,0,null,null,null,null,{"$error":"#N/A"}]
[null,null,null,null,null,null,null,null,null,null,null,null,{"$error":"#N/A"},{"$error":"#N/A"},null,null,null,null,null,null,null,null,null,null,null,null,null,null,null,null,null,null,null,null,null,null,null,null,0,null,null,null,null,{"$error":"#N/A"}]
[null,null,null,null,null,null,null,null,null,null,null,null,{"$error":"#N/A"},{"$error":"#N/A"},null,null,null,null,null,null,null,null,null,null,null,null,null,null,null,null,null,null,null,null,null,null,null,null,0,null,null,null,null,{"$error":"#N/A"}]
[null,null,null,null,null,null,null,null,null,null,null,null,{"$error":"#N/A"},{"$error":"#N/A"},null,null,null,null,null,null,null,null,null,null,null,null,null,null,null,null,null,null,null,null,null,null,null,null,0,null,null,null,null,{"$error":"#N/A"}]
[null,null,null,null,null,null,null,null,null,null,null,null,{"$error":"#N/A"},{"$error":"#N/A"},null,null,null,null,null,null,null,null,null,null,null,null,null,null,null,null,null,null,null,null,null,null,null,null,0,null,null,null,null,{"$error":"#N/A"}]
[null,null,null,null,null,null,null,null,null,null,null,null,{"$error":"#N/A"},{"$error":"#N/A"},null,null,null,null,null,null,null,null,null,null,null,null,null,null,null,null,null,null,null,null,null,null,null,null,0,null,null,null,null,{"$error":"#N/A"}]
[null,null,null,null,null,null,null,null,null,null,null,null,{"$error":"#N/A"},{"$error":"#N/A"},null,null,null,null,null,null,null,null,null,null,null,null,null,null,null,null,null,null,null,null,null,null,null,null,0,null,null,null,null,{"$error":"#N/A"}]
[null,null,null,null,null,null,null,null,null,null,null,null,{"$error":"#N/A"},{"$error":"#N/A"},null,null,null,null,null,null,null,null,null,null,null,null,null,null,null,null,null,null,null,null,null,null,null,null,0,null,null,null,null,{"$error":"#N/A"}]
[null,null,null,null,null,null,null,null,null,null,null,null,{"$error":"#N/A"},{"$error":"#N/A"},null,null,null,null,null,null,null,null,null,null,null,null,null,null,null,null,null,null,null,null,null,null,null,null,0,null,null,null,null,{"$error":"#N/A"}]
[null,null,null,null,null,null,null,null,null,null,null,null,{"$error":"#N/A"},{"$error":"#N/A"},null,null,null,null,null,null,null,null,null,null,null,null,null,null,null,null,null,null,null,null,null,null,null,null,0,null,null,null,null,{"$error":"#N/A"}]
[null,null,null,null,null,null,null,null,null,null,null,null,{"$error":"#N/A"},{"$error":"#N/A"},null,null,null,null,null,null,null,null,null,null,null,null,null,null,null,null,null,null,null,null,null,null,null,null,0,null,null,null,null,{"$error":"#N/A"}]
[null,null,null,null,null,null,null,null,null,null,null,null,{"$error":"#N/A"},{"$error":"#N/A"},null,null,null,null,null,null,null,null,null,null,null,null,null,null,null,null,null,null,null,null,null,null,null,null,0,null,null,null,null,{"$error":"#N/A"}]
[null,null,null,null,null,null,null,null,null,null,null,null,{"$error":"#N/A"},{"$error":"#N/A"},null,null,null,null,null,null,null,null,null,null,null,null,null,null,null,null,null,null,null,null,null,null,null,null,0,null,null,null,null,{"$error":"#N/A"}]
[null,null,null,null,null,null,null,null,null,null,null,null,{"$error":"#N/A"},{"$error":"#N/A"},null,null,null,null,null,null,null,null,null,null,null,null,null,null,null,null,null,null,null,null,null,null,null,null,0,null,null,null,null,{"$error":"#N/A"}]
[null,null,null,null,null,null,null,null,null,null,null,null,{"$error":"#N/A"},{"$error":"#N/A"},null,null,null,null,null,null,null,null,null,null,null,null,null,null,null,null,null,null,null,null,null,null,null,null,0,null,null,null,null,{"$error":"#N/A"}]
[null,null,null,null,null,null,null,null,null,null,null,null,{"$error":"#N/A"},{"$error":"#N/A"},null,null,null,null,null,null,null,null,null,null,null,null,null,null,null,null,null,null,null,null,null,null,null,null,0,null,null,null,null,{"$error":"#N/A"}]
[null,null,null,null,null,null,null,null,null,null,null,null,{"$error":"#N/A"},{"$error":"#N/A"},null,null,null,null,null,null,null,null,null,null,null,null,null,null,null,null,null,null,null,null,null,null,null,null,0,null,null,null,null,{"$error":"#N/A"}]
[null,null,null,null,null,null,null,null,null,null,null,null,{"$error":"#N/A"},{"$error":"#N/A"},null,null,null,null,null,null,null,null,null,null,null,null,null,null,null,null,null,null,null,null,null,null,null,null,0,null,null,null,null,{"$error":"#N/A"}]
[null,null,null,null,null,null,null,null,null,null,null,null,{"$error":"#N/A"},{"$error":"#N/A"},null,null,null,null,null,null,null,null,null,null,null,null,null,null,null,null,null,null,null,null,null,null,null,null,0,null,null,null,null,{"$error":"#N/A"}]
[null,null,null,null,null,null,null,null,null,null,null,null,{"$error":"#N/A"},{"$error":"#N/A"},null,null,null,null,null,null,null,null,null,null,null,null,null,null,null,null,null,null,null,null,null,null,null,null,0,null,null,null,null,{"$error":"#N/A"}]
[null,null,null,null,null,null,null,null,null,null,null,null,{"$error":"#N/A"},{"$error":"#N/A"},null,null,null,null,null,null,null,null,null,null,null,null,null,null,null,null,null,null,null,null,null,null,null,null,0,null,null,null,null,{"$error":"#N/A"}]
[null,null,null,null,null,null,null,null,null,null,null,null,{"$error":"#N/A"},{"$error":"#N/A"},null,null,null,null,null,null,null,null,null,null,null,null,null,null,null,null,null,null,null,null,null,null,null,null,0,null,null,null,null,{"$error":"#N/A"}]
[null,null,null,null,null,null,null,null,null,null,null,null,{"$error":"#N/A"},{"$error":"#N/A"},null,null,null,null,null,null,null,null,null,null,null,null,null,null,null,null,null,null,null,null,null,null,null,null,0,null,null,null,null,{"$error":"#N/A"}]
[null,null,null,null,null,null,null,null,null,null,null,null,{"$error":"#N/A"},{"$error":"#N/A"},null,null,null,null,null,null,null,null,null,null,null,null,null,null,null,null,null,null,null,null,null,null,null,null,0,null,null,null,null,{"$error":"#N/A"}]
[null,null,null,null,null,null,null,null,null,null,null,null,{"$error":"#N/A"},{"$error":"#N/A"},null,null,null,null,null,null,null,null,null,null,null,null,null,null,null,null,null,null,null,null,null,null,null,null,{"$f":"IF(AK1754=$AK$44,AL1754,\"\")","v":0},null,null,null,null,{"$error":"#N/A"}]
[null,null,null,null,null,null,null,null,null,null,null,null,{"$error":"#N/A"},{"$error":"#N/A"},null,null,null,null,null,null,null,null,null,null,null,null,null,null,null,null,null,null,null,null,null,null,null,null,0,null,null,null,null,{"$error":"#N/A"}]
[null,null,null,null,null,null,null,null,null,null,null,null,{"$error":"#N/A"},{"$error":"#N/A"},null,null,null,null,null,null,null,null,null,null,null,null,null,null,null,null,null,null,null,null,null,null,null,null,0,null,null,null,null,{"$error":"#N/A"}]
[null,null,null,null,null,null,null,null,null,null,null,null,{"$error":"#N/A"},{"$error":"#N/A"},null,null,null,null,null,null,null,null,null,null,null,null,null,null,null,null,null,null,null,null,null,null,null,null,0,null,null,null,null,{"$error":"#N/A"}]
[null,null,null,null,null,null,null,null,null,null,null,null,{"$error":"#N/A"},{"$error":"#N/A"},null,null,null,null,null,null,null,null,null,null,null,null,null,null,null,null,null,null,null,null,null,null,null,null,0,null,null,null,null,{"$error":"#N/A"}]
[null,null,null,null,null,null,null,null,null,null,null,null,{"$error":"#N/A"},{"$error":"#N/A"},null,null,null,null,null,null,null,null,null,null,null,null,null,null,null,null,null,null,null,null,null,null,null,null,0,null,null,null,null,{"$error":"#N/A"}]
[null,null,null,null,null,null,null,null,null,null,null,null,{"$error":"#N/A"},{"$error":"#N/A"},null,null,null,null,null,null,null,null,null,null,null,null,null,null,null,null,null,null,null,null,null,null,null,null,0,null,null,null,null,{"$error":"#N/A"}]
[null,null,null,null,null,null,null,null,null,null,null,null,{"$error":"#N/A"},{"$error":"#N/A"},null,null,null,null,null,null,null,null,null,null,null,null,null,null,null,null,null,null,null,null,null,null,null,null,0,null,null,null,null,{"$error":"#N/A"}]
[null,null,null,null,null,null,null,null,null,null,null,null,{"$error":"#N/A"},{"$error":"#N/A"},null,null,null,null,null,null,null,null,null,null,null,null,null,null,null,null,null,null,null,null,null,null,null,null,0,null,null,null,null,{"$error":"#N/A"}]
[null,null,null,null,null,null,null,null,null,null,null,null,{"$error":"#N/A"},{"$error":"#N/A"},null,null,null,null,null,null,null,null,null,null,null,null,null,null,null,null,null,null,null,null,null,null,null,null,0,null,null,null,null,{"$error":"#N/A"}]
[null,null,null,null,null,null,null,null,null,null,null,null,{"$error":"#N/A"},{"$error":"#N/A"},null,null,null,null,null,null,null,null,null,null,null,null,null,null,null,null,null,null,null,null,null,null,null,null,0,null,null,null,null,{"$error":"#N/A"}]
[null,null,null,null,null,null,null,null,null,null,null,null,{"$error":"#N/A"},{"$error":"#N/A"},null,null,null,null,null,null,null,null,null,null,null,null,null,null,null,null,null,null,null,null,null,null,null,null,0,null,null,null,null,{"$error":"#N/A"}]
[null,null,null,null,null,null,null,null,null,null,null,null,{"$error":"#N/A"},{"$error":"#N/A"},null,null,null,null,null,null,null,null,null,null,null,null,null,null,null,null,null,null,null,null,null,null,null,null,0,null,null,null,null,{"$error":"#N/A"}]
[null,null,null,null,null,null,null,null,null,null,null,null,{"$error":"#N/A"},{"$error":"#N/A"},null,null,null,null,null,null,null,null,null,null,null,null,null,null,null,null,null,null,null,null,null,null,null,null,0,null,null,null,null,{"$error":"#N/A"}]
[null,null,null,null,null,null,null,null,null,null,null,null,{"$error":"#N/A"},{"$error":"#N/A"},null,null,null,null,null,null,null,null,null,null,null,null,null,null,null,null,null,null,null,null,null,null,null,null,0,null,null,null,null,{"$error":"#N/A"}]
[null,null,null,null,null,null,null,null,null,null,null,null,{"$error":"#N/A"},{"$error":"#N/A"},null,null,null,null,null,null,null,null,null,null,null,null,null,null,null,null,null,null,null,null,null,null,null,null,0,null,null,null,null,{"$error":"#N/A"}]
[null,null,null,null,null,null,null,null,null,null,null,null,{"$error":"#N/A"},{"$error":"#N/A"},null,null,null,null,null,null,null,null,null,null,null,null,null,null,null,null,null,null,null,null,null,null,null,null,{"$f":"IF(AK1833=$AK$44,AL1833,\"\")","v":0},null,null,null,null,{"$error":"#N/A"}]
[null,null,null,null,null,null,null,null,null,null,null,null,{"$error":"#N/A"},{"$error":"#N/A"},null,null,null,null,null,null,null,null,null,null,null,null,null,null,null,null,null,null,null,null,null,null,null,null,0,null,null,null,null,{"$error":"#N/A"}]
[null,null,null,null,null,null,null,null,null,null,null,null,{"$error":"#N/A"},{"$error":"#N/A"},null,null,null,null,null,null,null,null,null,null,null,null,null,null,null,null,null,null,null,null,null,null,null,null,null,null,null,null,null,{"$error":"#N/A"}]
[null,null,null,null,null,null,null,null,null,null,null,null,{"$error":"#N/A"},{"$error":"#N/A"},null,null,null,null,null,null,null,null,null,null,null,null,null,null,null,null,null,null,null,null,null,null,null,null,null,null,null,null,null,{"$error":"#N/A"}]
[null,null,null,null,null,null,null,null,null,null,null,null,{"$error":"#N/A"},{"$error":"#N/A"},null,null,null,null,null,null,null,null,null,null,null,null,null,null,null,null,null,null,null,null,null,null,null,null,null,null,null,null,null,{"$error":"#N/A"}]
[null,null,null,null,null,null,null,null,null,null,null,null,{"$error":"#N/A"},{"$error":"#N/A"},null,null,null,null,null,null,null,null,null,null,null,null,null,null,null,null,null,null,null,null,null,null,null,null,null,null,null,null,null,{"$error":"#N/A"}]
[null,null,null,null,null,null,null,null,null,null,null,null,{"$error":"#N/A"},{"$error":"#N/A"},null,null,null,null,null,null,null,null,null,null,null,null,null,null,null,null,null,null,null,null,null,null,null,null,null,null,null,null,null,{"$error":"#N/A"}]
[null,null,null,null,null,null,null,null,null,null,null,null,{"$error":"#N/A"},{"$error":"#N/A"},null,null,null,null,null,null,null,null,null,null,null,null,null,null,null,null,null,null,null,null,null,null,null,null,null,null,null,null,null,{"$error":"#N/A"}]
[null,null,null,null,null,null,null,null,null,null,null,null,{"$error":"#N/A"},{"$error":"#N/A"},null,null,null,null,null,null,null,null,null,null,null,null,null,null,null,null,null,null,null,null,null,null,null,null,null,null,null,null,null,{"$error":"#N/A"}]
[null,null,null,null,null,null,null,null,null,null,null,null,{"$error":"#N/A"},{"$error":"#N/A"},null,null,null,null,null,null,null,null,null,null,null,null,null,null,null,null,null,null,null,null,null,null,null,null,null,null,null,null,null,{"$error":"#N/A"}]
[null,null,null,null,null,null,null,null,null,null,null,null,{"$error":"#N/A"},{"$error":"#N/A"},null,null,null,null,null,null,null,null,null,null,null,null,null,null,null,null,null,null,null,null,null,null,null,null,null,null,null,null,null,{"$error":"#N/A"}]
[null,null,null,null,null,null,null,null,null,null,null,null,{"$error":"#N/A"},{"$error":"#N/A"},null,null,null,null,null,null,null,null,null,null,null,null,null,null,null,null,null,null,null,null,null,null,null,null,null,null,null,null,null,{"$error":"#N/A"}]
[null,null,null,null,null,null,null,null,null,null,null,null,{"$error":"#N/A"},{"$error":"#N/A"},null,null,null,null,null,null,null,null,null,null,null,null,null,null,null,null,null,null,null,null,null,null,null,null,null,null,null,null,null,{"$error":"#N/A"}]
[null,null,null,null,null,null,null,null,null,null,null,null,{"$error":"#N/A"},{"$error":"#N/A"},null,null,null,null,null,null,null,null,null,null,null,null,null,null,null,null,null,null,null,null,null,null,null,null,null,null,null,null,null,{"$error":"#N/A"}]
[null,null,null,null,null,null,null,null,null,null,null,null,{"$error":"#N/A"},{"$error":"#N/A"},null,null,null,null,null,null,null,null,null,null,null,null,null,null,null,null,null,null,null,null,null,null,null,null,null,null,null,null,null,{"$error":"#N/A"}]
[null,null,null,null,null,null,null,null,null,null,null,null,{"$error":"#N/A"},{"$error":"#N/A"},null,null,null,null,null,null,null,null,null,null,null,null,null,null,null,null,null,null,null,null,null,null,null,null,null,null,null,null,null,{"$error":"#N/A"}]
[null,null,null,null,null,null,null,null,null,null,null,null,{"$error":"#N/A"},{"$error":"#N/A"},null,null,null,null,null,null,null,null,null,null,null,null,null,null,null,null,null,null,null,null,null,null,null,null,null,null,null,null,null,{"$error":"#N/A"}]
[null,null,null,null,null,null,null,null,null,null,null,null,{"$error":"#N/A"},{"$error":"#N/A"},null,null,null,null,null,null,null,null,null,null,null,null,null,null,null,null,null,null,null,null,null,null,null,null,null,null,null,null,null,{"$error":"#N/A"}]
[null,null,null,null,null,null,null,null,null,null,null,null,{"$error":"#N/A"},{"$error":"#N/A"},null,null,null,null,null,null,null,null,null,null,null,null,null,null,null,null,null,null,null,null,null,null,null,null,null,null,null,null,null,{"$error":"#N/A"}]
[null,null,null,null,null,null,null,null,null,null,null,null,{"$error":"#N/A"},{"$error":"#N/A"},null,null,null,null,null,null,null,null,null,null,null,null,null,null,null,null,null,null,null,null,null,null,null,null,null,null,null,null,null,{"$error":"#N/A"}]
[null,null,null,null,null,null,null,null,null,null,null,null,{"$error":"#N/A"},{"$error":"#N/A"},null,null,null,null,null,null,null,null,null,null,null,null,null,null,null,null,null,null,null,null,null,null,null,null,null,null,null,null,null,{"$error":"#N/A"}]
[null,null,null,null,null,null,null,null,null,null,null,null,{"$error":"#N/A"},{"$error":"#N/A"},null,null,null,null,null,null,null,null,null,null,null,null,null,null,null,null,null,null,null,null,null,null,null,null,null,null,null,null,null,{"$error":"#N/A"}]
[null,null,null,null,null,null,null,null,null,null,null,null,{"$error":"#N/A"},{"$error":"#N/A"},null,null,null,null,null,null,null,null,null,null,null,null,null,null,null,null,null,null,null,null,null,null,null,null,null,null,null,null,null,{"$error":"#N/A"}]
[null,null,null,null,null,null,null,null,null,null,null,null,{"$error":"#N/A"},{"$error":"#N/A"},null,null,null,null,null,null,null,null,null,null,null,null,null,null,null,null,null,null,null,null,null,null,null,null,null,null,null,null,null,{"$error":"#N/A"}]
[null,null,null,null,null,null,null,null,null,null,null,null,{"$error":"#N/A"},{"$error":"#N/A"},null,null,null,null,null,null,null,null,null,null,null,null,null,null,null,null,null,null,null,null,null,null,null,null,null,null,null,null,null,{"$error":"#N/A"}]
[null,null,null,null,null,null,null,null,null,null,null,null,{"$error":"#N/A"},{"$error":"#N/A"},null,null,null,null,null,null,null,null,null,null,null,null,null,null,null,null,null,null,null,null,null,null,null,null,null,null,null,null,null,{"$error":"#N/A"}]
[null,null,null,null,null,null,null,null,null,null,null,null,{"$error":"#N/A"},{"$error":"#N/A"},null,null,null,null,null,null,null,null,null,null,null,null,null,null,null,null,null,null,null,null,null,null,null,null,null,null,null,null,null,{"$error":"#N/A"}]
[null,null,null,null,null,null,null,null,null,null,null,null,{"$error":"#N/A"},{"$error":"#N/A"},null,null,null,null,null,null,null,null,null,null,null,null,null,null,null,null,null,null,null,null,null,null,null,null,null,null,null,null,null,{"$error":"#N/A"}]
[null,null,null,null,null,null,null,null,null,null,null,null,{"$error":"#N/A"},{"$error":"#N/A"},null,null,null,null,null,null,null,null,null,null,null,null,null,null,null,null,null,null,null,null,null,null,null,null,null,null,null,null,null,{"$error":"#N/A"}]
[null,null,null,null,null,null,null,null,null,null,null,null,{"$error":"#N/A"},{"$error":"#N/A"},null,null,null,null,null,null,null,null,null,null,null,null,null,null,null,null,null,null,null,null,null,null,null,null,null,null,null,null,null,{"$error":"#N/A"}]
[null,null,null,null,null,null,null,null,null,null,null,null,{"$error":"#N/A"},{"$error":"#N/A"},null,null,null,null,null,null,null,null,null,null,null,null,null,null,null,null,null,null,null,null,null,null,null,null,null,null,null,null,null,{"$error":"#N/A"}]
[null,null,null,null,null,null,null,null,null,null,null,null,{"$error":"#N/A"},{"$error":"#N/A"},null,null,null,null,null,null,null,null,null,null,null,null,null,null,null,null,null,null,null,null,null,null,null,null,null,null,null,null,null,{"$error":"#N/A"}]
[null,null,null,null,null,null,null,null,null,null,null,null,{"$error":"#N/A"},{"$error":"#N/A"},null,null,null,null,null,null,null,null,null,null,null,null,null,null,null,null,null,null,null,null,null,null,null,null,null,null,null,null,null,{"$error":"#N/A"}]
[null,null,null,null,null,null,null,null,null,null,null,null,{"$error":"#N/A"},{"$error":"#N/A"},null,null,null,null,null,null,null,null,null,null,null,null,null,null,null,null,null,null,null,null,null,null,null,null,null,null,null,null,null,{"$error":"#N/A"}]
[null,null,null,null,null,null,null,null,null,null,null,null,{"$error":"#N/A"},{"$error":"#N/A"},null,null,null,null,null,null,null,null,null,null,null,null,null,null,null,null,null,null,null,null,null,null,null,null,null,null,null,null,null,{"$error":"#N/A"}]
[null,null,null,null,null,null,null,null,null,null,null,null,{"$error":"#N/A"},{"$error":"#N/A"},null,null,null,null,null,null,null,null,null,null,null,null,null,null,null,null,null,null,null,null,null,null,null,null,null,null,null,null,null,{"$error":"#N/A"}]
[null,null,null,null,null,null,null,null,null,null,null,null,{"$error":"#N/A"},{"$error":"#N/A"},null,null,null,null,null,null,null,null,null,null,null,null,null,null,null,null,null,null,null,null,null,null,null,null,null,null,null,null,null,{"$error":"#N/A"}]
[null,null,null,null,null,null,null,null,null,null,null,null,{"$error":"#N/A"},{"$error":"#N/A"},null,null,null,null,null,null,null,null,null,null,null,null,null,null,null,null,null,null,null,null,null,null,null,null,null,null,null,null,null,{"$error":"#N/A"}]
[null,null,null,null,null,null,null,null,null,null,null,null,{"$error":"#N/A"},{"$error":"#N/A"},null,null,null,null,null,null,null,null,null,null,null,null,null,null,null,null,null,null,null,null,null,null,null,null,null,null,null,null,null,{"$error":"#N/A"}]
[null,null,null,null,null,null,null,null,null,null,null,null,{"$error":"#N/A"},{"$error":"#N/A"},null,null,null,null,null,null,null,null,null,null,null,null,null,null,null,null,null,null,null,null,null,null,null,null,null,null,null,null,null,{"$error":"#N/A"}]
[null,null,null,null,null,null,null,null,null,null,null,null,{"$error":"#N/A"},{"$error":"#N/A"},null,null,null,null,null,null,null,null,null,null,null,null,null,null,null,null,null,null,null,null,null,null,null,null,null,null,null,null,null,{"$error":"#N/A"}]
[null,null,null,null,null,null,null,null,null,null,null,null,{"$error":"#N/A"},{"$error":"#N/A"},null,null,null,null,null,null,null,null,null,null,null,null,null,null,null,null,null,null,null,null,null,null,null,null,null,null,null,null,null,{"$error":"#N/A"}]
[null,null,null,null,null,null,null,null,null,null,null,null,{"$error":"#N/A"},{"$error":"#N/A"},null,null,null,null,null,null,null,null,null,null,null,null,null,null,null,null,null,null,null,null,null,null,null,null,null,null,null,null,null,{"$error":"#N/A"}]
[null,null,null,null,null,null,null,null,null,null,null,null,{"$error":"#N/A"},{"$error":"#N/A"},null,null,null,null,null,null,null,null,null,null,null,null,null,null,null,null,null,null,null,null,null,null,null,null,null,null,null,null,null,{"$error":"#N/A"}]
[null,null,null,null,null,null,null,null,null,null,null,null,{"$error":"#N/A"},{"$error":"#N/A"},null,null,null,null,null,null,null,null,null,null,null,null,null,null,null,null,null,null,null,null,null,null,null,null,null,null,null,null,null,{"$error":"#N/A"}]
[null,null,null,null,null,null,null,null,null,null,null,null,{"$error":"#N/A"},{"$error":"#N/A"},null,null,null,null,null,null,null,null,null,null,null,null,null,null,null,null,null,null,null,null,null,null,null,null,null,null,null,null,null,{"$error":"#N/A"}]
[null,null,null,null,null,null,null,null,null,null,null,null,{"$error":"#N/A"},{"$error":"#N/A"},null,null,null,null,null,null,null,null,null,null,null,null,null,null,null,null,null,null,null,null,null,null,null,null,null,null,null,null,null,{"$error":"#N/A"}]
[null,null,null,null,null,null,null,null,null,null,null,null,{"$error":"#N/A"},{"$error":"#N/A"},null,null,null,null,null,null,null,null,null,null,null,null,null,null,null,null,null,null,null,null,null,null,null,null,null,null,null,null,null,{"$error":"#N/A"}]
[null,null,null,null,null,null,null,null,null,null,null,null,{"$error":"#N/A"},{"$error":"#N/A"},null,null,null,null,null,null,null,null,null,null,null,null,null,null,null,null,null,null,null,null,null,null,null,null,null,null,null,null,null,{"$error":"#N/A"}]
[null,null,null,null,null,null,null,null,null,null,null,null,{"$error":"#N/A"},{"$error":"#N/A"},null,null,null,null,null,null,null,null,null,null,null,null,null,null,null,null,null,null,null,null,null,null,null,null,null,null,null,null,null,{"$error":"#N/A"}]
[null,null,null,null,null,null,null,null,null,null,null,null,{"$error":"#N/A"},{"$error":"#N/A"},null,null,null,null,null,null,null,null,null,null,null,null,null,null,null,null,null,null,null,null,null,null,null,null,null,null,null,null,null,{"$error":"#N/A"}]
[null,null,null,null,null,null,null,null,null,null,null,null,{"$error":"#N/A"},{"$error":"#N/A"},null,null,null,null,null,null,null,null,null,null,null,null,null,null,null,null,null,null,null,null,null,null,null,null,null,null,null,null,null,{"$error":"#N/A"}]
[null,null,null,null,null,null,null,null,null,null,null,null,{"$error":"#N/A"},{"$error":"#N/A"},null,null,null,null,null,null,null,null,null,null,null,null,null,null,null,null,null,null,null,null,null,null,null,null,null,null,null,null,null,{"$error":"#N/A"}]
[null,null,null,null,null,null,null,null,null,null,null,null,{"$error":"#N/A"},{"$error":"#N/A"},null,null,null,null,null,null,null,null,null,null,null,null,null,null,null,null,null,null,null,null,null,null,null,null,null,null,null,null,null,{"$error":"#N/A"}]
[null,null,null,null,null,null,null,null,null,null,null,null,{"$error":"#N/A"},{"$error":"#N/A"},null,null,null,null,null,null,null,null,null,null,null,null,null,null,null,null,null,null,null,null,null,null,null,null,null,null,null,null,null,{"$error":"#N/A"}]
[null,null,null,null,null,null,null,null,null,null,null,null,{"$f":"IF(AND($F$17=H2097,$AK$44=F2097),J2097,\"\")","v":{"$error":"#N/A"}},{"$f":"IF(AND($F$17=H2097,$AK$44=F2097),L2097,\"\")","v":{"$error":"#N/A"}},null,null,null,null,null,null,null,null,null,null,null,null,null,null,null,null,null,null,null,null,null,null,null,null,null,null,null,null,null,{"$error":"#N/A"}]
[null,null,null,null,null,null,null,null,null,null,null,null,{"$error":"#N/A"},{"$error":"#N/A"},null,null,null,null,null,null,null,null,null,null,null,null,null,null,null,null,null,null,null,null,null,null,null,null,null,null,null,null,null,{"$error":"#N/A"}]
[null,null,null,null,null,null,null,null,null,null,null,null,{"$error":"#N/A"},{"$error":"#N/A"},null,null,null,null,null,null,null,null,null,null,null,null,null,null,null,null,null,null,null,null,null,null,null,null,null,null,null,null,null,{"$error":"#N/A"}]
[null,null,null,null,null,null,null,null,null,null,null,null,{"$error":"#N/A"},{"$error":"#N/A"},null,null,null,null,null,null,null,null,null,null,null,null,null,null,null,null,null,null,null,null,null,null,null,null,null,null,null,null,null,{"$error":"#N/A"}]
[null,null,null,null,null,null,null,null,null,null,null,null,{"$error":"#N/A"},{"$error":"#N/A"},null,null,null,null,null,null,null,null,null,null,null,null,null,null,null,null,null,null,null,null,null,null,null,null,null,null,null,null,null,{"$error":"#N/A"}]
[null,null,null,null,null,null,null,null,null,null,null,null,{"$error":"#N/A"},{"$error":"#N/A"},null,null,null,null,null,null,null,null,null,null,null,null,null,null,null,null,null,null,null,null,null,null,null,null,null,null,null,null,null,{"$error":"#N/A"}]
[null,null,null,null,null,null,null,null,null,null,null,null,{"$error":"#N/A"},{"$error":"#N/A"},null,null,null,null,null,null,null,null,null,null,null,null,null,null,null,null,null,null,null,null,null,null,null,null,null,null,null,null,null,{"$error":"#N/A"}]
[null,null,null,null,null,null,null,null,null,null,null,null,{"$error":"#N/A"},{"$error":"#N/A"},null,null,null,null,null,null,null,null,null,null,null,null,null,null,null,null,null,null,null,null,null,null,null,null,null,null,null,null,null,{"$error":"#N/A"}]
[null,null,null,null,null,null,null,null,null,null,null,null,{"$error":"#N/A"},{"$error":"#N/A"},null,null,null,null,null,null,null,null,null,null,null,null,null,null,null,null,null,null,null,null,null,null,null,null,null,null,null,null,null,{"$error":"#N/A"}]
[null,null,null,null,null,null,null,null,null,null,null,null,{"$error":"#N/A"},{"$error":"#N/A"},null,null,null,null,null,null,null,null,null,null,null,null,null,null,null,null,null,null,null,null,null,null,null,null,null,null,null,null,null,{"$error":"#N/A"}]
[null,null,null,null,null,null,null,null,null,null,null,null,{"$error":"#N/A"},{"$error":"#N/A"},null,null,null,null,null,null,null,null,null,null,null,null,null,null,null,null,null,null,null,null,null,null,null,null,null,null,null,null,null,{"$error":"#N/A"}]
[null,null,null,null,null,null,null,null,null,null,null,null,{"$error":"#N/A"},{"$error":"#N/A"},null,null,null,null,null,null,null,null,null,null,null,null,null,null,null,null,null,null,null,null,null,null,null,null,null,null,null,null,null,{"$error":"#N/A"}]
[null,null,null,null,null,null,null,null,null,null,null,null,{"$error":"#N/A"},{"$error":"#N/A"},null,null,null,null,null,null,null,null,null,null,null,null,null,null,null,null,null,null,null,null,null,null,null,null,null,null,null,null,null,{"$error":"#N/A"}]
[null,null,null,null,null,null,null,null,null,null,null,null,{"$error":"#N/A"},{"$error":"#N/A"},null,null,null,null,null,null,null,null,null,null,null,null,null,null,null,null,null,null,null,null,null,null,null,null,null,null,null,null,null,{"$error":"#N/A"}]
[null,null,null,null,null,null,null,null,null,null,null,null,{"$error":"#N/A"},{"$error":"#N/A"},null,null,null,null,null,null,null,null,null,null,null,null,null,null,null,null,null,null,null,null,null,null,null,null,null,null,null,null,null,{"$error":"#N/A"}]
[null,null,null,null,null,null,null,null,null,null,null,null,{"$error":"#N/A"},{"$error":"#N/A"},null,null,null,null,null,null,null,null,null,null,null,null,null,null,null,null,null,null,null,null,null,null,null,null,null,null,null,null,null,{"$error":"#N/A"}]
[null,null,null,null,null,null,null,null,null,null,null,null,{"$error":"#N/A"},{"$error":"#N/A"},null,null,null,null,null,null,null,null,null,null,null,null,null,null,null,null,null,null,null,null,null,null,null,null,null,null,null,null,null,{"$error":"#N/A"}]
[null,null,null,null,null,null,null,null,null,null,null,null,{"$error":"#N/A"},{"$error":"#N/A"},null,null,null,null,null,null,null,null,null,null,null,null,null,null,null,null,null,null,null,null,null,null,null,null,null,null,null,null,null,{"$error":"#N/A"}]
[null,null,null,null,null,null,null,null,null,null,null,null,{"$error":"#N/A"},{"$error":"#N/A"},null,null,null,null,null,null,null,null,null,null,null,null,null,null,null,null,null,null,null,null,null,null,null,null,null,null,null,null,null,{"$error":"#N/A"}]
[null,null,null,null,null,null,null,null,null,null,null,null,{"$error":"#N/A"},{"$error":"#N/A"},null,null,null,null,null,null,null,null,null,null,null,null,null,null,null,null,null,null,null,null,null,null,null,null,null,null,null,null,null,{"$error":"#N/A"}]
[null,null,null,null,null,null,null,null,null,null,null,null,{"$error":"#N/A"},{"$error":"#N/A"},null,null,null,null,null,null,null,null,null,null,null,null,null,null,null,null,null,null,null,null,null,null,null,null,null,null,null,null,null,{"$error":"#N/A"}]
[null,null,null,null,null,null,null,null,null,null,null,null,{"$error":"#N/A"},{"$error":"#N/A"},null,null,null,null,null,null,null,null,null,null,null,null,null,null,null,null,null,null,null,null,null,null,null,null,null,null,null,null,null,{"$error":"#N/A"}]
[null,null,null,null,null,null,null,null,null,null,null,null,{"$error":"#N/A"},{"$error":"#N/A"},null,null,null,null,null,null,null,null,null,null,null,null,null,null,null,null,null,null,null,null,null,null,null,null,null,null,null,null,null,{"$error":"#N/A"}]
[null,null,null,null,null,null,null,null,null,null,null,null,{"$error":"#N/A"},{"$error":"#N/A"},null,null,null,null,null,null,null,null,null,null,null,null,null,null,null,null,null,null,null,null,null,null,null,null,null,null,null,null,null,{"$error":"#N/A"}]
[null,null,null,null,null,null,null,null,null,null,null,null,{"$error":"#N/A"},{"$error":"#N/A"},null,null,null,null,null,null,null,null,null,null,null,null,null,null,null,null,null,null,null,null,null,null,null,null,null,null,null,null,null,{"$error":"#N/A"}]
[null,null,null,null,null,null,null,null,null,null,null,null,{"$error":"#N/A"},{"$error":"#N/A"},null,null,null,null,null,null,null,null,null,null,null,null,null,null,null,null,null,null,null,null,null,null,null,null,null,null,null,null,null,{"$error":"#N/A"}]
[null,null,null,null,null,null,null,null,null,null,null,null,{"$error":"#N/A"},{"$error":"#N/A"},null,null,null,null,null,null,null,null,null,null,null,null,null,null,null,null,null,null,null,null,null,null,null,null,null,null,null,null,null,{"$error":"#N/A"}]
[null,null,null,null,null,null,null,null,null,null,null,null,{"$error":"#N/A"},{"$error":"#N/A"},null,null,null,null,null,null,null,null,null,null,null,null,null,null,null,null,null,null,null,null,null,null,null,null,null,null,null,null,null,{"$error":"#N/A"}]
[null,null,null,null,null,null,null,null,null,null,null,null,{"$error":"#N/A"},{"$error":"#N/A"},null,null,null,null,null,null,null,null,null,null,null,null,null,null,null,null,null,null,null,null,null,null,null,null,null,null,null,null,null,{"$error":"#N/A"}]
[null,null,null,null,null,null,null,null,null,null,null,null,{"$error":"#N/A"},{"$error":"#N/A"},null,null,null,null,null,null,null,null,null,null,null,null,null,null,null,null,null,null,null,null,null,null,null,null,null,null,null,null,null,{"$error":"#N/A"}]
[null,null,null,null,null,null,null,null,null,null,null,null,{"$error":"#N/A"},{"$error":"#N/A"},null,null,null,null,null,null,null,null,null,null,null,null,null,null,null,null,null,null,null,null,null,null,null,null,null,null,null,null,null,{"$error":"#N/A"}]
[null,null,null,null,null,null,null,null,null,null,null,null,{"$error":"#N/A"},{"$error":"#N/A"},null,null,null,null,null,null,null,null,null,null,null,null,null,null,null,null,null,null,null,null,null,null,null,null,null,null,null,null,null,{"$error":"#N/A"}]
[null,null,null,null,null,null,null,null,null,null,null,null,{"$error":"#N/A"},{"$error":"#N/A"},null,null,null,null,null,null,null,null,null,null,null,null,null,null,null,null,null,null,null,null,null,null,null,null,null,null,null,null,null,{"$error":"#N/A"}]
[null,null,null,null,null,null,null,null,null,null,null,null,{"$error":"#N/A"},{"$error":"#N/A"},null,null,null,null,null,null,null,null,null,null,null,null,null,null,null,null,null,null,null,null,null,null,null,null,null,null,null,null,null,{"$error":"#N/A"}]
[null,null,null,null,null,null,null,null,null,null,null,null,{"$error":"#N/A"},{"$error":"#N/A"},null,null,null,null,null,null,null,null,null,null,null,null,null,null,null,null,null,null,null,null,null,null,null,null,null,null,null,null,null,{"$error":"#N/A"}]
[null,null,null,null,null,null,null,null,null,null,null,null,{"$error":"#N/A"},{"$error":"#N/A"},null,null,null,null,null,null,null,null,null,null,null,null,null,null,null,null,null,null,null,null,null,null,null,null,null,null,null,null,null,{"$error":"#N/A"}]
[null,null,null,null,null,null,null,null,null,null,null,null,{"$error":"#N/A"},{"$error":"#N/A"},null,null,null,null,null,null,null,null,null,null,null,null,null,null,null,null,null,null,null,null,null,null,null,null,null,null,null,null,null,{"$error":"#N/A"}]
[null,null,null,null,null,null,null,null,null,null,null,null,{"$error":"#N/A"},{"$error":"#N/A"},null,null,null,null,null,null,null,null,null,null,null,null,null,null,null,null,null,null,null,null,null,null,null,null,null,null,null,null,null,{"$error":"#N/A"}]
[null,null,null,null,null,null,null,null,null,null,null,null,{"$error":"#N/A"},{"$error":"#N/A"},null,null,null,null,null,null,null,null,null,null,null,null,null,null,null,null,null,null,null,null,null,null,null,null,null,null,null,null,null,{"$error":"#N/A"}]
[null,null,null,null,null,null,null,null,null,null,null,null,{"$error":"#N/A"},{"$error":"#N/A"},null,null,null,null,null,null,null,null,null,null,null,null,null,null,null,null,null,null,null,null,null,null,null,null,null,null,null,null,null,{"$error":"#N/A"}]
[null,null,null,null,null,null,null,null,null,null,null,null,{"$f":"IF(AND($F$17=H2289,$AK$44=F2289),J2289,\"\")","v":{"$error":"#N/A"}},{"$f":"IF(AND($F$17=H2289,$AK$44=F2289),L2289,\"\")","v":{"$error":"#N/A"}},null,null,null,null,null,null,null,null,null,null,null,null,null,null,null,null,null,null,null,null,null,null,null,null,null,null,null,null,null,{"$error":"#N/A"}]
[null,null,null,null,null,null,null,null,null,null,null,null,{"$error":"#N/A"},{"$error":"#N/A"},null,null,null,null,null,null,null,null,null,null,null,null,null,null,null,null,null,null,null,null,null,null,null,null,null,null,null,null,null,{"$error":"#N/A"}]
[null,null,null,null,null,null,null,null,null,null,null,null,{"$error":"#N/A"},{"$error":"#N/A"},null,null,null,null,null,null,null,null,null,null,null,null,null,null,null,null,null,null,null,null,null,null,null,null,null,null,null,null,null,{"$error":"#N/A"}]
[null,null,null,null,null,null,null,null,null,null,null,null,{"$error":"#N/A"},{"$error":"#N/A"},null,null,null,null,null,null,null,null,null,null,null,null,null,null,null,null,null,null,null,null,null,null,null,null,null,null,null,null,null,{"$error":"#N/A"}]
[null,null,null,null,null,null,null,null,null,null,null,null,{"$error":"#N/A"},{"$error":"#N/A"},null,null,null,null,null,null,null,null,null,null,null,null,null,null,null,null,null,null,null,null,null,null,null,null,null,null,null,null,null,{"$error":"#N/A"}]
[null,null,null,null,null,null,null,null,null,null,null,null,{"$error":"#N/A"},{"$error":"#N/A"},null,null,null,null,null,null,null,null,null,null,null,null,null,null,null,null,null,null,null,null,null,null,null,null,null,null,null,null,null,{"$error":"#N/A"}]
[null,null,null,null,null,null,null,null,null,null,null,null,{"$error":"#N/A"},{"$error":"#N/A"},null,null,null,null,null,null,null,null,null,null,null,null,null,null,null,null,null,null,null,null,null,null,null,null,null,null,null,null,null,{"$error":"#N/A"}]
[null,null,null,null,null,null,null,null,null,null,null,null,{"$error":"#N/A"},{"$error":"#N/A"},null,null,null,null,null,null,null,null,null,null,null,null,null,null,null,null,null,null,null,null,null,null,null,null,null,null,null,null,null,{"$error":"#N/A"}]
[null,null,null,null,null,null,null,null,null,null,null,null,{"$error":"#N/A"},{"$error":"#N/A"},null,null,null,null,null,null,null,null,null,null,null,null,null,null,null,null,null,null,null,null,null,null,null,null,null,null,null,null,null,{"$error":"#N/A"}]
[null,null,null,null,null,null,null,null,null,null,null,null,{"$error":"#N/A"},{"$error":"#N/A"},null,null,null,null,null,null,null,null,null,null,null,null,null,null,null,null,null,null,null,null,null,null,null,null,null,null,null,null,null,{"$error":"#N/A"}]
[null,null,null,null,null,null,null,null,null,null,null,null,{"$error":"#N/A"},{"$error":"#N/A"},null,null,null,null,null,null,null,null,null,null,null,null,null,null,null,null,null,null,null,null,null,null,null,null,null,null,null,null,null,{"$error":"#N/A"}]
[null,null,null,null,null,null,null,null,null,null,null,null,{"$error":"#N/A"},{"$error":"#N/A"},null,null,null,null,null,null,null,null,null,null,null,null,null,null,null,null,null,null,null,null,null,null,null,null,null,null,null,null,null,{"$error":"#N/A"}]
[null,null,null,null,null,null,null,null,null,null,null,null,{"$error":"#N/A"},{"$error":"#N/A"},null,null,null,null,null,null,null,null,null,null,null,null,null,null,null,null,null,null,null,null,null,null,null,null,null,null,null,null,null,{"$error":"#N/A"}]
[null,null,null,null,null,null,null,null,null,null,null,null,{"$error":"#N/A"},{"$error":"#N/A"},null,null,null,null,null,null,null,null,null,null,null,null,null,null,null,null,null,null,null,null,null,null,null,null,null,null,null,null,null,{"$error":"#N/A"}]
[null,null,null,null,null,null,null,null,null,null,null,null,{"$error":"#N/A"},{"$error":"#N/A"},null,null,null,null,null,null,null,null,null,null,null,null,null,null,null,null,null,null,null,null,null,null,null,null,null,null,null,null,null,{"$error":"#N/A"}]
[null,null,null,null,null,null,null,null,null,null,null,null,{"$error":"#N/A"},{"$error":"#N/A"},null,null,null,null,null,null,null,null,null,null,null,null,null,null,null,null,null,null,null,null,null,null,null,null,null,null,null,null,null,{"$error":"#N/A"}]
[null,null,null,null,null,null,null,null,null,null,null,null,{"$error":"#N/A"},{"$error":"#N/A"},null,null,null,null,null,null,null,null,null,null,null,null,null,null,null,null,null,null,null,null,null,null,null,null,null,null,null,null,null,{"$error":"#N/A"}]
[null,null,null,null,null,null,null,null,null,null,null,null,{"$error":"#N/A"},{"$error":"#N/A"},null,null,null,null,null,null,null,null,null,null,null,null,null,null,null,null,null,null,null,null,null,null,null,null,null,null,null,null,null,{"$error":"#N/A"}]
[null,null,null,null,null,null,null,null,null,null,null,null,{"$error":"#N/A"},{"$error":"#N/A"},null,null,null,null,null,null,null,null,null,null,null,null,null,null,null,null,null,null,null,null,null,null,null,null,null,null,null,null,null,{"$error":"#N/A"}]
[null,null,null,null,null,null,null,null,null,null,null,null,{"$error":"#N/A"},{"$error":"#N/A"},null,null,null,null,null,null,null,null,null,null,null,null,null,null,null,null,null,null,null,null,null,null,null,null,null,null,null,null,null,{"$error":"#N/A"}]
[null,null,null,null,null,null,null,null,null,null,null,null,{"$error":"#N/A"},{"$error":"#N/A"},null,null,null,null,null,null,null,null,null,null,null,null,null,null,null,null,null,null,null,null,null,null,null,null,null,null,null,null,null,{"$error":"#N/A"}]
[null,null,null,null,null,null,null,null,null,null,null,null,{"$error":"#N/A"},{"$error":"#N/A"},null,null,null,null,null,null,null,null,null,null,null,null,null,null,null,null,null,null,null,null,null,null,null,null,null,null,null,null,null,{"$error":"#N/A"}]
[null,null,null,null,null,null,null,null,null,null,null,null,{"$error":"#N/A"},{"$error":"#N/A"},null,null,null,null,null,null,null,null,null,null,null,null,null,null,null,null,null,null,null,null,null,null,null,null,null,null,null,null,null,{"$error":"#N/A"}]
[null,null,null,null,null,null,null,null,null,null,null,null,{"$error":"#N/A"},{"$error":"#N/A"},null,null,null,null,null,null,null,null,null,null,null,null,null,null,null,null,null,null,null,null,null,null,null,null,null,null,null,null,null,{"$error":"#N/A"}]
[null,null,null,null,null,null,null,null,null,null,null,null,{"$error":"#N/A"},{"$error":"#N/A"},null,null,null,null,null,null,null,null,null,null,null,null,null,null,null,null,null,null,null,null,null,null,null,null,null,null,null,null,null,{"$error":"#N/A"}]
[null,null,null,null,null,null,null,null,null,null,null,null,{"$error":"#N/A"},{"$error":"#N/A"},null,null,null,null,null,null,null,null,null,null,null,null,null,null,null,null,null,null,null,null,null,null,null,null,null,null,null,null,null,{"$error":"#N/A"}]
[null,null,null,null,null,null,null,null,null,null,null,null,{"$error":"#N/A"},{"$error":"#N/A"},null,null,null,null,null,null,null,null,null,null,null,null,null,null,null,null,null,null,null,null,null,null,null,null,null,null,null,null,null,{"$error":"#N/A"}]
[null,null,null,null,null,null,null,null,null,null,null,null,{"$error":"#N/A"},{"$error":"#N/A"},null,null,null,null,null,null,null,null,null,null,null,null,null,null,null,null,null,null,null,null,null,null,null,null,null,null,null,null,null,{"$error":"#N/A"}]
[null,null,null,null,null,null,null,null,null,null,null,null,{"$error":"#N/A"},{"$error":"#N/A"},null,null,null,null,null,null,null,null,null,null,null,null,null,null,null,null,null,null,null,null,null,null,null,null,null,null,null,null,null,{"$error":"#N/A"}]
[null,null,null,null,null,null,null,null,null,null,null,null,{"$error":"#N/A"},{"$error":"#N/A"},null,null,null,null,null,null,null,null,null,null,null,null,null,null,null,null,null,null,null,null,null,null,null,null,null,null,null,null,null,{"$error":"#N/A"}]
[null,null,null,null,null,null,null,null,null,null,null,null,{"$error":"#N/A"},{"$error":"#N/A"},null,null,null,null,null,null,null,null,null,null,null,null,null,null,null,null,null,null,null,null,null,null,null,null,null,null,null,null,null,{"$error":"#N/A"}]
[null,null,null,null,null,null,null,null,null,null,null,null,{"$error":"#N/A"},{"$error":"#N/A"},null,null,null,null,null,null,null,null,null,null,null,null,null,null,null,null,null,null,null,null,null,null,null,null,null,null,null,null,null,{"$error":"#N/A"}]
[null,null,null,null,null,null,null,null,null,null,null,null,{"$error":"#N/A"},{"$error":"#N/A"},null,null,null,null,null,null,null,null,null,null,null,null,null,null,null,null,null,null,null,null,null,null,null,null,null,null,null,null,null,{"$error":"#N/A"}]
[null,null,null,null,null,null,null,null,null,null,null,null,{"$error":"#N/A"},{"$error":"#N/A"},null,null,null,null,null,null,null,null,null,null,null,null,null,null,null,null,null,null,null,null,null,null,null,null,null,null,null,null,null,{"$error":"#N/A"}]
[null,null,null,null,null,null,null,null,null,null,null,null,{"$error":"#N/A"},{"$error":"#N/A"},null,null,null,null,null,null,null,null,null,null,null,null,null,null,null,null,null,null,null,null,null,null,null,null,null,null,null,null,null,{"$error":"#N/A"}]
[null,null,null,null,null,null,null,null,null,null,null,null,{"$error":"#N/A"},{"$error":"#N/A"},null,null,null,null,null,null,null,null,null,null,null,null,null,null,null,null,null,null,null,null,null,null,null,null,null,null,null,null,null,{"$error":"#N/A"}]
[null,null,null,null,null,null,null,null,null,null,null,null,{"$error":"#N/A"},{"$error":"#N/A"},null,null,null,null,null,null,null,null,null,null,null,null,null,null,null,null,null,null,null,null,null,null,null,null,null,null,null,null,null,{"$error":"#N/A"}]
[null,null,null,null,null,null,null,null,null,null,null,null,{"$error":"#N/A"},{"$error":"#N/A"},null,null,null,null,null,null,null,null,null,null,null,null,null,null,null,null,null,null,null,null,null,null,null,null,null,null,null,null,null,{"$error":"#N/A"}]
[null,null,null,null,null,null,null,null,null,null,null,null,{"$error":"#N/A"},{"$error":"#N/A"},null,null,null,null,null,null,null,null,null,null,null,null,null,null,null,null,null,null,null,null,null,null,null,null,null,null,null,null,null,{"$error":"#N/A"}]
[null,null,null,null,null,null,null,null,null,null,null,null,{"$error":"#N/A"},{"$error":"#N/A"},null,null,null,null,null,null,null,null,null,null,null,null,null,null,null,null,null,null,null,null,null,null,null,null,null,null,null,null,null,{"$error":"#N/A"}]
[null,null,null,null,null,null,null,null,null,null,null,null,{"$f":"IF(AND($F$17=H2481,$AK$44=F2481),J2481,\"\")","v":{"$error":"#N/A"}},{"$f":"IF(AND($F$17=H2481,$AK$44=F2481),L2481,\"\")","v":{"$error":"#N/A"}},null,null,null,null,null,null,null,null,null,null,null,null,null,null,null,null,null,null,null,null,null,null,null,null,null,null,null,null,null,{"$error":"#N/A"}]
[null,null,null,null,null,null,null,null,null,null,null,null,{"$error":"#N/A"},{"$error":"#N/A"},null,null,null,null,null,null,null,null,null,null,null,null,null,null,null,null,null,null,null,null,null,null,null,null,null,null,null,null,null,{"$error":"#N/A"}]
[null,null,null,null,null,null,null,null,null,null,null,null,{"$error":"#N/A"},{"$error":"#N/A"},null,null,null,null,null,null,null,null,null,null,null,null,null,null,null,null,null,null,null,null,null,null,null,null,null,null,null,null,null,{"$error":"#N/A"}]
[null,null,null,null,null,null,null,null,null,null,null,null,{"$error":"#N/A"},{"$error":"#N/A"},null,null,null,null,null,null,null,null,null,null,null,null,null,null,null,null,null,null,null,null,null,null,null,null,null,null,null,null,null,{"$error":"#N/A"}]
[null,null,null,null,null,null,null,null,null,null,null,null,{"$error":"#N/A"},{"$error":"#N/A"},null,null,null,null,null,null,null,null,null,null,null,null,null,null,null,null,null,null,null,null,null,null,null,null,null,null,null,null,null,{"$error":"#N/A"}]
[null,null,null,null,null,null,null,null,null,null,null,null,{"$error":"#N/A"},{"$error":"#N/A"},null,null,null,null,null,null,null,null,null,null,null,null,null,null,null,null,null,null,null,null,null,null,null,null,null,null,null,null,null,{"$error":"#N/A"}]
[null,null,null,null,null,null,null,null,null,null,null,null,{"$error":"#N/A"},{"$error":"#N/A"},null,null,null,null,null,null,null,null,null,null,null,null,null,null,null,null,null,null,null,null,null,null,null,null,null,null,null,null,null,{"$error":"#N/A"}]
[null,null,null,null,null,null,null,null,null,null,null,null,{"$error":"#N/A"},{"$error":"#N/A"},null,null,null,null,null,null,null,null,null,null,null,null,null,null,null,null,null,null,null,null,null,null,null,null,null,null,null,null,null,{"$error":"#N/A"}]
[null,null,null,null,null,null,null,null,null,null,null,null,{"$error":"#N/A"},{"$error":"#N/A"},null,null,null,null,null,null,null,null,null,null,null,null,null,null,null,null,null,null,null,null,null,null,null,null,null,null,null,null,null,{"$error":"#N/A"}]
[null,null,null,null,null,null,null,null,null,null,null,null,{"$error":"#N/A"},{"$error":"#N/A"},null,null,null,null,null,null,null,null,null,null,null,null,null,null,null,null,null,null,null,null,null,null,null,null,null,null,null,null,null,{"$error":"#N/A"}]
[null,null,null,null,null,null,null,null,null,null,null,null,{"$error":"#N/A"},{"$error":"#N/A"},null,null,null,null,null,null,null,null,null,null,null,null,null,null,null,null,null,null,null,null,null,null,null,null,null,null,null,null,null,{"$error":"#N/A"}]
[null,null,null,null,null,null,null,null,null,null,null,null,{"$error":"#N/A"},{"$error":"#N/A"},null,null,null,null,null,null,null,null,null,null,null,null,null,null,null,null,null,null,null,null,null,null,null,null,null,null,null,null,null,{"$error":"#N/A"}]
[null,null,null,null,null,null,null,null,null,null,null,null,{"$error":"#N/A"},{"$error":"#N/A"},null,null,null,null,null,null,null,null,null,null,null,null,null,null,null,null,null,null,null,null,null,null,null,null,null,null,null,null,null,{"$error":"#N/A"}]
[null,null,null,null,null,null,null,null,null,null,null,null,{"$error":"#N/A"},{"$error":"#N/A"},null,null,null,null,null,null,null,null,null,null,null,null,null,null,null,null,null,null,null,null,null,null,null,null,null,null,null,null,null,{"$error":"#N/A"}]
[null,null,null,null,null,null,null,null,null,null,null,null,{"$error":"#N/A"},{"$error":"#N/A"},null,null,null,null,null,null,null,null,null,null,null,null,null,null,null,null,null,null,null,null,null,null,null,null,null,null,null,null,null,{"$error":"#N/A"}]
[null,null,null,null,null,null,null,null,null,null,null,null,{"$error":"#N/A"},{"$error":"#N/A"},null,null,null,null,null,null,null,null,null,null,null,null,null,null,null,null,null,null,null,null,null,null,null,null,null,null,null,null,null,{"$error":"#N/A"}]
[null,null,null,null,null,null,null,null,null,null,null,null,{"$error":"#N/A"},{"$error":"#N/A"},null,null,null,null,null,null,null,null,null,null,null,null,null,null,null,null,null,null,null,null,null,null,null,null,null,null,null,null,null,{"$error":"#N/A"}]
[null,null,null,null,null,null,null,null,null,null,null,null,{"$error":"#N/A"},{"$error":"#N/A"},null,null,null,null,null,null,null,null,null,null,null,null,null,null,null,null,null,null,null,null,null,null,null,null,null,null,null,null,null,{"$error":"#N/A"}]
[null,null,null,null,null,null,null,null,null,null,null,null,{"$error":"#N/A"},{"$error":"#N/A"},null,null,null,null,null,null,null,null,null,null,null,null,null,null,null,null,null,null,null,null,null,null,null,null,null,null,null,null,null,{"$error":"#N/A"}]
[null,null,null,null,null,null,null,null,null,null,null,null,{"$error":"#N/A"},{"$error":"#N/A"},null,null,null,null,null,null,null,null,null,null,null,null,null,null,null,null,null,null,null,null,null,null,null,null,null,null,null,null,null,{"$error":"#N/A"}]
[null,null,null,null,null,null,null,null,null,null,null,null,{"$error":"#N/A"},{"$error":"#N/A"},null,null,null,null,null,null,null,null,null,null,null,null,null,null,null,null,null,null,null,null,null,null,null,null,null,null,null,null,null,{"$error":"#N/A"}]
[null,null,null,null,null,null,null,null,null,null,null,null,{"$error":"#N/A"},{"$error":"#N/A"},null,null,null,null,null,null,null,null,null,null,null,null,null,null,null,null,null,null,null,null,null,null,null,null,null,null,null,null,null,{"$error":"#N/A"}]
[null,null,null,null,null,null,null,null,null,null,null,null,{"$error":"#N/A"},{"$error":"#N/A"},null,null,null,null,null,null,null,null,null,null,null,null,null,null,null,null,null,null,null,null,null,null,null,null,null,null,null,null,null,{"$error":"#N/A"}]
[null,null,null,null,null,null,null,null,null,null,null,null,{"$error":"#N/A"},{"$error":"#N/A"},null,null,null,null,null,null,null,null,null,null,null,null,null,null,null,null,null,null,null,null,null,null,null,null,null,null,null,null,null,{"$error":"#N/A"}]
[null,null,null,null,null,null,null,null,null,null,null,null,{"$error":"#N/A"},{"$error":"#N/A"},null,null,null,null,null,null,null,null,null,null,null,null,null,null,null,null,null,null,null,null,null,null,null,null,null,null,null,null,null,{"$error":"#N/A"}]
[null,null,null,null,null,null,null,null,null,null,null,null,{"$error":"#N/A"},{"$error":"#N/A"},null,null,null,null,null,null,null,null,null,null,null,null,null,null,null,null,null,null,null,null,null,null,null,null,null,null,null,null,null,{"$error":"#N/A"}]
[null,null,null,null,null,null,null,null,null,null,null,null,{"$error":"#N/A"},{"$error":"#N/A"},null,null,null,null,null,null,null,null,null,null,null,null,null,null,null,null,null,null,null,null,null,null,null,null,null,null,null,null,null,{"$error":"#N/A"}]
[null,null,null,null,null,null,null,null,null,null,null,null,{"$error":"#N/A"},{"$error":"#N/A"},null,null,null,null,null,null,null,null,null,null,null,null,null,null,null,null,null,null,null,null,null,null,null,null,null,null,null,null,null,{"$error":"#N/A"}]
[null,null,null,null,null,null,null,null,null,null,null,null,{"$error":"#N/A"},{"$error":"#N/A"},null,null,null,null,null,null,null,null,null,null,null,null,null,null,null,null,null,null,null,null,null,null,null,null,null,null,null,null,null,{"$error":"#N/A"}]
[null,null,null,null,null,null,null,null,null,null,null,null,{"$error":"#N/A"},{"$error":"#N/A"},null,null,null,null,null,null,null,null,null,null,null,null,null,null,null,null,null,null,null,null,null,null,null,null,null,null,null,null,null,{"$error":"#N/A"}]
[null,null,null,null,null,null,null,null,null,null,null,null,{"$error":"#N/A"},{"$error":"#N/A"},null,null,null,null,null,null,null,null,null,null,null,null,null,null,null,null,null,null,null,null,null,null,null,null,null,null,null,null,null,{"$error":"#N/A"}]
[null,null,null,null,null,null,null,null,null,null,null,null,{"$error":"#N/A"},{"$error":"#N/A"},null,null,null,null,null,null,null,null,null,null,null,null,null,null,null,null,null,null,null,null,null,null,null,null,null,null,null,null,null,{"$error":"#N/A"}]
[null,null,null,null,null,null,null,null,null,null,null,null,{"$error":"#N/A"},{"$error":"#N/A"},null,null,null,null,null,null,null,null,null,null,null,null,null,null,null,null,null,null,null,null,null,null,null,null,null,null,null,null,null,{"$error":"#N/A"}]
[null,null,null,null,null,null,null,null,null,null,null,null,{"$error":"#N/A"},{"$error":"#N/A"},null,null,null,null,null,null,null,null,null,null,null,null,null,null,null,null,null,null,null,null,null,null,null,null,null,null,null,null,null,{"$error":"#N/A"}]
[null,null,null,null,null,null,null,null,null,null,null,null,{"$error":"#N/A"},{"$error":"#N/A"},null,null,null,null,null,null,null,null,null,null,null,null,null,null,null,null,null,null,null,null,null,null,null,null,null,null,null,null,null,{"$error":"#N/A"}]
[null,null,null,null,null,null,null,null,null,null,null,null,{"$error":"#N/A"},{"$error":"#N/A"},null,null,null,null,null,null,null,null,null,null,null,null,null,null,null,null,null,null,null,null,null,null,null,null,null,null,null,null,null,{"$error":"#N/A"}]
[null,null,null,null,null,null,null,null,null,null,null,null,{"$error":"#N/A"},{"$error":"#N/A"},null,null,null,null,null,null,null,null,null,null,null,null,null,null,null,null,null,null,null,null,null,null,null,null,null,null,null,null,null,{"$error":"#N/A"}]
[null,null,null,null,null,null,null,null,null,null,null,null,{"$error":"#N/A"},{"$error":"#N/A"},null,null,null,null,null,null,null,null,null,null,null,null,null,null,null,null,null,null,null,null,null,null,null,null,null,null,null,null,null,{"$error":"#N/A"}]
[null,null,null,null,null,null,null,null,null,null,null,null,{"$error":"#N/A"},{"$error":"#N/A"},null,null,null,null,null,null,null,null,null,null,null,null,null,null,null,null,null,null,null,null,null,null,null,null,null,null,null,null,null,{"$error":"#N/A"}]
[null,null,null,null,null,null,null,null,null,null,null,null,{"$error":"#N/A"},{"$error":"#N/A"},null,null,null,null,null,null,null,null,null,null,null,null,null,null,null,null,null,null,null,null,null,null,null,null,null,null,null,null,null,{"$error":"#N/A"}]
[null,null,null,null,null,null,null,null,null,null,null,null,{"$f":"IF(AND($F$17=H2673,$AK$44=F2673),J2673,\"\")","v":{"$error":"#N/A"}},{"$f":"IF(AND($F$17=H2673,$AK$44=F2673),L2673,\"\")","v":{"$error":"#N/A"}},null,null,null,null,null,null,null,null,null,null,null,null,null,null,null,null,null,null,null,null,null,null,null,null,null,null,null,null,null,{"$error":"#N/A"}]
[null,null,null,null,null,null,null,null,null,null,null,null,{"$error":"#N/A"},{"$error":"#N/A"},null,null,null,null,null,null,null,null,null,null,null,null,null,null,null,null,null,null,null,null,null,null,null,null,null,null,null,null,null,{"$error":"#N/A"}]
[null,null,null,null,null,null,null,null,null,null,null,null,{"$error":"#N/A"},{"$error":"#N/A"},null,null,null,null,null,null,null,null,null,null,null,null,null,null,null,null,null,null,null,null,null,null,null,null,null,null,null,null,null,{"$error":"#N/A"}]
[null,null,null,null,null,null,null,null,null,null,null,null,{"$error":"#N/A"},{"$error":"#N/A"},null,null,null,null,null,null,null,null,null,null,null,null,null,null,null,null,null,null,null,null,null,null,null,null,null,null,null,null,null,{"$error":"#N/A"}]
[null,null,null,null,null,null,null,null,null,null,null,null,{"$error":"#N/A"},{"$error":"#N/A"},null,null,null,null,null,null,null,null,null,null,null,null,null,null,null,null,null,null,null,null,null,null,null,null,null,null,null,null,null,{"$error":"#N/A"}]
[null,null,null,null,null,null,null,null,null,null,null,null,{"$error":"#N/A"},{"$error":"#N/A"},null,null,null,null,null,null,null,null,null,null,null,null,null,null,null,null,null,null,null,null,null,null,null,null,null,null,null,null,null,{"$error":"#N/A"}]
[null,null,null,null,null,null,null,null,null,null,null,null,{"$error":"#N/A"},{"$error":"#N/A"},null,null,null,null,null,null,null,null,null,null,null,null,null,null,null,null,null,null,null,null,null,null,null,null,null,null,null,null,null,{"$error":"#N/A"}]
[null,null,null,null,null,null,null,null,null,null,null,null,{"$error":"#N/A"},{"$error":"#N/A"},null,null,null,null,null,null,null,null,null,null,null,null,null,null,null,null,null,null,null,null,null,null,null,null,null,null,null,null,null,{"$error":"#N/A"}]
[null,null,null,null,null,null,null,null,null,null,null,null,{"$error":"#N/A"},{"$error":"#N/A"},null,null,null,null,null,null,null,null,null,null,null,null,null,null,null,null,null,null,null,null,null,null,null,null,null,null,null,null,null,{"$error":"#N/A"}]
[null,null,null,null,null,null,null,null,null,null,null,null,{"$error":"#N/A"},{"$error":"#N/A"},null,null,null,null,null,null,null,null,null,null,null,null,null,null,null,null,null,null,null,null,null,null,null,null,null,null,null,null,null,{"$error":"#N/A"}]
[null,null,null,null,null,null,null,null,null,null,null,null,{"$error":"#N/A"},{"$error":"#N/A"},null,null,null,null,null,null,null,null,null,null,null,null,null,null,null,null,null,null,null,null,null,null,null,null,null,null,null,null,null,{"$error":"#N/A"}]
[null,null,null,null,null,null,null,null,null,null,null,null,{"$error":"#N/A"},{"$error":"#N/A"},null,null,null,null,null,null,null,null,null,null,null,null,null,null,null,null,null,null,null,null,null,null,null,null,null,null,null,null,null,{"$error":"#N/A"}]
[null,null,null,null,null,null,null,null,null,null,null,null,{"$error":"#N/A"},{"$error":"#N/A"},null,null,null,null,null,null,null,null,null,null,null,null,null,null,null,null,null,null,null,null,null,null,null,null,null,null,null,null,null,{"$error":"#N/A"}]
[null,null,null,null,null,null,null,null,null,null,null,null,{"$error":"#N/A"},{"$error":"#N/A"},null,null,null,null,null,null,null,null,null,null,null,null,null,null,null,null,null,null,null,null,null,null,null,null,null,null,null,null,null,{"$error":"#N/A"}]
[null,null,null,null,null,null,null,null,null,null,null,null,{"$error":"#N/A"},{"$error":"#N/A"},null,null,null,null,null,null,null,null,null,null,null,null,null,null,null,null,null,null,null,null,null,null,null,null,null,null,null,null,null,{"$error":"#N/A"}]
[null,null,null,null,null,null,null,null,null,null,null,null,{"$error":"#N/A"},{"$error":"#N/A"},null,null,null,null,null,null,null,null,null,null,null,null,null,null,null,null,null,null,null,null,null,null,null,null,null,null,null,null,null,{"$error":"#N/A"}]
[null,null,null,null,null,null,null,null,null,null,null,null,{"$error":"#N/A"},{"$error":"#N/A"},null,null,null,null,null,null,null,null,null,null,null,null,null,null,null,null,null,null,null,null,null,null,null,null,null,null,null,null,null,{"$error":"#N/A"}]
[null,null,null,null,null,null,null,null,null,null,null,null,{"$error":"#N/A"},{"$error":"#N/A"},null,null,null,null,null,null,null,null,null,null,null,null,null,null,null,null,null,null,null,null,null,null,null,null,null,null,null,null,null,{"$error":"#N/A"}]
[null,null,null,null,null,null,null,null,null,null,null,null,{"$error":"#N/A"},{"$error":"#N/A"},null,null,null,null,null,null,null,null,null,null,null,null,null,null,null,null,null,null,null,null,null,null,null,null,null,null,null,null,null,{"$error":"#N/A"}]
[null,null,null,null,null,null,null,null,null,null,null,null,{"$error":"#N/A"},{"$error":"#N/A"},null,null,null,null,null,null,null,null,null,null,null,null,null,null,null,null,null,null,null,null,null,null,null,null,null,null,null,null,null,{"$error":"#N/A"}]
[null,null,null,null,null,null,null,null,null,null,null,null,{"$error":"#N/A"},{"$error":"#N/A"},null,null,null,null,null,null,null,null,null,null,null,null,null,null,null,null,null,null,null,null,null,null,null,null,null,null,null,null,null,{"$error":"#N/A"}]
[null,null,null,null,null,null,null,null,null,null,null,null,{"$error":"#N/A"},{"$error":"#N/A"},null,null,null,null,null,null,null,null,null,null,null,null,null,null,null,null,null,null,null,null,null,null,null,null,null,null,null,null,null,{"$error":"#N/A"}]
[null,null,null,null,null,null,null,null,null,null,null,null,{"$error":"#N/A"},{"$error":"#N/A"},null,null,null,null,null,null,null,null,null,null,null,null,null,null,null,null,null,null,null,null,null,null,null,null,null,null,null,null,null,{"$error":"#N/A"}]
[null,null,null,null,null,null,null,null,null,null,null,null,{"$error":"#N/A"},{"$error":"#N/A"},null,null,null,null,null,null,null,null,null,null,null,null,null,null,null,null,null,null,null,null,null,null,null,null,null,null,null,null,null,{"$error":"#N/A"}]
[null,null,null,null,null,null,null,null,null,null,null,null,{"$error":"#N/A"},{"$error":"#N/A"},null,null,null,null,null,null,null,null,null,null,null,null,null,null,null,null,null,null,null,null,null,null,null,null,null,null,null,null,null,{"$error":"#N/A"}]
[null,null,null,null,null,null,null,null,null,null,null,null,{"$error":"#N/A"},{"$error":"#N/A"},null,null,null,null,null,null,null,null,null,null,null,null,null,null,null,null,null,null,null,null,null,null,null,null,null,null,null,null,null,{"$error":"#N/A"}]
[null,null,null,null,null,null,null,null,null,null,null,null,{"$error":"#N/A"},{"$error":"#N/A"},null,null,null,null,null,null,null,null,null,null,null,null,null,null,null,null,null,null,null,null,null,null,null,null,null,null,null,null,null,{"$error":"#N/A"}]
[null,null,null,null,null,null,null,null,null,null,null,null,{"$error":"#N/A"},{"$error":"#N/A"},null,null,null,null,null,null,null,null,null,null,null,null,null,null,null,null,null,null,null,null,null,null,null,null,null,null,null,null,null,{"$error":"#N/A"}]
[null,null,null,null,null,null,null,null,null,null,null,null,{"$error":"#N/A"},{"$error":"#N/A"},null,null,null,null,null,null,null,null,null,null,null,null,null,null,null,null,null,null,null,null,null,null,null,null,null,null,null,null,null,{"$error":"#N/A"}]
[null,null,null,null,null,null,null,null,null,null,null,null,{"$error":"#N/A"},{"$error":"#N/A"},null,null,null,null,null,null,null,null,null,null,null,null,null,null,null,null,null,null,null,null,null,null,null,null,null,null,null,null,null,{"$error":"#N/A"}]
[null,null,null,null,null,null,null,null,null,null,null,null,{"$error":"#N/A"},{"$error":"#N/A"},null,null,null,null,null,null,null,null,null,null,null,null,null,null,null,null,null,null,null,null,null,null,null,null,null,null,null,null,null,{"$error":"#N/A"}]
[null,null,null,null,null,null,null,null,null,null,null,null,{"$error":"#N/A"},{"$error":"#N/A"},null,null,null,null,null,null,null,null,null,null,null,null,null,null,null,null,null,null,null,null,null,null,null,null,null,null,null,null,null,{"$error":"#N/A"}]
[null,null,null,null,null,null,null,null,null,null,null,null,{"$error":"#N/A"},{"$error":"#N/A"},null,null,null,null,null,null,null,null,null,null,null,null,null,null,null,null,null,null,null,null,null,null,null,null,null,null,null,null,null,{"$error":"#N/A"}]
[null,null,null,null,null,null,null,null,null,null,null,null,{"$error":"#N/A"},{"$error":"#N/A"},null,null,null,null,null,null,null,null,null,null,null,null,null,null,null,null,null,null,null,null,null,null,null,null,null,null,null,null,null,{"$error":"#N/A"}]
[null,null,null,null,null,null,null,null,null,null,null,null,{"$error":"#N/A"},{"$error":"#N/A"},null,null,null,null,null,null,null,null,null,null,null,null,null,null,null,null,null,null,null,null,null,null,null,null,null,null,null,null,null,{"$error":"#N/A"}]
[null,null,null,null,null,null,null,null,null,null,null,null,{"$error":"#N/A"},{"$error":"#N/A"},null,null,null,null,null,null,null,null,null,null,null,null,null,null,null,null,null,null,null,null,null,null,null,null,null,null,null,null,null,{"$error":"#N/A"}]
[null,null,null,null,null,null,null,null,null,null,null,null,{"$error":"#N/A"},{"$error":"#N/A"},null,null,null,null,null,null,null,null,null,null,null,null,null,null,null,null,null,null,null,null,null,null,null,null,null,null,null,null,null,{"$error":"#N/A"}]
[null,null,null,null,null,null,null,null,null,null,null,null,{"$error":"#N/A"},{"$error":"#N/A"},null,null,null,null,null,null,null,null,null,null,null,null,null,null,null,null,null,null,null,null,null,null,null,null,null,null,null,null,null,{"$error":"#N/A"}]
[null,null,null,null,null,null,null,null,null,null,null,null,{"$error":"#N/A"},{"$error":"#N/A"},null,null,null,null,null,null,null,null,null,null,null,null,null,null,null,null,null,null,null,null,null,null,null,null,null,null,null,null,null,{"$error":"#N/A"}]
[null,null,null,null,null,null,null,null,null,null,null,null,{"$error":"#N/A"},{"$error":"#N/A"},null,null,null,null,null,null,null,null,null,null,null,null,null,null,null,null,null,null,null,null,null,null,null,null,null,null,null,null,null,{"$error":"#N/A"}]
[null,null,null,null,null,null,null,null,null,null,null,null,{"$error":"#N/A"},{"$error":"#N/A"},null,null,null,null,null,null,null,null,null,null,null,null,null,null,null,null,null,null,null,null,null,null,null,null,null,null,null,null,null,{"$error":"#N/A"}]
[null,null,null,null,null,null,null,null,null,null,null,null,{"$error":"#N/A"},{"$error":"#N/A"},null,null,null,null,null,null,null,null,null,null,null,null,null,null,null,null,null,null,null,null,null,null,null,null,null,null,null,null,null,{"$error":"#N/A"}]
[null,null,null,null,null,null,null,null,null,null,null,null,{"$error":"#N/A"},{"$error":"#N/A"},null,null,null,null,null,null,null,null,null,null,null,null,null,null,null,null,null,null,null,null,null,null,null,null,null,null,null,null,null,{"$error":"#N/A"}]
[null,null,null,null,null,null,null,null,null,null,null,null,{"$error":"#N/A"},{"$error":"#N/A"},null,null,null,null,null,null,null,null,null,null,null,null,null,null,null,null,null,null,null,null,null,null,null,null,null,null,null,null,null,{"$error":"#N/A"}]
[null,null,null,null,null,null,null,null,null,null,null,null,{"$error":"#N/A"},{"$error":"#N/A"},null,null,null,null,null,null,null,null,null,null,null,null,null,null,null,null,null,null,null,null,null,null,null,null,null,null,null,null,null,{"$error":"#N/A"}]
[null,null,null,null,null,null,null,null,null,null,null,null,{"$error":"#N/A"},{"$error":"#N/A"},null,null,null,null,null,null,null,null,null,null,null,null,null,null,null,null,null,null,null,null,null,null,null,null,null,null,null,null,null,{"$error":"#N/A"}]
[null,null,null,null,null,null,null,null,null,null,null,null,{"$error":"#N/A"},{"$error":"#N/A"},null,null,null,null,null,null,null,null,null,null,null,null,null,null,null,null,null,null,null,null,null,null,null,null,null,null,null,null,null,{"$error":"#N/A"}]
[null,null,null,null,null,null,null,null,null,null,null,null,{"$error":"#N/A"},{"$error":"#N/A"},null,null,null,null,null,null,null,null,null,null,null,null,null,null,null,null,null,null,null,null,null,null,null,null,null,null,null,null,null,{"$error":"#N/A"}]
[null,null,null,null,null,null,null,null,null,null,null,null,{"$error":"#N/A"},{"$error":"#N/A"},null,null,null,null,null,null,null,null,null,null,null,null,null,null,null,null,null,null,null,null,null,null,null,null,null,null,null,null,null,{"$error":"#N/A"}]
[null,null,null,null,null,null,null,null,null,null,null,null,{"$error":"#N/A"},{"$error":"#N/A"},null,null,null,null,null,null,null,null,null,null,null,null,null,null,null,null,null,null,null,null,null,null,null,null,null,null,null,null,null,{"$error":"#N/A"}]
[null,null,null,null,null,null,null,null,null,null,null,null,{"$error":"#N/A"},{"$error":"#N/A"},null,null,null,null,null,null,null,null,null,null,null,null,null,null,null,null,null,null,null,null,null,null,null,null,null,null,null,null,null,{"$error":"#N/A"}]
[null,null,null,null,null,null,null,null,null,null,null,null,{"$error":"#N/A"},{"$error":"#N/A"},null,null,null,null,null,null,null,null,null,null,null,null,null,null,null,null,null,null,null,null,null,null,null,null,null,null,null,null,null,{"$error":"#N/A"}]
[null,null,null,null,null,null,null,null,null,null,null,null,{"$error":"#N/A"},{"$error":"#N/A"},null,null,null,null,null,null,null,null,null,null,null,null,null,null,null,null,null,null,null,null,null,null,null,null,null,null,null,null,null,{"$error":"#N/A"}]
[null,null,null,null,null,null,null,null,null,null,null,null,{"$error":"#N/A"},{"$error":"#N/A"},null,null,null,null,null,null,null,null,null,null,null,null,null,null,null,null,null,null,null,null,null,null,null,null,null,null,null,null,null,{"$error":"#N/A"}]
[null,null,null,null,null,null,null,null,null,null,null,null,{"$error":"#N/A"},{"$error":"#N/A"},null,null,null,null,null,null,null,null,null,null,null,null,null,null,null,null,null,null,null,null,null,null,null,null,null,null,null,null,null,{"$error":"#N/A"}]
[null,null,null,null,null,null,null,null,null,null,null,null,{"$error":"#N/A"},{"$error":"#N/A"},null,null,null,null,null,null,null,null,null,null,null,null,null,null,null,null,null,null,null,null,null,null,null,null,null,null,null,null,null,{"$error":"#N/A"}]
[null,null,null,null,null,null,null,null,null,null,null,null,{"$error":"#N/A"},{"$error":"#N/A"},null,null,null,null,null,null,null,null,null,null,null,null,null,null,null,null,null,null,null,null,null,null,null,null,null,null,null,null,null,{"$error":"#N/A"}]
[null,null,null,null,null,null,null,null,null,null,null,null,{"$error":"#N/A"},{"$error":"#N/A"},null,null,null,null,null,null,null,null,null,null,null,null,null,null,null,null,null,null,null,null,null,null,null,null,null,null,null,null,null,{"$error":"#N/A"}]
[null,null,null,null,null,null,null,null,null,null,null,null,{"$error":"#N/A"},{"$error":"#N/A"},null,null,null,null,null,null,null,null,null,null,null,null,null,null,null,null,null,null,null,null,null,null,null,null,null,null,null,null,null,{"$error":"#N/A"}]
[null,null,null,null,null,null,null,null,null,null,null,null,{"$error":"#N/A"},{"$error":"#N/A"},null,null,null,null,null,null,null,null,null,null,null,null,null,null,null,null,null,null,null,null,null,null,null,null,null,null,null,null,null,{"$error":"#N/A"}]
[null,null,null,null,null,null,null,null,null,null,null,null,{"$error":"#N/A"},{"$error":"#N/A"},null,null,null,null,null,null,null,null,null,null,null,null,null,null,null,null,null,null,null,null,null,null,null,null,null,null,null,null,null,{"$error":"#N/A"}]
[null,null,null,null,null,null,null,null,null,null,null,null,{"$error":"#N/A"},{"$error":"#N/A"},null,null,null,null,null,null,null,null,null,null,null,null,null,null,null,null,null,null,null,null,null,null,null,null,null,null,null,null,null,{"$error":"#N/A"}]
[null,null,null,null,null,null,null,null,null,null,null,null,{"$error":"#N/A"},{"$error":"#N/A"},null,null,null,null,null,null,null,null,null,null,null,null,null,null,null,null,null,null,null,null,null,null,null,null,null,null,null,null,null,{"$error":"#N/A"}]
[null,null,null,null,null,null,null,null,null,null,null,null,{"$error":"#N/A"},{"$error":"#N/A"},null,null,null,null,null,null,null,null,null,null,null,null,null,null,null,null,null,null,null,null,null,null,null,null,null,null,null,null,null,{"$error":"#N/A"}]
[null,null,null,null,null,null,null,null,null,null,null,null,{"$error":"#N/A"},{"$error":"#N/A"},null,null,null,null,null,null,null,null,null,null,null,null,null,null,null,null,null,null,null,null,null,null,null,null,null,null,null,null,null,{"$error":"#N/A"}]
[null,null,null,null,null,null,null,null,null,null,null,null,{"$error":"#N/A"},{"$error":"#N/A"},null,null,null,null,null,null,null,null,null,null,null,null,null,null,null,null,null,null,null,null,null,null,null,null,null,null,null,null,null,{"$error":"#N/A"}]
[null,null,null,null,null,null,null,null,null,null,null,null,{"$error":"#N/A"},{"$error":"#N/A"},null,null,null,null,null,null,null,null,null,null,null,null,null,null,null,null,null,null,null,null,null,null,null,null,null,null,null,null,null,{"$error":"#N/A"}]
[null,null,null,null,null,null,null,null,null,null,null,null,{"$error":"#N/A"},{"$error":"#N/A"},null,null,null,null,null,null,null,null,null,null,null,null,null,null,null,null,null,null,null,null,null,null,null,null,null,null,null,null,null,{"$error":"#N/A"}]
[null,null,null,null,null,null,null,null,null,null,null,null,{"$error":"#N/A"},{"$error":"#N/A"},null,null,null,null,null,null,null,null,null,null,null,null,null,null,null,null,null,null,null,null,null,null,null,null,null,null,null,null,null,{"$error":"#N/A"}]
[null,null,null,null,null,null,null,null,null,null,null,null,{"$error":"#N/A"},{"$error":"#N/A"},null,null,null,null,null,null,null,null,null,null,null,null,null,null,null,null,null,null,null,null,null,null,null,null,null,null,null,null,null,{"$error":"#N/A"}]
[null,null,null,null,null,null,null,null,null,null,null,null,{"$error":"#N/A"},{"$error":"#N/A"},null,null,null,null,null,null,null,null,null,null,null,null,null,null,null,null,null,null,null,null,null,null,null,null,null,null,null,null,null,{"$error":"#N/A"}]
[null,null,null,null,null,null,null,null,null,null,null,null,{"$error":"#N/A"},{"$error":"#N/A"},null,null,null,null,null,null,null,null,null,null,null,null,null,null,null,null,null,null,null,null,null,null,null,null,null,null,null,null,null,{"$error":"#N/A"}]
[null,null,null,null,null,null,null,null,null,null,null,null,{"$error":"#N/A"},{"$error":"#N/A"},null,null,null,null,null,null,null,null,null,null,null,null,null,null,null,null,null,null,null,null,null,null,null,null,null,null,null,null,null,{"$error":"#N/A"}]
[null,null,null,null,null,null,null,null,null,null,null,null,{"$error":"#N/A"},{"$error":"#N/A"},null,null,null,null,null,null,null,null,null,null,null,null,null,null,null,null,null,null,null,null,null,null,null,null,null,null,null,null,null,{"$error":"#N/A"}]
[null,null,null,null,null,null,null,null,null,null,null,null,{"$error":"#N/A"},{"$error":"#N/A"},null,null,null,null,null,null,null,null,null,null,null,null,null,null,null,null,null,null,null,null,null,null,null,null,null,null,null,null,null,{"$error":"#N/A"}]
[null,null,null,null,null,null,null,null,null,null,null,null,{"$error":"#N/A"},{"$error":"#N/A"},null,null,null,null,null,null,null,null,null,null,null,null,null,null,null,null,null,null,null,null,null,null,null,null,null,null,null,null,null,{"$error":"#N/A"}]
[null,null,null,null,null,null,null,null,null,null,null,null,{"$error":"#N/A"},{"$error":"#N/A"},null,null,null,null,null,null,null,null,null,null,null,null,null,null,null,null,null,null,null,null,null,null,null,null,null,null,null,null,null,{"$error":"#N/A"}]
[null,null,null,null,null,null,null,null,null,null,null,null,{"$error":"#N/A"},{"$error":"#N/A"},null,null,null,null,null,null,null,null,null,null,null,null,null,null,null,null,null,null,null,null,null,null,null,null,null,null,null,null,null,{"$error":"#N/A"}]
[null,null,null,null,null,null,null,null,null,null,null,null,{"$error":"#N/A"},{"$error":"#N/A"},null,null,null,null,null,null,null,null,null,null,null,null,null,null,null,null,null,null,null,null,null,null,null,null,null,null,null,null,null,{"$error":"#N/A"}]
[null,null,null,null,null,null,null,null,null,null,null,null,{"$error":"#N/A"},{"$error":"#N/A"},null,null,null,null,null,null,null,null,null,null,null,null,null,null,null,null,null,null,null,null,null,null,null,null,null,null,null,null,null,{"$error":"#N/A"}]
[null,null,null,null,null,null,null,null,null,null,null,null,{"$error":"#N/A"},{"$error":"#N/A"},null,null,null,null,null,null,null,null,null,null,null,null,null,null,null,null,null,null,null,null,null,null,null,null,null,null,null,null,null,{"$error":"#N/A"}]
[null,null,null,null,null,null,null,null,null,null,null,null,{"$error":"#N/A"},{"$error":"#N/A"},null,null,null,null,null,null,null,null,null,null,null,null,null,null,null,null,null,null,null,null,null,null,null,null,null,null,null,null,null,{"$error":"#N/A"}]
[null,null,null,null,null,null,null,null,null,null,null,null,{"$error":"#N/A"},{"$error":"#N/A"},null,null,null,null,null,null,null,null,null,null,null,null,null,null,null,null,null,null,null,null,null,null,null,null,null,null,null,null,null,{"$error":"#N/A"}]
[null,null,null,null,null,null,null,null,null,null,null,null,{"$error":"#N/A"},{"$error":"#N/A"},null,null,null,null,null,null,null,null,null,null,null,null,null,null,null,null,null,null,null,null,null,null,null,null,null,null,null,null,null,{"$error":"#N/A"}]
[null,null,null,null,null,null,null,null,null,null,null,null,{"$error":"#N/A"},{"$error":"#N/A"},null,null,null,null,null,null,null,null,null,null,null,null,null,null,null,null,null,null,null,null,null,null,null,null,null,null,null,null,null,{"$error":"#N/A"}]
[null,null,null,null,null,null,null,null,null,null,null,null,{"$error":"#N/A"},{"$error":"#N/A"},null,null,null,null,null,null,null,null,null,null,null,null,null,null,null,null,null,null,null,null,null,null,null,null,null,null,null,null,null,{"$error":"#N/A"}]
[null,null,null,null,null,null,null,null,null,null,null,null,{"$error":"#N/A"},{"$error":"#N/A"},null,null,null,null,null,null,null,null,null,null,null,null,null,null,null,null,null,null,null,null,null,null,null,null,null,null,null,null,null,{"$error":"#N/A"}]
[null,null,null,null,null,null,null,null,null,null,null,null,{"$error":"#N/A"},{"$error":"#N/A"},null,null,null,null,null,null,null,null,null,null,null,null,null,null,null,null,null,null,null,null,null,null,null,null,null,null,null,null,null,{"$error":"#N/A"}]
[null,null,null,null,null,null,null,null,null,null,null,null,{"$error":"#N/A"},{"$error":"#N/A"},null,null,null,null,null,null,null,null,null,null,null,null,null,null,null,null,null,null,null,null,null,null,null,null,null,null,null,null,null,{"$error":"#N/A"}]
[null,null,null,null,null,null,null,null,null,null,null,null,{"$error":"#N/A"},{"$error":"#N/A"},null,null,null,null,null,null,null,null,null,null,null,null,null,null,null,null,null,null,null,null,null,null,null,null,null,null,null,null,null,{"$error":"#N/A"}]
[null,null,null,null,null,null,null,null,null,null,null,null,{"$error":"#N/A"},{"$error":"#N/A"},null,null,null,null,null,null,null,null,null,null,null,null,null,null,null,null,null,null,null,null,null,null,null,null,null,null,null,null,null,{"$error":"#N/A"}]
[null,null,null,null,null,null,null,null,null,null,null,null,{"$error":"#N/A"},{"$error":"#N/A"},null,null,null,null,null,null,null,null,null,null,null,null,null,null,null,null,null,null,null,null,null,null,null,null,null,null,null,null,null,{"$error":"#N/A"}]
[null,null,null,null,null,null,null,null,null,null,null,null,{"$error":"#N/A"},{"$error":"#N/A"},null,null,null,null,null,null,null,null,null,null,null,null,null,null,null,null,null,null,null,null,null,null,null,null,null,null,null,null,null,{"$error":"#N/A"}]
[null,null,null,null,null,null,null,null,null,null,null,null,{"$error":"#N/A"},{"$error":"#N/A"},null,null,null,null,null,null,null,null,null,null,null,null,null,null,null,null,null,null,null,null,null,null,null,null,null,null,null,null,null,{"$error":"#N/A"}]
[null,null,null,null,null,null,null,null,null,null,null,null,{"$error":"#N/A"},{"$error":"#N/A"},null,null,null,null,null,null,null,null,null,null,null,null,null,null,null,null,null,null,null,null,null,null,null,null,null,null,null,null,null,{"$error":"#N/A"}]
[null,null,null,null,null,null,null,null,null,null,null,null,{"$error":"#N/A"},{"$error":"#N/A"},null,null,null,null,null,null,null,null,null,null,null,null,null,null,null,null,null,null,null,null,null,null,null,null,null,null,null,null,null,{"$error":"#N/A"}]
[null,null,null,null,null,null,null,null,null,null,null,null,{"$error":"#N/A"},{"$error":"#N/A"},null,null,null,null,null,null,null,null,null,null,null,null,null,null,null,null,null,null,null,null,null,null,null,null,null,null,null,null,null,{"$error":"#N/A"}]
[null,null,null,null,null,null,null,null,null,null,null,null,{"$error":"#N/A"},{"$error":"#N/A"},null,null,null,null,null,null,null,null,null,null,null,null,null,null,null,null,null,null,null,null,null,null,null,null,null,null,null,null,null,{"$error":"#N/A"}]
[null,null,null,null,null,null,null,null,null,null,null,null,{"$error":"#N/A"},{"$error":"#N/A"},null,null,null,null,null,null,null,null,null,null,null,null,null,null,null,null,null,null,null,null,null,null,null,null,null,null,null,null,null,{"$error":"#N/A"}]
[null,null,null,null,null,null,null,null,null,null,null,null,{"$error":"#N/A"},{"$error":"#N/A"},null,null,null,null,null,null,null,null,null,null,null,null,null,null,null,null,null,null,null,null,null,null,null,null,null,null,null,null,null,{"$error":"#N/A"}]
[null,null,null,null,null,null,null,null,null,null,null,null,{"$error":"#N/A"},{"$error":"#N/A"},null,null,null,null,null,null,null,null,null,null,null,null,null,null,null,null,null,null,null,null,null,null,null,null,null,null,null,null,null,{"$error":"#N/A"}]
[null,null,null,null,null,null,null,null,null,null,null,null,{"$error":"#N/A"},{"$error":"#N/A"},null,null,null,null,null,null,null,null,null,null,null,null,null,null,null,null,null,null,null,null,null,null,null,null,null,null,null,null,null,{"$error":"#N/A"}]
[null,null,null,null,null,null,null,null,null,null,null,null,{"$error":"#N/A"},{"$error":"#N/A"},null,null,null,null,null,null,null,null,null,null,null,null,null,null,null,null,null,null,null,null,null,null,null,null,null,null,null,null,null,{"$error":"#N/A"}]
[null,null,null,null,null,null,null,null,null,null,null,null,{"$error":"#N/A"},{"$error":"#N/A"},null,null,null,null,null,null,null,null,null,null,null,null,null,null,null,null,null,null,null,null,null,null,null,null,null,null,null,null,null,{"$error":"#N/A"}]
[null,null,null,null,null,null,null,null,null,null,null,null,{"$error":"#N/A"},{"$error":"#N/A"},null,null,null,null,null,null,null,null,null,null,null,null,null,null,null,null,null,null,null,null,null,null,null,null,null,null,null,null,null,{"$error":"#N/A"}]
[null,null,null,null,null,null,null,null,null,null,null,null,{"$error":"#N/A"},{"$error":"#N/A"},null,null,null,null,null,null,null,null,null,null,null,null,null,null,null,null,null,null,null,null,null,null,null,null,null,null,null,null,null,{"$error":"#N/A"}]
[null,null,null,null,null,null,null,null,null,null,null,null,{"$error":"#N/A"},{"$error":"#N/A"},null,null,null,null,null,null,null,null,null,null,null,null,null,null,null,null,null,null,null,null,null,null,null,null,null,null,null,null,null,{"$error":"#N/A"}]
[null,null,null,null,null,null,null,null,null,null,null,null,{"$error":"#N/A"},{"$error":"#N/A"},null,null,null,null,null,null,null,null,null,null,null,null,null,null,null,null,null,null,null,null,null,null,null,null,null,null,null,null,null,{"$error":"#N/A"}]
[null,null,null,null,null,null,null,null,null,null,null,null,{"$error":"#N/A"},{"$error":"#N/A"},null,null,null,null,null,null,null,null,null,null,null,null,null,null,null,null,null,null,null,null,null,null,null,null,null,null,null,null,null,{"$error":"#N/A"}]
[null,null,null,null,null,null,null,null,null,null,null,null,{"$error":"#N/A"},{"$error":"#N/A"},null,null,null,null,null,null,null,null,null,null,null,null,null,null,null,null,null,null,null,null,null,null,null,null,null,null,null,null,null,{"$error":"#N/A"}]
[null,null,null,null,null,null,null,null,null,null,null,null,{"$error":"#N/A"},{"$error":"#N/A"},null,null,null,null,null,null,null,null,null,null,null,null,null,null,null,null,null,null,null,null,null,null,null,null,null,null,null,null,null,{"$error":"#N/A"}]
[null,null,null,null,null,null,null,null,null,null,null,null,{"$error":"#N/A"},{"$error":"#N/A"},null,null,null,null,null,null,null,null,null,null,null,null,null,null,null,null,null,null,null,null,null,null,null,null,null,null,null,null,null,{"$error":"#N/A"}]
[null,null,null,null,null,null,null,null,null,null,null,null,{"$error":"#N/A"},{"$error":"#N/A"},null,null,null,null,null,null,null,null,null,null,null,null,null,null,null,null,null,null,null,null,null,null,null,null,null,null,null,null,null,{"$error":"#N/A"}]
[null,null,null,null,null,null,null,null,null,null,null,null,{"$error":"#N/A"},{"$error":"#N/A"},null,null,null,null,null,null,null,null,null,null,null,null,null,null,null,null,null,null,null,null,null,null,null,null,null,null,null,null,null,{"$error":"#N/A"}]
[null,null,null,null,null,null,null,null,null,null,null,null,{"$error":"#N/A"},{"$error":"#N/A"},null,null,null,null,null,null,null,null,null,null,null,null,null,null,null,null,null,null,null,null,null,null,null,null,null,null,null,null,null,{"$error":"#N/A"}]
[null,null,null,null,null,null,null,null,null,null,null,null,{"$error":"#N/A"},{"$error":"#N/A"},null,null,null,null,null,null,null,null,null,null,null,null,null,null,null,null,null,null,null,null,null,null,null,null,null,null,null,null,null,{"$error":"#N/A"}]
[null,null,null,null,null,null,null,null,null,null,null,null,{"$error":"#N/A"},{"$error":"#N/A"},null,null,null,null,null,null,null,null,null,null,null,null,null,null,null,null,null,null,null,null,null,null,null,null,null,null,null,null,null,{"$error":"#N/A"}]
[null,null,null,null,null,null,null,null,null,null,null,null,{"$error":"#N/A"},{"$error":"#N/A"},null,null,null,null,null,null,null,null,null,null,null,null,null,null,null,null,null,null,null,null,null,null,null,null,null,null,null,null,null,{"$error":"#N/A"}]
[null,null,null,null,null,null,null,null,null,null,null,null,{"$error":"#N/A"},{"$error":"#N/A"},null,null,null,null,null,null,null,null,null,null,null,null,null,null,null,null,null,null,null,null,null,null,null,null,null,null,null,null,null,{"$error":"#N/A"}]
[null,null,null,null,null,null,null,null,null,null,null,null,{"$error":"#N/A"},{"$error":"#N/A"},null,null,null,null,null,null,null,null,null,null,null,null,null,null,null,null,null,null,null,null,null,null,null,null,null,null,null,null,null,{"$error":"#N/A"}]
[null,null,null,null,null,null,null,null,null,null,null,null,{"$error":"#N/A"},{"$error":"#N/A"},null,null,null,null,null,null,null,null,null,null,null,null,null,null,null,null,null,null,null,null,null,null,null,null,null,null,null,null,null,{"$error":"#N/A"}]
[null,null,null,null,null,null,null,null,null,null,null,null,{"$error":"#N/A"},{"$error":"#N/A"},null,null,null,null,null,null,null,null,null,null,null,null,null,null,null,null,null,null,null,null,null,null,null,null,null,null,null,null,null,{"$error":"#N/A"}]
[null,null,null,null,null,null,null,null,null,null,null,null,{"$error":"#N/A"},{"$error":"#N/A"},null,null,null,null,null,null,null,null,null,null,null,null,null,null,null,null,null,null,null,null,null,null,null,null,null,null,null,null,null,{"$error":"#N/A"}]
[null,null,null,null,null,null,null,null,null,null,null,null,{"$error":"#N/A"},{"$error":"#N/A"},null,null,null,null,null,null,null,null,null,null,null,null,null,null,null,null,null,null,null,null,null,null,null,null,null,null,null,null,null,{"$error":"#N/A"}]
[null,null,null,null,null,null,null,null,null,null,null,null,{"$error":"#N/A"},{"$error":"#N/A"},null,null,null,null,null,null,null,null,null,null,null,null,null,null,null,null,null,null,null,null,null,null,null,null,null,null,null,null,null,{"$error":"#N/A"}]
[null,null,null,null,null,null,null,null,null,null,null,null,{"$error":"#N/A"},{"$error":"#N/A"},null,null,null,null,null,null,null,null,null,null,null,null,null,null,null,null,null,null,null,null,null,null,null,null,null,null,null,null,null,{"$error":"#N/A"}]
[null,null,null,null,null,null,null,null,null,null,null,null,{"$error":"#N/A"},{"$error":"#N/A"},null,null,null,null,null,null,null,null,null,null,null,null,null,null,null,null,null,null,null,null,null,null,null,null,null,null,null,null,null,{"$error":"#N/A"}]
[null,null,null,null,null,null,null,null,null,null,null,null,{"$error":"#N/A"},{"$error":"#N/A"},null,null,null,null,null,null,null,null,null,null,null,null,null,null,null,null,null,null,null,null,null,null,null,null,null,null,null,null,null,{"$error":"#N/A"}]
[null,null,null,null,null,null,null,null,null,null,null,null,{"$error":"#N/A"},{"$error":"#N/A"},null,null,null,null,null,null,null,null,null,null,null,null,null,null,null,null,null,null,null,null,null,null,null,null,null,null,null,null,null,{"$error":"#N/A"}]
[null,null,null,null,null,null,null,null,null,null,null,null,{"$error":"#N/A"},{"$error":"#N/A"},null,null,null,null,null,null,null,null,null,null,null,null,null,null,null,null,null,null,null,null,null,null,null,null,null,null,null,null,null,{"$error":"#N/A"}]
[null,null,null,null,null,null,null,null,null,null,null,null,{"$error":"#N/A"},{"$error":"#N/A"},null,null,null,null,null,null,null,null,null,null,null,null,null,null,null,null,null,null,null,null,null,null,null,null,null,null,null,null,null,{"$error":"#N/A"}]
[null,null,null,null,null,null,null,null,null,null,null,null,{"$error":"#N/A"},{"$error":"#N/A"},null,null,null,null,null,null,null,null,null,null,null,null,null,null,null,null,null,null,null,null,null,null,null,null,null,null,null,null,null,{"$error":"#N/A"}]
[null,null,null,null,null,null,null,null,null,null,null,null,{"$error":"#N/A"},{"$error":"#N/A"},null,null,null,null,null,null,null,null,null,null,null,null,null,null,null,null,null,null,null,null,null,null,null,null,null,null,null,null,null,{"$error":"#N/A"}]
[null,null,null,null,null,null,null,null,null,null,null,null,{"$error":"#N/A"},{"$error":"#N/A"},null,null,null,null,null,null,null,null,null,null,null,null,null,null,null,null,null,null,null,null,null,null,null,null,null,null,null,null,null,{"$error":"#N/A"}]
[null,null,null,null,null,null,null,null,null,null,null,null,{"$f":"IF(AND($F$17=H3313,$AK$44=F3313),J3313,\"\")","v":{"$error":"#N/A"}},{"$f":"IF(AND($F$17=H3313,$AK$44=F3313),L3313,\"\")","v":{"$error":"#N/A"}},null,null,null,null,null,null,null,null,null,null,null,null,null,null,null,null,null,null,null,null,null,null,null,null,null,null,null,null,null,{"$error":"#N/A"}]
[null,null,null,null,null,null,null,null,null,null,null,null,{"$error":"#N/A"},{"$error":"#N/A"},null,null,null,null,null,null,null,null,null,null,null,null,null,null,null,null,null,null,null,null,null,null,null,null,null,null,null,null,null,{"$error":"#N/A"}]
[null,null,null,null,null,null,null,null,null,null,null,null,{"$error":"#N/A"},{"$error":"#N/A"},null,null,null,null,null,null,null,null,null,null,null,null,null,null,null,null,null,null,null,null,null,null,null,null,null,null,null,null,null,{"$error":"#N/A"}]
[null,null,null,null,null,null,null,null,null,null,null,null,{"$error":"#N/A"},{"$error":"#N/A"},null,null,null,null,null,null,null,null,null,null,null,null,null,null,null,null,null,null,null,null,null,null,null,null,null,null,null,null,null,{"$error":"#N/A"}]
[null,null,null,null,null,null,null,null,null,null,null,null,{"$error":"#N/A"},{"$error":"#N/A"},null,null,null,null,null,null,null,null,null,null,null,null,null,null,null,null,null,null,null,null,null,null,null,null,null,null,null,null,null,{"$error":"#N/A"}]
[null,null,null,null,null,null,null,null,null,null,null,null,{"$error":"#N/A"},{"$error":"#N/A"},null,null,null,null,null,null,null,null,null,null,null,null,null,null,null,null,null,null,null,null,null,null,null,null,null,null,null,null,null,{"$error":"#N/A"}]
[null,null,null,null,null,null,null,null,null,null,null,null,{"$error":"#N/A"},{"$error":"#N/A"},null,null,null,null,null,null,null,null,null,null,null,null,null,null,null,null,null,null,null,null,null,null,null,null,null,null,null,null,null,{"$error":"#N/A"}]
[null,null,null,null,null,null,null,null,null,null,null,null,{"$error":"#N/A"},{"$error":"#N/A"},null,null,null,null,null,null,null,null,null,null,null,null,null,null,null,null,null,null,null,null,null,null,null,null,null,null,null,null,null,{"$error":"#N/A"}]
[null,null,null,null,null,null,null,null,null,null,null,null,{"$error":"#N/A"},{"$error":"#N/A"},null,null,null,null,null,null,null,null,null,null,null,null,null,null,null,null,null,null,null,null,null,null,null,null,null,null,null,null,null,{"$error":"#N/A"}]
[null,null,null,null,null,null,null,null,null,null,null,null,{"$error":"#N/A"},{"$error":"#N/A"},null,null,null,null,null,null,null,null,null,null,null,null,null,null,null,null,null,null,null,null,null,null,null,null,null,null,null,null,null,{"$error":"#N/A"}]
[null,null,null,null,null,null,null,null,null,null,null,null,{"$error":"#N/A"},{"$error":"#N/A"},null,null,null,null,null,null,null,null,null,null,null,null,null,null,null,null,null,null,null,null,null,null,null,null,null,null,null,null,null,{"$error":"#N/A"}]
[null,null,null,null,null,null,null,null,null,null,null,null,{"$error":"#N/A"},{"$error":"#N/A"},null,null,null,null,null,null,null,null,null,null,null,null,null,null,null,null,null,null,null,null,null,null,null,null,null,null,null,null,null,{"$error":"#N/A"}]
[null,null,null,null,null,null,null,null,null,null,null,null,{"$error":"#N/A"},{"$error":"#N/A"},null,null,null,null,null,null,null,null,null,null,null,null,null,null,null,null,null,null,null,null,null,null,null,null,null,null,null,null,null,{"$error":"#N/A"}]
[null,null,null,null,null,null,null,null,null,null,null,null,{"$error":"#N/A"},{"$error":"#N/A"},null,null,null,null,null,null,null,null,null,null,null,null,null,null,null,null,null,null,null,null,null,null,null,null,null,null,null,null,null,{"$error":"#N/A"}]
[null,null,null,null,null,null,null,null,null,null,null,null,{"$error":"#N/A"},{"$error":"#N/A"},null,null,null,null,null,null,null,null,null,null,null,null,null,null,null,null,null,null,null,null,null,null,null,null,null,null,null,null,null,{"$error":"#N/A"}]
[null,null,null,null,null,null,null,null,null,null,null,null,{"$error":"#N/A"},{"$error":"#N/A"},null,null,null,null,null,null,null,null,null,null,null,null,null,null,null,null,null,null,null,null,null,null,null,null,null,null,null,null,null,{"$error":"#N/A"}]
[null,null,null,null,null,null,null,null,null,null,null,null,{"$error":"#N/A"},{"$error":"#N/A"},null,null,null,null,null,null,null,null,null,null,null,null,null,null,null,null,null,null,null,null,null,null,null,null,null,null,null,null,null,{"$error":"#N/A"}]
[null,null,null,null,null,null,null,null,null,null,null,null,{"$error":"#N/A"},{"$error":"#N/A"},null,null,null,null,null,null,null,null,null,null,null,null,null,null,null,null,null,null,null,null,null,null,null,null,null,null,null,null,null,{"$error":"#N/A"}]
[null,null,null,null,null,null,null,null,null,null,null,null,{"$error":"#N/A"},{"$error":"#N/A"},null,null,null,null,null,null,null,null,null,null,null,null,null,null,null,null,null,null,null,null,null,null,null,null,null,null,null,null,null,{"$error":"#N/A"}]
[null,null,null,null,null,null,null,null,null,null,null,null,{"$error":"#N/A"},{"$error":"#N/A"},null,null,null,null,null,null,null,null,null,null,null,null,null,null,null,null,null,null,null,null,null,null,null,null,null,null,null,null,null,{"$error":"#N/A"}]
[null,null,null,null,null,null,null,null,null,null,null,null,{"$error":"#N/A"},{"$error":"#N/A"},null,null,null,null,null,null,null,null,null,null,null,null,null,null,null,null,null,null,null,null,null,null,null,null,null,null,null,null,null,{"$error":"#N/A"}]
[null,null,null,null,null,null,null,null,null,null,null,null,{"$error":"#N/A"},{"$error":"#N/A"},null,null,null,null,null,null,null,null,null,null,null,null,null,null,null,null,null,null,null,null,null,null,null,null,null,null,null,null,null,{"$error":"#N/A"}]
[null,null,null,null,null,null,null,null,null,null,null,null,{"$error":"#N/A"},{"$error":"#N/A"},null,null,null,null,null,null,null,null,null,null,null,null,null,null,null,null,null,null,null,null,null,null,null,null,null,null,null,null,null,{"$error":"#N/A"}]
[null,null,null,null,null,null,null,null,null,null,null,null,{"$error":"#N/A"},{"$error":"#N/A"},null,null,null,null,null,null,null,null,null,null,null,null,null,null,null,null,null,null,null,null,null,null,null,null,null,null,null,null,null,{"$error":"#N/A"}]
[null,null,null,null,null,null,null,null,null,null,null,null,{"$error":"#N/A"},{"$error":"#N/A"},null,null,null,null,null,null,null,null,null,null,null,null,null,null,null,null,null,null,null,null,null,null,null,null,null,null,null,null,null,{"$error":"#N/A"}]
[null,null,null,null,null,null,null,null,null,null,null,null,{"$error":"#N/A"},{"$error":"#N/A"},null,null,null,null,null,null,null,null,null,null,null,null,null,null,null,null,null,null,null,null,null,null,null,null,null,null,null,null,null,{"$error":"#N/A"}]
[null,null,null,null,null,null,null,null,null,null,null,null,{"$error":"#N/A"},{"$error":"#N/A"},null,null,null,null,null,null,null,null,null,null,null,null,null,null,null,null,null,null,null,null,null,null,null,null,null,null,null,null,null,{"$error":"#N/A"}]
[null,null,null,null,null,null,null,null,null,null,null,null,{"$error":"#N/A"},{"$error":"#N/A"},null,null,null,null,null,null,null,null,null,null,null,null,null,null,null,null,null,null,null,null,null,null,null,null,null,null,null,null,null,{"$error":"#N/A"}]
[null,null,null,null,null,null,null,null,null,null,null,null,{"$error":"#N/A"},{"$error":"#N/A"},null,null,null,null,null,null,null,null,null,null,null,null,null,null,null,null,null,null,null,null,null,null,null,null,null,null,null,null,null,{"$error":"#N/A"}]
[null,null,null,null,null,null,null,null,null,null,null,null,{"$error":"#N/A"},{"$error":"#N/A"},null,null,null,null,null,null,null,null,null,null,null,null,null,null,null,null,null,null,null,null,null,null,null,null,null,null,null,null,null,{"$error":"#N/A"}]
[null,null,null,null,null,null,null,null,null,null,null,null,{"$error":"#N/A"},{"$error":"#N/A"},null,null,null,null,null,null,null,null,null,null,null,null,null,null,null,null,null,null,null,null,null,null,null,null,null,null,null,null,null,{"$error":"#N/A"}]
[null,null,null,null,null,null,null,null,null,null,null,null,{"$error":"#N/A"},{"$error":"#N/A"},null,null,null,null,null,null,null,null,null,null,null,null,null,null,null,null,null,null,null,null,null,null,null,null,null,null,null,null,null,{"$error":"#N/A"}]
[null,null,null,null,null,null,null,null,null,null,null,null,{"$error":"#N/A"},{"$error":"#N/A"},null,null,null,null,null,null,null,null,null,null,null,null,null,null,null,null,null,null,null,null,null,null,null,null,null,null,null,null,null,{"$error":"#N/A"}]
[null,null,null,null,null,null,null,null,null,null,null,null,{"$error":"#N/A"},{"$error":"#N/A"},null,null,null,null,null,null,null,null,null,null,null,null,null,null,null,null,null,null,null,null,null,null,null,null,null,null,null,null,null,{"$error":"#N/A"}]
[null,null,null,null,null,null,null,null,null,null,null,null,{"$error":"#N/A"},{"$error":"#N/A"},null,null,null,null,null,null,null,null,null,null,null,null,null,null,null,null,null,null,null,null,null,null,null,null,null,null,null,null,null,{"$error":"#N/A"}]
[null,null,null,null,null,null,null,null,null,null,null,null,{"$error":"#N/A"},{"$error":"#N/A"},null,null,null,null,null,null,null,null,null,null,null,null,null,null,null,null,null,null,null,null,null,null,null,null,null,null,null,null,null,{"$error":"#N/A"}]
[null,null,null,null,null,null,null,null,null,null,null,null,{"$error":"#N/A"},{"$error":"#N/A"},null,null,null,null,null,null,null,null,null,null,null,null,null,null,null,null,null,null,null,null,null,null,null,null,null,null,null,null,null,{"$error":"#N/A"}]
[null,null,null,null,null,null,null,null,null,null,null,null,{"$error":"#N/A"},{"$error":"#N/A"},null,null,null,null,null,null,null,null,null,null,null,null,null,null,null,null,null,null,null,null,null,null,null,null,null,null,null,null,null,{"$error":"#N/A"}]
[null,null,null,null,null,null,null,null,null,null,null,null,{"$error":"#N/A"},{"$error":"#N/A"},null,null,null,null,null,null,null,null,null,null,null,null,null,null,null,null,null,null,null,null,null,null,null,null,null,null,null,null,null,{"$error":"#N/A"}]
[null,null,null,null,null,null,null,null,null,null,null,null,{"$error":"#N/A"},{"$error":"#N/A"},null,null,null,null,null,null,null,null,null,null,null,null,null,null,null,null,null,null,null,null,null,null,null,null,null,null,null,null,null,{"$error":"#N/A"}]
[null,null,null,null,null,null,null,null,null,null,null,null,{"$f":"IF(AND($F$17=H3505,$AK$44=F3505),J3505,\"\")","v":{"$error":"#N/A"}},{"$f":"IF(AND($F$17=H3505,$AK$44=F3505),L3505,\"\")","v":{"$error":"#N/A"}},null,null,null,null,null,null,null,null,null,null,null,null,null,null,null,null,null,null,null,null,null,null,null,null,null,null,null,null,null,{"$error":"#N/A"}]
[null,null,null,null,null,null,null,null,null,null,null,null,{"$error":"#N/A"},{"$error":"#N/A"},null,null,null,null,null,null,null,null,null,null,null,null,null,null,null,null,null,null,null,null,null,null,null,null,null,null,null,null,null,{"$error":"#N/A"}]
[null,null,null,null,null,null,null,null,null,null,null,null,{"$error":"#N/A"},{"$error":"#N/A"},null,null,null,null,null,null,null,null,null,null,null,null,null,null,null,null,null,null,null,null,null,null,null,null,null,null,null,null,null,{"$error":"#N/A"}]
[null,null,null,null,null,null,null,null,null,null,null,null,{"$error":"#N/A"},{"$error":"#N/A"},null,null,null,null,null,null,null,null,null,null,null,null,null,null,null,null,null,null,null,null,null,null,null,null,null,null,null,null,null,{"$error":"#N/A"}]
[null,null,null,null,null,null,null,null,null,null,null,null,{"$error":"#N/A"},{"$error":"#N/A"},null,null,null,null,null,null,null,null,null,null,null,null,null,null,null,null,null,null,null,null,null,null,null,null,null,null,null,null,null,{"$error":"#N/A"}]
[null,null,null,null,null,null,null,null,null,null,null,null,{"$error":"#N/A"},{"$error":"#N/A"},null,null,null,null,null,null,null,null,null,null,null,null,null,null,null,null,null,null,null,null,null,null,null,null,null,null,null,null,null,{"$error":"#N/A"}]
[null,null,null,null,null,null,null,null,null,null,null,null,{"$error":"#N/A"},{"$error":"#N/A"},null,null,null,null,null,null,null,null,null,null,null,null,null,null,null,null,null,null,null,null,null,null,null,null,null,null,null,null,null,{"$error":"#N/A"}]
[null,null,null,null,null,null,null,null,null,null,null,null,{"$error":"#N/A"},{"$error":"#N/A"},null,null,null,null,null,null,null,null,null,null,null,null,null,null,null,null,null,null,null,null,null,null,null,null,null,null,null,null,null,{"$error":"#N/A"}]
[null,null,null,null,null,null,null,null,null,null,null,null,{"$error":"#N/A"},{"$error":"#N/A"},null,null,null,null,null,null,null,null,null,null,null,null,null,null,null,null,null,null,null,null,null,null,null,null,null,null,null,null,null,{"$error":"#N/A"}]
[null,null,null,null,null,null,null,null,null,null,null,null,{"$error":"#N/A"},{"$error":"#N/A"},null,null,null,null,null,null,null,null,null,null,null,null,null,null,null,null,null,null,null,null,null,null,null,null,null,null,null,null,null,{"$error":"#N/A"}]
[null,null,null,null,null,null,null,null,null,null,null,null,{"$error":"#N/A"},{"$error":"#N/A"},null,null,null,null,null,null,null,null,null,null,null,null,null,null,null,null,null,null,null,null,null,null,null,null,null,null,null,null,null,{"$error":"#N/A"}]
[null,null,null,null,null,null,null,null,null,null,null,null,{"$error":"#N/A"},{"$error":"#N/A"},null,null,null,null,null,null,null,null,null,null,null,null,null,null,null,null,null,null,null,null,null,null,null,null,null,null,null,null,null,{"$error":"#N/A"}]
[null,null,null,null,null,null,null,null,null,null,null,null,{"$error":"#N/A"},{"$error":"#N/A"},null,null,null,null,null,null,null,null,null,null,null,null,null,null,null,null,null,null,null,null,null,null,null,null,null,null,null,null,null,{"$error":"#N/A"}]
[null,null,null,null,null,null,null,null,null,null,null,null,{"$error":"#N/A"},{"$error":"#N/A"},null,null,null,null,null,null,null,null,null,null,null,null,null,null,null,null,null,null,null,null,null,null,null,null,null,null,null,null,null,{"$error":"#N/A"}]
[null,null,null,null,null,null,null,null,null,null,null,null,{"$error":"#N/A"},{"$error":"#N/A"},null,null,null,null,null,null,null,null,null,null,null,null,null,null,null,null,null,null,null,null,null,null,null,null,null,null,null,null,null,{"$error":"#N/A"}]
[null,null,null,null,null,null,null,null,null,null,null,null,{"$error":"#N/A"},{"$error":"#N/A"},null,null,null,null,null,null,null,null,null,null,null,null,null,null,null,null,null,null,null,null,null,null,null,null,null,null,null,null,null,{"$error":"#N/A"}]
[null,null,null,null,null,null,null,null,null,null,null,null,{"$error":"#N/A"},{"$error":"#N/A"},null,null,null,null,null,null,null,null,null,null,null,null,null,null,null,null,null,null,null,null,null,null,null,null,null,null,null,null,null,{"$error":"#N/A"}]
[null,null,null,null,null,null,null,null,null,null,null,null,{"$error":"#N/A"},{"$error":"#N/A"},null,null,null,null,null,null,null,null,null,null,null,null,null,null,null,null,null,null,null,null,null,null,null,null,null,null,null,null,null,{"$error":"#N/A"}]
[null,null,null,null,null,null,null,null,null,null,null,null,{"$error":"#N/A"},{"$error":"#N/A"},null,null,null,null,null,null,null,null,null,null,null,null,null,null,null,null,null,null,null,null,null,null,null,null,null,null,null,null,null,{"$error":"#N/A"}]
[null,null,null,null,null,null,null,null,null,null,null,null,{"$error":"#N/A"},{"$error":"#N/A"},null,null,null,null,null,null,null,null,null,null,null,null,null,null,null,null,null,null,null,null,null,null,null,null,null,null,null,null,null,{"$error":"#N/A"}]
[null,null,null,null,null,null,null,null,null,null,null,null,{"$error":"#N/A"},{"$error":"#N/A"},null,null,null,null,null,null,null,null,null,null,null,null,null,null,null,null,null,null,null,null,null,null,null,null,null,null,null,null,null,{"$error":"#N/A"}]
[null,null,null,null,null,null,null,null,null,null,null,null,{"$error":"#N/A"},{"$error":"#N/A"},null,null,null,null,null,null,null,null,null,null,null,null,null,null,null,null,null,null,null,null,null,null,null,null,null,null,null,null,null,{"$error":"#N/A"}]
[null,null,null,null,null,null,null,null,null,null,null,null,{"$error":"#N/A"},{"$error":"#N/A"},null,null,null,null,null,null,null,null,null,null,null,null,null,null,null,null,null,null,null,null,null,null,null,null,null,null,null,null,null,{"$error":"#N/A"}]
[null,null,null,null,null,null,null,null,null,null,null,null,{"$error":"#N/A"},{"$error":"#N/A"},null,null,null,null,null,null,null,null,null,null,null,null,null,null,null,null,null,null,null,null,null,null,null,null,null,null,null,null,null,{"$error":"#N/A"}]
[null,null,null,null,null,null,null,null,null,null,null,null,{"$error":"#N/A"},{"$error":"#N/A"},null,null,null,null,null,null,null,null,null,null,null,null,null,null,null,null,null,null,null,null,null,null,null,null,null,null,null,null,null,{"$error":"#N/A"}]
[null,null,null,null,null,null,null,null,null,null,null,null,{"$error":"#N/A"},{"$error":"#N/A"},null,null,null,null,null,null,null,null,null,null,null,null,null,null,null,null,null,null,null,null,null,null,null,null,null,null,null,null,null,{"$error":"#N/A"}]
[null,null,null,null,null,null,null,null,null,null,null,null,{"$error":"#N/A"},{"$error":"#N/A"},null,null,null,null,null,null,null,null,null,null,null,null,null,null,null,null,null,null,null,null,null,null,null,null,null,null,null,null,null,{"$error":"#N/A"}]
[null,null,null,null,null,null,null,null,null,null,null,null,{"$error":"#N/A"},{"$error":"#N/A"},null,null,null,null,null,null,null,null,null,null,null,null,null,null,null,null,null,null,null,null,null,null,null,null,null,null,null,null,null,{"$error":"#N/A"}]
[null,null,null,null,null,null,null,null,null,null,null,null,{"$error":"#N/A"},{"$error":"#N/A"},null,null,null,null,null,null,null,null,null,null,null,null,null,null,null,null,null,null,null,null,null,null,null,null,null,null,null,null,null,{"$error":"#N/A"}]
[null,null,null,null,null,null,null,null,null,null,null,null,{"$error":"#N/A"},{"$error":"#N/A"},null,null,null,null,null,null,null,null,null,null,null,null,null,null,null,null,null,null,null,null,null,null,null,null,null,null,null,null,null,{"$error":"#N/A"}]
[null,null,null,null,null,null,null,null,null,null,null,null,{"$error":"#N/A"},{"$error":"#N/A"},null,null,null,null,null,null,null,null,null,null,null,null,null,null,null,null,null,null,null,null,null,null,null,null,null,null,null,null,null,{"$error":"#N/A"}]
[null,null,null,null,null,null,null,null,null,null,null,null,{"$error":"#N/A"},{"$error":"#N/A"},null,null,null,null,null,null,null,null,null,null,null,null,null,null,null,null,null,null,null,null,null,null,null,null,null,null,null,null,null,{"$error":"#N/A"}]
[null,null,null,null,null,null,null,null,null,null,null,null,{"$error":"#N/A"},{"$error":"#N/A"},null,null,null,null,null,null,null,null,null,null,null,null,null,null,null,null,null,null,null,null,null,null,null,null,null,null,null,null,null,{"$error":"#N/A"}]
[null,null,null,null,null,null,null,null,null,null,null,null,{"$error":"#N/A"},{"$error":"#N/A"},null,null,null,null,null,null,null,null,null,null,null,null,null,null,null,null,null,null,null,null,null,null,null,null,null,null,null,null,null,{"$error":"#N/A"}]
[null,null,null,null,null,null,null,null,null,null,null,null,{"$error":"#N/A"},{"$error":"#N/A"},null,null,null,null,null,null,null,null,null,null,null,null,null,null,null,null,null,null,null,null,null,null,null,null,null,null,null,null,null,{"$error":"#N/A"}]
[null,null,null,null,null,null,null,null,null,null,null,null,{"$error":"#N/A"},{"$error":"#N/A"},null,null,null,null,null,null,null,null,null,null,null,null,null,null,null,null,null,null,null,null,null,null,null,null,null,null,null,null,null,{"$error":"#N/A"}]
[null,null,null,null,null,null,null,null,null,null,null,null,{"$error":"#N/A"},{"$error":"#N/A"},null,null,null,null,null,null,null,null,null,null,null,null,null,null,null,null,null,null,null,null,null,null,null,null,null,null,null,null,null,{"$error":"#N/A"}]
[null,null,null,null,null,null,null,null,null,null,null,null,{"$error":"#N/A"},{"$error":"#N/A"},null,null,null,null,null,null,null,null,null,null,null,null,null,null,null,null,null,null,null,null,null,null,null,null,null,null,null,null,null,{"$error":"#N/A"}]
[null,null,null,null,null,null,null,null,null,null,null,null,{"$error":"#N/A"},{"$error":"#N/A"},null,null,null,null,null,null,null,null,null,null,null,null,null,null,null,null,null,null,null,null,null,null,null,null,null,null,null,null,null,{"$error":"#N/A"}]
[null,null,null,null,null,null,null,null,null,null,null,null,{"$error":"#N/A"},{"$error":"#N/A"},null,null,null,null,null,null,null,null,null,null,null,null,null,null,null,null,null,null,null,null,null,null,null,null,null,null,null,null,null,{"$error":"#N/A"}]
[null,null,null,null,null,null,null,null,null,null,null,null,{"$f":"IF(AND($F$17=H3697,$AK$44=F3697),J3697,\"\")","v":{"$error":"#N/A"}},{"$f":"IF(AND($F$17=H3697,$AK$44=F3697),L3697,\"\")","v":{"$error":"#N/A"}},null,null,null,null,null,null,null,null,null,null,null,null,null,null,null,null,null,null,null,null,null,null,null,null,null,null,null,null,null,{"$error":"#N/A"}]
[null,null,null,null,null,null,null,null,null,null,null,null,{"$error":"#N/A"},{"$error":"#N/A"},null,null,null,null,null,null,null,null,null,null,null,null,null,null,null,null,null,null,null,null,null,null,null,null,null,null,null,null,null,{"$error":"#N/A"}]
[null,null,null,null,null,null,null,null,null,null,null,null,{"$error":"#N/A"},{"$error":"#N/A"},null,null,null,null,null,null,null,null,null,null,null,null,null,null,null,null,null,null,null,null,null,null,null,null,null,null,null,null,null,{"$error":"#N/A"}]
[null,null,null,null,null,null,null,null,null,null,null,null,{"$error":"#N/A"},{"$error":"#N/A"},null,null,null,null,null,null,null,null,null,null,null,null,null,null,null,null,null,null,null,null,null,null,null,null,null,null,null,null,null,{"$error":"#N/A"}]
[null,null,null,null,null,null,null,null,null,null,null,null,{"$error":"#N/A"},{"$error":"#N/A"},null,null,null,null,null,null,null,null,null,null,null,null,null,null,null,null,null,null,null,null,null,null,null,null,null,null,null,null,null,{"$error":"#N/A"}]
[null,null,null,null,null,null,null,null,null,null,null,null,{"$error":"#N/A"},{"$error":"#N/A"},null,null,null,null,null,null,null,null,null,null,null,null,null,null,null,null,null,null,null,null,null,null,null,null,null,null,null,null,null,{"$error":"#N/A"}]
[null,null,null,null,null,null,null,null,null,null,null,null,{"$error":"#N/A"},{"$error":"#N/A"},null,null,null,null,null,null,null,null,null,null,null,null,null,null,null,null,null,null,null,null,null,null,null,null,null,null,null,null,null,{"$error":"#N/A"}]
[null,null,null,null,null,null,null,null,null,null,null,null,{"$error":"#N/A"},{"$error":"#N/A"},null,null,null,null,null,null,null,null,null,null,null,null,null,null,null,null,null,null,null,null,null,null,null,null,null,null,null,null,null,{"$error":"#N/A"}]
[null,null,null,null,null,null,null,null,null,null,null,null,{"$error":"#N/A"},{"$error":"#N/A"},null,null,null,null,null,null,null,null,null,null,null,null,null,null,null,null,null,null,null,null,null,null,null,null,null,null,null,null,null,{"$error":"#N/A"}]
[null,null,null,null,null,null,null,null,null,null,null,null,{"$error":"#N/A"},{"$error":"#N/A"},null,null,null,null,null,null,null,null,null,null,null,null,null,null,null,null,null,null,null,null,null,null,null,null,null,null,null,null,null,{"$error":"#N/A"}]
[null,null,null,null,null,null,null,null,null,null,null,null,{"$error":"#N/A"},{"$error":"#N/A"},null,null,null,null,null,null,null,null,null,null,null,null,null,null,null,null,null,null,null,null,null,null,null,null,null,null,null,null,null,{"$error":"#N/A"}]
[null,null,null,null,null,null,null,null,null,null,null,null,{"$error":"#N/A"},{"$error":"#N/A"},null,null,null,null,null,null,null,null,null,null,null,null,null,null,null,null,null,null,null,null,null,null,null,null,null,null,null,null,null,{"$error":"#N/A"}]
[null,null,null,null,null,null,null,null,null,null,null,null,{"$error":"#N/A"},{"$error":"#N/A"},null,null,null,null,null,null,null,null,null,null,null,null,null,null,null,null,null,null,null,null,null,null,null,null,null,null,null,null,null,{"$error":"#N/A"}]
[null,null,null,null,null,null,null,null,null,null,null,null,{"$error":"#N/A"},{"$error":"#N/A"},null,null,null,null,null,null,null,null,null,null,null,null,null,null,null,null,null,null,null,null,null,null,null,null,null,null,null,null,null,{"$error":"#N/A"}]
[null,null,null,null,null,null,null,null,null,null,null,null,{"$error":"#N/A"},{"$error":"#N/A"},null,null,null,null,null,null,null,null,null,null,null,null,null,null,null,null,null,null,null,null,null,null,null,null,null,null,null,null,null,{"$error":"#N/A"}]
[null,null,null,null,null,null,null,null,null,null,null,null,{"$error":"#N/A"},{"$error":"#N/A"},null,null,null,null,null,null,null,null,null,null,null,null,null,null,null,null,null,null,null,null,null,null,null,null,null,null,null,null,null,{"$error":"#N/A"}]
[null,null,null,null,null,null,null,null,null,null,null,null,{"$error":"#N/A"},{"$error":"#N/A"},null,null,null,null,null,null,null,null,null,null,null,null,null,null,null,null,null,null,null,null,null,null,null,null,null,null,null,null,null,{"$error":"#N/A"}]
[null,null,null,null,null,null,null,null,null,null,null,null,{"$error":"#N/A"},{"$error":"#N/A"},null,null,null,null,null,null,null,null,null,null,null,null,null,null,null,null,null,null,null,null,null,null,null,null,null,null,null,null,null,{"$error":"#N/A"}]
[null,null,null,null,null,null,null,null,null,null,null,null,{"$error":"#N/A"},{"$error":"#N/A"},null,null,null,null,null,null,null,null,null,null,null,null,null,null,null,null,null,null,null,null,null,null,null,null,null,null,null,null,null,{"$error":"#N/A"}]
[null,null,null,null,null,null,null,null,null,null,null,null,{"$error":"#N/A"},{"$error":"#N/A"},null,null,null,null,null,null,null,null,null,null,null,null,null,null,null,null,null,null,null,null,null,null,null,null,null,null,null,null,null,{"$error":"#N/A"}]
[null,null,null,null,null,null,null,null,null,null,null,null,{"$error":"#N/A"},{"$error":"#N/A"},null,null,null,null,null,null,null,null,null,null,null,null,null,null,null,null,null,null,null,null,null,null,null,null,null,null,null,null,null,{"$error":"#N/A"}]
[null,null,null,null,null,null,null,null,null,null,null,null,{"$error":"#N/A"},{"$error":"#N/A"},null,null,null,null,null,null,null,null,null,null,null,null,null,null,null,null,null,null,null,null,null,null,null,null,null,null,null,null,null,{"$error":"#N/A"}]
[null,null,null,null,null,null,null,null,null,null,null,null,{"$error":"#N/A"},{"$error":"#N/A"},null,null,null,null,null,null,null,null,null,null,null,null,null,null,null,null,null,null,null,null,null,null,null,null,null,null,null,null,null,{"$error":"#N/A"}]
[null,null,null,null,null,null,null,null,null,null,null,null,{"$error":"#N/A"},{"$error":"#N/A"},null,null,null,null,null,null,null,null,null,null,null,null,null,null,null,null,null,null,null,null,null,null,null,null,null,null,null,null,null,{"$error":"#N/A"}]
[null,null,null,null,null,null,null,null,null,null,null,null,{"$error":"#N/A"},{"$error":"#N/A"},null,null,null,null,null,null,null,null,null,null,null,null,null,null,null,null,null,null,null,null,null,null,null,null,null,null,null,null,null,{"$error":"#N/A"}]
[null,null,null,null,null,null,null,null,null,null,null,null,{"$error":"#N/A"},{"$error":"#N/A"},null,null,null,null,null,null,null,null,null,null,null,null,null,null,null,null,null,null,null,null,null,null,null,null,null,null,null,null,null,{"$error":"#N/A"}]
[null,null,null,null,null,null,null,null,null,null,null,null,{"$error":"#N/A"},{"$error":"#N/A"},null,null,null,null,null,null,null,null,null,null,null,null,null,null,null,null,null,null,null,null,null,null,null,null,null,null,null,null,null,{"$error":"#N/A"}]
[null,null,null,null,null,null,null,null,null,null,null,null,{"$error":"#N/A"},{"$error":"#N/A"},null,null,null,null,null,null,null,null,null,null,null,null,null,null,null,null,null,null,null,null,null,null,null,null,null,null,null,null,null,{"$error":"#N/A"}]
[null,null,null,null,null,null,null,null,null,null,null,null,{"$error":"#N/A"},{"$error":"#N/A"},null,null,null,null,null,null,null,null,null,null,null,null,null,null,null,null,null,null,null,null,null,null,null,null,null,null,null,null,null,{"$error":"#N/A"}]
[null,null,null,null,null,null,null,null,null,null,null,null,{"$error":"#N/A"},{"$error":"#N/A"},null,null,null,null,null,null,null,null,null,null,null,null,null,null,null,null,null,null,null,null,null,null,null,null,null,null,null,null,null,{"$error":"#N/A"}]
[null,null,null,null,null,null,null,null,null,null,null,null,{"$error":"#N/A"},{"$error":"#N/A"},null,null,null,null,null,null,null,null,null,null,null,null,null,null,null,null,null,null,null,null,null,null,null,null,null,null,null,null,null,{"$error":"#N/A"}]
[null,null,null,null,null,null,null,null,null,null,null,null,{"$error":"#N/A"},{"$error":"#N/A"},null,null,null,null,null,null,null,null,null,null,null,null,null,null,null,null,null,null,null,null,null,null,null,null,null,null,null,null,null,{"$error":"#N/A"}]
[null,null,null,null,null,null,null,null,null,null,null,null,{"$error":"#N/A"},{"$error":"#N/A"},null,null,null,null,null,null,null,null,null,null,null,null,null,null,null,null,null,null,null,null,null,null,null,null,null,null,null,null,null,{"$error":"#N/A"}]
[null,null,null,null,null,null,null,null,null,null,null,null,{"$error":"#N/A"},{"$error":"#N/A"},null,null,null,null,null,null,null,null,null,null,null,null,null,null,null,null,null,null,null,null,null,null,null,null,null,null,null,null,null,{"$error":"#N/A"}]
[null,null,null,null,null,null,null,null,null,null,null,null,{"$error":"#N/A"},{"$error":"#N/A"},null,null,null,null,null,null,null,null,null,null,null,null,null,null,null,null,null,null,null,null,null,null,null,null,null,null,null,null,null,{"$error":"#N/A"}]
[null,null,null,null,null,null,null,null,null,null,null,null,{"$error":"#N/A"},{"$error":"#N/A"},null,null,null,null,null,null,null,null,null,null,null,null,null,null,null,null,null,null,null,null,null,null,null,null,null,null,null,null,null,{"$error":"#N/A"}]
[null,null,null,null,null,null,null,null,null,null,null,null,{"$error":"#N/A"},{"$error":"#N/A"},null,null,null,null,null,null,null,null,null,null,null,null,null,null,null,null,null,null,null,null,null,null,null,null,null,null,null,null,null,{"$error":"#N/A"}]
[null,null,null,null,null,null,null,null,null,null,null,null,{"$error":"#N/A"},{"$error":"#N/A"},null,null,null,null,null,null,null,null,null,null,null,null,null,null,null,null,null,null,null,null,null,null,null,null,null,null,null,null,null,{"$error":"#N/A"}]
[null,null,null,null,null,null,null,null,null,null,null,null,{"$error":"#N/A"},{"$error":"#N/A"},null,null,null,null,null,null,null,null,null,null,null,null,null,null,null,null,null,null,null,null,null,null,null,null,null,null,null,null,null,{"$error":"#N/A"}]
[null,null,null,null,null,null,null,null,null,null,null,null,{"$error":"#N/A"},{"$error":"#N/A"},null,null,null,null,null,null,null,null,null,null,null,null,null,null,null,null,null,null,null,null,null,null,null,null,null,null,null,null,null,{"$error":"#N/A"}]
[null,null,null,null,null,null,null,null,null,null,null,null,{"$f":"IF(AND($F$17=H3889,$AK$44=F3889),J3889,\"\")","v":{"$error":"#N/A"}},{"$f":"IF(AND($F$17=H3889,$AK$44=F3889),L3889,\"\")","v":{"$error":"#N/A"}},null,null,null,null,null,null,null,null,null,null,null,null,null,null,null,null,null,null,null,null,null,null,null,null,null,null,null,null,null,{"$error":"#N/A"}]
[null,null,null,null,null,null,null,null,null,null,null,null,{"$error":"#N/A"},{"$error":"#N/A"},null,null,null,null,null,null,null,null,null,null,null,null,null,null,null,null,null,null,null,null,null,null,null,null,null,null,null,null,null,{"$error":"#N/A"}]
[null,null,null,null,null,null,null,null,null,null,null,null,{"$error":"#N/A"},{"$error":"#N/A"},null,null,null,null,null,null,null,null,null,null,null,null,null,null,null,null,null,null,null,null,null,null,null,null,null,null,null,null,null,{"$error":"#N/A"}]
[null,null,null,null,null,null,null,null,null,null,null,null,{"$error":"#N/A"},{"$error":"#N/A"},null,null,null,null,null,null,null,null,null,null,null,null,null,null,null,null,null,null,null,null,null,null,null,null,null,null,null,null,null,{"$error":"#N/A"}]
[null,null,null,null,null,null,null,null,null,null,null,null,{"$error":"#N/A"},{"$error":"#N/A"},null,null,null,null,null,null,null,null,null,null,null,null,null,null,null,null,null,null,null,null,null,null,null,null,null,null,null,null,null,{"$error":"#N/A"}]
[null,null,null,null,null,null,null,null,null,null,null,null,{"$error":"#N/A"},{"$error":"#N/A"},null,null,null,null,null,null,null,null,null,null,null,null,null,null,null,null,null,null,null,null,null,null,null,null,null,null,null,null,null,{"$error":"#N/A"}]
[null,null,null,null,null,null,null,null,null,null,null,null,{"$error":"#N/A"},{"$error":"#N/A"},null,null,null,null,null,null,null,null,null,null,null,null,null,null,null,null,null,null,null,null,null,null,null,null,null,null,null,null,null,{"$error":"#N/A"}]
[null,null,null,null,null,null,null,null,null,null,null,null,{"$error":"#N/A"},{"$error":"#N/A"},null,null,null,null,null,null,null,null,null,null,null,null,null,null,null,null,null,null,null,null,null,null,null,null,null,null,null,null,null,{"$error":"#N/A"}]
[null,null,null,null,null,null,null,null,null,null,null,null,{"$error":"#N/A"},{"$error":"#N/A"},null,null,null,null,null,null,null,null,null,null,null,null,null,null,null,null,null,null,null,null,null,null,null,null,null,null,null,null,null,{"$error":"#N/A"}]
[null,null,null,null,null,null,null,null,null,null,null,null,{"$error":"#N/A"},{"$error":"#N/A"},null,null,null,null,null,null,null,null,null,null,null,null,null,null,null,null,null,null,null,null,null,null,null,null,null,null,null,null,null,{"$error":"#N/A"}]
[null,null,null,null,null,null,null,null,null,null,null,null,{"$error":"#N/A"},{"$error":"#N/A"},null,null,null,null,null,null,null,null,null,null,null,null,null,null,null,null,null,null,null,null,null,null,null,null,null,null,null,null,null,{"$error":"#N/A"}]
[null,null,null,null,null,null,null,null,null,null,null,null,{"$error":"#N/A"},{"$error":"#N/A"},null,null,null,null,null,null,null,null,null,null,null,null,null,null,null,null,null,null,null,null,null,null,null,null,null,null,null,null,null,{"$error":"#N/A"}]
[null,null,null,null,null,null,null,null,null,null,null,null,{"$error":"#N/A"},{"$error":"#N/A"},null,null,null,null,null,null,null,null,null,null,null,null,null,null,null,null,null,null,null,null,null,null,null,null,null,null,null,null,null,{"$error":"#N/A"}]
[null,null,null,null,null,null,null,null,null,null,null,null,{"$error":"#N/A"},{"$error":"#N/A"},null,null,null,null,null,null,null,null,null,null,null,null,null,null,null,null,null,null,null,null,null,null,null,null,null,null,null,null,null,{"$error":"#N/A"}]
[null,null,null,null,null,null,null,null,null,null,null,null,{"$error":"#N/A"},{"$error":"#N/A"},null,null,null,null,null,null,null,null,null,null,null,null,null,null,null,null,null,null,null,null,null,null,null,null,null,null,null,null,null,{"$error":"#N/A"}]
[null,null,null,null,null,null,null,null,null,null,null,null,{"$error":"#N/A"},{"$error":"#N/A"},null,null,null,null,null,null,null,null,null,null,null,null,null,null,null,null,null,null,null,null,null,null,null,null,null,null,null,null,null,{"$error":"#N/A"}]
[null,null,null,null,null,null,null,null,null,null,null,null,{"$error":"#N/A"},{"$error":"#N/A"},null,null,null,null,null,null,null,null,null,null,null,null,null,null,null,null,null,null,null,null,null,null,null,null,null,null,null,null,null,{"$error":"#N/A"}]
[null,null,null,null,null,null,null,null,null,null,null,null,{"$error":"#N/A"},{"$error":"#N/A"},null,null,null,null,null,null,null,null,null,null,null,null,null,null,null,null,null,null,null,null,null,null,null,null,null,null,null,null,null,{"$error":"#N/A"}]
[null,null,null,null,null,null,null,null,null,null,null,null,{"$error":"#N/A"},{"$error":"#N/A"},null,null,null,null,null,null,null,null,null,null,null,null,null,null,null,null,null,null,null,null,null,null,null,null,null,null,null,null,null,{"$error":"#N/A"}]
[null,null,null,null,null,null,null,null,null,null,null,null,{"$error":"#N/A"},{"$error":"#N/A"},null,null,null,null,null,null,null,null,null,null,null,null,null,null,null,null,null,null,null,null,null,null,null,null,null,null,null,null,null,{"$error":"#N/A"}]
[null,null,null,null,null,null,null,null,null,null,null,null,{"$error":"#N/A"},{"$error":"#N/A"},null,null,null,null,null,null,null,null,null,null,null,null,null,null,null,null,null,null,null,null,null,null,null,null,null,null,null,null,null,{"$error":"#N/A"}]
[null,null,null,null,null,null,null,null,null,null,null,null,{"$error":"#N/A"},{"$error":"#N/A"},null,null,null,null,null,null,null,null,null,null,null,null,null,null,null,null,null,null,null,null,null,null,null,null,null,null,null,null,null,{"$error":"#N/A"}]
[null,null,null,null,null,null,null,null,null,null,null,null,{"$error":"#N/A"},{"$error":"#N/A"},null,null,null,null,null,null,null,null,null,null,null,null,null,null,null,null,null,null,null,null,null,null,null,null,null,null,null,null,null,{"$error":"#N/A"}]
[null,null,null,null,null,null,null,null,null,null,null,null,{"$error":"#N/A"},{"$error":"#N/A"},null,null,null,null,null,null,null,null,null,null,null,null,null,null,null,null,null,null,null,null,null,null,null,null,null,null,null,null,null,{"$error":"#N/A"}]
[null,null,null,null,null,null,null,null,null,null,null,null,{"$error":"#N/A"},{"$error":"#N/A"},null,null,null,null,null,null,null,null,null,null,null,null,null,null,null,null,null,null,null,null,null,null,null,null,null,null,null,null,null,{"$error":"#N/A"}]
[null,null,null,null,null,null,null,null,null,null,null,null,{"$error":"#N/A"},{"$error":"#N/A"},null,null,null,null,null,null,null,null,null,null,null,null,null,null,null,null,null,null,null,null,null,null,null,null,null,null,null,null,null,{"$error":"#N/A"}]
[null,null,null,null,null,null,null,null,null,null,null,null,{"$error":"#N/A"},{"$error":"#N/A"},null,null,null,null,null,null,null,null,null,null,null,null,null,null,null,null,null,null,null,null,null,null,null,null,null,null,null,null,null,{"$error":"#N/A"}]
[null,null,null,null,null,null,null,null,null,null,null,null,{"$error":"#N/A"},{"$error":"#N/A"},null,null,null,null,null,null,null,null,null,null,null,null,null,null,null,null,null,null,null,null,null,null,null,null,null,null,null,null,null,{"$error":"#N/A"}]
[null,null,null,null,null,null,null,null,null,null,null,null,{"$error":"#N/A"},{"$error":"#N/A"},null,null,null,null,null,null,null,null,null,null,null,null,null,null,null,null,null,null,null,null,null,null,null,null,null,null,null,null,null,{"$error":"#N/A"}]
[null,null,null,null,null,null,null,null,null,null,null,null,{"$error":"#N/A"},{"$error":"#N/A"},null,null,null,null,null,null,null,null,null,null,null,null,null,null,null,null,null,null,null,null,null,null,null,null,null,null,null,null,null,{"$error":"#N/A"}]
[null,null,null,null,null,null,null,null,null,null,null,null,{"$error":"#N/A"},{"$error":"#N/A"},null,null,null,null,null,null,null,null,null,null,null,null,null,null,null,null,null,null,null,null,null,null,null,null,null,null,null,null,null,{"$error":"#N/A"}]
[null,null,null,null,null,null,null,null,null,null,null,null,{"$error":"#N/A"},{"$error":"#N/A"},null,null,null,null,null,null,null,null,null,null,null,null,null,null,null,null,null,null,null,null,null,null,null,null,null,null,null,null,null,{"$error":"#N/A"}]
[null,null,null,null,null,null,null,null,null,null,null,null,{"$error":"#N/A"},{"$error":"#N/A"},null,null,null,null,null,null,null,null,null,null,null,null,null,null,null,null,null,null,null,null,null,null,null,null,null,null,null,null,null,{"$error":"#N/A"}]
[null,null,null,null,null,null,null,null,null,null,null,null,{"$error":"#N/A"},{"$error":"#N/A"},null,null,null,null,null,null,null,null,null,null,null,null,null,null,null,null,null,null,null,null,null,null,null,null,null,null,null,null,null,{"$error":"#N/A"}]
[null,null,null,null,null,null,null,null,null,null,null,null,{"$error":"#N/A"},{"$error":"#N/A"},null,null,null,null,null,null,null,null,null,null,null,null,null,null,null,null,null,null,null,null,null,null,null,null,null,null,null,null,null,{"$error":"#N/A"}]
[null,null,null,null,null,null,null,null,null,null,null,null,{"$error":"#N/A"},{"$error":"#N/A"},null,null,null,null,null,null,null,null,null,null,null,null,null,null,null,null,null,null,null,null,null,null,null,null,null,null,null,null,null,{"$error":"#N/A"}]
[null,null,null,null,null,null,null,null,null,null,null,null,{"$error":"#N/A"},{"$error":"#N/A"},null,null,null,null,null,null,null,null,null,null,null,null,null,null,null,null,null,null,null,null,null,null,null,null,null,null,null,null,null,{"$error":"#N/A"}]
[null,null,null,null,null,null,null,null,null,null,null,null,{"$error":"#N/A"},{"$error":"#N/A"},null,null,null,null,null,null,null,null,null,null,null,null,null,null,null,null,null,null,null,null,null,null,null,null,null,null,null,null,null,{"$error":"#N/A"}]
[null,null,null,null,null,null,null,null,null,null,null,null,{"$error":"#N/A"},{"$error":"#N/A"},null,null,null,null,null,null,null,null,null,null,null,null,null,null,null,null,null,null,null,null,null,null,null,null,null,null,null,null,null,{"$error":"#N/A"}]
[null,null,null,null,null,null,null,null,null,null,null,null,{"$error":"#N/A"},{"$error":"#N/A"},null,null,null,null,null,null,null,null,null,null,null,null,null,null,null,null,null,null,null,null,null,null,null,null,null,null,null,null,null,{"$error":"#N/A"}]
[null,null,null,null,null,null,null,null,null,null,null,null,{"$error":"#N/A"},{"$error":"#N/A"},null,null,null,null,null,null,null,null,null,null,null,null,null,null,null,null,null,null,null,null,null,null,null,null,null,null,null,null,null,{"$error":"#N/A"}]
[null,null,null,null,null,null,null,null,null,null,null,null,{"$error":"#N/A"},{"$error":"#N/A"},null,null,null,null,null,null,null,null,null,null,null,null,null,null,null,null,null,null,null,null,null,null,null,null,null,null,null,null,null,{"$error":"#N/A"}]
[null,null,null,null,null,null,null,null,null,null,null,null,{"$error":"#N/A"},{"$error":"#N/A"},null,null,null,null,null,null,null,null,null,null,null,null,null,null,null,null,null,null,null,null,null,null,null,null,null,null,null,null,null,{"$error":"#N/A"}]
[null,null,null,null,null,null,null,null,null,null,null,null,{"$error":"#N/A"},{"$error":"#N/A"},null,null,null,null,null,null,null,null,null,null,null,null,null,null,null,null,null,null,null,null,null,null,null,null,null,null,null,null,null,{"$error":"#N/A"}]
[null,null,null,null,null,null,null,null,null,null,null,null,{"$error":"#N/A"},{"$error":"#N/A"},null,null,null,null,null,null,null,null,null,null,null,null,null,null,null,null,null,null,null,null,null,null,null,null,null,null,null,null,null,{"$error":"#N/A"}]
[null,null,null,null,null,null,null,null,null,null,null,null,{"$error":"#N/A"},{"$error":"#N/A"},null,null,null,null,null,null,null,null,null,null,null,null,null,null,null,null,null,null,null,null,null,null,null,null,null,null,null,null,null,{"$error":"#N/A"}]
[null,null,null,null,null,null,null,null,null,null,null,null,{"$error":"#N/A"},{"$error":"#N/A"},null,null,null,null,null,null,null,null,null,null,null,null,null,null,null,null,null,null,null,null,null,null,null,null,null,null,null,null,null,{"$error":"#N/A"}]
[null,null,null,null,null,null,null,null,null,null,null,null,{"$error":"#N/A"},{"$error":"#N/A"},null,null,null,null,null,null,null,null,null,null,null,null,null,null,null,null,null,null,null,null,null,null,null,null,null,null,null,null,null,{"$error":"#N/A"}]
[null,null,null,null,null,null,null,null,null,null,null,null,{"$error":"#N/A"},{"$error":"#N/A"},null,null,null,null,null,null,null,null,null,null,null,null,null,null,null,null,null,null,null,null,null,null,null,null,null,null,null,null,null,{"$error":"#N/A"}]
[null,null,null,null,null,null,null,null,null,null,null,null,{"$error":"#N/A"},{"$error":"#N/A"},null,null,null,null,null,null,null,null,null,null,null,null,null,null,null,null,null,null,null,null,null,null,null,null,null,null,null,null,null,{"$error":"#N/A"}]
[null,null,null,null,null,null,null,null,null,null,null,null,{"$error":"#N/A"},{"$error":"#N/A"},null,null,null,null,null,null,null,null,null,null,null,null,null,null,null,null,null,null,null,null,null,null,null,null,null,null,null,null,null,{"$error":"#N/A"}]
[null,null,null,null,null,null,null,null,null,null,null,null,{"$error":"#N/A"},{"$error":"#N/A"},null,null,null,null,null,null,null,null,null,null,null,null,null,null,null,null,null,null,null,null,null,null,null,null,null,null,null,null,null,{"$error":"#N/A"}]
[null,null,null,null,null,null,null,null,null,null,null,null,{"$error":"#N/A"},{"$error":"#N/A"},null,null,null,null,null,null,null,null,null,null,null,null,null,null,null,null,null,null,null,null,null,null,null,null,null,null,null,null,null,{"$error":"#N/A"}]
[null,null,null,null,null,null,null,null,null,null,null,null,{"$error":"#N/A"},{"$error":"#N/A"},null,null,null,null,null,null,null,null,null,null,null,null,null,null,null,null,null,null,null,null,null,null,null,null,null,null,null,null,null,{"$error":"#N/A"}]
[null,null,null,null,null,null,null,null,null,null,null,null,{"$error":"#N/A"},{"$error":"#N/A"},null,null,null,null,null,null,null,null,null,null,null,null,null,null,null,null,null,null,null,null,null,null,null,null,null,null,null,null,null,{"$error":"#N/A"}]
[null,null,null,null,null,null,null,null,null,null,null,null,{"$error":"#N/A"},{"$error":"#N/A"},null,null,null,null,null,null,null,null,null,null,null,null,null,null,null,null,null,null,null,null,null,null,null,null,null,null,null,null,null,{"$error":"#N/A"}]
[null,null,null,null,null,null,null,null,null,null,null,null,{"$error":"#N/A"},{"$error":"#N/A"},null,null,null,null,null,null,null,null,null,null,null,null,null,null,null,null,null,null,null,null,null,null,null,null,null,null,null,null,null,{"$error":"#N/A"}]
[null,null,null,null,null,null,null,null,null,null,null,null,{"$error":"#N/A"},{"$error":"#N/A"},null,null,null,null,null,null,null,null,null,null,null,null,null,null,null,null,null,null,null,null,null,null,null,null,null,null,null,null,null,{"$error":"#N/A"}]
[null,null,null,null,null,null,null,null,null,null,null,null,{"$error":"#N/A"},{"$error":"#N/A"},null,null,null,null,null,null,null,null,null,null,null,null,null,null,null,null,null,null,null,null,null,null,null,null,null,null,null,null,null,{"$error":"#N/A"}]
[null,null,null,null,null,null,null,null,null,null,null,null,{"$error":"#N/A"},{"$error":"#N/A"},null,null,null,null,null,null,null,null,null,null,null,null,null,null,null,null,null,null,null,null,null,null,null,null,null,null,null,null,null,{"$error":"#N/A"}]
[null,null,null,null,null,null,null,null,null,null,null,null,{"$error":"#N/A"},{"$error":"#N/A"},null,null,null,null,null,null,null,null,null,null,null,null,null,null,null,null,null,null,null,null,null,null,null,null,null,null,null,null,null,{"$error":"#N/A"}]
[null,null,null,null,null,null,null,null,null,null,null,null,{"$error":"#N/A"},{"$error":"#N/A"},null,null,null,null,null,null,null,null,null,null,null,null,null,null,null,null,null,null,null,null,null,null,null,null,null,null,null,null,null,{"$error":"#N/A"}]
[null,null,null,null,null,null,null,null,null,null,null,null,{"$error":"#N/A"},{"$error":"#N/A"},null,null,null,null,null,null,null,null,null,null,null,null,null,null,null,null,null,null,null,null,null,null,null,null,null,null,null,null,null,{"$error":"#N/A"}]
[null,null,null,null,null,null,null,null,null,null,null,null,{"$error":"#N/A"},{"$error":"#N/A"},null,null,null,null,null,null,null,null,null,null,null,null,null,null,null,null,null,null,null,null,null,null,null,null,null,null,null,null,null,{"$error":"#N/A"}]
[null,null,null,null,null,null,null,null,null,null,null,null,{"$error":"#N/A"},{"$error":"#N/A"},null,null,null,null,null,null,null,null,null,null,null,null,null,null,null,null,null,null,null,null,null,null,null,null,null,null,null,null,null,{"$error":"#N/A"}]
[null,null,null,null,null,null,null,null,null,null,null,null,{"$error":"#N/A"},{"$error":"#N/A"},null,null,null,null,null,null,null,null,null,null,null,null,null,null,null,null,null,null,null,null,null,null,null,null,null,null,null,null,null,{"$error":"#N/A"}]
[null,null,null,null,null,null,null,null,null,null,null,null,{"$error":"#N/A"},{"$error":"#N/A"},null,null,null,null,null,null,null,null,null,null,null,null,null,null,null,null,null,null,null,null,null,null,null,null,null,null,null,null,null,{"$error":"#N/A"}]
[null,null,null,null,null,null,null,null,null,null,null,null,{"$error":"#N/A"},{"$error":"#N/A"},null,null,null,null,null,null,null,null,null,null,null,null,null,null,null,null,null,null,null,null,null,null,null,null,null,null,null,null,null,{"$error":"#N/A"}]
[null,null,null,null,null,null,null,null,null,null,null,null,{"$error":"#N/A"},{"$error":"#N/A"},null,null,null,null,null,null,null,null,null,null,null,null,null,null,null,null,null,null,null,null,null,null,null,null,null,null,null,null,null,{"$error":"#N/A"}]
[null,null,null,null,null,null,null,null,null,null,null,null,{"$error":"#N/A"},{"$error":"#N/A"},null,null,null,null,null,null,null,null,null,null,null,null,null,null,null,null,null,null,null,null,null,null,null,null,null,null,null,null,null,{"$error":"#N/A"}]
[null,null,null,null,null,null,null,null,null,null,null,null,{"$error":"#N/A"},{"$error":"#N/A"},null,null,null,null,null,null,null,null,null,null,null,null,null,null,null,null,null,null,null,null,null,null,null,null,null,null,null,null,null,{"$error":"#N/A"}]
[null,null,null,null,null,null,null,null,null,null,null,null,{"$error":"#N/A"},{"$error":"#N/A"},null,null,null,null,null,null,null,null,null,null,null,null,null,null,null,null,null,null,null,null,null,null,null,null,null,null,null,null,null,{"$error":"#N/A"}]
[null,null,null,null,null,null,null,null,null,null,null,null,{"$error":"#N/A"},{"$error":"#N/A"},null,null,null,null,null,null,null,null,null,null,null,null,null,null,null,null,null,null,null,null,null,null,null,null,null,null,null,null,null,{"$error":"#N/A"}]
[null,null,null,null,null,null,null,null,null,null,null,null,{"$error":"#N/A"},{"$error":"#N/A"},null,null,null,null,null,null,null,null,null,null,null,null,null,null,null,null,null,null,null,null,null,null,null,null,null,null,null,null,null,{"$error":"#N/A"}]
[null,null,null,null,null,null,null,null,null,null,null,null,{"$error":"#N/A"},{"$error":"#N/A"},null,null,null,null,null,null,null,null,null,null,null,null,null,null,null,null,null,null,null,null,null,null,null,null,null,null,null,null,null,{"$error":"#N/A"}]
[null,null,null,null,null,null,null,null,null,null,null,null,{"$error":"#N/A"},{"$error":"#N/A"},null,null,null,null,null,null,null,null,null,null,null,null,null,null,null,null,null,null,null,null,null,null,null,null,null,null,null,null,null,{"$error":"#N/A"}]
[null,null,null,null,null,null,null,null,null,null,null,null,{"$error":"#N/A"},{"$error":"#N/A"},null,null,null,null,null,null,null,null,null,null,null,null,null,null,null,null,null,null,null,null,null,null,null,null,null,null,null,null,null,{"$error":"#N/A"}]
[null,null,null,null,null,null,null,null,null,null,null,null,{"$error":"#N/A"},{"$error":"#N/A"},null,null,null,null,null,null,null,null,null,null,null,null,null,null,null,null,null,null,null,null,null,null,null,null,null,null,null,null,null,{"$error":"#N/A"}]
[null,null,null,null,null,null,null,null,null,null,null,null,{"$error":"#N/A"},{"$error":"#N/A"},null,null,null,null,null,null,null,null,null,null,null,null,null,null,null,null,null,null,null,null,null,null,null,null,null,null,null,null,null,{"$error":"#N/A"}]
[null,null,null,null,null,null,null,null,null,null,null,null,{"$error":"#N/A"},{"$error":"#N/A"},null,null,null,null,null,null,null,null,null,null,null,null,null,null,null,null,null,null,null,null,null,null,null,null,null,null,null,null,null,{"$error":"#N/A"}]
[null,null,null,null,null,null,null,null,null,null,null,null,{"$error":"#N/A"},{"$error":"#N/A"},null,null,null,null,null,null,null,null,null,null,null,null,null,null,null,null,null,null,null,null,null,null,null,null,null,null,null,null,null,{"$error":"#N/A"}]
[null,null,null,null,null,null,null,null,null,null,null,null,{"$error":"#N/A"},{"$error":"#N/A"},null,null,null,null,null,null,null,null,null,null,null,null,null,null,null,null,null,null,null,null,null,null,null,null,null,null,null,null,null,{"$error":"#N/A"}]
[null,null,null,null,null,null,null,null,null,null,null,null,{"$error":"#N/A"},{"$error":"#N/A"},null,null,null,null,null,null,null,null,null,null,null,null,null,null,null,null,null,null,null,null,null,null,null,null,null,null,null,null,null,{"$error":"#N/A"}]
[null,null,null,null,null,null,null,null,null,null,null,null,{"$error":"#N/A"},{"$error":"#N/A"},null,null,null,null,null,null,null,null,null,null,null,null,null,null,null,null,null,null,null,null,null,null,null,null,null,null,null,null,null,{"$error":"#N/A"}]
[null,null,null,null,null,null,null,null,null,null,null,null,{"$error":"#N/A"},{"$error":"#N/A"},null,null,null,null,null,null,null,null,null,null,null,null,null,null,null,null,null,null,null,null,null,null,null,null,null,null,null,null,null,{"$error":"#N/A"}]
[null,null,null,null,null,null,null,null,null,null,null,null,{"$error":"#N/A"},{"$error":"#N/A"},null,null,null,null,null,null,null,null,null,null,null,null,null,null,null,null,null,null,null,null,null,null,null,null,null,null,null,null,null,{"$error":"#N/A"}]
[null,null,null,null,null,null,null,null,null,null,null,null,{"$error":"#N/A"},{"$error":"#N/A"},null,null,null,null,null,null,null,null,null,null,null,null,null,null,null,null,null,null,null,null,null,null,null,null,null,null,null,null,null,{"$error":"#N/A"}]
[null,null,null,null,null,null,null,null,null,null,null,null,{"$error":"#N/A"},{"$error":"#N/A"},null,null,null,null,null,null,null,null,null,null,null,null,null,null,null,null,null,null,null,null,null,null,null,null,null,null,null,null,null,{"$error":"#N/A"}]
[null,null,null,null,null,null,null,null,null,null,null,null,{"$error":"#N/A"},{"$error":"#N/A"},null,null,null,null,null,null,null,null,null,null,null,null,null,null,null,null,null,null,null,null,null,null,null,null,null,null,null,null,null,{"$error":"#N/A"}]
[null,null,null,null,null,null,null,null,null,null,null,null,{"$error":"#N/A"},{"$error":"#N/A"},null,null,null,null,null,null,null,null,null,null,null,null,null,null,null,null,null,null,null,null,null,null,null,null,null,null,null,null,null,{"$error":"#N/A"}]
[null,null,null,null,null,null,null,null,null,null,null,null,{"$error":"#N/A"},{"$error":"#N/A"},null,null,null,null,null,null,null,null,null,null,null,null,null,null,null,null,null,null,null,null,null,null,null,null,null,null,null,null,null,{"$error":"#N/A"}]
[null,null,null,null,null,null,null,null,null,null,null,null,{"$error":"#N/A"},{"$error":"#N/A"},null,null,null,null,null,null,null,null,null,null,null,null,null,null,null,null,null,null,null,null,null,null,null,null,null,null,null,null,null,{"$error":"#N/A"}]
[null,null,null,null,null,null,null,null,null,null,null,null,{"$error":"#N/A"},{"$error":"#N/A"},null,null,null,null,null,null,null,null,null,null,null,null,null,null,null,null,null,null,null,null,null,null,null,null,null,null,null,null,null,{"$error":"#N/A"}]
[null,null,null,null,null,null,null,null,null,null,null,null,{"$error":"#N/A"},{"$error":"#N/A"},null,null,null,null,null,null,null,null,null,null,null,null,null,null,null,null,null,null,null,null,null,null,null,null,null,null,null,null,null,{"$error":"#N/A"}]
[null,null,null,null,null,null,null,null,null,null,null,null,{"$error":"#N/A"},{"$error":"#N/A"},null,null,null,null,null,null,null,null,null,null,null,null,null,null,null,null,null,null,null,null,null,null,null,null,null,null,null,null,null,{"$error":"#N/A"}]
[null,null,null,null,null,null,null,null,null,null,null,null,{"$error":"#N/A"},{"$error":"#N/A"},null,null,null,null,null,null,null,null,null,null,null,null,null,null,null,null,null,null,null,null,null,null,null,null,null,null,null,null,null,{"$error":"#N/A"}]
[null,null,null,null,null,null,null,null,null,null,null,null,{"$error":"#N/A"},{"$error":"#N/A"},null,null,null,null,null,null,null,null,null,null,null,null,null,null,null,null,null,null,null,null,null,null,null,null,null,null,null,null,null,{"$error":"#N/A"}]
[null,null,null,null,null,null,null,null,null,null,null,null,{"$error":"#N/A"},{"$error":"#N/A"},null,null,null,null,null,null,null,null,null,null,null,null,null,null,null,null,null,null,null,null,null,null,null,null,null,null,null,null,null,{"$error":"#N/A"}]
[null,null,null,null,null,null,null,null,null,null,null,null,{"$error":"#N/A"},{"$error":"#N/A"},null,null,null,null,null,null,null,null,null,null,null,null,null,null,null,null,null,null,null,null,null,null,null,null,null,null,null,null,null,{"$error":"#N/A"}]
[null,null,null,null,null,null,null,null,null,null,null,null,{"$error":"#N/A"},{"$error":"#N/A"},null,null,null,null,null,null,null,null,null,null,null,null,null,null,null,null,null,null,null,null,null,null,null,null,null,null,null,null,null,{"$error":"#N/A"}]
[null,null,null,null,null,null,null,null,null,null,null,null,{"$error":"#N/A"},{"$error":"#N/A"},null,null,null,null,null,null,null,null,null,null,null,null,null,null,null,null,null,null,null,null,null,null,null,null,null,null,null,null,null,{"$error":"#N/A"}]
[null,null,null,null,null,null,null,null,null,null,null,null,{"$error":"#N/A"},{"$error":"#N/A"},null,null,null,null,null,null,null,null,null,null,null,null,null,null,null,null,null,null,null,null,null,null,null,null,null,null,null,null,null,{"$error":"#N/A"}]
[null,null,null,null,null,null,null,null,null,null,null,null,{"$error":"#N/A"},{"$error":"#N/A"},null,null,null,null,null,null,null,null,null,null,null,null,null,null,null,null,null,null,null,null,null,null,null,null,null,null,null,null,null,{"$error":"#N/A"}]
[null,null,null,null,null,null,null,null,null,null,null,null,{"$error":"#N/A"},{"$error":"#N/A"},null,null,null,null,null,null,null,null,null,null,null,null,null,null,null,null,null,null,null,null,null,null,null,null,null,null,null,null,null,{"$error":"#N/A"}]
[null,null,null,null,null,null,null,null,null,null,null,null,{"$error":"#N/A"},{"$error":"#N/A"},null,null,null,null,null,null,null,null,null,null,null,null,null,null,null,null,null,null,null,null,null,null,null,null,null,null,null,null,null,{"$error":"#N/A"}]
[null,null,null,null,null,null,null,null,null,null,null,null,{"$error":"#N/A"},{"$error":"#N/A"},null,null,null,null,null,null,null,null,null,null,null,null,null,null,null,null,null,null,null,null,null,null,null,null,null,null,null,null,null,{"$error":"#N/A"}]
[null,null,null,null,null,null,null,null,null,null,null,null,{"$error":"#N/A"},{"$error":"#N/A"},null,null,null,null,null,null,null,null,null,null,null,null,null,null,null,null,null,null,null,null,null,null,null,null,null,null,null,null,null,{"$error":"#N/A"}]
[null,null,null,null,null,null,null,null,null,null,null,null,{"$error":"#N/A"},{"$error":"#N/A"},null,null,null,null,null,null,null,null,null,null,null,null,null,null,null,null,null,null,null,null,null,null,null,null,null,null,null,null,null,{"$error":"#N/A"}]
[null,null,null,null,null,null,null,null,null,null,null,null,{"$error":"#N/A"},{"$error":"#N/A"},null,null,null,null,null,null,null,null,null,null,null,null,null,null,null,null,null,null,null,null,null,null,null,null,null,null,null,null,null,{"$error":"#N/A"}]
[null,null,null,null,null,null,null,null,null,null,null,null,{"$error":"#N/A"},{"$error":"#N/A"},null,null,null,null,null,null,null,null,null,null,null,null,null,null,null,null,null,null,null,null,null,null,null,null,null,null,null,null,null,{"$error":"#N/A"}]
[null,null,null,null,null,null,null,null,null,null,null,null,{"$error":"#N/A"},{"$error":"#N/A"},null,null,null,null,null,null,null,null,null,null,null,null,null,null,null,null,null,null,null,null,null,null,null,null,null,null,null,null,null,{"$error":"#N/A"}]
[null,null,null,null,null,null,null,null,null,null,null,null,{"$error":"#N/A"},{"$error":"#N/A"},null,null,null,null,null,null,null,null,null,null,null,null,null,null,null,null,null,null,null,null,null,null,null,null,null,null,null,null,null,{"$error":"#N/A"}]
[null,null,null,null,null,null,null,null,null,null,null,null,{"$error":"#N/A"},{"$error":"#N/A"},null,null,null,null,null,null,null,null,null,null,null,null,null,null,null,null,null,null,null,null,null,null,null,null,null,null,null,null,null,{"$error":"#N/A"}]
[null,null,null,null,null,null,null,null,null,null,null,null,{"$error":"#N/A"},{"$error":"#N/A"},null,null,null,null,null,null,null,null,null,null,null,null,null,null,null,null,null,null,null,null,null,null,null,null,null,null,null,null,null,{"$error":"#N/A"}]
[null,null,null,null,null,null,null,null,null,null,null,null,{"$error":"#N/A"},{"$error":"#N/A"},null,null,null,null,null,null,null,null,null,null,null,null,null,null,null,null,null,null,null,null,null,null,null,null,null,null,null,null,null,{"$error":"#N/A"}]
[null,null,null,null,null,null,null,null,null,null,null,null,{"$error":"#N/A"},{"$error":"#N/A"},null,null,null,null,null,null,null,null,null,null,null,null,null,null,null,null,null,null,null,null,null,null,null,null,null,null,null,null,null,{"$error":"#N/A"}]
[null,null,null,null,null,null,null,null,null,null,null,null,{"$error":"#N/A"},{"$error":"#N/A"},null,null,null,null,null,null,null,null,null,null,null,null,null,null,null,null,null,null,null,null,null,null,null,null,null,null,null,null,null,{"$error":"#N/A"}]
[null,null,null,null,null,null,null,null,null,null,null,null,{"$error":"#N/A"},{"$error":"#N/A"},null,null,null,null,null,null,null,null,null,null,null,null,null,null,null,null,null,null,null,null,null,null,null,null,null,null,null,null,null,{"$error":"#N/A"}]
[null,null,null,null,null,null,null,null,null,null,null,null,{"$error":"#N/A"},{"$error":"#N/A"},null,null,null,null,null,null,null,null,null,null,null,null,null,null,null,null,null,null,null,null,null,null,null,null,null,null,null,null,null,{"$error":"#N/A"}]
[null,null,null,null,null,null,null,null,null,null,null,null,{"$error":"#N/A"},{"$error":"#N/A"},null,null,null,null,null,null,null,null,null,null,null,null,null,null,null,null,null,null,null,null,null,null,null,null,null,null,null,null,null,{"$error":"#N/A"}]
[null,null,null,null,null,null,null,null,null,null,null,null,{"$error":"#N/A"},{"$error":"#N/A"},null,null,null,null,null,null,null,null,null,null,null,null,null,null,null,null,null,null,null,null,null,null,null,null,null,null,null,null,null,{"$error":"#N/A"}]
[null,null,null,null,null,null,null,null,null,null,null,null,{"$error":"#N/A"},{"$error":"#N/A"},null,null,null,null,null,null,null,null,null,null,null,null,null,null,null,null,null,null,null,null,null,null,null,null,null,null,null,null,null,{"$error":"#N/A"}]
[null,null,null,null,null,null,null,null,null,null,null,null,{"$error":"#N/A"},{"$error":"#N/A"},null,null,null,null,null,null,null,null,null,null,null,null,null,null,null,null,null,null,null,null,null,null,null,null,null,null,null,null,null,{"$error":"#N/A"}]
[null,null,null,null,null,null,null,null,null,null,null,null,{"$error":"#N/A"},{"$error":"#N/A"},null,null,null,null,null,null,null,null,null,null,null,null,null,null,null,null,null,null,null,null,null,null,null,null,null,null,null,null,null,{"$error":"#N/A"}]
[null,null,null,null,null,null,null,null,null,null,null,null,{"$error":"#N/A"},{"$error":"#N/A"},null,null,null,null,null,null,null,null,null,null,null,null,null,null,null,null,null,null,null,null,null,null,null,null,null,null,null,null,null,{"$error":"#N/A"}]
[null,null,null,null,null,null,null,null,null,null,null,null,{"$error":"#N/A"},{"$error":"#N/A"},null,null,null,null,null,null,null,null,null,null,null,null,null,null,null,null,null,null,null,null,null,null,null,null,null,null,null,null,null,{"$error":"#N/A"}]
[null,null,null,null,null,null,null,null,null,null,null,null,{"$error":"#N/A"},{"$error":"#N/A"},null,null,null,null,null,null,null,null,null,null,null,null,null,null,null,null,null,null,null,null,null,null,null,null,null,null,null,null,null,{"$error":"#N/A"}]
[null,null,null,null,null,null,null,null,null,null,null,null,{"$error":"#N/A"},{"$error":"#N/A"},null,null,null,null,null,null,null,null,null,null,null,null,null,null,null,null,null,null,null,null,null,null,null,null,null,null,null,null,null,{"$error":"#N/A"}]
[null,null,null,null,null,null,null,null,null,null,null,null,{"$error":"#N/A"},{"$error":"#N/A"},null,null,null,null,null,null,null,null,null,null,null,null,null,null,null,null,null,null,null,null,null,null,null,null,null,null,null,null,null,{"$error":"#N/A"}]
[null,null,null,null,null,null,null,null,null,null,null,null,{"$error":"#N/A"},{"$error":"#N/A"},null,null,null,null,null,null,null,null,null,null,null,null,null,null,null,null,null,null,null,null,null,null,null,null,null,null,null,null,null,{"$error":"#N/A"}]
[null,null,null,null,null,null,null,null,null,null,null,null,{"$error":"#N/A"},{"$error":"#N/A"},null,null,null,null,null,null,null,null,null,null,null,null,null,null,null,null,null,null,null,null,null,null,null,null,null,null,null,null,null,{"$error":"#N/A"}]
[null,null,null,null,null,null,null,null,null,null,null,null,{"$error":"#N/A"},{"$error":"#N/A"},null,null,null,null,null,null,null,null,null,null,null,null,null,null,null,null,null,null,null,null,null,null,null,null,null,null,null,null,null,{"$error":"#N/A"}]
[null,null,null,null,null,null,null,null,null,null,null,null,{"$error":"#N/A"},{"$error":"#N/A"},null,null,null,null,null,null,null,null,null,null,null,null,null,null,null,null,null,null,null,null,null,null,null,null,null,null,null,null,null,{"$error":"#N/A"}]
[null,null,null,null,null,null,null,null,null,null,null,null,{"$error":"#N/A"},{"$error":"#N/A"},null,null,null,null,null,null,null,null,null,null,null,null,null,null,null,null,null,null,null,null,null,null,null,null,null,null,null,null,null,{"$error":"#N/A"}]
[null,null,null,null,null,null,null,null,null,null,null,null,{"$error":"#N/A"},{"$error":"#N/A"},null,null,null,null,null,null,null,null,null,null,null,null,null,null,null,null,null,null,null,null,null,null,null,null,null,null,null,null,null,{"$error":"#N/A"}]
[null,null,null,null,null,null,null,null,null,null,null,null,{"$error":"#N/A"},{"$error":"#N/A"},null,null,null,null,null,null,null,null,null,null,null,null,null,null,null,null,null,null,null,null,null,null,null,null,null,null,null,null,null,{"$error":"#N/A"}]
[null,null,null,null,null,null,null,null,null,null,null,null,{"$error":"#N/A"},{"$error":"#N/A"},null,null,null,null,null,null,null,null,null,null,null,null,null,null,null,null,null,null,null,null,null,null,null,null,null,null,null,null,null,{"$error":"#N/A"}]
[null,null,null,null,null,null,null,null,null,null,null,null,{"$error":"#N/A"},{"$error":"#N/A"},null,null,null,null,null,null,null,null,null,null,null,null,null,null,null,null,null,null,null,null,null,null,null,null,null,null,null,null,null,{"$error":"#N/A"}]
[null,null,null,null,null,null,null,null,null,null,null,null,{"$error":"#N/A"},{"$error":"#N/A"},null,null,null,null,null,null,null,null,null,null,null,null,null,null,null,null,null,null,null,null,null,null,null,null,null,null,null,null,null,{"$error":"#N/A"}]
[null,null,null,null,null,null,null,null,null,null,null,null,{"$error":"#N/A"},{"$error":"#N/A"},null,null,null,null,null,null,null,null,null,null,null,null,null,null,null,null,null,null,null,null,null,null,null,null,null,null,null,null,null,{"$error":"#N/A"}]
[null,null,null,null,null,null,null,null,null,null,null,null,{"$error":"#N/A"},{"$error":"#N/A"},null,null,null,null,null,null,null,null,null,null,null,null,null,null,null,null,null,null,null,null,null,null,null,null,null,null,null,null,null,{"$error":"#N/A"}]
[null,null,null,null,null,null,null,null,null,null,null,null,{"$error":"#N/A"},{"$error":"#N/A"},null,null,null,null,null,null,null,null,null,null,null,null,null,null,null,null,null,null,null,null,null,null,null,null,null,null,null,null,null,{"$error":"#N/A"}]
[null,null,null,null,null,null,null,null,null,null,null,null,{"$error":"#N/A"},{"$error":"#N/A"},null,null,null,null,null,null,null,null,null,null,null,null,null,null,null,null,null,null,null,null,null,null,null,null,null,null,null,null,null,{"$error":"#N/A"}]
[null,null,null,null,null,null,null,null,null,null,null,null,{"$error":"#N/A"},{"$error":"#N/A"},null,null,null,null,null,null,null,null,null,null,null,null,null,null,null,null,null,null,null,null,null,null,null,null,null,null,null,null,null,{"$error":"#N/A"}]
[null,null,null,null,null,null,null,null,null,null,null,null,{"$error":"#N/A"},{"$error":"#N/A"},null,null,null,null,null,null,null,null,null,null,null,null,null,null,null,null,null,null,null,null,null,null,null,null,null,null,null,null,null,{"$error":"#N/A"}]
[null,null,null,null,null,null,null,null,null,null,null,null,{"$error":"#N/A"},{"$error":"#N/A"},null,null,null,null,null,null,null,null,null,null,null,null,null,null,null,null,null,null,null,null,null,null,null,null,null,null,null,null,null,{"$error":"#N/A"}]
[null,null,null,null,null,null,null,null,null,null,null,null,{"$error":"#N/A"},{"$error":"#N/A"},null,null,null,null,null,null,null,null,null,null,null,null,null,null,null,null,null,null,null,null,null,null,null,null,null,null,null,null,null,{"$error":"#N/A"}]
[null,null,null,null,null,null,null,null,null,null,null,null,{"$error":"#N/A"},{"$error":"#N/A"},null,null,null,null,null,null,null,null,null,null,null,null,null,null,null,null,null,null,null,null,null,null,null,null,null,null,null,null,null,{"$error":"#N/A"}]
[null,null,null,null,null,null,null,null,null,null,null,null,{"$error":"#N/A"},{"$error":"#N/A"},null,null,null,null,null,null,null,null,null,null,null,null,null,null,null,null,null,null,null,null,null,null,null,null,null,null,null,null,null,{"$error":"#N/A"}]
[null,null,null,null,null,null,null,null,null,null,null,null,{"$error":"#N/A"},{"$error":"#N/A"},null,null,null,null,null,null,null,null,null,null,null,null,null,null,null,null,null,null,null,null,null,null,null,null,null,null,null,null,null,{"$error":"#N/A"}]
[null,null,null,null,null,null,null,null,null,null,null,null,{"$error":"#N/A"},{"$error":"#N/A"},null,null,null,null,null,null,null,null,null,null,null,null,null,null,null,null,null,null,null,null,null,null,null,null,null,null,null,null,null,{"$error":"#N/A"}]
[null,null,null,null,null,null,null,null,null,null,null,null,{"$error":"#N/A"},{"$error":"#N/A"},null,null,null,null,null,null,null,null,null,null,null,null,null,null,null,null,null,null,null,null,null,null,null,null,null,null,null,null,null,{"$error":"#N/A"}]
[null,null,null,null,null,null,null,null,null,null,null,null,{"$error":"#N/A"},{"$error":"#N/A"},null,null,null,null,null,null,null,null,null,null,null,null,null,null,null,null,null,null,null,null,null,null,null,null,null,null,null,null,null,{"$error":"#N/A"}]
[null,null,null,null,null,null,null,null,null,null,null,null,{"$error":"#N/A"},{"$error":"#N/A"},null,null,null,null,null,null,null,null,null,null,null,null,null,null,null,null,null,null,null,null,null,null,null,null,null,null,null,null,null,{"$error":"#N/A"}]
[null,null,null,null,null,null,null,null,null,null,null,null,{"$error":"#N/A"},{"$error":"#N/A"},null,null,null,null,null,null,null,null,null,null,null,null,null,null,null,null,null,null,null,null,null,null,null,null,null,null,null,null,null,{"$error":"#N/A"}]
[null,null,null,null,null,null,null,null,null,null,null,null,{"$error":"#N/A"},{"$error":"#N/A"},null,null,null,null,null,null,null,null,null,null,null,null,null,null,null,null,null,null,null,null,null,null,null,null,null,null,null,null,null,{"$error":"#N/A"}]
[null,null,null,null,null,null,null,null,null,null,null,null,{"$error":"#N/A"},{"$error":"#N/A"},null,null,null,null,null,null,null,null,null,null,null,null,null,null,null,null,null,null,null,null,null,null,null,null,null,null,null,null,null,{"$error":"#N/A"}]
[null,null,null,null,null,null,null,null,null,null,null,null,{"$error":"#N/A"},{"$error":"#N/A"},null,null,null,null,null,null,null,null,null,null,null,null,null,null,null,null,null,null,null,null,null,null,null,null,null,null,null,null,null,{"$error":"#N/A"}]
[null,null,null,null,null,null,null,null,null,null,null,null,{"$error":"#N/A"},{"$error":"#N/A"},null,null,null,null,null,null,null,null,null,null,null,null,null,null,null,null,null,null,null,null,null,null,null,null,null,null,null,null,null,{"$error":"#N/A"}]
[null,null,null,null,null,null,null,null,null,null,null,null,{"$error":"#N/A"},{"$error":"#N/A"},null,null,null,null,null,null,null,null,null,null,null,null,null,null,null,null,null,null,null,null,null,null,null,null,null,null,null,null,null,{"$error":"#N/A"}]
[null,null,null,null,null,null,null,null,null,null,null,null,{"$error":"#N/A"},{"$error":"#N/A"},null,null,null,null,null,null,null,null,null,null,null,null,null,null,null,null,null,null,null,null,null,null,null,null,null,null,null,null,null,{"$error":"#N/A"}]
[null,null,null,null,null,null,null,null,null,null,null,null,{"$error":"#N/A"},{"$error":"#N/A"},null,null,null,null,null,null,null,null,null,null,null,null,null,null,null,null,null,null,null,null,null,null,null,null,null,null,null,null,null,{"$error":"#N/A"}]
[null,null,null,null,null,null,null,null,null,null,null,null,{"$error":"#N/A"},{"$error":"#N/A"},null,null,null,null,null,null,null,null,null,null,null,null,null,null,null,null,null,null,null,null,null,null,null,null,null,null,null,null,null,{"$error":"#N/A"}]
[null,null,null,null,null,null,null,null,null,null,null,null,{"$error":"#N/A"},{"$error":"#N/A"},null,null,null,null,null,null,null,null,null,null,null,null,null,null,null,null,null,null,null,null,null,null,null,null,null,null,null,null,null,{"$error":"#N/A"}]
[null,null,null,null,null,null,null,null,null,null,null,null,{"$error":"#N/A"},{"$error":"#N/A"},null,null,null,null,null,null,null,null,null,null,null,null,null,null,null,null,null,null,null,null,null,null,null,null,null,null,null,null,null,{"$error":"#N/A"}]
[null,null,null,null,null,null,null,null,null,null,null,null,{"$error":"#N/A"},{"$error":"#N/A"},null,null,null,null,null,null,null,null,null,null,null,null,null,null,null,null,null,null,null,null,null,null,null,null,null,null,null,null,null,{"$error":"#N/A"}]
[null,null,null,null,null,null,null,null,null,null,null,null,{"$error":"#N/A"},{"$error":"#N/A"},null,null,null,null,null,null,null,null,null,null,null,null,null,null,null,null,null,null,null,null,null,null,null,null,null,null,null,null,null,{"$error":"#N/A"}]
[null,null,null,null,null,null,null,null,null,null,null,null,{"$error":"#N/A"},{"$error":"#N/A"},null,null,null,null,null,null,null,null,null,null,null,null,null,null,null,null,null,null,null,null,null,null,null,null,null,null,null,null,null,{"$error":"#N/A"}]
[null,null,null,null,null,null,null,null,null,null,null,null,{"$error":"#N/A"},{"$error":"#N/A"},null,null,null,null,null,null,null,null,null,null,null,null,null,null,null,null,null,null,null,null,null,null,null,null,null,null,null,null,null,{"$error":"#N/A"}]
[null,null,null,null,null,null,null,null,null,null,null,null,{"$error":"#N/A"},{"$error":"#N/A"},null,null,null,null,null,null,null,null,null,null,null,null,null,null,null,null,null,null,null,null,null,null,null,null,null,null,null,null,null,{"$error":"#N/A"}]
[null,null,null,null,null,null,null,null,null,null,null,null,{"$error":"#N/A"},{"$error":"#N/A"},null,null,null,null,null,null,null,null,null,null,null,null,null,null,null,null,null,null,null,null,null,null,null,null,null,null,null,null,null,{"$error":"#N/A"}]
[null,null,null,null,null,null,null,null,null,null,null,null,{"$error":"#N/A"},{"$error":"#N/A"},null,null,null,null,null,null,null,null,null,null,null,null,null,null,null,null,null,null,null,null,null,null,null,null,null,null,null,null,null,{"$error":"#N/A"}]
[null,null,null,null,null,null,null,null,null,null,null,null,{"$error":"#N/A"},{"$error":"#N/A"},null,null,null,null,null,null,null,null,null,null,null,null,null,null,null,null,null,null,null,null,null,null,null,null,null,null,null,null,null,{"$error":"#N/A"}]
[null,null,null,null,null,null,null,null,null,null,null,null,{"$f":"IF(AND($F$17=H4721,$AK$44=F4721),J4721,\"\")","v":{"$error":"#N/A"}},{"$f":"IF(AND($F$17=H4721,$AK$44=F4721),L4721,\"\")","v":{"$error":"#N/A"}},null,null,null,null,null,null,null,null,null,null,null,null,null,null,null,null,null,null,null,null,null,null,null,null,null,null,null,null,null,{"$error":"#N/A"}]
[null,null,null,null,null,null,null,null,null,null,null,null,{"$error":"#N/A"},{"$error":"#N/A"},null,null,null,null,null,null,null,null,null,null,null,null,null,null,null,null,null,null,null,null,null,null,null,null,null,null,null,null,null,{"$error":"#N/A"}]
[null,null,null,null,null,null,null,null,null,null,null,null,{"$error":"#N/A"},{"$error":"#N/A"},null,null,null,null,null,null,null,null,null,null,null,null,null,null,null,null,null,null,null,null,null,null,null,null,null,null,null,null,null,{"$error":"#N/A"}]
[null,null,null,null,null,null,null,null,null,null,null,null,{"$error":"#N/A"},{"$error":"#N/A"},null,null,null,null,null,null,null,null,null,null,null,null,null,null,null,null,null,null,null,null,null,null,null,null,null,null,null,null,null,{"$error":"#N/A"}]
[null,null,null,null,null,null,null,null,null,null,null,null,{"$error":"#N/A"},{"$error":"#N/A"},null,null,null,null,null,null,null,null,null,null,null,null,null,null,null,null,null,null,null,null,null,null,null,null,null,null,null,null,null,{"$error":"#N/A"}]
[null,null,null,null,null,null,null,null,null,null,null,null,{"$error":"#N/A"},{"$error":"#N/A"},null,null,null,null,null,null,null,null,null,null,null,null,null,null,null,null,null,null,null,null,null,null,null,null,null,null,null,null,null,{"$error":"#N/A"}]
[null,null,null,null,null,null,null,null,null,null,null,null,{"$error":"#N/A"},{"$error":"#N/A"},null,null,null,null,null,null,null,null,null,null,null,null,null,null,null,null,null,null,null,null,null,null,null,null,null,null,null,null,null,{"$error":"#N/A"}]
[null,null,null,null,null,null,null,null,null,null,null,null,{"$error":"#N/A"},{"$error":"#N/A"},null,null,null,null,null,null,null,null,null,null,null,null,null,null,null,null,null,null,null,null,null,null,null,null,null,null,null,null,null,{"$error":"#N/A"}]
[null,null,null,null,null,null,null,null,null,null,null,null,{"$error":"#N/A"},{"$error":"#N/A"},null,null,null,null,null,null,null,null,null,null,null,null,null,null,null,null,null,null,null,null,null,null,null,null,null,null,null,null,null,{"$error":"#N/A"}]
[null,null,null,null,null,null,null,null,null,null,null,null,{"$error":"#N/A"},{"$error":"#N/A"},null,null,null,null,null,null,null,null,null,null,null,null,null,null,null,null,null,null,null,null,null,null,null,null,null,null,null,null,null,{"$error":"#N/A"}]
[null,null,null,null,null,null,null,null,null,null,null,null,{"$error":"#N/A"},{"$error":"#N/A"},null,null,null,null,null,null,null,null,null,null,null,null,null,null,null,null,null,null,null,null,null,null,null,null,null,null,null,null,null,{"$error":"#N/A"}]
[null,null,null,null,null,null,null,null,null,null,null,null,{"$error":"#N/A"},{"$error":"#N/A"},null,null,null,null,null,null,null,null,null,null,null,null,null,null,null,null,null,null,null,null,null,null,null,null,null,null,null,null,null,{"$error":"#N/A"}]
[null,null,null,null,null,null,null,null,null,null,null,null,{"$error":"#N/A"},{"$error":"#N/A"},null,null,null,null,null,null,null,null,null,null,null,null,null,null,null,null,null,null,null,null,null,null,null,null,null,null,null,null,null,{"$error":"#N/A"}]
[null,null,null,null,null,null,null,null,null,null,null,null,{"$error":"#N/A"},{"$error":"#N/A"},null,null,null,null,null,null,null,null,null,null,null,null,null,null,null,null,null,null,null,null,null,null,null,null,null,null,null,null,null,{"$error":"#N/A"}]
[null,null,null,null,null,null,null,null,null,null,null,null,{"$error":"#N/A"},{"$error":"#N/A"},null,null,null,null,null,null,null,null,null,null,null,null,null,null,null,null,null,null,null,null,null,null,null,null,null,null,null,null,null,{"$error":"#N/A"}]
[null,null,null,null,null,null,null,null,null,null,null,null,{"$error":"#N/A"},{"$error":"#N/A"},null,null,null,null,null,null,null,null,null,null,null,null,null,null,null,null,null,null,null,null,null,null,null,null,null,null,null,null,null,{"$error":"#N/A"}]
[null,null,null,null,null,null,null,null,null,null,null,null,{"$error":"#N/A"},{"$error":"#N/A"},null,null,null,null,null,null,null,null,null,null,null,null,null,null,null,null,null,null,null,null,null,null,null,null,null,null,null,null,null,{"$error":"#N/A"}]
[null,null,null,null,null,null,null,null,null,null,null,null,{"$error":"#N/A"},{"$error":"#N/A"},null,null,null,null,null,null,null,null,null,null,null,null,null,null,null,null,null,null,null,null,null,null,null,null,null,null,null,null,null,{"$error":"#N/A"}]
[null,null,null,null,null,null,null,null,null,null,null,null,{"$error":"#N/A"},{"$error":"#N/A"},null,null,null,null,null,null,null,null,null,null,null,null,null,null,null,null,null,null,null,null,null,null,null,null,null,null,null,null,null,{"$error":"#N/A"}]
[null,null,null,null,null,null,null,null,null,null,null,null,{"$error":"#N/A"},{"$error":"#N/A"},null,null,null,null,null,null,null,null,null,null,null,null,null,null,null,null,null,null,null,null,null,null,null,null,null,null,null,null,null,{"$error":"#N/A"}]
[null,null,null,null,null,null,null,null,null,null,null,null,{"$error":"#N/A"},{"$error":"#N/A"},null,null,null,null,null,null,null,null,null,null,null,null,null,null,null,null,null,null,null,null,null,null,null,null,null,null,null,null,null,{"$error":"#N/A"}]
[null,null,null,null,null,null,null,null,null,null,null,null,{"$error":"#N/A"},{"$error":"#N/A"},null,null,null,null,null,null,null,null,null,null,null,null,null,null,null,null,null,null,null,null,null,null,null,null,null,null,null,null,null,{"$error":"#N/A"}]
[null,null,null,null,null,null,null,null,null,null,null,null,{"$error":"#N/A"},{"$error":"#N/A"},null,null,null,null,null,null,null,null,null,null,null,null,null,null,null,null,null,null,null,null,null,null,null,null,null,null,null,null,null,{"$error":"#N/A"}]
[null,null,null,null,null,null,null,null,null,null,null,null,{"$error":"#N/A"},{"$error":"#N/A"},null,null,null,null,null,null,null,null,null,null,null,null,null,null,null,null,null,null,null,null,null,null,null,null,null,null,null,null,null,{"$error":"#N/A"}]
[null,null,null,null,null,null,null,null,null,null,null,null,{"$error":"#N/A"},{"$error":"#N/A"},null,null,null,null,null,null,null,null,null,null,null,null,null,null,null,null,null,null,null,null,null,null,null,null,null,null,null,null,null,{"$error":"#N/A"}]
[null,null,null,null,null,null,null,null,null,null,null,null,{"$error":"#N/A"},{"$error":"#N/A"},null,null,null,null,null,null,null,null,null,null,null,null,null,null,null,null,null,null,null,null,null,null,null,null,null,null,null,null,null,{"$error":"#N/A"}]
[null,null,null,null,null,null,null,null,null,null,null,null,{"$error":"#N/A"},{"$error":"#N/A"},null,null,null,null,null,null,null,null,null,null,null,null,null,null,null,null,null,null,null,null,null,null,null,null,null,null,null,null,null,{"$error":"#N/A"}]
[null,null,null,null,null,null,null,null,null,null,null,null,{"$error":"#N/A"},{"$error":"#N/A"},null,null,null,null,null,null,null,null,null,null,null,null,null,null,null,null,null,null,null,null,null,null,null,null,null,null,null,null,null,{"$error":"#N/A"}]
[null,null,null,null,null,null,null,null,null,null,null,null,{"$error":"#N/A"},{"$error":"#N/A"},null,null,null,null,null,null,null,null,null,null,null,null,null,null,null,null,null,null,null,null,null,null,null,null,null,null,null,null,null,{"$error":"#N/A"}]
[null,null,null,null,null,null,null,null,null,null,null,null,{"$error":"#N/A"},{"$error":"#N/A"},null,null,null,null,null,null,null,null,null,null,null,null,null,null,null,null,null,null,null,null,null,null,null,null,null,null,null,null,null,{"$error":"#N/A"}]
[null,null,null,null,null,null,null,null,null,null,null,null,{"$error":"#N/A"},{"$error":"#N/A"},null,null,null,null,null,null,null,null,null,null,null,null,null,null,null,null,null,null,null,null,null,null,null,null,null,null,null,null,null,{"$error":"#N/A"}]
[null,null,null,null,null,null,null,null,null,null,null,null,{"$error":"#N/A"},{"$error":"#N/A"},null,null,null,null,null,null,null,null,null,null,null,null,null,null,null,null,null,null,null,null,null,null,null,null,null,null,null,null,null,{"$error":"#N/A"}]
[null,null,null,null,null,null,null,null,null,null,null,null,{"$error":"#N/A"},{"$error":"#N/A"},null,null,null,null,null,null,null,null,null,null,null,null,null,null,null,null,null,null,null,null,null,null,null,null,null,null,null,null,null,{"$error":"#N/A"}]
[null,null,null,null,null,null,null,null,null,null,null,null,{"$error":"#N/A"},{"$error":"#N/A"},null,null,null,null,null,null,null,null,null,null,null,null,null,null,null,null,null,null,null,null,null,null,null,null,null,null,null,null,null,{"$error":"#N/A"}]
[null,null,null,null,null,null,null,null,null,null,null,null,{"$error":"#N/A"},{"$error":"#N/A"},null,null,null,null,null,null,null,null,null,null,null,null,null,null,null,null,null,null,null,null,null,null,null,null,null,null,null,null,null,{"$error":"#N/A"}]
[null,null,null,null,null,null,null,null,null,null,null,null,{"$error":"#N/A"},{"$error":"#N/A"},null,null,null,null,null,null,null,null,null,null,null,null,null,null,null,null,null,null,null,null,null,null,null,null,null,null,null,null,null,{"$error":"#N/A"}]
[null,null,null,null,null,null,null,null,null,null,null,null,{"$error":"#N/A"},{"$error":"#N/A"},null,null,null,null,null,null,null,null,null,null,null,null,null,null,null,null,null,null,null,null,null,null,null,null,null,null,null,null,null,{"$error":"#N/A"}]
[null,null,null,null,null,null,null,null,null,null,null,null,{"$error":"#N/A"},{"$error":"#N/A"},null,null,null,null,null,null,null,null,null,null,null,null,null,null,null,null,null,null,null,null,null,null,null,null,null,null,null,null,null,{"$error":"#N/A"}]
[null,null,null,null,null,null,null,null,null,null,null,null,{"$error":"#N/A"},{"$error":"#N/A"},null,null,null,null,null,null,null,null,null,null,null,null,null,null,null,null,null,null,null,null,null,null,null,null,null,null,null,null,null,{"$error":"#N/A"}]
[null,null,null,null,null,null,null,null,null,null,null,null,{"$error":"#N/A"},{"$error":"#N/A"},null,null,null,null,null,null,null,null,null,null,null,null,null,null,null,null,null,null,null,null,null,null,null,null,null,null,null,null,null,{"$error":"#N/A"}]
[null,null,null,null,null,null,null,null,null,null,null,null,{"$f":"IF(AND($F$17=H4913,$AK$44=F4913),J4913,\"\")","v":{"$error":"#N/A"}},{"$f":"IF(AND($F$17=H4913,$AK$44=F4913),L4913,\"\")","v":{"$error":"#N/A"}},null,null,null,null,null,null,null,null,null,null,null,null,null,null,null,null,null,null,null,null,null,null,null,null,null,null,null,null,null,{"$error":"#N/A"}]
[null,null,null,null,null,null,null,null,null,null,null,null,{"$error":"#N/A"},{"$error":"#N/A"},null,null,null,null,null,null,null,null,null,null,null,null,null,null,null,null,null,null,null,null,null,null,null,null,null,null,null,null,null,{"$error":"#N/A"}]
[null,null,null,null,null,null,null,null,null,null,null,null,{"$error":"#N/A"},{"$error":"#N/A"},null,null,null,null,null,null,null,null,null,null,null,null,null,null,null,null,null,null,null,null,null,null,null,null,null,null,null,null,null,{"$error":"#N/A"}]
[null,null,null,null,null,null,null,null,null,null,null,null,{"$error":"#N/A"},{"$error":"#N/A"},null,null,null,null,null,null,null,null,null,null,null,null,null,null,null,null,null,null,null,null,null,null,null,null,null,null,null,null,null,{"$error":"#N/A"}]
[null,null,null,null,null,null,null,null,null,null,null,null,{"$error":"#N/A"},{"$error":"#N/A"},null,null,null,null,null,null,null,null,null,null,null,null,null,null,null,null,null,null,null,null,null,null,null,null,null,null,null,null,null,{"$error":"#N/A"}]
[null,null,null,null,null,null,null,null,null,null,null,null,{"$error":"#N/A"},{"$error":"#N/A"},null,null,null,null,null,null,null,null,null,null,null,null,null,null,null,null,null,null,null,null,null,null,null,null,null,null,null,null,null,{"$error":"#N/A"}]
[null,null,null,null,null,null,null,null,null,null,null,null,{"$error":"#N/A"},{"$error":"#N/A"},null,null,null,null,null,null,null,null,null,null,null,null,null,null,null,null,null,null,null,null,null,null,null,null,null,null,null,null,null,{"$error":"#N/A"}]
[null,null,null,null,null,null,null,null,null,null,null,null,{"$error":"#N/A"},{"$error":"#N/A"},null,null,null,null,null,null,null,null,null,null,null,null,null,null,null,null,null,null,null,null,null,null,null,null,null,null,null,null,null,{"$error":"#N/A"}]
[null,null,null,null,null,null,null,null,null,null,null,null,{"$error":"#N/A"},{"$error":"#N/A"},null,null,null,null,null,null,null,null,null,null,null,null,null,null,null,null,null,null,null,null,null,null,null,null,null,null,null,null,null,{"$error":"#N/A"}]
[null,null,null,null,null,null,null,null,null,null,null,null,{"$error":"#N/A"},{"$error":"#N/A"},null,null,null,null,null,null,null,null,null,null,null,null,null,null,null,null,null,null,null,null,null,null,null,null,null,null,null,null,null,{"$error":"#N/A"}]
[null,null,null,null,null,null,null,null,null,null,null,null,{"$error":"#N/A"},{"$error":"#N/A"},null,null,null,null,null,null,null,null,null,null,null,null,null,null,null,null,null,null,null,null,null,null,null,null,null,null,null,null,null,{"$error":"#N/A"}]
[null,null,null,null,null,null,null,null,null,null,null,null,{"$error":"#N/A"},{"$error":"#N/A"},null,null,null,null,null,null,null,null,null,null,null,null,null,null,null,null,null,null,null,null,null,null,null,null,null,null,null,null,null,{"$error":"#N/A"}]
[null,null,null,null,null,null,null,null,null,null,null,null,{"$error":"#N/A"},{"$error":"#N/A"},null,null,null,null,null,null,null,null,null,null,null,null,null,null,null,null,null,null,null,null,null,null,null,null,null,null,null,null,null,{"$error":"#N/A"}]
[null,null,null,null,null,null,null,null,null,null,null,null,{"$error":"#N/A"},{"$error":"#N/A"},null,null,null,null,null,null,null,null,null,null,null,null,null,null,null,null,null,null,null,null,null,null,null,null,null,null,null,null,null,{"$error":"#N/A"}]
[null,null,null,null,null,null,null,null,null,null,null,null,{"$error":"#N/A"},{"$error":"#N/A"},null,null,null,null,null,null,null,null,null,null,null,null,null,null,null,null,null,null,null,null,null,null,null,null,null,null,null,null,null,{"$error":"#N/A"}]
[null,null,null,null,null,null,null,null,null,null,null,null,{"$error":"#N/A"},{"$error":"#N/A"},null,null,null,null,null,null,null,null,null,null,null,null,null,null,null,null,null,null,null,null,null,null,null,null,null,null,null,null,null,{"$error":"#N/A"}]
[null,null,null,null,null,null,null,null,null,null,null,null,{"$error":"#N/A"},{"$error":"#N/A"},null,null,null,null,null,null,null,null,null,null,null,null,null,null,null,null,null,null,null,null,null,null,null,null,null,null,null,null,null,{"$error":"#N/A"}]
[null,null,null,null,null,null,null,null,null,null,null,null,{"$error":"#N/A"},{"$error":"#N/A"},null,null,null,null,null,null,null,null,null,null,null,null,null,null,null,null,null,null,null,null,null,null,null,null,null,null,null,null,null,{"$error":"#N/A"}]
[null,null,null,null,null,null,null,null,null,null,null,null,{"$error":"#N/A"},{"$error":"#N/A"},null,null,null,null,null,null,null,null,null,null,null,null,null,null,null,null,null,null,null,null,null,null,null,null,null,null,null,null,null,{"$error":"#N/A"}]
[null,null,null,null,null,null,null,null,null,null,null,null,{"$error":"#N/A"},{"$error":"#N/A"},null,null,null,null,null,null,null,null,null,null,null,null,null,null,null,null,null,null,null,null,null,null,null,null,null,null,null,null,null,{"$error":"#N/A"}]
[null,null,null,null,null,null,null,null,null,null,null,null,{"$error":"#N/A"},{"$error":"#N/A"},null,null,null,null,null,null,null,null,null,null,null,null,null,null,null,null,null,null,null,null,null,null,null,null,null,null,null,null,null,{"$error":"#N/A"}]
[null,null,null,null,null,null,null,null,null,null,null,null,{"$error":"#N/A"},{"$error":"#N/A"},null,null,null,null,null,null,null,null,null,null,null,null,null,null,null,null,null,null,null,null,null,null,null,null,null,null,null,null,null,{"$error":"#N/A"}]
[null,null,null,null,null,null,null,null,null,null,null,null,{"$error":"#N/A"},{"$error":"#N/A"},null,null,null,null,null,null,null,null,null,null,null,null,null,null,null,null,null,null,null,null,null,null,null,null,null,null,null,null,null,{"$error":"#N/A"}]
[null,null,null,null,null,null,null,null,null,null,null,null,{"$error":"#N/A"},{"$error":"#N/A"},null,null,null,null,null,null,null,null,null,null,null,null,null,null,null,null,null,null,null,null,null,null,null,null,null,null,null,null,null,{"$error":"#N/A"}]
[null,null,null,null,null,null,null,null,null,null,null,null,{"$error":"#N/A"},{"$error":"#N/A"},null,null,null,null,null,null,null,null,null,null,null,null,null,null,null,null,null,null,null,null,null,null,null,null,null,null,null,null,null,{"$error":"#N/A"}]
[null,null,null,null,null,null,null,null,null,null,null,null,{"$error":"#N/A"},{"$error":"#N/A"},null,null,null,null,null,null,null,null,null,null,null,null,null,null,null,null,null,null,null,null,null,null,null,null,null,null,null,null,null,{"$error":"#N/A"}]
[null,null,null,null,null,null,null,null,null,null,null,null,{"$error":"#N/A"},{"$error":"#N/A"},null,null,null,null,null,null,null,null,null,null,null,null,null,null,null,null,null,null,null,null,null,null,null,null,null,null,null,null,null,{"$error":"#N/A"}]
[null,null,null,null,null,null,null,null,null,null,null,null,{"$error":"#N/A"},{"$error":"#N/A"},null,null,null,null,null,null,null,null,null,null,null,null,null,null,null,null,null,null,null,null,null,null,null,null,null,null,null,null,null,{"$error":"#N/A"}]
[null,null,null,null,null,null,null,null,null,null,null,null,{"$error":"#N/A"},{"$error":"#N/A"},null,null,null,null,null,null,null,null,null,null,null,null,null,null,null,null,null,null,null,null,null,null,null,null,null,null,null,null,null,{"$error":"#N/A"}]
[null,null,null,null,null,null,null,null,null,null,null,null,{"$error":"#N/A"},{"$error":"#N/A"},null,null,null,null,null,null,null,null,null,null,null,null,null,null,null,null,null,null,null,null,null,null,null,null,null,null,null,null,null,{"$error":"#N/A"}]
[null,null,null,null,null,null,null,null,null,null,null,null,{"$error":"#N/A"},{"$error":"#N/A"},null,null,null,null,null,null,null,null,null,null,null,null,null,null,null,null,null,null,null,null,null,null,null,null,null,null,null,null,null,{"$error":"#N/A"}]
[null,null,null,null,null,null,null,null,null,null,null,null,{"$error":"#N/A"},{"$error":"#N/A"},null,null,null,null,null,null,null,null,null,null,null,null,null,null,null,null,null,null,null,null,null,null,null,null,null,null,null,null,null,{"$error":"#N/A"}]
[null,null,null,null,null,null,null,null,null,null,null,null,{"$error":"#N/A"},{"$error":"#N/A"},null,null,null,null,null,null,null,null,null,null,null,null,null,null,null,null,null,null,null,null,null,null,null,null,null,null,null,null,null,{"$error":"#N/A"}]
[null,null,null,null,null,null,null,null,null,null,null,null,{"$error":"#N/A"},{"$error":"#N/A"},null,null,null,null,null,null,null,null,null,null,null,null,null,null,null,null,null,null,null,null,null,null,null,null,null,null,null,null,null,{"$error":"#N/A"}]
[null,null,null,null,null,null,null,null,null,null,null,null,{"$error":"#N/A"},{"$error":"#N/A"},null,null,null,null,null,null,null,null,null,null,null,null,null,null,null,null,null,null,null,null,null,null,null,null,null,null,null,null,null,{"$error":"#N/A"}]
[null,null,null,null,null,null,null,null,null,null,null,null,{"$error":"#N/A"},{"$error":"#N/A"},null,null,null,null,null,null,null,null,null,null,null,null,null,null,null,null,null,null,null,null,null,null,null,null,null,null,null,null,null,{"$error":"#N/A"}]
[null,null,null,null,null,null,null,null,null,null,null,null,{"$error":"#N/A"},{"$error":"#N/A"},null,null,null,null,null,null,null,null,null,null,null,null,null,null,null,null,null,null,null,null,null,null,null,null,null,null,null,null,null,{"$error":"#N/A"}]
[null,null,null,null,null,null,null,null,null,null,null,null,{"$error":"#N/A"},{"$error":"#N/A"},null,null,null,null,null,null,null,null,null,null,null,null,null,null,null,null,null,null,null,null,null,null,null,null,null,null,null,null,null,{"$error":"#N/A"}]
[null,null,null,null,null,null,null,null,null,null,null,null,{"$error":"#N/A"},{"$error":"#N/A"},null,null,null,null,null,null,null,null,null,null,null,null,null,null,null,null,null,null,null,null,null,null,null,null,null,null,null,null,null,{"$error":"#N/A"}]
[null,null,null,null,null,null,null,null,null,null,null,null,{"$error":"#N/A"},{"$error":"#N/A"},null,null,null,null,null,null,null,null,null,null,null,null,null,null,null,null,null,null,null,null,null,null,null,null,null,null,null,null,null,{"$error":"#N/A"}]
[null,null,null,null,null,null,null,null,null,null,null,null,{"$f":"IF(AND($F$17=H5105,$AK$44=F5105),J5105,\"\")","v":{"$error":"#N/A"}},{"$f":"IF(AND($F$17=H5105,$AK$44=F5105),L5105,\"\")","v":{"$error":"#N/A"}},null,null,null,null,null,null,null,null,null,null,null,null,null,null,null,null,null,null,null,null,null,null,null,null,null,null,null,null,null,{"$error":"#N/A"}]
[null,null,null,null,null,null,null,null,null,null,null,null,{"$error":"#N/A"},{"$error":"#N/A"},null,null,null,null,null,null,null,null,null,null,null,null,null,null,null,null,null,null,null,null,null,null,null,null,null,null,null,null,null,{"$error":"#N/A"}]
[null,null,null,null,null,null,null,null,null,null,null,null,{"$error":"#N/A"},{"$error":"#N/A"},null,null,null,null,null,null,null,null,null,null,null,null,null,null,null,null,null,null,null,null,null,null,null,null,null,null,null,null,null,{"$error":"#N/A"}]
[null,null,null,null,null,null,null,null,null,null,null,null,{"$error":"#N/A"},{"$error":"#N/A"},null,null,null,null,null,null,null,null,null,null,null,null,null,null,null,null,null,null,null,null,null,null,null,null,null,null,null,null,null,{"$error":"#N/A"}]
[null,null,null,null,null,null,null,null,null,null,null,null,{"$error":"#N/A"},{"$error":"#N/A"},null,null,null,null,null,null,null,null,null,null,null,null,null,null,null,null,null,null,null,null,null,null,null,null,null,null,null,null,null,{"$error":"#N/A"}]
[null,null,null,null,null,null,null,null,null,null,null,null,{"$error":"#N/A"},{"$error":"#N/A"},null,null,null,null,null,null,null,null,null,null,null,null,null,null,null,null,null,null,null,null,null,null,null,null,null,null,null,null,null,{"$error":"#N/A"}]
[null,null,null,null,null,null,null,null,null,null,null,null,{"$error":"#N/A"},{"$error":"#N/A"},null,null,null,null,null,null,null,null,null,null,null,null,null,null,null,null,null,null,null,null,null,null,null,null,null,null,null,null,null,{"$error":"#N/A"}]
[null,null,null,null,null,null,null,null,null,null,null,null,{"$error":"#N/A"},{"$error":"#N/A"},null,null,null,null,null,null,null,null,null,null,null,null,null,null,null,null,null,null,null,null,null,null,null,null,null,null,null,null,null,{"$error":"#N/A"}]
[null,null,null,null,null,null,null,null,null,null,null,null,{"$error":"#N/A"},{"$error":"#N/A"},null,null,null,null,null,null,null,null,null,null,null,null,null,null,null,null,null,null,null,null,null,null,null,null,null,null,null,null,null,{"$error":"#N/A"}]
[null,null,null,null,null,null,null,null,null,null,null,null,{"$error":"#N/A"},{"$error":"#N/A"},null,null,null,null,null,null,null,null,null,null,null,null,null,null,null,null,null,null,null,null,null,null,null,null,null,null,null,null,null,{"$error":"#N/A"}]
[null,null,null,null,null,null,null,null,null,null,null,null,{"$error":"#N/A"},{"$error":"#N/A"},null,null,null,null,null,null,null,null,null,null,null,null,null,null,null,null,null,null,null,null,null,null,null,null,null,null,null,null,null,{"$error":"#N/A"}]
[null,null,null,null,null,null,null,null,null,null,null,null,{"$error":"#N/A"},{"$error":"#N/A"},null,null,null,null,null,null,null,null,null,null,null,null,null,null,null,null,null,null,null,null,null,null,null,null,null,null,null,null,null,{"$error":"#N/A"}]
[null,null,null,null,null,null,null,null,null,null,null,null,{"$error":"#N/A"},{"$error":"#N/A"},null,null,null,null,null,null,null,null,null,null,null,null,null,null,null,null,null,null,null,null,null,null,null,null,null,null,null,null,null,{"$error":"#N/A"}]
[null,null,null,null,null,null,null,null,null,null,null,null,{"$error":"#N/A"},{"$error":"#N/A"},null,null,null,null,null,null,null,null,null,null,null,null,null,null,null,null,null,null,null,null,null,null,null,null,null,null,null,null,null,{"$error":"#N/A"}]
[null,null,null,null,null,null,null,null,null,null,null,null,{"$error":"#N/A"},{"$error":"#N/A"},null,null,null,null,null,null,null,null,null,null,null,null,null,null,null,null,null,null,null,null,null,null,null,null,null,null,null,null,null,{"$error":"#N/A"}]
[null,null,null,null,null,null,null,null,null,null,null,null,{"$error":"#N/A"},{"$error":"#N/A"},null,null,null,null,null,null,null,null,null,null,null,null,null,null,null,null,null,null,null,null,null,null,null,null,null,null,null,null,null,{"$error":"#N/A"}]
[null,null,null,null,null,null,null,null,null,null,null,null,{"$error":"#N/A"},{"$error":"#N/A"},null,null,null,null,null,null,null,null,null,null,null,null,null,null,null,null,null,null,null,null,null,null,null,null,null,null,null,null,null,{"$error":"#N/A"}]
[null,null,null,null,null,null,null,null,null,null,null,null,{"$error":"#N/A"},{"$error":"#N/A"},null,null,null,null,null,null,null,null,null,null,null,null,null,null,null,null,null,null,null,null,null,null,null,null,null,null,null,null,null,{"$error":"#N/A"}]
[null,null,null,null,null,null,null,null,null,null,null,null,{"$error":"#N/A"},{"$error":"#N/A"},null,null,null,null,null,null,null,null,null,null,null,null,null,null,null,null,null,null,null,null,null,null,null,null,null,null,null,null,null,{"$error":"#N/A"}]
[null,null,null,null,null,null,null,null,null,null,null,null,{"$error":"#N/A"},{"$error":"#N/A"},null,null,null,null,null,null,null,null,null,null,null,null,null,null,null,null,null,null,null,null,null,null,null,null,null,null,null,null,null,{"$error":"#N/A"}]
[null,null,null,null,null,null,null,null,null,null,null,null,{"$error":"#N/A"},{"$error":"#N/A"},null,null,null,null,null,null,null,null,null,null,null,null,null,null,null,null,null,null,null,null,null,null,null,null,null,null,null,null,null,{"$error":"#N/A"}]
[null,null,null,null,null,null,null,null,null,null,null,null,{"$error":"#N/A"},{"$error":"#N/A"},null,null,null,null,null,null,null,null,null,null,null,null,null,null,null,null,null,null,null,null,null,null,null,null,null,null,null,null,null,{"$error":"#N/A"}]
[null,null,null,null,null,null,null,null,null,null,null,null,{"$error":"#N/A"},{"$error":"#N/A"},null,null,null,null,null,null,null,null,null,null,null,null,null,null,null,null,null,null,null,null,null,null,null,null,null,null,null,null,null,{"$error":"#N/A"}]
[null,null,null,null,null,null,null,null,null,null,null,null,{"$error":"#N/A"},{"$error":"#N/A"},null,null,null,null,null,null,null,null,null,null,null,null,null,null,null,null,null,null,null,null,null,null,null,null,null,null,null,null,null,{"$error":"#N/A"}]
[null,null,null,null,null,null,null,null,null,null,null,null,{"$error":"#N/A"},{"$error":"#N/A"},null,null,null,null,null,null,null,null,null,null,null,null,null,null,null,null,null,null,null,null,null,null,null,null,null,null,null,null,null,{"$error":"#N/A"}]
[null,null,null,null,null,null,null,null,null,null,null,null,{"$error":"#N/A"},{"$error":"#N/A"},null,null,null,null,null,null,null,null,null,null,null,null,null,null,null,null,null,null,null,null,null,null,null,null,null,null,null,null,null,{"$error":"#N/A"}]
[null,null,null,null,null,null,null,null,null,null,null,null,{"$error":"#N/A"},{"$error":"#N/A"},null,null,null,null,null,null,null,null,null,null,null,null,null,null,null,null,null,null,null,null,null,null,null,null,null,null,null,null,null,{"$error":"#N/A"}]
[null,null,null,null,null,null,null,null,null,null,null,null,{"$error":"#N/A"},{"$error":"#N/A"},null,null,null,null,null,null,null,null,null,null,null,null,null,null,null,null,null,null,null,null,null,null,null,null,null,null,null,null,null,{"$error":"#N/A"}]
[null,null,null,null,null,null,null,null,null,null,null,null,{"$error":"#N/A"},{"$error":"#N/A"},null,null,null,null,null,null,null,null,null,null,null,null,null,null,null,null,null,null,null,null,null,null,null,null,null,null,null,null,null,{"$error":"#N/A"}]
[null,null,null,null,null,null,null,null,null,null,null,null,{"$error":"#N/A"},{"$error":"#N/A"},null,null,null,null,null,null,null,null,null,null,null,null,null,null,null,null,null,null,null,null,null,null,null,null,null,null,null,null,null,{"$error":"#N/A"}]
[null,null,null,null,null,null,null,null,null,null,null,null,{"$error":"#N/A"},{"$error":"#N/A"},null,null,null,null,null,null,null,null,null,null,null,null,null,null,null,null,null,null,null,null,null,null,null,null,null,null,null,null,null,{"$error":"#N/A"}]
[null,null,null,null,null,null,null,null,null,null,null,null,{"$error":"#N/A"},{"$error":"#N/A"},null,null,null,null,null,null,null,null,null,null,null,null,null,null,null,null,null,null,null,null,null,null,null,null,null,null,null,null,null,{"$error":"#N/A"}]
[null,null,null,null,null,null,null,null,null,null,null,null,{"$error":"#N/A"},{"$error":"#N/A"},null,null,null,null,null,null,null,null,null,null,null,null,null,null,null,null,null,null,null,null,null,null,null,null,null,null,null,null,null,{"$error":"#N/A"}]
[null,null,null,null,null,null,null,null,null,null,null,null,{"$error":"#N/A"},{"$error":"#N/A"},null,null,null,null,null,null,null,null,null,null,null,null,null,null,null,null,null,null,null,null,null,null,null,null,null,null,null,null,null,{"$error":"#N/A"}]
[null,null,null,null,null,null,null,null,null,null,null,null,{"$error":"#N/A"},{"$error":"#N/A"},null,null,null,null,null,null,null,null,null,null,null,null,null,null,null,null,null,null,null,null,null,null,null,null,null,null,null,null,null,{"$error":"#N/A"}]
[null,null,null,null,null,null,null,null,null,null,null,null,{"$error":"#N/A"},{"$error":"#N/A"},null,null,null,null,null,null,null,null,null,null,null,null,null,null,null,null,null,null,null,null,null,null,null,null,null,null,null,null,null,{"$error":"#N/A"}]
[null,null,null,null,null,null,null,null,null,null,null,null,{"$error":"#N/A"},{"$error":"#N/A"},null,null,null,null,null,null,null,null,null,null,null,null,null,null,null,null,null,null,null,null,null,null,null,null,null,null,null,null,null,{"$error":"#N/A"}]
[null,null,null,null,null,null,null,null,null,null,null,null,{"$error":"#N/A"},{"$error":"#N/A"},null,null,null,null,null,null,null,null,null,null,null,null,null,null,null,null,null,null,null,null,null,null,null,null,null,null,null,null,null,{"$error":"#N/A"}]
[null,null,null,null,null,null,null,null,null,null,null,null,{"$error":"#N/A"},{"$error":"#N/A"},null,null,null,null,null,null,null,null,null,null,null,null,null,null,null,null,null,null,null,null,null,null,null,null,null,null,null,null,null,{"$error":"#N/A"}]
[null,null,null,null,null,null,null,null,null,null,null,null,{"$error":"#N/A"},{"$error":"#N/A"},null,null,null,null,null,null,null,null,null,null,null,null,null,null,null,null,null,null,null,null,null,null,null,null,null,null,null,null,null,{"$error":"#N/A"}]
[null,null,null,null,null,null,null,null,null,null,null,null,{"$f":"IF(AND($F$17=H5297,$AK$44=F5297),J5297,\"\")","v":{"$error":"#N/A"}},{"$f":"IF(AND($F$17=H5297,$AK$44=F5297),L5297,\"\")","v":{"$error":"#N/A"}},null,null,null,null,null,null,null,null,null,null,null,null,null,null,null,null,null,null,null,null,null,null,null,null,null,null,null,null,null,{"$error":"#N/A"}]
[null,null,null,null,null,null,null,null,null,null,null,null,{"$error":"#N/A"},{"$error":"#N/A"},null,null,null,null,null,null,null,null,null,null,null,null,null,null,null,null,null,null,null,null,null,null,null,null,null,null,null,null,null,{"$error":"#N/A"}]
[null,null,null,null,null,null,null,null,null,null,null,null,{"$error":"#N/A"},{"$error":"#N/A"},null,null,null,null,null,null,null,null,null,null,null,null,null,null,null,null,null,null,null,null,null,null,null,null,null,null,null,null,null,{"$error":"#N/A"}]
[null,null,null,null,null,null,null,null,null,null,null,null,{"$error":"#N/A"},{"$error":"#N/A"},null,null,null,null,null,null,null,null,null,null,null,null,null,null,null,null,null,null,null,null,null,null,null,null,null,null,null,null,null,{"$error":"#N/A"}]
[null,null,null,null,null,null,null,null,null,null,null,null,{"$error":"#N/A"},{"$error":"#N/A"},null,null,null,null,null,null,null,null,null,null,null,null,null,null,null,null,null,null,null,null,null,null,null,null,null,null,null,null,null,{"$error":"#N/A"}]
[null,null,null,null,null,null,null,null,null,null,null,null,{"$error":"#N/A"},{"$error":"#N/A"},null,null,null,null,null,null,null,null,null,null,null,null,null,null,null,null,null,null,null,null,null,null,null,null,null,null,null,null,null,{"$error":"#N/A"}]
[null,null,null,null,null,null,null,null,null,null,null,null,{"$error":"#N/A"},{"$error":"#N/A"},null,null,null,null,null,null,null,null,null,null,null,null,null,null,null,null,null,null,null,null,null,null,null,null,null,null,null,null,null,{"$error":"#N/A"}]
[null,null,null,null,null,null,null,null,null,null,null,null,{"$error":"#N/A"},{"$error":"#N/A"},null,null,null,null,null,null,null,null,null,null,null,null,null,null,null,null,null,null,null,null,null,null,null,null,null,null,null,null,null,{"$error":"#N/A"}]
[null,null,null,null,null,null,null,null,null,null,null,null,{"$error":"#N/A"},{"$error":"#N/A"},null,null,null,null,null,null,null,null,null,null,null,null,null,null,null,null,null,null,null,null,null,null,null,null,null,null,null,null,null,{"$error":"#N/A"}]
[null,null,null,null,null,null,null,null,null,null,null,null,{"$error":"#N/A"},{"$error":"#N/A"},null,null,null,null,null,null,null,null,null,null,null,null,null,null,null,null,null,null,null,null,null,null,null,null,null,null,null,null,null,{"$error":"#N/A"}]
[null,null,null,null,null,null,null,null,null,null,null,null,{"$error":"#N/A"},{"$error":"#N/A"},null,null,null,null,null,null,null,null,null,null,null,null,null,null,null,null,null,null,null,null,null,null,null,null,null,null,null,null,null,{"$error":"#N/A"}]
[null,null,null,null,null,null,null,null,null,null,null,null,{"$error":"#N/A"},{"$error":"#N/A"},null,null,null,null,null,null,null,null,null,null,null,null,null,null,null,null,null,null,null,null,null,null,null,null,null,null,null,null,null,{"$error":"#N/A"}]
[null,null,null,null,null,null,null,null,null,null,null,null,{"$error":"#N/A"},{"$error":"#N/A"},null,null,null,null,null,null,null,null,null,null,null,null,null,null,null,null,null,null,null,null,null,null,null,null,null,null,null,null,null,{"$error":"#N/A"}]
[null,null,null,null,null,null,null,null,null,null,null,null,{"$error":"#N/A"},{"$error":"#N/A"},null,null,null,null,null,null,null,null,null,null,null,null,null,null,null,null,null,null,null,null,null,null,null,null,null,null,null,null,null,{"$error":"#N/A"}]
[null,null,null,null,null,null,null,null,null,null,null,null,{"$error":"#N/A"},{"$error":"#N/A"},null,null,null,null,null,null,null,null,null,null,null,null,null,null,null,null,null,null,null,null,null,null,null,null,null,null,null,null,null,{"$error":"#N/A"}]
[null,null,null,null,null,null,null,null,null,null,null,null,{"$error":"#N/A"},{"$error":"#N/A"},null,null,null,null,null,null,null,null,null,null,null,null,null,null,null,null,null,null,null,null,null,null,null,null,null,null,null,null,null,{"$error":"#N/A"}]
[null,null,null,null,null,null,null,null,null,null,null,null,{"$error":"#N/A"},{"$error":"#N/A"},null,null,null,null,null,null,null,null,null,null,null,null,null,null,null,null,null,null,null,null,null,null,null,null,null,null,null,null,null,{"$error":"#N/A"}]
[null,null,null,null,null,null,null,null,null,null,null,null,{"$error":"#N/A"},{"$error":"#N/A"},null,null,null,null,null,null,null,null,null,null,null,null,null,null,null,null,null,null,null,null,null,null,null,null,null,null,null,null,null,{"$error":"#N/A"}]
[null,null,null,null,null,null,null,null,null,null,null,null,{"$error":"#N/A"},{"$error":"#N/A"},null,null,null,null,null,null,null,null,null,null,null,null,null,null,null,null,null,null,null,null,null,null,null,null,null,null,null,null,null,{"$error":"#N/A"}]
[null,null,null,null,null,null,null,null,null,null,null,null,{"$error":"#N/A"},{"$error":"#N/A"},null,null,null,null,null,null,null,null,null,null,null,null,null,null,null,null,null,null,null,null,null,null,null,null,null,null,null,null,null,{"$error":"#N/A"}]
[null,null,null,null,null,null,null,null,null,null,null,null,{"$error":"#N/A"},{"$error":"#N/A"},null,null,null,null,null,null,null,null,null,null,null,null,null,null,null,null,null,null,null,null,null,null,null,null,null,null,null,null,null,{"$error":"#N/A"}]
[null,null,null,null,null,null,null,null,null,null,null,null,{"$error":"#N/A"},{"$error":"#N/A"},null,null,null,null,null,null,null,null,null,null,null,null,null,null,null,null,null,null,null,null,null,null,null,null,null,null,null,null,null,{"$error":"#N/A"}]
[null,null,null,null,null,null,null,null,null,null,null,null,{"$error":"#N/A"},{"$error":"#N/A"},null,null,null,null,null,null,null,null,null,null,null,null,null,null,null,null,null,null,null,null,null,null,null,null,null,null,null,null,null,{"$error":"#N/A"}]
[null,null,null,null,null,null,null,null,null,null,null,null,{"$error":"#N/A"},{"$error":"#N/A"},null,null,null,null,null,null,null,null,null,null,null,null,null,null,null,null,null,null,null,null,null,null,null,null,null,null,null,null,null,{"$error":"#N/A"}]
[null,null,null,null,null,null,null,null,null,null,null,null,{"$error":"#N/A"},{"$error":"#N/A"},null,null,null,null,null,null,null,null,null,null,null,null,null,null,null,null,null,null,null,null,null,null,null,null,null,null,null,null,null,{"$error":"#N/A"}]
[null,null,null,null,null,null,null,null,null,null,null,null,{"$error":"#N/A"},{"$error":"#N/A"},null,null,null,null,null,null,null,null,null,null,null,null,null,null,null,null,null,null,null,null,null,null,null,null,null,null,null,null,null,{"$error":"#N/A"}]
[null,null,null,null,null,null,null,null,null,null,null,null,{"$error":"#N/A"},{"$error":"#N/A"},null,null,null,null,null,null,null,null,null,null,null,null,null,null,null,null,null,null,null,null,null,null,null,null,null,null,null,null,null,{"$error":"#N/A"}]
[null,null,null,null,null,null,null,null,null,null,null,null,{"$error":"#N/A"},{"$error":"#N/A"},null,null,null,null,null,null,null,null,null,null,null,null,null,null,null,null,null,null,null,null,null,null,null,null,null,null,null,null,null,{"$error":"#N/A"}]
[null,null,null,null,null,null,null,null,null,null,null,null,{"$error":"#N/A"},{"$error":"#N/A"},null,null,null,null,null,null,null,null,null,null,null,null,null,null,null,null,null,null,null,null,null,null,null,null,null,null,null,null,null,{"$error":"#N/A"}]
[null,null,null,null,null,null,null,null,null,null,null,null,{"$error":"#N/A"},{"$error":"#N/A"},null,null,null,null,null,null,null,null,null,null,null,null,null,null,null,null,null,null,null,null,null,null,null,null,null,null,null,null,null,{"$error":"#N/A"}]
[null,null,null,null,null,null,null,null,null,null,null,null,{"$error":"#N/A"},{"$error":"#N/A"},null,null,null,null,null,null,null,null,null,null,null,null,null,null,null,null,null,null,null,null,null,null,null,null,null,null,null,null,null,{"$error":"#N/A"}]
[null,null,null,null,null,null,null,null,null,null,null,null,{"$error":"#N/A"},{"$error":"#N/A"},null,null,null,null,null,null,null,null,null,null,null,null,null,null,null,null,null,null,null,null,null,null,null,null,null,null,null,null,null,{"$error":"#N/A"}]
[null,null,null,null,null,null,null,null,null,null,null,null,{"$error":"#N/A"},{"$error":"#N/A"},null,null,null,null,null,null,null,null,null,null,null,null,null,null,null,null,null,null,null,null,null,null,null,null,null,null,null,null,null,{"$error":"#N/A"}]
[null,null,null,null,null,null,null,null,null,null,null,null,{"$error":"#N/A"},{"$error":"#N/A"},null,null,null,null,null,null,null,null,null,null,null,null,null,null,null,null,null,null,null,null,null,null,null,null,null,null,null,null,null,{"$error":"#N/A"}]
[null,null,null,null,null,null,null,null,null,null,null,null,{"$error":"#N/A"},{"$error":"#N/A"},null,null,null,null,null,null,null,null,null,null,null,null,null,null,null,null,null,null,null,null,null,null,null,null,null,null,null,null,null,{"$error":"#N/A"}]
[null,null,null,null,null,null,null,null,null,null,null,null,{"$error":"#N/A"},{"$error":"#N/A"},null,null,null,null,null,null,null,null,null,null,null,null,null,null,null,null,null,null,null,null,null,null,null,null,null,null,null,null,null,{"$error":"#N/A"}]
[null,null,null,null,null,null,null,null,null,null,null,null,{"$error":"#N/A"},{"$error":"#N/A"},null,null,null,null,null,null,null,null,null,null,null,null,null,null,null,null,null,null,null,null,null,null,null,null,null,null,null,null,null,{"$error":"#N/A"}]
[null,null,null,null,null,null,null,null,null,null,null,null,{"$error":"#N/A"},{"$error":"#N/A"},null,null,null,null,null,null,null,null,null,null,null,null,null,null,null,null,null,null,null,null,null,null,null,null,null,null,null,null,null,{"$error":"#N/A"}]
[null,null,null,null,null,null,null,null,null,null,null,null,{"$error":"#N/A"},{"$error":"#N/A"},null,null,null,null,null,null,null,null,null,null,null,null,null,null,null,null,null,null,null,null,null,null,null,null,null,null,null,null,null,{"$error":"#N/A"}]
[null,null,null,null,null,null,null,null,null,null,null,null,{"$error":"#N/A"},{"$error":"#N/A"},null,null,null,null,null,null,null,null,null,null,null,null,null,null,null,null,null,null,null,null,null,null,null,null,null,null,null,null,null,{"$error":"#N/A"}]
[null,null,null,null,null,null,null,null,null,null,null,null,{"$error":"#N/A"},{"$error":"#N/A"},null,null,null,null,null,null,null,null,null,null,null,null,null,null,null,null,null,null,null,null,null,null,null,null,null,null,null,null,null,{"$error":"#N/A"}]
[null,null,null,null,null,null,null,null,null,null,null,null,{"$error":"#N/A"},{"$error":"#N/A"},null,null,null,null,null,null,null,null,null,null,null,null,null,null,null,null,null,null,null,null,null,null,null,null,null,null,null,null,null,{"$error":"#N/A"}]
[null,null,null,null,null,null,null,null,null,null,null,null,{"$error":"#N/A"},{"$error":"#N/A"},null,null,null,null,null,null,null,null,null,null,null,null,null,null,null,null,null,null,null,null,null,null,null,null,null,null,null,null,null,{"$error":"#N/A"}]
[null,null,null,null,null,null,null,null,null,null,null,null,{"$error":"#N/A"},{"$error":"#N/A"},null,null,null,null,null,null,null,null,null,null,null,null,null,null,null,null,null,null,null,null,null,null,null,null,null,null,null,null,null,{"$error":"#N/A"}]
[null,null,null,null,null,null,null,null,null,null,null,null,{"$error":"#N/A"},{"$error":"#N/A"},null,null,null,null,null,null,null,null,null,null,null,null,null,null,null,null,null,null,null,null,null,null,null,null,null,null,null,null,null,{"$error":"#N/A"}]
[null,null,null,null,null,null,null,null,null,null,null,null,{"$error":"#N/A"},{"$error":"#N/A"},null,null,null,null,null,null,null,null,null,null,null,null,null,null,null,null,null,null,null,null,null,null,null,null,null,null,null,null,null,{"$error":"#N/A"}]
[null,null,null,null,null,null,null,null,null,null,null,null,{"$error":"#N/A"},{"$error":"#N/A"},null,null,null,null,null,null,null,null,null,null,null,null,null,null,null,null,null,null,null,null,null,null,null,null,null,null,null,null,null,{"$error":"#N/A"}]
[null,null,null,null,null,null,null,null,null,null,null,null,{"$error":"#N/A"},{"$error":"#N/A"},null,null,null,null,null,null,null,null,null,null,null,null,null,null,null,null,null,null,null,null,null,null,null,null,null,null,null,null,null,{"$error":"#N/A"}]
[null,null,null,null,null,null,null,null,null,null,null,null,{"$error":"#N/A"},{"$error":"#N/A"},null,null,null,null,null,null,null,null,null,null,null,null,null,null,null,null,null,null,null,null,null,null,null,null,null,null,null,null,null,{"$error":"#N/A"}]
[null,null,null,null,null,null,null,null,null,null,null,null,{"$error":"#N/A"},{"$error":"#N/A"},null,null,null,null,null,null,null,null,null,null,null,null,null,null,null,null,null,null,null,null,null,null,null,null,null,null,null,null,null,{"$error":"#N/A"}]
[null,null,null,null,null,null,null,null,null,null,null,null,{"$error":"#N/A"},{"$error":"#N/A"},null,null,null,null,null,null,null,null,null,null,null,null,null,null,null,null,null,null,null,null,null,null,null,null,null,null,null,null,null,{"$error":"#N/A"}]
[null,null,null,null,null,null,null,null,null,null,null,null,{"$error":"#N/A"},{"$error":"#N/A"},null,null,null,null,null,null,null,null,null,null,null,null,null,null,null,null,null,null,null,null,null,null,null,null,null,null,null,null,null,{"$error":"#N/A"}]
[null,null,null,null,null,null,null,null,null,null,null,null,{"$error":"#N/A"},{"$error":"#N/A"},null,null,null,null,null,null,null,null,null,null,null,null,null,null,null,null,null,null,null,null,null,null,null,null,null,null,null,null,null,{"$error":"#N/A"}]
[null,null,null,null,null,null,null,null,null,null,null,null,{"$error":"#N/A"},{"$error":"#N/A"},null,null,null,null,null,null,null,null,null,null,null,null,null,null,null,null,null,null,null,null,null,null,null,null,null,null,null,null,null,{"$error":"#N/A"}]
[null,null,null,null,null,null,null,null,null,null,null,null,{"$error":"#N/A"},{"$error":"#N/A"},null,null,null,null,null,null,null,null,null,null,null,null,null,null,null,null,null,null,null,null,null,null,null,null,null,null,null,null,null,{"$error":"#N/A"}]
[null,null,null,null,null,null,null,null,null,null,null,null,{"$error":"#N/A"},{"$error":"#N/A"},null,null,null,null,null,null,null,null,null,null,null,null,null,null,null,null,null,null,null,null,null,null,null,null,null,null,null,null,null,{"$error":"#N/A"}]
[null,null,null,null,null,null,null,null,null,null,null,null,{"$error":"#N/A"},{"$error":"#N/A"},null,null,null,null,null,null,null,null,null,null,null,null,null,null,null,null,null,null,null,null,null,null,null,null,null,null,null,null,null,{"$error":"#N/A"}]
[null,null,null,null,null,null,null,null,null,null,null,null,{"$error":"#N/A"},{"$error":"#N/A"},null,null,null,null,null,null,null,null,null,null,null,null,null,null,null,null,null,null,null,null,null,null,null,null,null,null,null,null,null,{"$error":"#N/A"}]
[null,null,null,null,null,null,null,null,null,null,null,null,{"$error":"#N/A"},{"$error":"#N/A"},null,null,null,null,null,null,null,null,null,null,null,null,null,null,null,null,null,null,null,null,null,null,null,null,null,null,null,null,null,{"$error":"#N/A"}]
[null,null,null,null,null,null,null,null,null,null,null,null,{"$error":"#N/A"},{"$error":"#N/A"},null,null,null,null,null,null,null,null,null,null,null,null,null,null,null,null,null,null,null,null,null,null,null,null,null,null,null,null,null,{"$error":"#N/A"}]
[null,null,null,null,null,null,null,null,null,null,null,null,{"$error":"#N/A"},{"$error":"#N/A"},null,null,null,null,null,null,null,null,null,null,null,null,null,null,null,null,null,null,null,null,null,null,null,null,null,null,null,null,null,{"$error":"#N/A"}]
[null,null,null,null,null,null,null,null,null,null,null,null,{"$error":"#N/A"},{"$error":"#N/A"},null,null,null,null,null,null,null,null,null,null,null,null,null,null,null,null,null,null,null,null,null,null,null,null,null,null,null,null,null,{"$error":"#N/A"}]
[null,null,null,null,null,null,null,null,null,null,null,null,{"$error":"#N/A"},{"$error":"#N/A"},null,null,null,null,null,null,null,null,null,null,null,null,null,null,null,null,null,null,null,null,null,null,null,null,null,null,null,null,null,{"$error":"#N/A"}]
[null,null,null,null,null,null,null,null,null,null,null,null,{"$error":"#N/A"},{"$error":"#N/A"},null,null,null,null,null,null,null,null,null,null,null,null,null,null,null,null,null,null,null,null,null,null,null,null,null,null,null,null,null,{"$error":"#N/A"}]
[null,null,null,null,null,null,null,null,null,null,null,null,{"$error":"#N/A"},{"$error":"#N/A"},null,null,null,null,null,null,null,null,null,null,null,null,null,null,null,null,null,null,null,null,null,null,null,null,null,null,null,null,null,{"$error":"#N/A"}]
[null,null,null,null,null,null,null,null,null,null,null,null,{"$error":"#N/A"},{"$error":"#N/A"},null,null,null,null,null,null,null,null,null,null,null,null,null,null,null,null,null,null,null,null,null,null,null,null,null,null,null,null,null,{"$error":"#N/A"}]
[null,null,null,null,null,null,null,null,null,null,null,null,{"$error":"#N/A"},{"$error":"#N/A"},null,null,null,null,null,null,null,null,null,null,null,null,null,null,null,null,null,null,null,null,null,null,null,null,null,null,null,null,null,{"$error":"#N/A"}]
[null,null,null,null,null,null,null,null,null,null,null,null,{"$error":"#N/A"},{"$error":"#N/A"},null,null,null,null,null,null,null,null,null,null,null,null,null,null,null,null,null,null,null,null,null,null,null,null,null,null,null,null,null,{"$error":"#N/A"}]
[null,null,null,null,null,null,null,null,null,null,null,null,{"$error":"#N/A"},{"$error":"#N/A"},null,null,null,null,null,null,null,null,null,null,null,null,null,null,null,null,null,null,null,null,null,null,null,null,null,null,null,null,null,{"$error":"#N/A"}]
[null,null,null,null,null,null,null,null,null,null,null,null,{"$error":"#N/A"},{"$error":"#N/A"},null,null,null,null,null,null,null,null,null,null,null,null,null,null,null,null,null,null,null,null,null,null,null,null,null,null,null,null,null,{"$error":"#N/A"}]
[null,null,null,null,null,null,null,null,null,null,null,null,{"$error":"#N/A"},{"$error":"#N/A"},null,null,null,null,null,null,null,null,null,null,null,null,null,null,null,null,null,null,null,null,null,null,null,null,null,null,null,null,null,{"$error":"#N/A"}]
[null,null,null,null,null,null,null,null,null,null,null,null,{"$error":"#N/A"},{"$error":"#N/A"},null,null,null,null,null,null,null,null,null,null,null,null,null,null,null,null,null,null,null,null,null,null,null,null,null,null,null,null,null,{"$error":"#N/A"}]
[null,null,null,null,null,null,null,null,null,null,null,null,{"$error":"#N/A"},{"$error":"#N/A"},null,null,null,null,null,null,null,null,null,null,null,null,null,null,null,null,null,null,null,null,null,null,null,null,null,null,null,null,null,{"$error":"#N/A"}]
[null,null,null,null,null,null,null,null,null,null,null,null,{"$error":"#N/A"},{"$error":"#N/A"},null,null,null,null,null,null,null,null,null,null,null,null,null,null,null,null,null,null,null,null,null,null,null,null,null,null,null,null,null,{"$error":"#N/A"}]
[null,null,null,null,null,null,null,null,null,null,null,null,{"$error":"#N/A"},{"$error":"#N/A"},null,null,null,null,null,null,null,null,null,null,null,null,null,null,null,null,null,null,null,null,null,null,null,null,null,null,null,null,null,{"$error":"#N/A"}]
[null,null,null,null,null,null,null,null,null,null,null,null,{"$error":"#N/A"},{"$error":"#N/A"},null,null,null,null,null,null,null,null,null,null,null,null,null,null,null,null,null,null,null,null,null,null,null,null,null,null,null,null,null,{"$error":"#N/A"}]
[null,null,null,null,null,null,null,null,null,null,null,null,{"$error":"#N/A"},{"$error":"#N/A"},null,null,null,null,null,null,null,null,null,null,null,null,null,null,null,null,null,null,null,null,null,null,null,null,null,null,null,null,null,{"$error":"#N/A"}]
[null,null,null,null,null,null,null,null,null,null,null,null,{"$error":"#N/A"},{"$error":"#N/A"},null,null,null,null,null,null,null,null,null,null,null,null,null,null,null,null,null,null,null,null,null,null,null,null,null,null,null,null,null,{"$error":"#N/A"}]
[null,null,null,null,null,null,null,null,null,null,null,null,{"$error":"#N/A"},{"$error":"#N/A"},null,null,null,null,null,null,null,null,null,null,null,null,null,null,null,null,null,null,null,null,null,null,null,null,null,null,null,null,null,{"$error":"#N/A"}]
[null,null,null,null,null,null,null,null,null,null,null,null,{"$error":"#N/A"},{"$error":"#N/A"},null,null,null,null,null,null,null,null,null,null,null,null,null,null,null,null,null,null,null,null,null,null,null,null,null,null,null,null,null,{"$error":"#N/A"}]
[null,null,null,null,null,null,null,null,null,null,null,null,{"$error":"#N/A"},{"$error":"#N/A"},null,null,null,null,null,null,null,null,null,null,null,null,null,null,null,null,null,null,null,null,null,null,null,null,null,null,null,null,null,{"$error":"#N/A"}]
[null,null,null,null,null,null,null,null,null,null,null,null,{"$error":"#N/A"},{"$error":"#N/A"},null,null,null,null,null,null,null,null,null,null,null,null,null,null,null,null,null,null,null,null,null,null,null,null,null,null,null,null,null,{"$error":"#N/A"}]
[null,null,null,null,null,null,null,null,null,null,null,null,{"$error":"#N/A"},{"$error":"#N/A"},null,null,null,null,null,null,null,null,null,null,null,null,null,null,null,null,null,null,null,null,null,null,null,null,null,null,null,null,null,{"$error":"#N/A"}]
[null,null,null,null,null,null,null,null,null,null,null,null,{"$error":"#N/A"},{"$error":"#N/A"},null,null,null,null,null,null,null,null,null,null,null,null,null,null,null,null,null,null,null,null,null,null,null,null,null,null,null,null,null,{"$error":"#N/A"}]
[null,null,null,null,null,null,null,null,null,null,null,null,{"$error":"#N/A"},{"$error":"#N/A"},null,null,null,null,null,null,null,null,null,null,null,null,null,null,null,null,null,null,null,null,null,null,null,null,null,null,null,null,null,{"$error":"#N/A"}]
[null,null,null,null,null,null,null,null,null,null,null,null,{"$error":"#N/A"},{"$error":"#N/A"},null,null,null,null,null,null,null,null,null,null,null,null,null,null,null,null,null,null,null,null,null,null,null,null,null,null,null,null,null,{"$error":"#N/A"}]
[null,null,null,null,null,null,null,null,null,null,null,null,{"$error":"#N/A"},{"$error":"#N/A"},null,null,null,null,null,null,null,null,null,null,null,null,null,null,null,null,null,null,null,null,null,null,null,null,null,null,null,null,null,{"$error":"#N/A"}]
[null,null,null,null,null,null,null,null,null,null,null,null,{"$error":"#N/A"},{"$error":"#N/A"},null,null,null,null,null,null,null,null,null,null,null,null,null,null,null,null,null,null,null,null,null,null,null,null,null,null,null,null,null,{"$error":"#N/A"}]
[null,null,null,null,null,null,null,null,null,null,null,null,{"$error":"#N/A"},{"$error":"#N/A"},null,null,null,null,null,null,null,null,null,null,null,null,null,null,null,null,null,null,null,null,null,null,null,null,null,null,null,null,null,{"$error":"#N/A"}]
[null,null,null,null,null,null,null,null,null,null,null,null,{"$error":"#N/A"},{"$error":"#N/A"},null,null,null,null,null,null,null,null,null,null,null,null,null,null,null,null,null,null,null,null,null,null,null,null,null,null,null,null,null,{"$error":"#N/A"}]
[null,null,null,null,null,null,null,null,null,null,null,null,{"$error":"#N/A"},{"$error":"#N/A"},null,null,null,null,null,null,null,null,null,null,null,null,null,null,null,null,null,null,null,null,null,null,null,null,null,null,null,null,null,{"$error":"#N/A"}]
[null,null,null,null,null,null,null,null,null,null,null,null,{"$error":"#N/A"},{"$error":"#N/A"},null,null,null,null,null,null,null,null,null,null,null,null,null,null,null,null,null,null,null,null,null,null,null,null,null,null,null,null,null,{"$error":"#N/A"}]
[null,null,null,null,null,null,null,null,null,null,null,null,{"$error":"#N/A"},{"$error":"#N/A"},null,null,null,null,null,null,null,null,null,null,null,null,null,null,null,null,null,null,null,null,null,null,null,null,null,null,null,null,null,{"$error":"#N/A"}]
[null,null,null,null,null,null,null,null,null,null,null,null,{"$error":"#N/A"},{"$error":"#N/A"},null,null,null,null,null,null,null,null,null,null,null,null,null,null,null,null,null,null,null,null,null,null,null,null,null,null,null,null,null,{"$error":"#N/A"}]
[null,null,null,null,null,null,null,null,null,null,null,null,{"$error":"#N/A"},{"$error":"#N/A"},null,null,null,null,null,null,null,null,null,null,null,null,null,null,null,null,null,null,null,null,null,null,null,null,null,null,null,null,null,{"$error":"#N/A"}]
[null,null,null,null,null,null,null,null,null,null,null,null,{"$error":"#N/A"},{"$error":"#N/A"},null,null,null,null,null,null,null,null,null,null,null,null,null,null,null,null,null,null,null,null,null,null,null,null,null,null,null,null,null,{"$error":"#N/A"}]
[null,null,null,null,null,null,null,null,null,null,null,null,{"$error":"#N/A"},{"$error":"#N/A"},null,null,null,null,null,null,null,null,null,null,null,null,null,null,null,null,null,null,null,null,null,null,null,null,null,null,null,null,null,{"$error":"#N/A"}]
[null,null,null,null,null,null,null,null,null,null,null,null,{"$error":"#N/A"},{"$error":"#N/A"},null,null,null,null,null,null,null,null,null,null,null,null,null,null,null,null,null,null,null,null,null,null,null,null,null,null,null,null,null,{"$error":"#N/A"}]
[null,null,null,null,null,null,null,null,null,null,null,null,{"$error":"#N/A"},{"$error":"#N/A"},null,null,null,null,null,null,null,null,null,null,null,null,null,null,null,null,null,null,null,null,null,null,null,null,null,null,null,null,null,{"$error":"#N/A"}]
[null,null,null,null,null,null,null,null,null,null,null,null,{"$error":"#N/A"},{"$error":"#N/A"},null,null,null,null,null,null,null,null,null,null,null,null,null,null,null,null,null,null,null,null,null,null,null,null,null,null,null,null,null,{"$error":"#N/A"}]
[null,null,null,null,null,null,null,null,null,null,null,null,{"$error":"#N/A"},{"$error":"#N/A"},null,null,null,null,null,null,null,null,null,null,null,null,null,null,null,null,null,null,null,null,null,null,null,null,null,null,null,null,null,{"$error":"#N/A"}]
[null,null,null,null,null,null,null,null,null,null,null,null,{"$error":"#N/A"},{"$error":"#N/A"},null,null,null,null,null,null,null,null,null,null,null,null,null,null,null,null,null,null,null,null,null,null,null,null,null,null,null,null,null,{"$error":"#N/A"}]
[null,null,null,null,null,null,null,null,null,null,null,null,{"$error":"#N/A"},{"$error":"#N/A"},null,null,null,null,null,null,null,null,null,null,null,null,null,null,null,null,null,null,null,null,null,null,null,null,null,null,null,null,null,{"$error":"#N/A"}]
[null,null,null,null,null,null,null,null,null,null,null,null,{"$error":"#N/A"},{"$error":"#N/A"},null,null,null,null,null,null,null,null,null,null,null,null,null,null,null,null,null,null,null,null,null,null,null,null,null,null,null,null,null,{"$error":"#N/A"}]
[null,null,null,null,null,null,null,null,null,null,null,null,{"$error":"#N/A"},{"$error":"#N/A"},null,null,null,null,null,null,null,null,null,null,null,null,null,null,null,null,null,null,null,null,null,null,null,null,null,null,null,null,null,{"$error":"#N/A"}]
[null,null,null,null,null,null,null,null,null,null,null,null,{"$error":"#N/A"},{"$error":"#N/A"},null,null,null,null,null,null,null,null,null,null,null,null,null,null,null,null,null,null,null,null,null,null,null,null,null,null,null,null,null,{"$error":"#N/A"}]
[null,null,null,null,null,null,null,null,null,null,null,null,{"$error":"#N/A"},{"$error":"#N/A"},null,null,null,null,null,null,null,null,null,null,null,null,null,null,null,null,null,null,null,null,null,null,null,null,null,null,null,null,null,{"$error":"#N/A"}]
[null,null,null,null,null,null,null,null,null,null,null,null,{"$error":"#N/A"},{"$error":"#N/A"},null,null,null,null,null,null,null,null,null,null,null,null,null,null,null,null,null,null,null,null,null,null,null,null,null,null,null,null,null,{"$error":"#N/A"}]
[null,null,null,null,null,null,null,null,null,null,null,null,{"$error":"#N/A"},{"$error":"#N/A"},null,null,null,null,null,null,null,null,null,null,null,null,null,null,null,null,null,null,null,null,null,null,null,null,null,null,null,null,null,{"$error":"#N/A"}]
[null,null,null,null,null,null,null,null,null,null,null,null,{"$error":"#N/A"},{"$error":"#N/A"},null,null,null,null,null,null,null,null,null,null,null,null,null,null,null,null,null,null,null,null,null,null,null,null,null,null,null,null,null,{"$error":"#N/A"}]
[null,null,null,null,null,null,null,null,null,null,null,null,{"$error":"#N/A"},{"$error":"#N/A"},null,null,null,null,null,null,null,null,null,null,null,null,null,null,null,null,null,null,null,null,null,null,null,null,null,null,null,null,null,{"$error":"#N/A"}]
[null,null,null,null,null,null,null,null,null,null,null,null,{"$error":"#N/A"},{"$error":"#N/A"},null,null,null,null,null,null,null,null,null,null,null,null,null,null,null,null,null,null,null,null,null,null,null,null,null,null,null,null,null,{"$error":"#N/A"}]
[null,null,null,null,null,null,null,null,null,null,null,null,{"$error":"#N/A"},{"$error":"#N/A"},null,null,null,null,null,null,null,null,null,null,null,null,null,null,null,null,null,null,null,null,null,null,null,null,null,null,null,null,null,{"$error":"#N/A"}]
[null,null,null,null,null,null,null,null,null,null,null,null,{"$error":"#N/A"},{"$error":"#N/A"},null,null,null,null,null,null,null,null,null,null,null,null,null,null,null,null,null,null,null,null,null,null,null,null,null,null,null,null,null,{"$error":"#N/A"}]
[null,null,null,null,null,null,null,null,null,null,null,null,{"$error":"#N/A"},{"$error":"#N/A"},null,null,null,null,null,null,null,null,null,null,null,null,null,null,null,null,null,null,null,null,null,null,null,null,null,null,null,null,null,{"$error":"#N/A"}]
[null,null,null,null,null,null,null,null,null,null,null,null,{"$f":"IF(AND($F$17=H5809,$AK$44=F5809),J5809,\"\")","v":{"$error":"#N/A"}},{"$f":"IF(AND($F$17=H5809,$AK$44=F5809),L5809,\"\")","v":{"$error":"#N/A"}},null,null,null,null,null,null,null,null,null,null,null,null,null,null,null,null,null,null,null,null,null,null,null,null,null,null,null,null,null,{"$error":"#N/A"}]
[null,null,null,null,null,null,null,null,null,null,null,null,{"$error":"#N/A"},{"$error":"#N/A"},null,null,null,null,null,null,null,null,null,null,null,null,null,null,null,null,null,null,null,null,null,null,null,null,null,null,null,null,null,{"$error":"#N/A"}]
[null,null,null,null,null,null,null,null,null,null,null,null,{"$error":"#N/A"},{"$error":"#N/A"},null,null,null,null,null,null,null,null,null,null,null,null,null,null,null,null,null,null,null,null,null,null,null,null,null,null,null,null,null,{"$error":"#N/A"}]
[null,null,null,null,null,null,null,null,null,null,null,null,{"$error":"#N/A"},{"$error":"#N/A"},null,null,null,null,null,null,null,null,null,null,null,null,null,null,null,null,null,null,null,null,null,null,null,null,null,null,null,null,null,{"$error":"#N/A"}]
[null,null,null,null,null,null,null,null,null,null,null,null,{"$error":"#N/A"},{"$error":"#N/A"},null,null,null,null,null,null,null,null,null,null,null,null,null,null,null,null,null,null,null,null,null,null,null,null,null,null,null,null,null,{"$error":"#N/A"}]
[null,null,null,null,null,null,null,null,null,null,null,null,{"$error":"#N/A"},{"$error":"#N/A"},null,null,null,null,null,null,null,null,null,null,null,null,null,null,null,null,null,null,null,null,null,null,null,null,null,null,null,null,null,{"$error":"#N/A"}]
[null,null,null,null,null,null,null,null,null,null,null,null,{"$error":"#N/A"},{"$error":"#N/A"},null,null,null,null,null,null,null,null,null,null,null,null,null,null,null,null,null,null,null,null,null,null,null,null,null,null,null,null,null,{"$error":"#N/A"}]
[null,null,null,null,null,null,null,null,null,null,null,null,{"$error":"#N/A"},{"$error":"#N/A"},null,null,null,null,null,null,null,null,null,null,null,null,null,null,null,null,null,null,null,null,null,null,null,null,null,null,null,null,null,{"$error":"#N/A"}]
[null,null,null,null,null,null,null,null,null,null,null,null,{"$error":"#N/A"},{"$error":"#N/A"},null,null,null,null,null,null,null,null,null,null,null,null,null,null,null,null,null,null,null,null,null,null,null,null,null,null,null,null,null,{"$error":"#N/A"}]
[null,null,null,null,null,null,null,null,null,null,null,null,{"$error":"#N/A"},{"$error":"#N/A"},null,null,null,null,null,null,null,null,null,null,null,null,null,null,null,null,null,null,null,null,null,null,null,null,null,null,null,null,null,{"$error":"#N/A"}]
[null,null,null,null,null,null,null,null,null,null,null,null,{"$error":"#N/A"},{"$error":"#N/A"},null,null,null,null,null,null,null,null,null,null,null,null,null,null,null,null,null,null,null,null,null,null,null,null,null,null,null,null,null,{"$error":"#N/A"}]
[null,null,null,null,null,null,null,null,null,null,null,null,{"$error":"#N/A"},{"$error":"#N/A"},null,null,null,null,null,null,null,null,null,null,null,null,null,null,null,null,null,null,null,null,null,null,null,null,null,null,null,null,null,{"$error":"#N/A"}]
[null,null,null,null,null,null,null,null,null,null,null,null,{"$error":"#N/A"},{"$error":"#N/A"},null,null,null,null,null,null,null,null,null,null,null,null,null,null,null,null,null,null,null,null,null,null,null,null,null,null,null,null,null,{"$error":"#N/A"}]
[null,null,null,null,null,null,null,null,null,null,null,null,{"$error":"#N/A"},{"$error":"#N/A"},null,null,null,null,null,null,null,null,null,null,null,null,null,null,null,null,null,null,null,null,null,null,null,null,null,null,null,null,null,{"$error":"#N/A"}]
[null,null,null,null,null,null,null,null,null,null,null,null,{"$error":"#N/A"},{"$error":"#N/A"},null,null,null,null,null,null,null,null,null,null,null,null,null,null,null,null,null,null,null,null,null,null,null,null,null,null,null,null,null,{"$error":"#N/A"}]
[null,null,null,null,null,null,null,null,null,null,null,null,{"$error":"#N/A"},{"$error":"#N/A"},null,null,null,null,null,null,null,null,null,null,null,null,null,null,null,null,null,null,null,null,null,null,null,null,null,null,null,null,null,{"$error":"#N/A"}]
[null,null,null,null,null,null,null,null,null,null,null,null,{"$error":"#N/A"},{"$error":"#N/A"},null,null,null,null,null,null,null,null,null,null,null,null,null,null,null,null,null,null,null,null,null,null,null,null,null,null,null,null,null,{"$error":"#N/A"}]
[null,null,null,null,null,null,null,null,null,null,null,null,{"$error":"#N/A"},{"$error":"#N/A"},null,null,null,null,null,null,null,null,null,null,null,null,null,null,null,null,null,null,null,null,null,null,null,null,null,null,null,null,null,{"$error":"#N/A"}]
[null,null,null,null,null,null,null,null,null,null,null,null,{"$error":"#N/A"},{"$error":"#N/A"},null,null,null,null,null,null,null,null,null,null,null,null,null,null,null,null,null,null,null,null,null,null,null,null,null,null,null,null,null,{"$error":"#N/A"}]
[null,null,null,null,null,null,null,null,null,null,null,null,{"$error":"#N/A"},{"$error":"#N/A"},null,null,null,null,null,null,null,null,null,null,null,null,null,null,null,null,null,null,null,null,null,null,null,null,null,null,null,null,null,{"$error":"#N/A"}]
[null,null,null,null,null,null,null,null,null,null,null,null,{"$error":"#N/A"},{"$error":"#N/A"},null,null,null,null,null,null,null,null,null,null,null,null,null,null,null,null,null,null,null,null,null,null,null,null,null,null,null,null,null,{"$error":"#N/A"}]
[null,null,null,null,null,null,null,null,null,null,null,null,{"$error":"#N/A"},{"$error":"#N/A"},null,null,null,null,null,null,null,null,null,null,null,null,null,null,null,null,null,null,null,null,null,null,null,null,null,null,null,null,null,{"$error":"#N/A"}]
[null,null,null,null,null,null,null,null,null,null,null,null,{"$error":"#N/A"},{"$error":"#N/A"},null,null,null,null,null,null,null,null,null,null,null,null,null,null,null,null,null,null,null,null,null,null,null,null,null,null,null,null,null,{"$error":"#N/A"}]
[null,null,null,null,null,null,null,null,null,null,null,null,{"$error":"#N/A"},{"$error":"#N/A"},null,null,null,null,null,null,null,null,null,null,null,null,null,null,null,null,null,null,null,null,null,null,null,null,null,null,null,null,null,{"$error":"#N/A"}]
[null,null,null,null,null,null,null,null,null,null,null,null,{"$error":"#N/A"},{"$error":"#N/A"},null,null,null,null,null,null,null,null,null,null,null,null,null,null,null,null,null,null,null,null,null,null,null,null,null,null,null,null,null,{"$error":"#N/A"}]
[null,null,null,null,null,null,null,null,null,null,null,null,{"$error":"#N/A"},{"$error":"#N/A"},null,null,null,null,null,null,null,null,null,null,null,null,null,null,null,null,null,null,null,null,null,null,null,null,null,null,null,null,null,{"$error":"#N/A"}]
[null,null,null,null,null,null,null,null,null,null,null,null,{"$error":"#N/A"},{"$error":"#N/A"},null,null,null,null,null,null,null,null,null,null,null,null,null,null,null,null,null,null,null,null,null,null,null,null,null,null,null,null,null,{"$error":"#N/A"}]
[null,null,null,null,null,null,null,null,null,null,null,null,{"$error":"#N/A"},{"$error":"#N/A"},null,null,null,null,null,null,null,null,null,null,null,null,null,null,null,null,null,null,null,null,null,null,null,null,null,null,null,null,null,{"$error":"#N/A"}]
[null,null,null,null,null,null,null,null,null,null,null,null,{"$error":"#N/A"},{"$error":"#N/A"},null,null,null,null,null,null,null,null,null,null,null,null,null,null,null,null,null,null,null,null,null,null,null,null,null,null,null,null,null,{"$error":"#N/A"}]
[null,null,null,null,null,null,null,null,null,null,null,null,{"$error":"#N/A"},{"$error":"#N/A"},null,null,null,null,null,null,null,null,null,null,null,null,null,null,null,null,null,null,null,null,null,null,null,null,null,null,null,null,null,{"$error":"#N/A"}]
[null,null,null,null,null,null,null,null,null,null,null,null,{"$error":"#N/A"},{"$error":"#N/A"},null,null,null,null,null,null,null,null,null,null,null,null,null,null,null,null,null,null,null,null,null,null,null,null,null,null,null,null,null,{"$error":"#N/A"}]
[null,null,null,null,null,null,null,null,null,null,null,null,{"$error":"#N/A"},{"$error":"#N/A"},null,null,null,null,null,null,null,null,null,null,null,null,null,null,null,null,null,null,null,null,null,null,null,null,null,null,null,null,null,{"$error":"#N/A"}]
[null,null,null,null,null,null,null,null,null,null,null,null,{"$error":"#N/A"},{"$error":"#N/A"},null,null,null,null,null,null,null,null,null,null,null,null,null,null,null,null,null,null,null,null,null,null,null,null,null,null,null,null,null,{"$error":"#N/A"}]
[null,null,null,null,null,null,null,null,null,null,null,null,{"$error":"#N/A"},{"$error":"#N/A"},null,null,null,null,null,null,null,null,null,null,null,null,null,null,null,null,null,null,null,null,null,null,null,null,null,null,null,null,null,{"$error":"#N/A"}]
[null,null,null,null,null,null,null,null,null,null,null,null,{"$error":"#N/A"},{"$error":"#N/A"},null,null,null,null,null,null,null,null,null,null,null,null,null,null,null,null,null,null,null,null,null,null,null,null,null,null,null,null,null,{"$error":"#N/A"}]
[null,null,null,null,null,null,null,null,null,null,null,null,{"$error":"#N/A"},{"$error":"#N/A"},null,null,null,null,null,null,null,null,null,null,null,null,null,null,null,null,null,null,null,null,null,null,null,null,null,null,null,null,null,{"$error":"#N/A"}]
[null,null,null,null,null,null,null,null,null,null,null,null,{"$error":"#N/A"},{"$error":"#N/A"},null,null,null,null,null,null,null,null,null,null,null,null,null,null,null,null,null,null,null,null,null,null,null,null,null,null,null,null,null,{"$error":"#N/A"}]
[null,null,null,null,null,null,null,null,null,null,null,null,{"$error":"#N/A"},{"$error":"#N/A"},null,null,null,null,null,null,null,null,null,null,null,null,null,null,null,null,null,null,null,null,null,null,null,null,null,null,null,null,null,{"$error":"#N/A"}]
[null,null,null,null,null,null,null,null,null,null,null,null,{"$error":"#N/A"},{"$error":"#N/A"},null,null,null,null,null,null,null,null,null,null,null,null,null,null,null,null,null,null,null,null,null,null,null,null,null,null,null,null,null,{"$error":"#N/A"}]
[null,null,null,null,null,null,null,null,null,null,null,null,{"$error":"#N/A"},{"$error":"#N/A"},null,null,null,null,null,null,null,null,null,null,null,null,null,null,null,null,null,null,null,null,null,null,null,null,null,null,null,null,null,{"$error":"#N/A"}]
[null,null,null,null,null,null,null,null,null,null,null,null,{"$error":"#N/A"},{"$error":"#N/A"},null,null,null,null,null,null,null,null,null,null,null,null,null,null,null,null,null,null,null,null,null,null,null,null,null,null,null,null,null,{"$error":"#N/A"}]
[null,null,null,null,null,null,null,null,null,null,null,null,{"$error":"#N/A"},{"$error":"#N/A"},null,null,null,null,null,null,null,null,null,null,null,null,null,null,null,null,null,null,null,null,null,null,null,null,null,null,null,null,null,{"$error":"#N/A"}]
[null,null,null,null,null,null,null,null,null,null,null,null,{"$error":"#N/A"},{"$error":"#N/A"},null,null,null,null,null,null,null,null,null,null,null,null,null,null,null,null,null,null,null,null,null,null,null,null,null,null,null,null,null,{"$error":"#N/A"}]
[null,null,null,null,null,null,null,null,null,null,null,null,{"$error":"#N/A"},{"$error":"#N/A"},null,null,null,null,null,null,null,null,null,null,null,null,null,null,null,null,null,null,null,null,null,null,null,null,null,null,null,null,null,{"$error":"#N/A"}]
[null,null,null,null,null,null,null,null,null,null,null,null,{"$error":"#N/A"},{"$error":"#N/A"},null,null,null,null,null,null,null,null,null,null,null,null,null,null,null,null,null,null,null,null,null,null,null,null,null,null,null,null,null,{"$error":"#N/A"}]
[null,null,null,null,null,null,null,null,null,null,null,null,{"$error":"#N/A"},{"$error":"#N/A"},null,null,null,null,null,null,null,null,null,null,null,null,null,null,null,null,null,null,null,null,null,null,null,null,null,null,null,null,null,{"$error":"#N/A"}]
[null,null,null,null,null,null,null,null,null,null,null,null,{"$error":"#N/A"},{"$error":"#N/A"},null,null,null,null,null,null,null,null,null,null,null,null,null,null,null,null,null,null,null,null,null,null,null,null,null,null,null,null,null,{"$error":"#N/A"}]
[null,null,null,null,null,null,null,null,null,null,null,null,{"$error":"#N/A"},{"$error":"#N/A"},null,null,null,null,null,null,null,null,null,null,null,null,null,null,null,null,null,null,null,null,null,null,null,null,null,null,null,null,null,{"$error":"#N/A"}]
[null,null,null,null,null,null,null,null,null,null,null,null,{"$error":"#N/A"},{"$error":"#N/A"},null,null,null,null,null,null,null,null,null,null,null,null,null,null,null,null,null,null,null,null,null,null,null,null,null,null,null,null,null,{"$error":"#N/A"}]
[null,null,null,null,null,null,null,null,null,null,null,null,{"$error":"#N/A"},{"$error":"#N/A"},null,null,null,null,null,null,null,null,null,null,null,null,null,null,null,null,null,null,null,null,null,null,null,null,null,null,null,null,null,{"$error":"#N/A"}]
[null,null,null,null,null,null,null,null,null,null,null,null,{"$error":"#N/A"},{"$error":"#N/A"},null,null,null,null,null,null,null,null,null,null,null,null,null,null,null,null,null,null,null,null,null,null,null,null,null,null,null,null,null,{"$error":"#N/A"}]
[null,null,null,null,null,null,null,null,null,null,null,null,{"$error":"#N/A"},{"$error":"#N/A"},null,null,null,null,null,null,null,null,null,null,null,null,null,null,null,null,null,null,null,null,null,null,null,null,null,null,null,null,null,{"$error":"#N/A"}]
[null,null,null,null,null,null,null,null,null,null,null,null,{"$error":"#N/A"},{"$error":"#N/A"},null,null,null,null,null,null,null,null,null,null,null,null,null,null,null,null,null,null,null,null,null,null,null,null,null,null,null,null,null,{"$error":"#N/A"}]
[null,null,null,null,null,null,null,null,null,null,null,null,{"$error":"#N/A"},{"$error":"#N/A"},null,null,null,null,null,null,null,null,null,null,null,null,null,null,null,null,null,null,null,null,null,null,null,null,null,null,null,null,null,{"$error":"#N/A"}]
[null,null,null,null,null,null,null,null,null,null,null,null,{"$error":"#N/A"},{"$error":"#N/A"},null,null,null,null,null,null,null,null,null,null,null,null,null,null,null,null,null,null,null,null,null,null,null,null,null,null,null,null,null,{"$error":"#N/A"}]
[null,null,null,null,null,null,null,null,null,null,null,null,{"$error":"#N/A"},{"$error":"#N/A"},null,null,null,null,null,null,null,null,null,null,null,null,null,null,null,null,null,null,null,null,null,null,null,null,null,null,null,null,null,{"$error":"#N/A"}]
[null,null,null,null,null,null,null,null,null,null,null,null,{"$error":"#N/A"},{"$error":"#N/A"},null,null,null,null,null,null,null,null,null,null,null,null,null,null,null,null,null,null,null,null,null,null,null,null,null,null,null,null,null,{"$error":"#N/A"}]
[null,null,null,null,null,null,null,null,null,null,null,null,{"$error":"#N/A"},{"$error":"#N/A"},null,null,null,null,null,null,null,null,null,null,null,null,null,null,null,null,null,null,null,null,null,null,null,null,null,null,null,null,null,{"$error":"#N/A"}]
[null,null,null,null,null,null,null,null,null,null,null,null,{"$error":"#N/A"},{"$error":"#N/A"},null,null,null,null,null,null,null,null,null,null,null,null,null,null,null,null,null,null,null,null,null,null,null,null,null,null,null,null,null,{"$error":"#N/A"}]
[null,null,null,null,null,null,null,null,null,null,null,null,{"$error":"#N/A"},{"$error":"#N/A"},null,null,null,null,null,null,null,null,null,null,null,null,null,null,null,null,null,null,null,null,null,null,null,null,null,null,null,null,null,{"$error":"#N/A"}]
[null,null,null,null,null,null,null,null,null,null,null,null,{"$error":"#N/A"},{"$error":"#N/A"},null,null,null,null,null,null,null,null,null,null,null,null,null,null,null,null,null,null,null,null,null,null,null,null,null,null,null,null,null,{"$error":"#N/A"}]
[null,null,null,null,null,null,null,null,null,null,null,null,{"$error":"#N/A"},{"$error":"#N/A"},null,null,null,null,null,null,null,null,null,null,null,null,null,null,null,null,null,null,null,null,null,null,null,null,null,null,null,null,null,{"$error":"#N/A"}]
[null,null,null,null,null,null,null,null,null,null,null,null,{"$error":"#N/A"},{"$error":"#N/A"},null,null,null,null,null,null,null,null,null,null,null,null,null,null,null,null,null,null,null,null,null,null,null,null,null,null,null,null,null,{"$error":"#N/A"}]
[null,null,null,null,null,null,null,null,null,null,null,null,{"$error":"#N/A"},{"$error":"#N/A"},null,null,null,null,null,null,null,null,null,null,null,null,null,null,null,null,null,null,null,null,null,null,null,null,null,null,null,null,null,{"$error":"#N/A"}]
[null,null,null,null,null,null,null,null,null,null,null,null,{"$f":"IF(AND($F$17=H5873,$AK$44=F5873),J5873,\"\")","v":{"$error":"#N/A"}},{"$f":"IF(AND($F$17=H5873,$AK$44=F5873),L5873,\"\")","v":{"$error":"#N/A"}},null,null,null,null,null,null,null,null,null,null,null,null,null,null,null,null,null,null,null,null,null,null,null,null,null,null,null,null,null,{"$error":"#N/A"}]
[null,null,null,null,null,null,null,null,null,null,null,null,{"$error":"#N/A"},{"$error":"#N/A"},null,null,null,null,null,null,null,null,null,null,null,null,null,null,null,null,null,null,null,null,null,null,null,null,null,null,null,null,null,{"$error":"#N/A"}]
[null,null,null,null,null,null,null,null,null,null,null,null,{"$error":"#N/A"},{"$error":"#N/A"},null,null,null,null,null,null,null,null,null,null,null,null,null,null,null,null,null,null,null,null,null,null,null,null,null,null,null,null,null,{"$error":"#N/A"}]
[null,null,null,null,null,null,null,null,null,null,null,null,{"$error":"#N/A"},{"$error":"#N/A"},null,null,null,null,null,null,null,null,null,null,null,null,null,null,null,null,null,null,null,null,null,null,null,null,null,null,null,null,null,{"$error":"#N/A"}]
[null,null,null,null,null,null,null,null,null,null,null,null,{"$error":"#N/A"},{"$error":"#N/A"},null,null,null,null,null,null,null,null,null,null,null,null,null,null,null,null,null,null,null,null,null,null,null,null,null,null,null,null,null,{"$error":"#N/A"}]
[null,null,null,null,null,null,null,null,null,null,null,null,{"$error":"#N/A"},{"$error":"#N/A"},null,null,null,null,null,null,null,null,null,null,null,null,null,null,null,null,null,null,null,null,null,null,null,null,null,null,null,null,null,{"$error":"#N/A"}]
[null,null,null,null,null,null,null,null,null,null,null,null,{"$error":"#N/A"},{"$error":"#N/A"},null,null,null,null,null,null,null,null,null,null,null,null,null,null,null,null,null,null,null,null,null,null,null,null,null,null,null,null,null,{"$error":"#N/A"}]
[null,null,null,null,null,null,null,null,null,null,null,null,{"$error":"#N/A"},{"$error":"#N/A"},null,null,null,null,null,null,null,null,null,null,null,null,null,null,null,null,null,null,null,null,null,null,null,null,null,null,null,null,null,{"$error":"#N/A"}]
[null,null,null,null,null,null,null,null,null,null,null,null,{"$error":"#N/A"},{"$error":"#N/A"},null,null,null,null,null,null,null,null,null,null,null,null,null,null,null,null,null,null,null,null,null,null,null,null,null,null,null,null,null,{"$error":"#N/A"}]
[null,null,null,null,null,null,null,null,null,null,null,null,{"$error":"#N/A"},{"$error":"#N/A"},null,null,null,null,null,null,null,null,null,null,null,null,null,null,null,null,null,null,null,null,null,null,null,null,null,null,null,null,null,{"$error":"#N/A"}]
[null,null,null,null,null,null,null,null,null,null,null,null,{"$error":"#N/A"},{"$error":"#N/A"},null,null,null,null,null,null,null,null,null,null,null,null,null,null,null,null,null,null,null,null,null,null,null,null,null,null,null,null,null,{"$error":"#N/A"}]
[null,null,null,null,null,null,null,null,null,null,null,null,{"$error":"#N/A"},{"$error":"#N/A"},null,null,null,null,null,null,null,null,null,null,null,null,null,null,null,null,null,null,null,null,null,null,null,null,null,null,null,null,null,{"$error":"#N/A"}]
[null,null,null,null,null,null,null,null,null,null,null,null,{"$error":"#N/A"},{"$error":"#N/A"},null,null,null,null,null,null,null,null,null,null,null,null,null,null,null,null,null,null,null,null,null,null,null,null,null,null,null,null,null,{"$error":"#N/A"}]
[null,null,null,null,null,null,null,null,null,null,null,null,{"$error":"#N/A"},{"$error":"#N/A"},null,null,null,null,null,null,null,null,null,null,null,null,null,null,null,null,null,null,null,null,null,null,null,null,null,null,null,null,null,{"$error":"#N/A"}]
[null,null,null,null,null,null,null,null,null,null,null,null,{"$error":"#N/A"},{"$error":"#N/A"},null,null,null,null,null,null,null,null,null,null,null,null,null,null,null,null,null,null,null,null,null,null,null,null,null,null,null,null,null,{"$error":"#N/A"}]
[null,null,null,null,null,null,null,null,null,null,null,null,{"$error":"#N/A"},{"$error":"#N/A"},null,null,null,null,null,null,null,null,null,null,null,null,null,null,null,null,null,null,null,null,null,null,null,null,null,null,null,null,null,{"$error":"#N/A"}]
[null,null,null,null,null,null,null,null,null,null,null,null,{"$error":"#N/A"},{"$error":"#N/A"},null,null,null,null,null,null,null,null,null,null,null,null,null,null,null,null,null,null,null,null,null,null,null,null,null,null,null,null,null,{"$error":"#N/A"}]
[null,null,null,null,null,null,null,null,null,null,null,null,{"$error":"#N/A"},{"$error":"#N/A"},null,null,null,null,null,null,null,null,null,null,null,null,null,null,null,null,null,null,null,null,null,null,null,null,null,null,null,null,null,{"$error":"#N/A"}]
[null,null,null,null,null,null,null,null,null,null,null,null,{"$error":"#N/A"},{"$error":"#N/A"},null,null,null,null,null,null,null,null,null,null,null,null,null,null,null,null,null,null,null,null,null,null,null,null,null,null,null,null,null,{"$error":"#N/A"}]
[null,null,null,null,null,null,null,null,null,null,null,null,{"$error":"#N/A"},{"$error":"#N/A"},null,null,null,null,null,null,null,null,null,null,null,null,null,null,null,null,null,null,null,null,null,null,null,null,null,null,null,null,null,{"$error":"#N/A"}]
[null,null,null,null,null,null,null,null,null,null,null,null,{"$error":"#N/A"},{"$error":"#N/A"},null,null,null,null,null,null,null,null,null,null,null,null,null,null,null,null,null,null,null,null,null,null,null,null,null,null,null,null,null,{"$error":"#N/A"}]
[null,null,null,null,null,null,null,null,null,null,null,null,{"$error":"#N/A"},{"$error":"#N/A"},null,null,null,null,null,null,null,null,null,null,null,null,null,null,null,null,null,null,null,null,null,null,null,null,null,null,null,null,null,{"$error":"#N/A"}]
[null,null,null,null,null,null,null,null,null,null,null,null,{"$error":"#N/A"},{"$error":"#N/A"},null,null,null,null,null,null,null,null,null,null,null,null,null,null,null,null,null,null,null,null,null,null,null,null,null,null,null,null,null,{"$error":"#N/A"}]
[null,null,null,null,null,null,null,null,null,null,null,null,{"$error":"#N/A"},{"$error":"#N/A"},null,null,null,null,null,null,null,null,null,null,null,null,null,null,null,null,null,null,null,null,null,null,null,null,null,null,null,null,null,{"$error":"#N/A"}]
[null,null,null,null,null,null,null,null,null,null,null,null,{"$error":"#N/A"},{"$error":"#N/A"},null,null,null,null,null,null,null,null,null,null,null,null,null,null,null,null,null,null,null,null,null,null,null,null,null,null,null,null,null,{"$error":"#N/A"}]
[null,null,null,null,null,null,null,null,null,null,null,null,{"$error":"#N/A"},{"$error":"#N/A"},null,null,null,null,null,null,null,null,null,null,null,null,null,null,null,null,null,null,null,null,null,null,null,null,null,null,null,null,null,{"$error":"#N/A"}]
[null,null,null,null,null,null,null,null,null,null,null,null,{"$error":"#N/A"},{"$error":"#N/A"},null,null,null,null,null,null,null,null,null,null,null,null,null,null,null,null,null,null,null,null,null,null,null,null,null,null,null,null,null,{"$error":"#N/A"}]
[null,null,null,null,null,null,null,null,null,null,null,null,{"$error":"#N/A"},{"$error":"#N/A"},null,null,null,null,null,null,null,null,null,null,null,null,null,null,null,null,null,null,null,null,null,null,null,null,null,null,null,null,null,{"$error":"#N/A"}]
[null,null,null,null,null,null,null,null,null,null,null,null,{"$error":"#N/A"},{"$error":"#N/A"},null,null,null,null,null,null,null,null,null,null,null,null,null,null,null,null,null,null,null,null,null,null,null,null,null,null,null,null,null,{"$error":"#N/A"}]
[null,null,null,null,null,null,null,null,null,null,null,null,{"$error":"#N/A"},{"$error":"#N/A"},null,null,null,null,null,null,null,null,null,null,null,null,null,null,null,null,null,null,null,null,null,null,null,null,null,null,null,null,null,{"$error":"#N/A"}]
[null,null,null,null,null,null,null,null,null,null,null,null,{"$error":"#N/A"},{"$error":"#N/A"},null,null,null,null,null,null,null,null,null,null,null,null,null,null,null,null,null,null,null,null,null,null,null,null,null,null,null,null,null,{"$error":"#N/A"}]
[null,null,null,null,null,null,null,null,null,null,null,null,{"$error":"#N/A"},{"$error":"#N/A"},null,null,null,null,null,null,null,null,null,null,null,null,null,null,null,null,null,null,null,null,null,null,null,null,null,null,null,null,null,{"$error":"#N/A"}]
[null,null,null,null,null,null,null,null,null,null,null,null,{"$error":"#N/A"},{"$error":"#N/A"},null,null,null,null,null,null,null,null,null,null,null,null,null,null,null,null,null,null,null,null,null,null,null,null,null,null,null,null,null,{"$error":"#N/A"}]
[null,null,null,null,null,null,null,null,null,null,null,null,{"$error":"#N/A"},{"$error":"#N/A"},null,null,null,null,null,null,null,null,null,null,null,null,null,null,null,null,null,null,null,null,null,null,null,null,null,null,null,null,null,{"$error":"#N/A"}]
[null,null,null,null,null,null,null,null,null,null,null,null,{"$error":"#N/A"},{"$error":"#N/A"},null,null,null,null,null,null,null,null,null,null,null,null,null,null,null,null,null,null,null,null,null,null,null,null,null,null,null,null,null,{"$error":"#N/A"}]
[null,null,null,null,null,null,null,null,null,null,null,null,{"$error":"#N/A"},{"$error":"#N/A"},null,null,null,null,null,null,null,null,null,null,null,null,null,null,null,null,null,null,null,null,null,null,null,null,null,null,null,null,null,{"$error":"#N/A"}]
[null,null,null,null,null,null,null,null,null,null,null,null,{"$error":"#N/A"},{"$error":"#N/A"},null,null,null,null,null,null,null,null,null,null,null,null,null,null,null,null,null,null,null,null,null,null,null,null,null,null,null,null,null,{"$error":"#N/A"}]
[null,null,null,null,null,null,null,null,null,null,null,null,{"$error":"#N/A"},{"$error":"#N/A"},null,null,null,null,null,null,null,null,null,null,null,null,null,null,null,null,null,null,null,null,null,null,null,null,null,null,null,null,null,{"$error":"#N/A"}]
[null,null,null,null,null,null,null,null,null,null,null,null,{"$error":"#N/A"},{"$error":"#N/A"},null,null,null,null,null,null,null,null,null,null,null,null,null,null,null,null,null,null,null,null,null,null,null,null,null,null,null,null,null,{"$error":"#N/A"}]
[null,null,null,null,null,null,null,null,null,null,null,null,{"$error":"#N/A"},{"$error":"#N/A"},null,null,null,null,null,null,null,null,null,null,null,null,null,null,null,null,null,null,null,null,null,null,null,null,null,null,null,null,null,{"$error":"#N/A"}]
[null,null,null,null,null,null,null,null,null,null,null,null,{"$error":"#N/A"},{"$error":"#N/A"},null,null,null,null,null,null,null,null,null,null,null,null,null,null,null,null,null,null,null,null,null,null,null,null,null,null,null,null,null,{"$error":"#N/A"}]
[null,null,null,null,null,null,null,null,null,null,null,null,{"$error":"#N/A"},{"$error":"#N/A"},null,null,null,null,null,null,null,null,null,null,null,null,null,null,null,null,null,null,null,null,null,null,null,null,null,null,null,null,null,{"$error":"#N/A"}]
[null,null,null,null,null,null,null,null,null,null,null,null,{"$error":"#N/A"},{"$error":"#N/A"},null,null,null,null,null,null,null,null,null,null,null,null,null,null,null,null,null,null,null,null,null,null,null,null,null,null,null,null,null,{"$error":"#N/A"}]
[null,null,null,null,null,null,null,null,null,null,null,null,{"$error":"#N/A"},{"$error":"#N/A"},null,null,null,null,null,null,null,null,null,null,null,null,null,null,null,null,null,null,null,null,null,null,null,null,null,null,null,null,null,{"$error":"#N/A"}]
[null,null,null,null,null,null,null,null,null,null,null,null,{"$error":"#N/A"},{"$error":"#N/A"},null,null,null,null,null,null,null,null,null,null,null,null,null,null,null,null,null,null,null,null,null,null,null,null,null,null,null,null,null,{"$error":"#N/A"}]
[null,null,null,null,null,null,null,null,null,null,null,null,{"$error":"#N/A"},{"$error":"#N/A"},null,null,null,null,null,null,null,null,null,null,null,null,null,null,null,null,null,null,null,null,null,null,null,null,null,null,null,null,null,{"$error":"#N/A"}]
[null,null,null,null,null,null,null,null,null,null,null,null,{"$error":"#N/A"},{"$error":"#N/A"},null,null,null,null,null,null,null,null,null,null,null,null,null,null,null,null,null,null,null,null,null,null,null,null,null,null,null,null,null,{"$error":"#N/A"}]
[null,null,null,null,null,null,null,null,null,null,null,null,{"$error":"#N/A"},{"$error":"#N/A"},null,null,null,null,null,null,null,null,null,null,null,null,null,null,null,null,null,null,null,null,null,null,null,null,null,null,null,null,null,{"$error":"#N/A"}]
[null,null,null,null,null,null,null,null,null,null,null,null,{"$error":"#N/A"},{"$error":"#N/A"},null,null,null,null,null,null,null,null,null,null,null,null,null,null,null,null,null,null,null,null,null,null,null,null,null,null,null,null,null,{"$error":"#N/A"}]
[null,null,null,null,null,null,null,null,null,null,null,null,{"$error":"#N/A"},{"$error":"#N/A"},null,null,null,null,null,null,null,null,null,null,null,null,null,null,null,null,null,null,null,null,null,null,null,null,null,null,null,null,null,{"$error":"#N/A"}]
[null,null,null,null,null,null,null,null,null,null,null,null,{"$error":"#N/A"},{"$error":"#N/A"},null,null,null,null,null,null,null,null,null,null,null,null,null,null,null,null,null,null,null,null,null,null,null,null,null,null,null,null,null,{"$error":"#N/A"}]
[null,null,null,null,null,null,null,null,null,null,null,null,{"$error":"#N/A"},{"$error":"#N/A"},null,null,null,null,null,null,null,null,null,null,null,null,null,null,null,null,null,null,null,null,null,null,null,null,null,null,null,null,null,{"$error":"#N/A"}]
[null,null,null,null,null,null,null,null,null,null,null,null,{"$error":"#N/A"},{"$error":"#N/A"},null,null,null,null,null,null,null,null,null,null,null,null,null,null,null,null,null,null,null,null,null,null,null,null,null,null,null,null,null,{"$error":"#N/A"}]
[null,null,null,null,null,null,null,null,null,null,null,null,{"$error":"#N/A"},{"$error":"#N/A"},null,null,null,null,null,null,null,null,null,null,null,null,null,null,null,null,null,null,null,null,null,null,null,null,null,null,null,null,null,{"$error":"#N/A"}]
[null,null,null,null,null,null,null,null,null,null,null,null,{"$error":"#N/A"},{"$error":"#N/A"},null,null,null,null,null,null,null,null,null,null,null,null,null,null,null,null,null,null,null,null,null,null,null,null,null,null,null,null,null,{"$error":"#N/A"}]
[null,null,null,null,null,null,null,null,null,null,null,null,{"$error":"#N/A"},{"$error":"#N/A"},null,null,null,null,null,null,null,null,null,null,null,null,null,null,null,null,null,null,null,null,null,null,null,null,null,null,null,null,null,{"$error":"#N/A"}]
[null,null,null,null,null,null,null,null,null,null,null,null,{"$error":"#N/A"},{"$error":"#N/A"},null,null,null,null,null,null,null,null,null,null,null,null,null,null,null,null,null,null,null,null,null,null,null,null,null,null,null,null,null,{"$error":"#N/A"}]
[null,null,null,null,null,null,null,null,null,null,null,null,{"$error":"#N/A"},{"$error":"#N/A"},null,null,null,null,null,null,null,null,null,null,null,null,null,null,null,null,null,null,null,null,null,null,null,null,null,null,null,null,null,{"$error":"#N/A"}]
[null,null,null,null,null,null,null,null,null,null,null,null,{"$error":"#N/A"},{"$error":"#N/A"},null,null,null,null,null,null,null,null,null,null,null,null,null,null,null,null,null,null,null,null,null,null,null,null,null,null,null,null,null,{"$error":"#N/A"}]
[null,null,null,null,null,null,null,null,null,null,null,null,{"$error":"#N/A"},{"$error":"#N/A"},null,null,null,null,null,null,null,null,null,null,null,null,null,null,null,null,null,null,null,null,null,null,null,null,null,null,null,null,null,{"$error":"#N/A"}]
[null,null,null,null,null,null,null,null,null,null,null,null,{"$error":"#N/A"},{"$error":"#N/A"},null,null,null,null,null,null,null,null,null,null,null,null,null,null,null,null,null,null,null,null,null,null,null,null,null,null,null,null,null,{"$error":"#N/A"}]
[null,null,null,null,null,null,null,null,null,null,null,null,{"$error":"#N/A"},{"$error":"#N/A"},null,null,null,null,null,null,null,null,null,null,null,null,null,null,null,null,null,null,null,null,null,null,null,null,null,null,null,null,null,{"$error":"#N/A"}]
[null,null,null,null,null,null,null,null,null,null,null,null,{"$error":"#N/A"},{"$error":"#N/A"},null,null,null,null,null,null,null,null,null,null,null,null,null,null,null,null,null,null,null,null,null,null,null,null,null,null,null,null,null,{"$error":"#N/A"}]
[null,null,null,null,null,null,null,null,null,null,null,null,{"$error":"#N/A"},{"$error":"#N/A"},null,null,null,null,null,null,null,null,null,null,null,null,null,null,null,null,null,null,null,null,null,null,null,null,null,null,null,null,null,{"$error":"#N/A"}]
[null,null,null,null,null,null,null,null,null,null,null,null,{"$f":"IF(AND($F$17=H5937,$AK$44=F5937),J5937,\"\")","v":{"$error":"#N/A"}},{"$f":"IF(AND($F$17=H5937,$AK$44=F5937),L5937,\"\")","v":{"$error":"#N/A"}},null,null,null,null,null,null,null,null,null,null,null,null,null,null,null,null,null,null,null,null,null,null,null,null,null,null,null,null,null,{"$error":"#N/A"}]
[null,null,null,null,null,null,null,null,null,null,null,null,{"$error":"#N/A"},{"$error":"#N/A"},null,null,null,null,null,null,null,null,null,null,null,null,null,null,null,null,null,null,null,null,null,null,null,null,null,null,null,null,null,{"$error":"#N/A"}]
[null,null,null,null,null,null,null,null,null,null,null,null,{"$error":"#N/A"},{"$error":"#N/A"},null,null,null,null,null,null,null,null,null,null,null,null,null,null,null,null,null,null,null,null,null,null,null,null,null,null,null,null,null,{"$error":"#N/A"}]
[null,null,null,null,null,null,null,null,null,null,null,null,{"$error":"#N/A"},{"$error":"#N/A"},null,null,null,null,null,null,null,null,null,null,null,null,null,null,null,null,null,null,null,null,null,null,null,null,null,null,null,null,null,{"$error":"#N/A"}]
[null,null,null,null,null,null,null,null,null,null,null,null,{"$error":"#N/A"},{"$error":"#N/A"},null,null,null,null,null,null,null,null,null,null,null,null,null,null,null,null,null,null,null,null,null,null,null,null,null,null,null,null,null,{"$error":"#N/A"}]
[null,null,null,null,null,null,null,null,null,null,null,null,{"$error":"#N/A"},{"$error":"#N/A"},null,null,null,null,null,null,null,null,null,null,null,null,null,null,null,null,null,null,null,null,null,null,null,null,null,null,null,null,null,{"$error":"#N/A"}]
[null,null,null,null,null,null,null,null,null,null,null,null,{"$error":"#N/A"},{"$error":"#N/A"},null,null,null,null,null,null,null,null,null,null,null,null,null,null,null,null,null,null,null,null,null,null,null,null,null,null,null,null,null,{"$error":"#N/A"}]
[null,null,null,null,null,null,null,null,null,null,null,null,{"$error":"#N/A"},{"$error":"#N/A"},null,null,null,null,null,null,null,null,null,null,null,null,null,null,null,null,null,null,null,null,null,null,null,null,null,null,null,null,null,{"$error":"#N/A"}]
[null,null,null,null,null,null,null,null,null,null,null,null,{"$error":"#N/A"},{"$error":"#N/A"},null,null,null,null,null,null,null,null,null,null,null,null,null,null,null,null,null,null,null,null,null,null,null,null,null,null,null,null,null,{"$error":"#N/A"}]
[null,null,null,null,null,null,null,null,null,null,null,null,{"$error":"#N/A"},{"$error":"#N/A"},null,null,null,null,null,null,null,null,null,null,null,null,null,null,null,null,null,null,null,null,null,null,null,null,null,null,null,null,null,{"$error":"#N/A"}]
[null,null,null,null,null,null,null,null,null,null,null,null,{"$error":"#N/A"},{"$error":"#N/A"},null,null,null,null,null,null,null,null,null,null,null,null,null,null,null,null,null,null,null,null,null,null,null,null,null,null,null,null,null,{"$error":"#N/A"}]
[null,null,null,null,null,null,null,null,null,null,null,null,{"$error":"#N/A"},{"$error":"#N/A"},null,null,null,null,null,null,null,null,null,null,null,null,null,null,null,null,null,null,null,null,null,null,null,null,null,null,null,null,null,{"$error":"#N/A"}]
[null,null,null,null,null,null,null,null,null,null,null,null,{"$error":"#N/A"},{"$error":"#N/A"},null,null,null,null,null,null,null,null,null,null,null,null,null,null,null,null,null,null,null,null,null,null,null,null,null,null,null,null,null,{"$error":"#N/A"}]
[null,null,null,null,null,null,null,null,null,null,null,null,{"$error":"#N/A"},{"$error":"#N/A"},null,null,null,null,null,null,null,null,null,null,null,null,null,null,null,null,null,null,null,null,null,null,null,null,null,null,null,null,null,{"$error":"#N/A"}]
[null,null,null,null,null,null,null,null,null,null,null,null,{"$error":"#N/A"},{"$error":"#N/A"},null,null,null,null,null,null,null,null,null,null,null,null,null,null,null,null,null,null,null,null,null,null,null,null,null,null,null,null,null,{"$error":"#N/A"}]
[null,null,null,null,null,null,null,null,null,null,null,null,{"$error":"#N/A"},{"$error":"#N/A"},null,null,null,null,null,null,null,null,null,null,null,null,null,null,null,null,null,null,null,null,null,null,null,null,null,null,null,null,null,{"$error":"#N/A"}]
[null,null,null,null,null,null,null,null,null,null,null,null,{"$error":"#N/A"},{"$error":"#N/A"},null,null,null,null,null,null,null,null,null,null,null,null,null,null,null,null,null,null,null,null,null,null,null,null,null,null,null,null,null,{"$error":"#N/A"}]
[null,null,null,null,null,null,null,null,null,null,null,null,{"$error":"#N/A"},{"$error":"#N/A"},null,null,null,null,null,null,null,null,null,null,null,null,null,null,null,null,null,null,null,null,null,null,null,null,null,null,null,null,null,{"$error":"#N/A"}]
[null,null,null,null,null,null,null,null,null,null,null,null,{"$error":"#N/A"},{"$error":"#N/A"},null,null,null,null,null,null,null,null,null,null,null,null,null,null,null,null,null,null,null,null,null,null,null,null,null,null,null,null,null,{"$error":"#N/A"}]
[null,null,null,null,null,null,null,null,null,null,null,null,{"$error":"#N/A"},{"$error":"#N/A"},null,null,null,null,null,null,null,null,null,null,null,null,null,null,null,null,null,null,null,null,null,null,null,null,null,null,null,null,null,{"$error":"#N/A"}]
[null,null,null,null,null,null,null,null,null,null,null,null,{"$error":"#N/A"},{"$error":"#N/A"},null,null,null,null,null,null,null,null,null,null,null,null,null,null,null,null,null,null,null,null,null,null,null,null,null,null,null,null,null,{"$error":"#N/A"}]
[null,null,null,null,null,null,null,null,null,null,null,null,{"$error":"#N/A"},{"$error":"#N/A"},null,null,null,null,null,null,null,null,null,null,null,null,null,null,null,null,null,null,null,null,null,null,null,null,null,null,null,null,null,{"$error":"#N/A"}]
[null,null,null,null,null,null,null,null,null,null,null,null,{"$error":"#N/A"},{"$error":"#N/A"},null,null,null,null,null,null,null,null,null,null,null,null,null,null,null,null,null,null,null,null,null,null,null,null,null,null,null,null,null,{"$error":"#N/A"}]
[null,null,null,null,null,null,null,null,null,null,null,null,{"$error":"#N/A"},{"$error":"#N/A"},null,null,null,null,null,null,null,null,null,null,null,null,null,null,null,null,null,null,null,null,null,null,null,null,null,null,null,null,null,{"$error":"#N/A"}]
[null,null,null,null,null,null,null,null,null,null,null,null,{"$error":"#N/A"},{"$error":"#N/A"},null,null,null,null,null,null,null,null,null,null,null,null,null,null,null,null,null,null,null,null,null,null,null,null,null,null,null,null,null,{"$error":"#N/A"}]
[null,null,null,null,null,null,null,null,null,null,null,null,{"$error":"#N/A"},{"$error":"#N/A"},null,null,null,null,null,null,null,null,null,null,null,null,null,null,null,null,null,null,null,null,null,null,null,null,null,null,null,null,null,{"$error":"#N/A"}]
[null,null,null,null,null,null,null,null,null,null,null,null,{"$error":"#N/A"},{"$error":"#N/A"},null,null,null,null,null,null,null,null,null,null,null,null,null,null,null,null,null,null,null,null,null,null,null,null,null,null,null,null,null,{"$error":"#N/A"}]
[null,null,null,null,null,null,null,null,null,null,null,null,{"$error":"#N/A"},{"$error":"#N/A"},null,null,null,null,null,null,null,null,null,null,null,null,null,null,null,null,null,null,null,null,null,null,null,null,null,null,null,null,null,{"$error":"#N/A"}]
[null,null,null,null,null,null,null,null,null,null,null,null,{"$error":"#N/A"},{"$error":"#N/A"},null,null,null,null,null,null,null,null,null,null,null,null,null,null,null,null,null,null,null,null,null,null,null,null,null,null,null,null,null,{"$error":"#N/A"}]
[null,null,null,null,null,null,null,null,null,null,null,null,{"$error":"#N/A"},{"$error":"#N/A"},null,null,null,null,null,null,null,null,null,null,null,null,null,null,null,null,null,null,null,null,null,null,null,null,null,null,null,null,null,{"$error":"#N/A"}]
[null,null,null,null,null,null,null,null,null,null,null,null,{"$error":"#N/A"},{"$error":"#N/A"},null,null,null,null,null,null,null,null,null,null,null,null,null,null,null,null,null,null,null,null,null,null,null,null,null,null,null,null,null,{"$error":"#N/A"}]
[null,null,null,null,null,null,null,null,null,null,null,null,{"$error":"#N/A"},{"$error":"#N/A"},null,null,null,null,null,null,null,null,null,null,null,null,null,null,null,null,null,null,null,null,null,null,null,null,null,null,null,null,null,{"$error":"#N/A"}]
[null,null,null,null,null,null,null,null,null,null,null,null,{"$error":"#N/A"},{"$error":"#N/A"},null,null,null,null,null,null,null,null,null,null,null,null,null,null,null,null,null,null,null,null,null,null,null,null,null,null,null,null,null,{"$error":"#N/A"}]
[null,null,null,null,null,null,null,null,null,null,null,null,{"$error":"#N/A"},{"$error":"#N/A"},null,null,null,null,null,null,null,null,null,null,null,null,null,null,null,null,null,null,null,null,null,null,null,null,null,null,null,null,null,{"$error":"#N/A"}]
[null,null,null,null,null,null,null,null,null,null,null,null,{"$error":"#N/A"},{"$error":"#N/A"},null,null,null,null,null,null,null,null,null,null,null,null,null,null,null,null,null,null,null,null,null,null,null,null,null,null,null,null,null,{"$error":"#N/A"}]
[null,null,null,null,null,null,null,null,null,null,null,null,{"$error":"#N/A"},{"$error":"#N/A"},null,null,null,null,null,null,null,null,null,null,null,null,null,null,null,null,null,null,null,null,null,null,null,null,null,null,null,null,null,{"$error":"#N/A"}]
[null,null,null,null,null,null,null,null,null,null,null,null,{"$error":"#N/A"},{"$error":"#N/A"},null,null,null,null,null,null,null,null,null,null,null,null,null,null,null,null,null,null,null,null,null,null,null,null,null,null,null,null,null,{"$error":"#N/A"}]
[null,null,null,null,null,null,null,null,null,null,null,null,{"$error":"#N/A"},{"$error":"#N/A"},null,null,null,null,null,null,null,null,null,null,null,null,null,null,null,null,null,null,null,null,null,null,null,null,null,null,null,null,null,{"$error":"#N/A"}]
[null,null,null,null,null,null,null,null,null,null,null,null,{"$error":"#N/A"},{"$error":"#N/A"},null,null,null,null,null,null,null,null,null,null,null,null,null,null,null,null,null,null,null,null,null,null,null,null,null,null,null,null,null,{"$error":"#N/A"}]
[null,null,null,null,null,null,null,null,null,null,null,null,{"$error":"#N/A"},{"$error":"#N/A"},null,null,null,null,null,null,null,null,null,null,null,null,null,null,null,null,null,null,null,null,null,null,null,null,null,null,null,null,null,{"$error":"#N/A"}]
[null,null,null,null,null,null,null,null,null,null,null,null,{"$error":"#N/A"},{"$error":"#N/A"},null,null,null,null,null,null,null,null,null,null,null,null,null,null,null,null,null,null,null,null,null,null,null,null,null,null,null,null,null,{"$error":"#N/A"}]
[null,null,null,null,null,null,null,null,null,null,null,null,{"$error":"#N/A"},{"$error":"#N/A"},null,null,null,null,null,null,null,null,null,null,null,null,null,null,null,null,null,null,null,null,null,null,null,null,null,null,null,null,null,{"$error":"#N/A"}]
[null,null,null,null,null,null,null,null,null,null,null,null,{"$error":"#N/A"},{"$error":"#N/A"},null,null,null,null,null,null,null,null,null,null,null,null,null,null,null,null,null,null,null,null,null,null,null,null,null,null,null,null,null,{"$error":"#N/A"}]
[null,null,null,null,null,null,null,null,null,null,null,null,{"$error":"#N/A"},{"$error":"#N/A"},null,null,null,null,null,null,null,null,null,null,null,null,null,null,null,null,null,null,null,null,null,null,null,null,null,null,null,null,null,{"$error":"#N/A"}]
[null,null,null,null,null,null,null,null,null,null,null,null,{"$error":"#N/A"},{"$error":"#N/A"},null,null,null,null,null,null,null,null,null,null,null,null,null,null,null,null,null,null,null,null,null,null,null,null,null,null,null,null,null,{"$error":"#N/A"}]
[null,null,null,null,null,null,null,null,null,null,null,null,{"$error":"#N/A"},{"$error":"#N/A"},null,null,null,null,null,null,null,null,null,null,null,null,null,null,null,null,null,null,null,null,null,null,null,null,null,null,null,null,null,{"$error":"#N/A"}]
[null,null,null,null,null,null,null,null,null,null,null,null,{"$error":"#N/A"},{"$error":"#N/A"},null,null,null,null,null,null,null,null,null,null,null,null,null,null,null,null,null,null,null,null,null,null,null,null,null,null,null,null,null,{"$error":"#N/A"}]
[null,null,null,null,null,null,null,null,null,null,null,null,{"$error":"#N/A"},{"$error":"#N/A"},null,null,null,null,null,null,null,null,null,null,null,null,null,null,null,null,null,null,null,null,null,null,null,null,null,null,null,null,null,{"$error":"#N/A"}]
[null,null,null,null,null,null,null,null,null,null,null,null,{"$error":"#N/A"},{"$error":"#N/A"},null,null,null,null,null,null,null,null,null,null,null,null,null,null,null,null,null,null,null,null,null,null,null,null,null,null,null,null,null,{"$error":"#N/A"}]
[null,null,null,null,null,null,null,null,null,null,null,null,{"$error":"#N/A"},{"$error":"#N/A"},null,null,null,null,null,null,null,null,null,null,null,null,null,null,null,null,null,null,null,null,null,null,null,null,null,null,null,null,null,{"$error":"#N/A"}]
[null,null,null,null,null,null,null,null,null,null,null,null,{"$error":"#N/A"},{"$error":"#N/A"},null,null,null,null,null,null,null,null,null,null,null,null,null,null,null,null,null,null,null,null,null,null,null,null,null,null,null,null,null,{"$error":"#N/A"}]
[null,null,null,null,null,null,null,null,null,null,null,null,{"$error":"#N/A"},{"$error":"#N/A"},null,null,null,null,null,null,null,null,null,null,null,null,null,null,null,null,null,null,null,null,null,null,null,null,null,null,null,null,null,{"$error":"#N/A"}]
[null,null,null,null,null,null,null,null,null,null,null,null,{"$error":"#N/A"},{"$error":"#N/A"},null,null,null,null,null,null,null,null,null,null,null,null,null,null,null,null,null,null,null,null,null,null,null,null,null,null,null,null,null,{"$error":"#N/A"}]
[null,null,null,null,null,null,null,null,null,null,null,null,{"$error":"#N/A"},{"$error":"#N/A"},null,null,null,null,null,null,null,null,null,null,null,null,null,null,null,null,null,null,null,null,null,null,null,null,null,null,null,null,null,{"$error":"#N/A"}]
[null,null,null,null,null,null,null,null,null,null,null,null,{"$error":"#N/A"},{"$error":"#N/A"},null,null,null,null,null,null,null,null,null,null,null,null,null,null,null,null,null,null,null,null,null,null,null,null,null,null,null,null,null,{"$error":"#N/A"}]
[null,null,null,null,null,null,null,null,null,null,null,null,{"$error":"#N/A"},{"$error":"#N/A"},null,null,null,null,null,null,null,null,null,null,null,null,null,null,null,null,null,null,null,null,null,null,null,null,null,null,null,null,null,{"$error":"#N/A"}]
[null,null,null,null,null,null,null,null,null,null,null,null,{"$error":"#N/A"},{"$error":"#N/A"},null,null,null,null,null,null,null,null,null,null,null,null,null,null,null,null,null,null,null,null,null,null,null,null,null,null,null,null,null,{"$error":"#N/A"}]
[null,null,null,null,null,null,null,null,null,null,null,null,{"$error":"#N/A"},{"$error":"#N/A"},null,null,null,null,null,null,null,null,null,null,null,null,null,null,null,null,null,null,null,null,null,null,null,null,null,null,null,null,null,{"$error":"#N/A"}]
[null,null,null,null,null,null,null,null,null,null,null,null,{"$error":"#N/A"},{"$error":"#N/A"},null,null,null,null,null,null,null,null,null,null,null,null,null,null,null,null,null,null,null,null,null,null,null,null,null,null,null,null,null,{"$error":"#N/A"}]
[null,null,null,null,null,null,null,null,null,null,null,null,{"$error":"#N/A"},{"$error":"#N/A"},null,null,null,null,null,null,null,null,null,null,null,null,null,null,null,null,null,null,null,null,null,null,null,null,null,null,null,null,null,{"$error":"#N/A"}]
[null,null,null,null,null,null,null,null,null,null,null,null,{"$error":"#N/A"},{"$error":"#N/A"},null,null,null,null,null,null,null,null,null,null,null,null,null,null,null,null,null,null,null,null,null,null,null,null,null,null,null,null,null,{"$error":"#N/A"}]
[null,null,null,null,null,null,null,null,null,null,null,null,{"$error":"#N/A"},{"$error":"#N/A"},null,null,null,null,null,null,null,null,null,null,null,null,null,null,null,null,null,null,null,null,null,null,null,null,null,null,null,null,null,{"$error":"#N/A"}]
[null,null,null,null,null,null,null,null,null,null,null,null,{"$error":"#N/A"},{"$error":"#N/A"},null,null,null,null,null,null,null,null,null,null,null,null,null,null,null,null,null,null,null,null,null,null,null,null,null,null,null,null,null,{"$error":"#N/A"}]
[null,null,null,null,null,null,null,null,null,null,null,null,{"$error":"#N/A"},{"$error":"#N/A"},null,null,null,null,null,null,null,null,null,null,null,null,null,null,null,null,null,null,null,null,null,null,null,null,null,null,null,null,null,{"$error":"#N/A"}]
[null,null,null,null,null,null,null,null,null,null,null,null,{"$f":"IF(AND($F$17=H6001,$AK$44=F6001),J6001,\"\")","v":{"$error":"#N/A"}},{"$f":"IF(AND($F$17=H6001,$AK$44=F6001),L6001,\"\")","v":{"$error":"#N/A"}},null,null,null,null,null,null,null,null,null,null,null,null,null,null,null,null,null,null,null,null,null,null,null,null,null,null,null,null,null,{"$error":"#N/A"}]
[null,null,null,null,null,null,null,null,null,null,null,null,{"$error":"#N/A"},{"$error":"#N/A"},null,null,null,null,null,null,null,null,null,null,null,null,null,null,null,null,null,null,null,null,null,null,null,null,null,null,null,null,null,{"$error":"#N/A"}]
[null,null,null,null,null,null,null,null,null,null,null,null,{"$error":"#N/A"},{"$error":"#N/A"},null,null,null,null,null,null,null,null,null,null,null,null,null,null,null,null,null,null,null,null,null,null,null,null,null,null,null,null,null,{"$error":"#N/A"}]
[null,null,null,null,null,null,null,null,null,null,null,null,{"$error":"#N/A"},{"$error":"#N/A"},null,null,null,null,null,null,null,null,null,null,null,null,null,null,null,null,null,null,null,null,null,null,null,null,null,null,null,null,null,{"$error":"#N/A"}]
[null,null,null,null,null,null,null,null,null,null,null,null,{"$error":"#N/A"},{"$error":"#N/A"},null,null,null,null,null,null,null,null,null,null,null,null,null,null,null,null,null,null,null,null,null,null,null,null,null,null,null,null,null,{"$error":"#N/A"}]
[null,null,null,null,null,null,null,null,null,null,null,null,{"$error":"#N/A"},{"$error":"#N/A"},null,null,null,null,null,null,null,null,null,null,null,null,null,null,null,null,null,null,null,null,null,null,null,null,null,null,null,null,null,{"$error":"#N/A"}]
[null,null,null,null,null,null,null,null,null,null,null,null,{"$error":"#N/A"},{"$error":"#N/A"},null,null,null,null,null,null,null,null,null,null,null,null,null,null,null,null,null,null,null,null,null,null,null,null,null,null,null,null,null,{"$error":"#N/A"}]
[null,null,null,null,null,null,null,null,null,null,null,null,{"$error":"#N/A"},{"$error":"#N/A"},null,null,null,null,null,null,null,null,null,null,null,null,null,null,null,null,null,null,null,null,null,null,null,null,null,null,null,null,null,{"$error":"#N/A"}]
[null,null,null,null,null,null,null,null,null,null,null,null,{"$error":"#N/A"},{"$error":"#N/A"},null,null,null,null,null,null,null,null,null,null,null,null,null,null,null,null,null,null,null,null,null,null,null,null,null,null,null,null,null,{"$error":"#N/A"}]
[null,null,null,null,null,null,null,null,null,null,null,null,{"$error":"#N/A"},{"$error":"#N/A"},null,null,null,null,null,null,null,null,null,null,null,null,null,null,null,null,null,null,null,null,null,null,null,null,null,null,null,null,null,{"$error":"#N/A"}]
[null,null,null,null,null,null,null,null,null,null,null,null,{"$error":"#N/A"},{"$error":"#N/A"},null,null,null,null,null,null,null,null,null,null,null,null,null,null,null,null,null,null,null,null,null,null,null,null,null,null,null,null,null,{"$error":"#N/A"}]
[null,null,null,null,null,null,null,null,null,null,null,null,{"$error":"#N/A"},{"$error":"#N/A"},null,null,null,null,null,null,null,null,null,null,null,null,null,null,null,null,null,null,null,null,null,null,null,null,null,null,null,null,null,{"$error":"#N/A"}]
[null,null,null,null,null,null,null,null,null,null,null,null,{"$error":"#N/A"},{"$error":"#N/A"},null,null,null,null,null,null,null,null,null,null,null,null,null,null,null,null,null,null,null,null,null,null,null,null,null,null,null,null,null,{"$error":"#N/A"}]
[null,null,null,null,null,null,null,null,null,null,null,null,{"$error":"#N/A"},{"$error":"#N/A"},null,null,null,null,null,null,null,null,null,null,null,null,null,null,null,null,null,null,null,null,null,null,null,null,null,null,null,null,null,{"$error":"#N/A"}]
[null,null,null,null,null,null,null,null,null,null,null,null,{"$error":"#N/A"},{"$error":"#N/A"},null,null,null,null,null,null,null,null,null,null,null,null,null,null,null,null,null,null,null,null,null,null,null,null,null,null,null,null,null,{"$error":"#N/A"}]
[null,null,null,null,null,null,null,null,null,null,null,null,{"$error":"#N/A"},{"$error":"#N/A"},null,null,null,null,null,null,null,null,null,null,null,null,null,null,null,null,null,null,null,null,null,null,null,null,null,null,null,null,null,{"$error":"#N/A"}]
[null,null,null,null,null,null,null,null,null,null,null,null,{"$error":"#N/A"},{"$error":"#N/A"},null,null,null,null,null,null,null,null,null,null,null,null,null,null,null,null,null,null,null,null,null,null,null,null,null,null,null,null,null,{"$error":"#N/A"}]
[null,null,null,null,null,null,null,null,null,null,null,null,{"$error":"#N/A"},{"$error":"#N/A"},null,null,null,null,null,null,null,null,null,null,null,null,null,null,null,null,null,null,null,null,null,null,null,null,null,null,null,null,null,{"$error":"#N/A"}]
[null,null,null,null,null,null,null,null,null,null,null,null,{"$error":"#N/A"},{"$error":"#N/A"},null,null,null,null,null,null,null,null,null,null,null,null,null,null,null,null,null,null,null,null,null,null,null,null,null,null,null,null,null,{"$error":"#N/A"}]
[null,null,null,null,null,null,null,null,null,null,null,null,{"$error":"#N/A"},{"$error":"#N/A"},null,null,null,null,null,null,null,null,null,null,null,null,null,null,null,null,null,null,null,null,null,null,null,null,null,null,null,null,null,{"$error":"#N/A"}]
[null,null,null,null,null,null,null,null,null,null,null,null,{"$error":"#N/A"},{"$error":"#N/A"},null,null,null,null,null,null,null,null,null,null,null,null,null,null,null,null,null,null,null,null,null,null,null,null,null,null,null,null,null,{"$error":"#N/A"}]
[null,null,null,null,null,null,null,null,null,null,null,null,{"$error":"#N/A"},{"$error":"#N/A"},null,null,null,null,null,null,null,null,null,null,null,null,null,null,null,null,null,null,null,null,null,null,null,null,null,null,null,null,null,{"$error":"#N/A"}]
[null,null,null,null,null,null,null,null,null,null,null,null,{"$error":"#N/A"},{"$error":"#N/A"},null,null,null,null,null,null,null,null,null,null,null,null,null,null,null,null,null,null,null,null,null,null,null,null,null,null,null,null,null,{"$error":"#N/A"}]
[null,null,null,null,null,null,null,null,null,null,null,null,{"$error":"#N/A"},{"$error":"#N/A"},null,null,null,null,null,null,null,null,null,null,null,null,null,null,null,null,null,null,null,null,null,null,null,null,null,null,null,null,null,{"$error":"#N/A"}]
[null,null,null,null,null,null,null,null,null,null,null,null,{"$error":"#N/A"},{"$error":"#N/A"},null,null,null,null,null,null,null,null,null,null,null,null,null,null,null,null,null,null,null,null,null,null,null,null,null,null,null,null,null,{"$error":"#N/A"}]
[null,null,null,null,null,null,null,null,null,null,null,null,{"$error":"#N/A"},{"$error":"#N/A"},null,null,null,null,null,null,null,null,null,null,null,null,null,null,null,null,null,null,null,null,null,null,null,null,null,null,null,null,null,{"$error":"#N/A"}]
[null,null,null,null,null,null,null,null,null,null,null,null,{"$error":"#N/A"},{"$error":"#N/A"},null,null,null,null,null,null,null,null,null,null,null,null,null,null,null,null,null,null,null,null,null,null,null,null,null,null,null,null,null,{"$error":"#N/A"}]
[null,null,null,null,null,null,null,null,null,null,null,null,{"$error":"#N/A"},{"$error":"#N/A"},null,null,null,null,null,null,null,null,null,null,null,null,null,null,null,null,null,null,null,null,null,null,null,null,null,null,null,null,null,{"$error":"#N/A"}]
[null,null,null,null,null,null,null,null,null,null,null,null,{"$error":"#N/A"},{"$error":"#N/A"},null,null,null,null,null,null,null,null,null,null,null,null,null,null,null,null,null,null,null,null,null,null,null,null,null,null,null,null,null,{"$error":"#N/A"}]
[null,null,null,null,null,null,null,null,null,null,null,null,{"$error":"#N/A"},{"$error":"#N/A"},null,null,null,null,null,null,null,null,null,null,null,null,null,null,null,null,null,null,null,null,null,null,null,null,null,null,null,null,null,{"$error":"#N/A"}]
[null,null,null,null,null,null,null,null,null,null,null,null,{"$error":"#N/A"},{"$error":"#N/A"},null,null,null,null,null,null,null,null,null,null,null,null,null,null,null,null,null,null,null,null,null,null,null,null,null,null,null,null,null,{"$error":"#N/A"}]
[null,null,null,null,null,null,null,null,null,null,null,null,{"$error":"#N/A"},{"$error":"#N/A"},null,null,null,null,null,null,null,null,null,null,null,null,null,null,null,null,null,null,null,null,null,null,null,null,null,null,null,null,null,{"$error":"#N/A"}]
[null,null,null,null,null,null,null,null,null,null,null,null,{"$error":"#N/A"},{"$error":"#N/A"},null,null,null,null,null,null,null,null,null,null,null,null,null,null,null,null,null,null,null,null,null,null,null,null,null,null,null,null,null,{"$error":"#N/A"}]
[null,null,null,null,null,null,null,null,null,null,null,null,{"$error":"#N/A"},{"$error":"#N/A"},null,null,null,null,null,null,null,null,null,null,null,null,null,null,null,null,null,null,null,null,null,null,null,null,null,null,null,null,null,{"$error":"#N/A"}]
[null,null,null,null,null,null,null,null,null,null,null,null,{"$error":"#N/A"},{"$error":"#N/A"},null,null,null,null,null,null,null,null,null,null,null,null,null,null,null,null,null,null,null,null,null,null,null,null,null,null,null,null,null,{"$error":"#N/A"}]
[null,null,null,null,null,null,null,null,null,null,null,null,{"$error":"#N/A"},{"$error":"#N/A"},null,null,null,null,null,null,null,null,null,null,null,null,null,null,null,null,null,null,null,null,null,null,null,null,null,null,null,null,null,{"$error":"#N/A"}]
[null,null,null,null,null,null,null,null,null,null,null,null,{"$error":"#N/A"},{"$error":"#N/A"},null,null,null,null,null,null,null,null,null,null,null,null,null,null,null,null,null,null,null,null,null,null,null,null,null,null,null,null,null,{"$error":"#N/A"}]
[null,null,null,null,null,null,null,null,null,null,null,null,{"$error":"#N/A"},{"$error":"#N/A"},null,null,null,null,null,null,null,null,null,null,null,null,null,null,null,null,null,null,null,null,null,null,null,null,null,null,null,null,null,{"$error":"#N/A"}]
[null,null,null,null,null,null,null,null,null,null,null,null,{"$error":"#N/A"},{"$error":"#N/A"},null,null,null,null,null,null,null,null,null,null,null,null,null,null,null,null,null,null,null,null,null,null,null,null,null,null,null,null,null,{"$error":"#N/A"}]
[null,null,null,null,null,null,null,null,null,null,null,null,{"$error":"#N/A"},{"$error":"#N/A"},null,null,null,null,null,null,null,null,null,null,null,null,null,null,null,null,null,null,null,null,null,null,null,null,null,null,null,null,null,{"$error":"#N/A"}]
[null,null,null,null,null,null,null,null,null,null,null,null,{"$error":"#N/A"},{"$error":"#N/A"},null,null,null,null,null,null,null,null,null,null,null,null,null,null,null,null,null,null,null,null,null,null,null,null,null,null,null,null,null,{"$error":"#N/A"}]
[null,null,null,null,null,null,null,null,null,null,null,null,{"$error":"#N/A"},{"$error":"#N/A"},null,null,null,null,null,null,null,null,null,null,null,null,null,null,null,null,null,null,null,null,null,null,null,null,null,null,null,null,null,{"$error":"#N/A"}]
[null,null,null,null,null,null,null,null,null,null,null,null,{"$error":"#N/A"},{"$error":"#N/A"},null,null,null,null,null,null,null,null,null,null,null,null,null,null,null,null,null,null,null,null,null,null,null,null,null,null,null,null,null,{"$error":"#N/A"}]
[null,null,null,null,null,null,null,null,null,null,null,null,{"$error":"#N/A"},{"$error":"#N/A"},null,null,null,null,null,null,null,null,null,null,null,null,null,null,null,null,null,null,null,null,null,null,null,null,null,null,null,null,null,{"$error":"#N/A"}]
[null,null,null,null,null,null,null,null,null,null,null,null,{"$error":"#N/A"},{"$error":"#N/A"},null,null,null,null,null,null,null,null,null,null,null,null,null,null,null,null,null,null,null,null,null,null,null,null,null,null,null,null,null,{"$error":"#N/A"}]
[null,null,null,null,null,null,null,null,null,null,null,null,{"$error":"#N/A"},{"$error":"#N/A"},null,null,null,null,null,null,null,null,null,null,null,null,null,null,null,null,null,null,null,null,null,null,null,null,null,null,null,null,null,{"$error":"#N/A"}]
[null,null,null,null,null,null,null,null,null,null,null,null,{"$error":"#N/A"},{"$error":"#N/A"},null,null,null,null,null,null,null,null,null,null,null,null,null,null,null,null,null,null,null,null,null,null,null,null,null,null,null,null,null,{"$error":"#N/A"}]
[null,null,null,null,null,null,null,null,null,null,null,null,{"$error":"#N/A"},{"$error":"#N/A"},null,null,null,null,null,null,null,null,null,null,null,null,null,null,null,null,null,null,null,null,null,null,null,null,null,null,null,null,null,{"$error":"#N/A"}]

{"sheet":"Contract and Quantities","index":1,"n_rows":11076,"n_cols":42,"rows_kept":2250,"cut":true,"hidden":false,"merged":[[37,37,37,40],[137,1,137,3],[137,4,137,6],[137,17,137,18],[137,19,137,21],[137,23,137,24],[138,1,138,3],[138,4,138,6],[138,17,138,18],[138,19,138,21],[138,23,138,24],[135,1,135,3],[135,4,135,6],[135,17,135,18],[134,19,134,21],[134,23,134,24],[133,17,133,18],[133,19,133,21],[133,23,133,24],[134,1,134,3],[134,4,134,6],[130,19,130,21],[130,23,130,24],[131,1,131,3],[37,33,37,36],[132,1,132,3],[132,4,132,6],[132,17,132,18],[132,19,132,21],[132,23,132,24],[135,19,135,21],[135,23,135,24],[136,1,136,3],[136,4,136,6],[136,17,136,18],[136,19,136,21],[136,23,136,24],[133,1,133,3],[133,4,133,6],[134,17,134,18],[130,1,130,3],[130,4,130,6],[130,17,130,18],[131,7,131,13],[131,14,131,16],[132,7,132,13],[132,14,132,16],[128,1,128,3],[139,1,139,3],[139,4,139,6],[139,17,139,18],[139,19,139,21],[139,23,139,24],[133,7,133,13],[133,14,133,16],[134,7,134,13],[134,14,134,16],[135,7,135,13],[135,14,135,16],[136,7,136,13],[136,14,136,16],[137,7,137,13],[137,14,137,16],[138,7,138,13],[138,14,138,16],[139,7,139,13],[139,14,139,16],[129,1,129,3],[129,4,129,6],[129,17,129,18],[129,19,129,21],[129,23,129,24],[128,7,128,13],[128,14,128,16],[129,7,129,13],[129,14,129,16],[131,4,131,6],[131,17,131,18],[131,19,131,21],[131,23,131,24],[130,7,130,13],[130,14,130,16],[126,1,126,3],[126,4,126,6],[126,17,126,18],[126,19,126,21],[126,23,126,24],[127,1,127,3],[127,4,127,6],[127,17,127,18],[127,19,127,21],[127,23,127,24],[126,7,126,13],[126,14,126,16],[127,7,127,13],[127,14,127,16],[128,4,128,6],[128,17,128,18],[128,19,128,21],[128,23,128,24],[124,1,124,3],[124,4,124,6],[124,17,124,18],[124,19,124,21],[124,23,124,24],[125,1,125,3],[125,4,125,6],[125,17,125,18],[125,19,125,21],[125,23,125,24],[124,7,124,13],[124,14,124,16],[125,7,125,13],[125,14,125,16],[122,1,122,3],[122,4,122,6],[122,17,122,18],[122,19,122,21],[122,23,122,24],[123,1,123,3],[123,4,123,6],[123,17,123,18],[123,19,123,21],[123,23,123,24],[122,7,122,13],[122,14,122,16],[123,7,123,13],[123,14,123,16],[120,1,120,3],[120,4,120,6],[120,17,120,18],[120,19,120,21],[120,23,120,24],[121,1,121,3],[121,4,121,6],[121,17,121,18],[121,19,121,21],[121,23,121,24],[120,7,120,13],[120,14,120,16],[121,7,121,13],[121,14,121,16],[118,1,118,3],[118,4,118,6],[118,17,118,18],[118,19,118,21],[118,23,118,24],[119,1,119,3],[119,4,119,6],[119,17,119,18],[119,19,119,21],[119,23,119,24],[118,7,118,13],[118,14,118,16],[119,7,119,13],[119,14,119,16],[116,1,116,3],[116,4,116,6],[116,17,116,18],[116,19,116,21],[116,23,116,24],[117,1,117,3],[117,4,117,6],[117,17,117,18],[117,19,117,21],[117,23,117,24],[116,7,116,13],[116,14,116,16],[117,7,117,13],[117,14,117,16],[114,1,114,3],[114,4,114,6],[114,17,114,18],[114,19,114,21],[114,23,114,24],[115,1,115,3],[115,4,115,6],[115,17,115,18],[115,19,115,21],[115,23,115,24],[114,7,114,13],[114,14,114,16],[115,7,115,13],[115,14,115,16],[112,1,112,3],[112,4,112,6],[112,17,112,18],[112,19,112,21],[112,23,112,24],[113,1,113,3],[113,4,113,6],[113,17,113,18],[113,19,113,21],[113,23,113,24],[112,7,112,13],[112,14,112,16],[113,7,113,13],[113,14,113,16],[110,1,110,3],[110,4,110,6],[110,17,110,18],[110,19,110,21],[110,23,110,24],[111,1,111,3],[111,4,111,6],[111,17,111,18],[111,19,111,21],[111,23,111,24],[110,7,110,13],[110,14,110,16],[111,7,111,13],[111,14,111,16],[108,1,108,3],[108,4,108,6],[108,17,108,18],[108,19,108,21],[108,23,108,24],[109,1,109,3],[109,4,109,6],[109,17,109,18],[109,19,109,21],[109,23,109,24],[108,7,108,13],[108,14,108,16],[109,7,109,13],[109,14,109,16],[106,1,106,3],[106,4,106,6],[106,17,106,18],[106,19,106,21],[106,23,106,24],[107,1,107,3],[107,4,107,6],[107,17,107,18],[107,19,107,21],[107,23,107,24],[106,7,106,13],[106,14,106,16],[107,7,107,13],[107,14,107,16],[104,1,104,3],[104,4,104,6],[104,17,104,18],[104,19,104,21],[104,23,104,24],[105,1,105,3],[105,4,105,6],[105,17,105,18],[105,19,105,21],[105,23,105,24],[104,7,104,13],[104,14,104,16],[105,7,105,13],[105,14,105,16],[102,1,102,3],[102,4,102,6],[102,17,102,18],[102,19,102,21],[102,23,102,24],[103,1,103,3],[103,4,103,6],[103,17,103,18],[103,19,103,21],[103,23,103,24],[102,7,102,13],[102,14,102,16],[103,7,103,13],[103,14,103,16],[100,1,100,3],[100,4,100,6],[100,17,100,18],[100,19,100,21],[100,23,100,24],[101,1,101,3],[101,4,101,6],[101,17,101,18],[101,19,101,21],[101,23,101,24],[100,7,100,13],[100,14,100,16],[101,7,101,13],[101,14,101,16],[98,1,98,3],[98,4,98,6],[98,17,98,18],[98,19,98,21],[98,23,98,24],[99,1,99,3],[99,4,99,6],[99,17,99,18],[99,19,99,21],[99,23,99,24],[98,7,98,13],[98,14,98,16],[99,7,99,13],[99,14,99,16],[96,1,96,3],[96,4,96,6],[96,17,96,18],[96,19,96,21],[96,23,96,24],[97,1,97,3],[97,4,97,6],[97,17,97,18],[97,19,97,21],[97,23,97,24],[96,7,96,13],[96,14,96,16],[97,7,97,13],[97,14,97,16],[94,1,94,3],[94,4,94,6],[94,17,94,18],[94,19,94,21],[94,23,94,24],[95,1,95,3],[95,4,95,6],[95,17,95,18],[95,19,95,21],[95,23,95,24],[94,7,94,13],[94,14,94,16],[95,7,95,13],[95,14,95,16],[92,1,92,3],[92,4,92,6],[92,17,92,18],[92,19,92,21],[92,23,92,24],[93,1,93,3],[93,4,93,6],[93,17,93,18],[93,19,93,21],[93,23,93,24],[92,7,92,13],[92,14,92,16],[93,7,93,13],[93,14,93,16],[90,1,90,3],[90,4,90,6],[90,17,90,18],[90,19,90,21],[90,23,90,24],[91,1,91,3],[91,4,91,6],[91,17,91,18],[91,19,91,21],[91,23,91,24],[90,7,90,13],[90,14,90,16],[91,7,91,13],[91,14,91,16],[88,1,88,3],[88,4,88,6],[88,17,88,18],[88,19,88,21],[88,23,88,24],[89,1,89,3],[89,4,89,6],[89,17,89,18],[89,19,89,21],[89,23,89,24],[88,7,88,13],[88,14,88,16],[89,7,89,13],[89,14,89,16],[86,1,86,3],[86,4,86,6],[86,17,86,18],[86,19,86,21],[86,23,86,24],[87,1,87,3],[87,4,87,6],[87,17,87,18],[87,19,87,21],[87,23,87,24],[86,7,86,13],[86,14,86,16],[87,7,87,13],[87,14,87,16],[84,1,84,3],[84,4,84,6],[84,17,84,18],[84,19,84,21],[84,23,84,24],[85,1,85,3],[85,4,85,6],[85,17,85,18],[85,19,85,21],[85,23,85,24],[84,7,84,13],[84,14,84,16],[85,7,85,13],[85,14,85,16],[82,1,82,3],[82,4,82,6],[82,17,82,18],[82,19,82,21],[82,23,82,24],[83,1,83,3],[83,4,83,6],[83,17,83,18],[83,19,83,21],[83,23,83,24],[82,7,82,13],[82,14,82,16],[83,7,83,13],[83,14,83,16],[80,1,80,3],[80,4,80,6],[80,17,80,18],[80,19,80,21],[80,23,80,24],[81,1,81,3],[81,4,81,6],[81,17,81,18],[81,19,81,21],[81,23,81,24],[80,7,80,13],[80,14,80,16],[81,7,81,13],[81,14,81,16],[78,1,78,3],[78,4,78,6],[78,17,78,18],[78,19,78,21],[78,23,78,24],[79,1,79,3],[79,4,79,6],[79,17,79,18],[79,19,79,21],[79,23,79,24],[78,7,78,13],[78,14,78,16],[79,7,79,13],[79,14,79,16],[76,1,76,3],[76,4,76,6],[76,17,76,18],[76,19,76,21],[76,23,76,24],[77,1,77,3],[77,4,77,6],[77,17,77,18],[77,19,77,21],[77,23,77,24],[76,7,76,13],[76,14,76,16],[77,7,77,13],[77,14,77,16],[74,1,74,3],[74,4,74,6],[74,17,74,18],[74,19,74,21],[74,23,74,24],[75,1,75,3],[75,4,75,6],[75,17,75,18],[75,19,75,21],[75,23,75,24],[74,7,74,13],[74,14,74,16],[75,7,75,13],[75,14,75,16],[72,1,72,3],[72,4,72,6],[72,17,72,18],[72,19,72,21],[72,23,72,24],[73,1,73,3],[73,4,73,6],[73,17,73,18],[73,19,73,21],[73,23,73,24],[72,7,72,13],[72,14,72,16],[73,7,73,13],[73,14,73,16],[70,1,70,3],[70,4,70,6],[70,17,70,18],[70,19,70,21],[70,23,70,24],[71,1,71,3],[71,4,71,6],[71,17,71,18],[71,19,71,21],[71,23,71,24],[70,7,70,13],[70,14,70,16],[71,7,71,13],[71,14,71,16],[68,1,68,3],[68,4,68,6],[68,17,68,18],[68,19,68,21],[68,23,68,24],[69,1,69,3],[69,4,69,6],[69,17,69,18],[69,19,69,21],[69,23,69,24],[68,7,68,13],[68,14,68,16],[69,7,69,13],[69,14,69,16],[66,1,66,3],[66,4,66,6],[66,17,66,18],[66,19,66,21],[66,23,66,24],[67,1,67,3],[67,4,67,6],[67,17,67,18],[67,19,67,21],[67,23,67,24],[66,7,66,13],[66,14,66,16],[67,7,67,13],[67,14,67,16],[64,1,64,3],[64,4,64,6],[64,17,64,18],[64,19,64,21],[64,23,64,24],[65,1,65,3],[65,4,65,6],[65,17,65,18],[65,19,65,21],[65,23,65,24],[64,7,64,13],[64,14,64,16],[65,7,65,13],[65,14,65,16],[62,1,62,3],[62,4,62,6],[62,17,62,18],[62,19,62,21],[62,23,62,24],[63,1,63,3],[63,4,63,6],[63,17,63,18],[63,19,63,21],[63,23,63,24],[62,7,62,13],[62,14,62,16],[63,7,63,13],[63,14,63,16],[60,1,60,3],[60,4,60,6],[60,17,60,18],[60,19,60,21],[60,23,60,24],[61,1,61,3],[61,4,61,6],[61,17,61,18],[61,19,61,21],[61,23,61,24],[60,7,60,13],[60,14,60,16],[61,7,61,13],[61,14,61,16],[58,1,58,3],[58,4,58,6],[58,17,58,18],[58,19,58,21],[58,23,58,24],[59,1,59,3],[59,4,59,6],[59,17,59,18],[59,19,59,21],[59,23,59,24],[58,7,58,13],[58,14,58,16],[59,7,59,13],[59,14,59,16],[56,1,56,3],[56,4,56,6],[56,17,56,18],[56,19,56,21],[56,23,56,24],[57,1,57,3],[57,4,57,6],[57,17,57,18],[57,19,57,21],[57,23,57,24],[56,7,56,13],[56,14,56,16],[57,7,57,13],[57,14,57,16],[54,1,54,3],[54,4,54,6],[54,17,54,18],[54,19,54,21],[54,23,54,24],[55,1,55,3],[55,4,55,6],[55,17,55,18],[55,19,55,21],[55,23,55,24],[54,7,54,13],[54,14,54,16],[55,7,55,13],[55,14,55,16],[52,1,52,3],[52,4,52,6],[52,17,52,18],[52,19,52,21],[52,23,52,24],[53,1,53,3],[53,4,53,6],[53,17,53,18],[53,19,53,21],[53,23,53,24],[52,7,52,13],[52,14,52,16],[53,7,53,13],[53,14,53,16],[50,1,50,3],[50,4,50,6],[50,17,50,18],[50,19,50,21],[50,23,50,24],[51,1,51,3],[51,4,51,6],[51,17,51,18],[51,19,51,21],[51,23,51,24],[50,7,50,13],[50,14,50,16],[51,7,51,13],[51,14,51,16],[48,1,48,3],[48,4,48,6],[48,17,48,18],[48,19,48,21],[48,23,48,24],[49,1,49,3],[49,4,49,6],[49,17,49,18],[49,19,49,21],[49,23,49,24],[48,7,48,13],[48,14,48,16],[49,7,49,13],[49,14,49,16],[46,1,46,3],[46,4,46,6],[46,17,46,18],[46,19,46,21],[46,23,46,24],[47,1,47,3],[47,4,47,6],[47,17,47,18],[47,19,47,21],[47,23,47,24],[46,7,46,13],[46,14,46,16],[47,7,47,13],[47,14,47,16],[44,1,44,3],[44,4,44,6],[44,17,44,18],[44,19,44,21],[44,23,44,24],[45,1,45,3],[45,4,45,6],[45,17,45,18],[45,19,45,21],[45,23,45,24],[44,7,44,13],[44,14,44,16],[45,7,45,13],[45,14,45,16],[42,1,42,3],[42,17,42,18],[42,23,42,24],[43,17,43,18],[43,23,43,24],[41,7,41,13],[41,14,41,16],[42,7,42,13],[42,14,42,16],[43,7,43,13],[43,14,43,16],[38,23,38,24],[39,1,39,3],[39,4,39,6],[39,17,39,18],[39,23,39,24],[40,17,40,18],[40,23,40,24],[41,1,41,3],[41,17,41,18],[41,23,41,24],[37,1,37,3],[40,1,40,3],[40,4,40,6],[40,19,40,21],[36,19,36,21],[38,1,38,3],[38,4,38,6],[38,17,38,18],[37,4,37,6],[37,7,37,13],[37,14,37,16],[38,7,38,13],[38,14,38,16],[39,7,39,13],[39,14,39,16],[40,7,40,13],[40,14,40,16],[21,17,21,20],[5,10,6,12],[5,13,6,15],[18,1,18,15],[19,1,19,15],[19,17,19,20],[19,21,19,22],[20,1,20,15],[21,1,22,15],[2,22,3,24],[8,2,8,10],[9,2,10,10],[17,1,17,6],[23,1,24,15],[25,1,26,15],[25,23,25,25],[30,1,30,5],[2,19,3,21],[2,7,3,9],[23,21,23,22],[27,17,27,20],[5,7,6,9],[5,22,6,24],[21,21,21,22],[28,17,28,20],[22,23,22,26],[20,17,20,20],[5,16,6,18],[5,19,6,21],[20,21,20,22],[8,12,10,25],[12,17,12,20],[2,4,3,6],[0,4,1,22],[155,2,155,6],[15,2,15,16],[41,19,41,21],[43,1,43,3],[43,4,43,6],[41,4,41,6],[42,4,42,6],[43,19,43,21],[42,19,42,21],[39,19,39,21],[38,19,38,21],[37,17,37,18],[37,19,37,21],[37,22,37,25],[5,1,6,6],[23,17,23,20],[2,10,3,12],[2,13,3,15],[2,16,3,18],[32,9,32,12],[32,14,32,17],[32,19,32,22],[35,19,35,21]],"bounds":{"rows_first":1000,"rows_last":250,"rows_between":1000,"halvings":1}}
[null,null,null,null,{"$f":"Main!E1","v":"AWP Contractor Reporting E2O - General Aggregates"}]
[null,null,null,null,null,null,null,null,null,null,null,null,null,null,null,null,null,null,null,null,null,null,null,null,null,"v",{"$f":"Main!AA2","v":"4.21"}]
[null,null,null,null," ",null,null,{"$f":"Main!H3","v":"Main"},null,null,{"$f":"Main!K3","v":"Quantity"},null,null,null,null,null,{"$f":"Main!Q3","v":"Send/Sync"},null,null,{"$f":"Main!T3","v":"Reports"},null,null,{"$f":"Main!W3","v":"Help"}]
[]
[]
[null,"Contract and Quantities"]
[]
[null,null,null,null,null,null,null,null,null,null,null,null,null,null,null,null,null,null,null,null,null,null,null,null,null,null,null,null,null,null,null,null,null,null,null,null,"District  For Geographic area type"]
[null,null,{"$f":" Main!C43","v":{"$error":"#N/A"}},null,null,null,null,null,null,null,null,null,{"$f":"CONCATENATE(\"All materials reporting for \", Main!F13, \" must be in \", Main!C43, \" units.  If you have other units you need to convert them to the required units.\")","v":{"$error":"#N/A"}},null,null,null,null,null,null,null,null,null,null,null,null,null,null,null,null,null,null,null,null,null,null,null,{"$f":"SEARCH(\"-\",AN39)","v":{"$error":"#VALUE!"}}]
[null,null,"VALUES ONLY",null,null,null,null,null,null,null,null,null,null,null,null,null,null,null,null,null,null,null,null,null,null,null,null,null,null,null,null,null,null,null,null,null,{"$f":"RIGHT(LEFT(AN39,AK9+1),1)","v":{"$error":"#VALUE!"}}]
[null,null,null,null,null,null,null,null,null,null,null,null,null,null,null,null,null,null,null,null,null,null,null,null,null,null,null,null,null,null,null,null,null,null,null,null,{"$f":"VLOOKUP(AK10,AK13:AL29,2,FALSE)","v":{"$error":"#VALUE!"}}]
[null,null,null,null,null,null,null,null,null,null,null,null,null,null,null,null,null,null,null,null,null,null,null,null,null,null,null,null,"Checks",null,null,null,null,null,null,null,"District indicated in first contract ID"]
[null,"Total quanitity inspected, including non-conforming work. ",null,null,null,null,null,null,null,null,null,null,null,null,null,null,null,null,null,null,null,{"$f":"Main!C43","v":{"$error":"#N/A"}},null,null,null,null,null,null,{"$f":"IF(R13>0, 0,1)","v":1},null,"quantity for template",{"$f":"VALUE(FIXED(R13,1))","v":0},null,null,null,null,"A","NW"]
[null,null,null,null,null,null,null,null,null,null,null,null,null,null,null,null,null,null,null,null,null,null,null,null,null,null,null,null,null,null,null,null,null,null,null,null,"B","NE"]
[null,null,null,null,null,null,null,null,null,null,null,null,null,null,null,null,null,null,null,null,null,null,null,null,null,null,null,null,null,null,null,null,null,null,null,null,"C","KC"]
[null,null,"The STATUS for this material record will be submitted as:",null,null,null,null,null,null,null,null,null,null,null,null,null,null,{"$f":"VLOOKUP(I156,C157:D160,2,FALSE)","v":"Approved"},null,null,null,null,null,null,null,null,null,null,null,null,null,null,null,null,null,null,"D","CD"]
[null,null,null,null,null,null,null,null,null,null,null,null,null,null,null,null,null,null,null,null,null,null,null,null,null,null,null,null,null,null,null,null,null,null,null,null,"F","SL"]
[null,"Quality Management",null,null,null,null,null,null,null,null,null,null,null,null,null,null,null,null,null,null,null,null,null,null,null,null,null,null,null,null,null,null,null,"All corrected?",{"$f":"(IF(AF20=1,IF(AF26=1,1,0),0))","v":0},null,"G","SW"]
[null,"Is there non-conforming material associated with this report?",null,null,null,null,null,null,null,null,null,null,null,null,null,null,null,null,null,null,null,null,null,null,null,null,null,null,null,null,null,null,null,null,null,null,"H","SE"]
[null,"How much material was found to be initially non-conforming?",null,null,null,null,null,null,null,null,null,null,null,null,null,null,null,null,null,null,null,{"$f":"V13","v":{"$error":"#N/A"}},null,null,null,null,null,null,{"$f":"IF(AND((AE20=TRUE),(R21+R22+R23+R24>0)),1,0)","v":0},false,true,{"$f":"IF(AD20,1,0)","v":0},null,null,null,null,"1","D01"]
[null,"How much non-conforming material was rejected or discarded?",null,null,null,null,null,null,null,null,null,null,null,null,null,null,null,null,null,null,null,{"$f":"V13","v":{"$error":"#N/A"}},null,null,null,null,null,null,{"$f":"IF(AND((AD20=TRUE),(ISBLANK(R21))),1,0)","v":0},null,null,null,null,null,null,null,"2","D02"]
[null,"How much non-conforming material was accepted by the Engineer \"AS IS\" or otherwise on a documented corrective action report?",null,null,null,null,null,null,null,null,null,null,null,null,null,null,null,null,null,null,null,{"$f":"V13","v":{"$error":"#N/A"}},null,null,null,null,null,null,null,null,null,null,null,null,null,null,"3","D03"]
[null,null,null,null,null,null,null,null,null,null,null,null,null,null,null,null,null,null,null,null,null,null,null,"Unaccounted for:",null,null,null,null,null,null,null,null,null,null,null,null,"4","D04"]
[null,"How much non-conforming material was reworked to contract compliance?",null,null,null,null,null,null,null,null,null,null,null,null,null,null,null,null,null,null,null,{"$f":"V13","v":{"$error":"#N/A"}},null,null,null,null,null,null,null,null,null,null,null,null,null,null,"5","D05"]
[null,null,null,null,null,null,null,null,null,null,null,null,null,null,null,null,null,null,null,null,null,null,null,null,null,null,null,null,null,null,null,null,null,null,null,null,"6","D06"]
[null,"Is the acceptance of any non-conforming material still to be determined?",null,null,null,null,null,null,null,null,null,null,null,null,null,null,null,null,null,null,null,null,null,{"$f":"R20-R21-R22-R24","v":0},null,null,null,null,null,false,true,{"$f":"IF(AD26,1,0)","v":0},null,null,null,null,"7","D07"]
[null,null,null,null,null,null,null,null,null,null,null,null,null,null,null,null,null,null,null,null,null,null,null,null,null,null,null,null,null,null,null,null,null,null,null,null,"8","D08"]
[null,"Amount of non-conforming material not rejected.",null,null,null,null,null,null,null,null,null,null,null,null,null,null,null,{"$f":"R20-R21","v":0},null,null,null,{"$f":"V13","v":{"$error":"#N/A"}},null,null,null,null,null,null,"Speed Fill  Checks",null,null,null,null,null,null,null,"9","D09"]
[null,"Amount of inspected material that can be reported to a pay item:",null,null,null,null,null,null,null,null,null,null,null,null,null,null,null,{"$f":"R13-R21-X26","v":0},null,null,null,{"$f":"V13","v":{"$error":"#N/A"}},null,null,null,null,null,null,null,null,null,null,null,null,null,null,"X","D10"]
[]
[null,"Contract Acceptance"]
[]
[null,"Please choose a contract(s)",null,null,null,null,null,null,null,null,null,null,null,"or",null,null,null,null,"or",null,null,null,null,null,null,null,null,null,"No Contract",null,null,null,"total of lines"]
[null,"The lines displayed are those corresponding to the material chosen.",null,null,null,null,null,null,null,null,null,null,null,null,null,null,null,null,null,null,null,null,null,null,null,null,null,null,{"$f":"IF(J33=\"\", 1,0)","v":1},null,null,null,{"$f":"SUM(T39:V140)","v":0}]
[null,"If you don't see a line #, please contact your district.",null,null,null,null,null,null,null,null,null,null,null,null,"Contract quantity differs from the inspected quantity",null,null,null,null,null,null,null,null,null,null,null,null,null,null,null,null,"over limit at","10% difference"]
[null,"Adding \"0\" quantity is approriate to include pay lines associated with a report.",null,null,null,null,null,null,null,null,null,null,null,null,null,null,null,null,null,{"$f":"SUM(T39:V140)-R29","v":0},null,null,{"$f":"V13","v":{"$error":"#N/A"}},null,null,null,null,null,null,"count of lines",null,51,{"$f":"IF((ABS(AG34-R29)/(R29+0.00001))>0.1,\"Y\",\"N\")","v":"N"}]
[null,null,null,null,null,null,null,null,null,null,null,null,null,null,null,null,null,null,null,{"$f":"C9","v":{"$error":"#N/A"}},null,null,null,null,null,null,null,null,null,{"$f":"COUNTIF(AD39:AD140,\"Y\")","v":0},null,"Too many ?"]
[null,"Contract ",null,null,"Job",null,null,"Description",null,null,null,null,null,null,"Material Set",null,null,"Line",null,"Quantity ",null,null,"Will Be Submitted",null,null,null,null,null,"No lines","user pop","First 50 pop",{"$f":"IFERROR(VLOOKUP(AF36,AF39:AF140,1,FALSE),\"N\")","v":"N"},"oracle populate-able","Used to create the oracle tab list",null,null,null,"Oracle Tab feed created by code"]
[null,{"$f":"U163","v":""},null,null,{"$f":"V163","v":""},null,null,{"$f":"Y163","v":0},null,null,null,null,null,null,{"$f":"X163","v":0},null,null,{"$f":"W163","v":""},null,null,null,null,{"$f":"Z163","v":0},{"$f":"IF(OR(NOT(LEN(R39)>1),T39=\"\"),\"\",IF(AF39=AG39,\"Yes\",\"No\"))","v":""},null,{"$f":"AA163","v":0},null,null,{"$f":"IF(AE140=0, 1,0)","v":1},{"$f":"IF(T39=\"\",\"N\",IF(LEN(R39)>1,\"Y\",\"N\"))","v":"N"},{"$f":"IF(AD39=\"Y\",1,0)","v":0},{"$f":"IF(AD39=\"Y\",AE39,\"\")","v":""},{"$f":"IF(AF39<$AF$36,AF39,\"\")","v":""},{"$f":"IF($AG39=\"\",\"\",B39)","v":""},{"$f":"IF($AG39=\"\",\"\",E39)","v":""},{"$f":"IF($AG39=\"\",\"\",R39)","v":""},{"$f":"IF($AG39=\"\",\"\",T39)","v":""},{"$f":"IF($AG39=\"\",\"\",W39)","v":""},{"$f":"IF($AG39=\"\",\"\",Z39)","v":""},"",null,""]
[null,"",null,null,"",null,null,0,null,null,null,null,null,null,0,null,null,"",null,null,null,null,0,{"$f":"IF(OR(NOT(LEN(R40)>1),T40=\"\"),\"\",IF(AF40=AG40,\"Yes\",\"No\"))","v":""},null,0,null,null,null,{"$f":"IF(T40=\"\",\"N\",IF(LEN(R40)>1,\"Y\",\"N\"))","v":"N"},{"$f":"IF(AD40=\"Y\",AE39+1,AE39)","v":0},{"$f":"IF(AD40=\"Y\",AE40,\"\")","v":""},{"$f":"IF(AF40<$AF$36,AF40,\"\")","v":""},"","","",{"$f":"IF($AG40=\"\",\"\",T40)","v":""},{"$f":"IF($AG40=\"\",\"\",W40)","v":""},{"$f":"IF($AG40=\"\",\"\",Z40)","v":""},"",null,""]
[null,"",null,null,"",null,null,0,null,null,null,null,null,null,0,null,null,"",null,null,null,null,0,"",null,0,null,null,null,"N",{"$f":"IF(AD41=\"Y\",AE40+1,AE40)","v":0},"","","","","","","","","",null,""]
[null,"",null,null,"",null,null,0,null,null,null,null,null,null,0,null,null,"",null,null,null,null,0,"",null,0,null,null,null,"N",0,"","","","","","","","","",null,""]
[null,"",null,null,"",null,null,0,null,null,null,null,null,null,0,null,null,"",null,null,null,null,0,"",null,0,null,null,null,"N",0,"","","","","","","","","",null,""]
[null,"",null,null,"",null,null,0,null,null,null,null,null,null,0,null,null,"",null,null,null,null,0,"",null,0,null,null,null,"N",0,"","","","","","","","","",null,""]
[null,"",null,null,"",null,null,0,null,null,null,null,null,null,0,null,null,"",null,null,null,null,0,"",null,0,null,null,null,"N",0,"","","","","","","","","",null,""]
[null,"",null,null,"",null,null,0,null,null,null,null,null,null,0,null,null,"",null,null,null,null,0,"",null,0,null,null,null,"N",0,"","","","","","","","","",null,""]
[null,"",null,null,"",null,null,0,null,null,null,null,null,null,0,null,null,"",null,null,null,null,0,"",null,0,null,null,null,"N",0,"","","","","","","","","",null,""]
[null,"",null,null,"",null,null,0,null,null,null,null,null,null,0,null,null,"",null,null,null,null,0,"",null,0,null,null,null,"N",0,"","","","","","","","","",null,""]
[null,"",null,null,"",null,null,0,null,null,null,null,null,null,0,null,null,"",null,null,null,null,0,"",null,0,null,null,null,"N",0,"","","","","","","","","",null,""]
[null,"",null,null,"",null,null,0,null,null,null,null,null,null,0,null,null,"",null,null,null,null,0,"",null,0,null,null,null,"N",0,"","","","","","","","","",null,""]
[null,"",null,null,"",null,null,0,null,null,null,null,null,null,0,null,null,"",null,null,null,null,0,"",null,0,null,null,null,"N",0,"","","","","","","","","",null,""]
[null,"",null,null,"",null,null,0,null,null,null,null,null,null,0,null,null,"",null,null,null,null,0,"",null,0,null,null,null,"N",0,"","","","","","","","","",null,""]
[null,"",null,null,"",null,null,0,null,null,null,null,null,null,0,null,null,"",null,null,null,null,0,"",null,0,null,null,null,"N",0,"","","","","","","","","",null,""]
[null,"",null,null,"",null,null,0,null,null,null,null,null,null,0,null,null,"",null,null,null,null,0,"",null,0,null,null,null,"N",0,"","","","","","","","","",null,""]
[null,"",null,null,"",null,null,0,null,null,null,null,null,null,0,null,null,"",null,null,null,null,0,"",null,0,null,null,null,"N",0,"","","","","","","","","",null,""]
[null,"",null,null,"",null,null,0,null,null,null,null,null,null,0,null,null,"",null,null,null,null,0,"",null,0,null,null,null,"N",0,"","","","","","","","","",null,""]
[null,"",null,null,"",null,null,0,null,null,null,null,null,null,0,null,null,"",null,null,null,null,0,"",null,0,null,null,null,"N",0,"","","","","","","","","",null,""]
[null,"",null,null,"",null,null,0,null,null,null,null,null,null,0,null,null,"",null,null,null,null,0,"",null,0,null,null,null,"N",0,"","","","","","","","","",null,""]
[null,"",null,null,"",null,null,0,null,null,null,null,null,null,0,null,null,"",null,null,null,null,0,"",null,0,null,null,null,"N",0,"","","","","","","","","",null,""]
[null,"",null,null,"",null,null,0,null,null,null,null,null,null,0,null,null,"",null,null,null,null,0,"",null,0,null,null,null,"N",0,"","","","","","","","","",null,""]
[null,"",null,null,"",null,null,0,null,null,null,null,null,null,0,null,null,"",null,null,null,null,0,"",null,0,null,null,null,"N",0,"","","","","","","","","",null,""]
[null,"",null,null,"",null,null,0,null,null,null,null,null,null,0,null,null,"",null,null,null,null,0,"",null,0,null,null,null,"N",0,"","","","","","","","","",null,""]
[null,0,null,null,0,null,null,0,null,null,null,null,null,null,0,null,null,0,null,null,null,null,0,"",null,0,null,null,null,"N",0,"","","","","","","","","",null,""]
[null,0,null,null,0,null,null,0,null,null,null,null,null,null,0,null,null,0,null,null,null,null,0,"",null,0,null,null,null,"N",0,"","","","","","","","","",null,""]
[null,0,null,null,0,null,null,0,null,null,null,null,null,null,0,null,null,0,null,null,null,null,0,"",null,0,null,null,null,"N",0,"","","","","","","","","",null,""]
[null,0,null,null,0,null,null,0,null,null,null,null,null,null,0,null,null,0,null,null,null,null,0,"",null,0,null,null,null,"N",0,"","","","","","","","","",null,""]
[null,0,null,null,0,null,null,0,null,null,null,null,null,null,0,null,null,0,null,null,null,null,0,"",null,0,null,null,null,"N",0,"","","","","","","","","",null,""]
[null,0,null,null,0,null,null,0,null,null,null,null,null,null,0,null,null,0,null,null,null,null,0,"",null,0,null,null,null,"N",0,"","","","","","","","","",null,""]
[null,0,null,null,0,null,null,0,null,null,null,null,null,null,0,null,null,0,null,null,null,null,0,"",null,0,null,null,null,"N",0,"","","","","","","","","",null,""]
[null,0,null,null,0,null,null,0,null,null,null,null,null,null,0,null,null,0,null,null,null,null,0,"",null,0,null,null,null,"N",0,"","","","","","","","","",null,""]
[null,0,null,null,0,null,null,0,null,null,null,null,null,null,0,null,null,0,null,null,null,null,0,"",null,0,null,null,null,"N",0,"","","","","","","","","",null,""]
[null,0,null,null,0,null,null,0,null,null,null,null,null,null,0,null,null,0,null,null,null,null,0,"",null,0,null,null,null,"N",0,"","","","","","","","","",null,""]
[null,0,null,null,0,null,null,0,null,null,null,null,null,null,0,null,null,0,null,null,null,null,0,"",null,0,null,null,null,"N",0,"","","","","","","","","",null,""]
[null,0,null,null,0,null,null,0,null,null,null,null,null,null,0,null,null,0,null,null,null,null,0,"",null,0,null,null,null,"N",0,"","","","","","","","","",null,""]
[null,0,null,null,0,null,null,0,null,null,null,null,null,null,0,null,null,0,null,null,null,null,0,"",null,0,null,null,null,"N",0,"","","","","","","","","",null,""]
[null,0,null,null,0,null,null,0,null,null,null,null,null,null,0,null,null,0,null,null,null,null,0,"",null,0,null,null,null,"N",0,"","","","","","","","","",null,""]
[null,0,null,null,0,null,null,0,null,null,null,null,null,null,0,null,null,0,null,null,null,null,0,"",null,0,null,null,null,"N",0,"","","","","","","","","",null,""]
[null,0,null,null,0,null,null,0,null,null,null,null,null,null,0,null,null,0,null,null,null,null,0,"",null,0,null,null,null,"N",0,"","","","","","","","","",null,""]
[null,0,null,null,0,null,null,0,null,null,null,null,null,null,0,null,null,0,null,null,null,null,0,"",null,0,null,null,null,"N",0,"","","","","","","","","",null,""]
[null,0,null,null,0,null,null,0,null,null,null,null,null,null,0,null,null,0,null,null,null,null,0,"",null,0,null,null,null,"N",0,"","","","","","","","","",null,""]
[null,0,null,null,0,null,null,0,null,null,null,null,null,null,0,null,null,0,null,null,null,null,0,"",null,0,null,null,null,"N",0,"","","","","","","","","",null,""]
[null,0,null,null,0,null,null,0,null,null,null,null,null,null,0,null,null,0,null,null,null,null,0,"",null,0,null,null,null,"N",0,"","","","","","","","","",null,""]
[null,0,null,null,0,null,null,0,null,null,null,null,null,null,0,null,null,0,null,null,null,null,0,"",null,0,null,null,null,"N",0,"","","","","","","","","",null,""]
[null,0,null,null,0,null,null,0,null,null,null,null,null,null,0,null,null,0,null,null,null,null,0,"",null,0,null,null,null,"N",0,"","","","","","","","","",null,""]
[null,0,null,null,0,null,null,0,null,null,null,null,null,null,0,null,null,0,null,null,null,null,0,"",null,0,null,null,null,"N",0,"","","","","","","","","",null,""]
[null,0,null,null,0,null,null,0,null,null,null,null,null,null,0,null,null,0,null,null,null,null,0,"",null,0,null,null,null,"N",0,"","","","","","","","","",null,""]
[null,0,null,null,0,null,null,0,null,null,null,null,null,null,0,null,null,0,null,null,null,null,0,"",null,0,null,null,null,"N",0,"","","","","","","","","",null,""]
[null,0,null,null,0,null,null,0,null,null,null,null,null,null,0,null,null,0,null,null,null,null,0,"",null,0,null,null,null,"N",0,"","","","","","","","","",null,""]
[null,0,null,null,0,null,null,0,null,null,null,null,null,null,0,null,null,0,null,null,null,null,0,"",null,0,null,null,null,"N",0,"","","","","","","","","",null,""]
[null,0,null,null,0,null,null,0,null,null,null,null,null,null,0,null,null,0,null,null,null,null,0,"",null,0,null,null,null,"N",0,"","","","","","","","","",null,""]
[null,0,null,null,0,null,null,0,null,null,null,null,null,null,0,null,null,0,null,null,null,null,0,"",null,0,null,null,null,"N",0,"","","","","","","","","",null,""]
[null,0,null,null,0,null,null,0,null,null,null,null,null,null,0,null,null,0,null,null,null,null,0,"",null,0,null,null,null,"N",0,"","","","","","","","","",null,""]
[null,0,null,null,0,null,null,0,null,null,null,null,null,null,0,null,null,0,null,null,null,null,0,"",null,0,null,null,null,"N",0,"","","","","","","","","",null,""]
[null,0,null,null,0,null,null,0,null,null,null,null,null,null,0,null,null,0,null,null,null,null,0,"",null,0,null,null,null,"N",0,"","","","","","","","","",null,""]
[null,0,null,null,0,null,null,0,null,null,null,null,null,null,0,null,null,0,null,null,null,null,0,"",null,0,null,null,null,"N",0,"","","","","","","","","",null,""]
[null,0,null,null,0,null,null,0,null,null,null,null,null,null,0,null,null,0,null,null,null,null,0,"",null,0,null,null,null,"N",0,"","","","","","","","","",null,""]
[null,0,null,null,0,null,null,0,null,null,null,null,null,null,0,null,null,0,null,null,null,null,0,"",null,0,null,null,null,"N",0,"","","","","","","","","",null,""]
[null,0,null,null,0,null,null,0,null,null,null,null,null,null,0,null,null,0,null,null,null,null,0,"",null,0,null,null,null,"N",0,"","","","","","","","","",null,""]
[null,0,null,null,0,null,null,0,null,null,null,null,null,null,0,null,null,0,null,null,null,null,0,"",null,0,null,null,null,"N",0,"","","","","","","","","",null,""]
[null,0,null,null,0,null,null,0,null,null,null,null,null,null,0,null,null,0,null,null,null,null,0,"",null,0,null,null,null,"N",0,"","","","","","","","","",null,""]
[null,0,null,null,0,null,null,0,null,null,null,null,null,null,0,null,null,0,null,null,null,null,0,"",null,0,null,null,null,"N",0,"","","","","","","","","",null,""]
[null,0,null,null,0,null,null,0,null,null,null,null,null,null,0,null,null,0,null,null,null,null,0,"",null,0,null,null,null,"N",0,"","","","","","","","","",null,""]
[null,{"$f":"U227","v":0},null,null,{"$f":"V227","v":0},null,null,{"$f":"Y227","v":0},null,null,null,null,null,null,{"$f":"X227","v":0},null,null,{"$f":"W227","v":0},null,null,null,null,{"$f":"Z227","v":0},"",null,{"$f":"AA227","v":0},null,null,null,"N",0,"","",{"$f":"IF($AG103=\"\",\"\",B103)","v":""},{"$f":"IF($AG103=\"\",\"\",E103)","v":""},{"$f":"IF($AG103=\"\",\"\",R103)","v":""},"","","","",null,""]
[null,0,null,null,0,null,null,0,null,null,null,null,null,null,0,null,null,0,null,null,null,null,0,{"$f":"IF(OR(NOT(LEN(R104)>1),T104=\"\"),\"\",IF(AF104=AG104,\"Yes\",\"No\"))","v":""},null,0,null,null,null,{"$f":"IF(T104=\"\",\"N\",IF(LEN(R104)>1,\"Y\",\"N\"))","v":"N"},0,{"$f":"IF(AD104=\"Y\",AE104,\"\")","v":""},{"$f":"IF(AF104<$AF$36,AF104,\"\")","v":""},"","","",{"$f":"IF($AG104=\"\",\"\",T104)","v":""},{"$f":"IF($AG104=\"\",\"\",W104)","v":""},{"$f":"IF($AG104=\"\",\"\",Z104)","v":""},"",null,""]
[null,0,null,null,0,null,null,0,null,null,null,null,null,null,0,null,null,0,null,null,null,null,0,"",null,0,null,null,null,"N",{"$f":"IF(AD105=\"Y\",AE104+1,AE104)","v":0},"","","","","","","","","",null,""]
[null,0,null,null,0,null,null,0,null,null,null,null,null,null,0,null,null,0,null,null,null,null,0,"",null,0,null,null,null,"N",0,"","","","","","","","","",null,""]
[null,0,null,null,0,null,null,0,null,null,null,null,null,null,0,null,null,0,null,null,null,null,0,"",null,0,null,null,null,"N",0,"","","","","","","","","",null,""]
[null,0,null,null,0,null,null,0,null,null,null,null,null,null,0,null,null,0,null,null,null,null,0,"",null,0,null,null,null,"N",0,"","","","","","","","","",null,""]
[null,0,null,null,0,null,null,0,null,null,null,null,null,null,0,null,null,0,null,null,null,null,0,"",null,0,null,null,null,"N",0,"","","","","","","","","",null,""]
[null,0,null,null,0,null,null,0,null,null,null,null,null,null,0,null,null,0,null,null,null,null,0,"",null,0,null,null,null,"N",0,"","","","","","","","","",null,""]
[null,0,null,null,0,null,null,0,null,null,null,null,null,null,0,null,null,0,null,null,null,null,0,"",null,0,null,null,null,"N",0,"","","","","","","","","",null,""]
[null,0,null,null,0,null,null,0,null,null,null,null,null,null,0,null,null,0,null,null,null,null,0,"",null,0,null,null,null,"N",0,"","","","","","","","","",null,""]
[null,0,null,null,0,null,null,0,null,null,null,null,null,null,0,null,null,0,null,null,null,null,0,"",null,0,null,null,null,"N",0,"","","","","","","","","",null,""]
[null,0,null,null,0,null,null,0,null,null,null,null,null,null,0,null,null,0,null,null,null,null,0,"",null,0,null,null,null,"N",0,"","","","","","","","","",null,""]
[null,0,null,null,0,null,null,0,null,null,null,null,null,null,0,null,null,0,null,null,null,null,0,"",null,0,null,null,null,"N",0,"","","","","","","","","",null,""]
[null,0,null,null,0,null,null,0,null,null,null,null,null,null,0,null,null,0,null,null,null,null,0,"",null,0,null,null,null,"N",0,"","","","","","","","","",null,""]
[null,0,null,null,0,null,null,0,null,null,null,null,null,null,0,null,null,0,null,null,null,null,0,"",null,0,null,null,null,"N",0,"","","","","","","","","",null,""]
[null,0,null,null,0,null,null,0,null,null,null,null,null,null,0,null,null,0,null,null,null,null,0,"",null,0,null,null,null,"N",0,"","","","","","","","","",null,""]
[null,0,null,null,0,null,null,0,null,null,null,null,null,null,0,null,null,0,null,null,null,null,0,"",null,0,null,null,null,"N",0,"","","","","","","","","",null,""]
[null,0,null,null,0,null,null,0,null,null,null,null,null,null,0,null,null,0,null,null,null,null,0,"",null,0,null,null,null,"N",0,"","","","","","","","","",null,""]
[null,0,null,null,0,null,null,0,null,null,null,null,null,null,0,null,null,0,null,null,null,null,0,"",null,0,null,null,null,"N",0,"","","","","","","","","",null,""]
[null,0,null,null,0,null,null,0,null,null,null,null,null,null,0,null,null,0,null,null,null,null,0,"",null,0,null,null,null,"N",0,"","","","","","","","","",null,""]
[null,0,null,null,0,null,null,0,null,null,null,null,null,null,0,null,null,0,null,null,null,null,0,"",null,0,null,null,null,"N",0,"","","","","","","","","",null,""]
[null,0,null,null,0,null,null,0,null,null,null,null,null,null,0,null,null,0,null,null,null,null,0,"",null,0,null,null,null,"N",0,"","","","","","","","","",null,""]
[null,0,null,null,0,null,null,0,null,null,null,null,null,null,0,null,null,0,null,null,null,null,0,"",null,0,null,null,null,"N",0,"","","","","","","","","",null,""]
[null,0,null,null,0,null,null,0,null,null,null,null,null,null,0,null,null,0,null,null,null,null,0,"",null,0,null,null,null,"N",0,"","","","","","","","","",null,""]
[null,0,null,null,0,null,null,0,null,null,null,null,null,null,0,null,null,0,null,null,null,null,0,"",null,0,null,null,null,"N",0,"","","","","","","","","",null,""]
[null,0,null,null,0,null,null,0,null,null,null,null,null,null,0,null,null,0,null,null,null,null,0,"",null,0,null,null,null,"N",0,"","","","","","","","","",null,""]
[null,0,null,null,0,null,null,0,null,null,null,null,null,null,0,null,null,0,null,null,null,null,0,"",null,0,null,null,null,"N",0,"","","","","","","","","",null,""]
[null,0,null,null,0,null,null,0,null,null,null,null,null,null,0,null,null,0,null,null,null,null,0,"",null,0,null,null,null,"N",0,"","","","","","","","","",null,""]
[null,0,null,null,0,null,null,0,null,null,null,null,null,null,0,null,null,0,null,null,null,null,0,"",null,0,null,null,null,"N",0,"","","","","","","","","",null,""]
[null,0,null,null,0,null,null,0,null,null,null,null,null,null,0,null,null,0,null,null,null,null,0,"",null,0,null,null,null,"N",0,"","","","","","","","","",null,""]
[null,0,null,null,0,null,null,0,null,null,null,null,null,null,0,null,null,0,null,null,null,null,0,"",null,0,null,null,null,"N",0,"","","","","","","","","",null,""]
[null,0,null,null,0,null,null,0,null,null,null,null,null,null,0,null,null,0,null,null,null,null,0,"",null,0,null,null,null,"N",0,"","","","","","","","","",null,""]
[null,0,null,null,0,null,null,0,null,null,null,null,null,null,0,null,null,0,null,null,null,null,0,"",null,0,null,null,null,"N",0,"","","","","","","","","",null,""]
[null,0,null,null,0,null,null,0,null,null,null,null,null,null,0,null,null,0,null,null,null,null,0,"",null,0,null,null,null,"N",0,"","","","","","","","","",null,""]
[null,0,null,null,0,null,null,0,null,null,null,null,null,null,0,null,null,0,null,null,null,null,0,"",null,0,null,null,null,"N",0,"","","","","","","","","",null,""]
[null,0,null,null,0,null,null,0,null,null,null,null,null,null,0,null,null,0,null,null,null,null,0,"",null,0,null,null,null,"N",0,"","","","","","","","","",null,""]
[null,0,null,null,0,null,null,0,null,null,null,null,null,null,0,null,null,0,null,null,null,null,0,"",null,0,null,null,null,"N",0,"","","","","","","","","",null,""]
[null,0,null,null,0,null,null,0,null,null,null,null,null,null,0,null,null,0,null,null,null,null,0,"",null,0,null,null,null,"N",0,"","","","","","","","","",null,""]
[]
[]
[]
[]
[]
[null,null,null,null,null,null,null,null,null,null,null,null,null,null,null,null,null,null,null,null,null,null,null,null,null,null,null,null,{"$f":"SUM(AC13:AC26,AC30:AC143)","v":3}]
[]
[]
[null,"Status determination",null,null,null,null,null,null,null,"Status",null,null,null,null,null,null,null,null,"Line Number Lookups ",""]
[null,"Check for no defficient or non-compliant",null,null,null,null,null,null,null,{"$f":"IF(AF20+AF26=0,C158,\"\")","v":9},null,null,null,null,null,null,null,null,null,null,null,null,{"$f":"IF(NOT(ISBLANK(N120)),VLOOKUP($N$120,N163:P257,2, FALSE),\"\")","v":""},{"$f":"IF(NOT(ISBLANK(Q120)),VLOOKUP($Q$120,N163:P257,2, FALSE),\"\")","v":""}]
[null,"Check for total rejection",null,null,null,null,null,null,null,{"$f":"IF(AND(R21=R13,AF26=0,NOT(R21=0)),C159,\"\")","v":""},null,null,null,null,null,null,null,null,null,null,null,null,{"$f":"IF(NOT(ISBLANK(N120)),VLOOKUP($N$120,N163:P257,3, FALSE),\"\")","v":""},{"$f":"IF(NOT(ISBLANK(Q120)),VLOOKUP($Q$120,N163:P257,3, FALSE),\"\")","v":""},null,null,null,null,null,null,null,null,null,null,null,2,610]
[null,"Check for non-compl all corrected",null,null,null,null,null,null,null,{"$f":"IF(AND(NOT(R13=R21),AF20=1,AI18=0,NOT(R22>0)),C158,\"\")","v":""}]
[null,"Check for non-compl and unresolved",null,null,null,null,null,null,null,{"$f":"IF(AI18=1,C157,\"\")","v":""},null,null,null,null,null,null,null,null,null,null,null,null,{"$f":"IF(NOT(ISBLANK(N126)),VLOOKUP($N$126,U163:W257,2, FALSE),\"\")","v":""},{"$f":"IF(NOT(ISBLANK(Q126)),VLOOKUP($Q$126,U163:W257,2, FALSE),\"\")","v":""}]
[null,"Check for non-compl and used as is",null,null,null,null,null,null,null,{"$f":"IF(AND(AF20=1,R22>0,NOT(AI18=1)),C160,\"\")","v":""},null,null,null,null,null,null,null,null,null,null,null,null,{"$f":"IF(NOT(ISBLANK(N126)),VLOOKUP($N$126,U163:W257,3, FALSE),\"\")","v":""},{"$f":"IF(NOT(ISBLANK(Q126)),VLOOKUP($Q$126,U163:W257,3, FALSE),\"\")","v":""}]
["These two boxes combine the found statusii and if there is none found default it to pending",null,null,null,null,null,null,null,null,null,null,null,null,null,null,null,null,null,null,null,null,null,null,null,null,null,null,null,null,null,null,null,null,{"$f":"O163=AH163","v":true},{"$f":"Q163=AJ163","v":true},null,{"$f":"MATCH(AK151,AJ163:AJ165,0)","v":{"$error":"#N/A"}}]
[null,null,{"$f":"CONCATENATE(J150,J151,J152,J153,J154)","v":"9"},null,null,null,null,null,{"$f":"IF(C156=\"\",C157,INT(C156))","v":9}]
["code",null,6,"Pending Authorization"]
["table",null,9,"Approved"]
[null,null,16,"FAIL - Fail/Rejected"]
[null,null,20,"FAIU - Failed- Matl used as is w-w/o deduct",null,null,null,null,null,null,null,"First contract specific item list",null,null,null,null,null,null,"Second contract specific item list"]
[null,null,null,null,null,null,null,null,null,null,null,null,null,null,null,null,null,null,null,null,null,null,null,null,null,null,null,null,null,null,null,null,null,"Saved Contract Quantiies area for code use"]
[null,null,{"$f":"Main!F14","v":""},null,null,null,null,null,null,null,"list of contracts with the correct material","Contracts matching material","Filtered Contracts matching material","User selected contracts","User selected Line #s","User Selected Job #","User Select matl Set","User selected descriptions","User selected units","User selected mat set ids","sorted contract ids for display","Sorted job #s","Sorted Line","sorted material set","sorted description","sorted units","sorted mat set ids","Lookup for already entered quantities","corrects for the Xs and na values from removed contracts",null,"Contract","Project","Line no","matset","desc","units","matset id","qty","This row is used to change 0s to Xs as a means to work around the lookup limitations"]
[null,null,"1003ASCHD","200821-A08","J1S3374","0140","413200096",29220,"SCRUB SEAL","E042",{"$f":"IF(C163=$C$162,D163,\"\")","v":""},0,0,{"$f":"(IF(K163=\"\",\"\",IF(OR(D163=$J$33,D163=$T$33, D163=$O$33),D163,\"\")))","v":""},{"$f":"IF(N163=\"\",\"\",F163)","v":""},{"$f":"IF(N163=\"\", \"\", E163)","v":""},{"$f":"IF(N163=\"\", \"\", G163)","v":""},{"$f":"IF(N163=\"\",\"\",I163)","v":""},{"$f":"IF(N163=\"\",\"\",J163)","v":""},{"$f":"IF(N163=\"\",\"\",H163)","v":""},"","","",null,null,null,null,{"$f":"IF(U163=\"\",\"\",INDEX($AE$163:$AM$189,MATCH(U163&W163&AA163,$AE$163:$AE$189&$AG$163:$AG$189&$AK$163:$AK$189,0),9))","v":""},{"$f":"IF(ISNA(AB163),\"\",IF(AB163=\"X\",\"\",AB163))","v":""},null,null,null,"",null,null,null,null,null,{"$f":"IF(ISBLANK(AL163),\"X\",AL163)","v":"X"}]
[null,null,"1003ASCHD","220617-A03","J1P3323","0180","413200096",60125,"SCRUB SEAL","E042","",0,0,"","","","",{"$f":"IF(N164=\"\",\"\",I164)","v":""},{"$f":"IF(N164=\"\",\"\",J164)","v":""},{"$f":"IF(N164=\"\",\"\",H164)","v":""},"","","",null,null,null,null,{"$f":"IF(U164=\"\",\"\",INDEX($AE$163:$AM$189,MATCH(U164&W164&AA164,$AE$163:$AE$189&$AG$163:$AG$189&$AK$163:$AK$189,0),9))","v":""},"",null,null,null,"",null,null,null,null,null,{"$f":"IF(ISBLANK(AL164),\"X\",AL164)","v":"X"}]
[null,null,"1003ASCHD","220617-A03","J1P3323","0190","413200096",59036,"SCRUB SEAL","E042","",0,null,"","","","","","","","","","",null,null,null,null,{"$f":"IF(U165=\"\",\"\",INDEX($AE$163:$AM$189,MATCH(U165&W165&AA165,$AE$163:$AE$189&$AG$163:$AG$189&$AK$163:$AK$189,0),9))","v":""},"",null,null,null,"",null,null,null,null,null,"X"]
[null,null,"1003ASCHD","220617-A03","J1P3323","0200","413200096",59037,"SCRUB SEAL","E042","",0,null,"","","","","","","","","","",null,null,null,null,{"$f":"IF(U166=\"\",\"\",INDEX($AE$163:$AM$189,MATCH(U166&W166&AA166,$AE$163:$AE$189&$AG$163:$AG$189&$AK$163:$AK$189,0),9))","v":""},"",null,null,null,"",null,null,null,null,null,"X"]
[null,null,"1003ASCHD","220617-A03","J1P3323","0210","413200096",59038,"SCRUB SEAL","E042","",0,null,"","","","","","","","","","",null,null,null,null,{"$f":"IF(U167=\"\",\"\",INDEX($AE$163:$AM$189,MATCH(U167&W167&AA167,$AE$163:$AE$189&$AG$163:$AG$189&$AK$163:$AK$189,0),9))","v":""},"",null,null,null,"",null,null,null,null,null,"X"]
[null,null,"1003ASCHD","220617-A03","J1P3323","0220","413200096",59039,"SCRUB SEAL","E042","",0,null,"","","","","","","","","","",null,null,null,null,{"$f":"IF(U168=\"\",\"\",INDEX($AE$163:$AM$189,MATCH(U168&W168&AA168,$AE$163:$AE$189&$AG$163:$AG$189&$AK$163:$AK$189,0),9))","v":""},"",null,null,null,"",null,null,null,null,null,"X"]
[null,null,"1003ASCHD","220617-A03","J1P3323","0230","413200096",59040,"SCRUB SEAL","E042","",0,null,"","","","","","","","","","",null,null,null,null,{"$f":"IF(U169=\"\",\"\",INDEX($AE$163:$AM$189,MATCH(U169&W169&AA169,$AE$163:$AE$189&$AG$163:$AG$189&$AK$163:$AK$189,0),9))","v":""},"",null,null,null,"",null,null,null,null,null,"X"]
[null,null,"1003ASCHD","220617-A03","J1P3323","0240","413200096",59041,"SCRUB SEAL","E042","",0,null,"","","","","","","","","","",null,null,null,null,{"$f":"IF(U170=\"\",\"\",INDEX($AE$163:$AM$189,MATCH(U170&W170&AA170,$AE$163:$AE$189&$AG$163:$AG$189&$AK$163:$AK$189,0),9))","v":""},"",null,null,null,"",null,null,null,null,null,"X"]
[null,null,"1003ASCHD","220617-A03","J1P3323","0250","413200096",59042,"SCRUB SEAL","E042","",0,null,"","","","","","","","","","",null,null,null,null,{"$f":"IF(U171=\"\",\"\",INDEX($AE$163:$AM$189,MATCH(U171&W171&AA171,$AE$163:$AE$189&$AG$163:$AG$189&$AK$163:$AK$189,0),9))","v":""},"",null,null,null,"",null,null,null,null,null,"X"]
[null,null,"1003ASCHD","220617-A03","J1P3323","0260","413200096",59043,"SCRUB SEAL","E042","",0,null,"","","","","","","","","","",null,null,null,null,{"$f":"IF(U172=\"\",\"\",INDEX($AE$163:$AM$189,MATCH(U172&W172&AA172,$AE$163:$AE$189&$AG$163:$AG$189&$AK$163:$AK$189,0),9))","v":""},"",null,null,null,"",null,null,null,null,null,"X"]
[null,null,"1003ASCHD","220617-A03","J1P3323","0270","413200096",59044,"SCRUB SEAL","E042","",0,null,"","","","","","","","","","",null,null,null,null,{"$f":"IF(U173=\"\",\"\",INDEX($AE$163:$AM$189,MATCH(U173&W173&AA173,$AE$163:$AE$189&$AG$163:$AG$189&$AK$163:$AK$189,0),9))","v":""},"",null,null,null,"",null,null,null,null,null,"X"]
[null,null,"1003ASCHD","220617-A03","J1P3323","0280","413200096",59045,"SCRUB SEAL","E042","",0,null,"","","","","","","","","","",null,null,null,null,{"$f":"IF(U174=\"\",\"\",INDEX($AE$163:$AM$189,MATCH(U174&W174&AA174,$AE$163:$AE$189&$AG$163:$AG$189&$AK$163:$AK$189,0),9))","v":""},"",null,null,null,"",null,null,null,null,null,"X"]
[null,null,"1003ASCHD","220617-A03","J1P3323","0290","413200096",59046,"SCRUB SEAL","E042","",0,null,"","","","","","","","","","",null,null,null,null,{"$f":"IF(U175=\"\",\"\",INDEX($AE$163:$AM$189,MATCH(U175&W175&AA175,$AE$163:$AE$189&$AG$163:$AG$189&$AK$163:$AK$189,0),9))","v":""},"",null,null,null,"",null,null,null,null,null,"X"]
[null,null,"1003ASCHD","220617-A03","J1P3323","0300","413200096",59047,"SCRUB SEAL","E042","",0,null,"","","","","","","","","","",null,null,null,null,{"$f":"IF(U176=\"\",\"\",INDEX($AE$163:$AM$189,MATCH(U176&W176&AA176,$AE$163:$AE$189&$AG$163:$AG$189&$AK$163:$AK$189,0),9))","v":""},"",null,null,null,"",null,null,null,null,null,"X"]
[null,null,"1003ASCHD","220617-A03","J1P3388","0430","413200096",59059,"SCRUB SEAL","E042","",0,null,"","","","","","","","","","",null,null,null,null,{"$f":"IF(U177=\"\",\"\",INDEX($AE$163:$AM$189,MATCH(U177&W177&AA177,$AE$163:$AE$189&$AG$163:$AG$189&$AK$163:$AK$189,0),9))","v":""},"",null,null,null,"",null,null,null,null,null,"X"]
[null,null,"1003ASCHD","220617-A03","J1P3388","0440","413200096",59060,"SCRUB SEAL","E042","",0,null,"","","","","","","","","","",null,null,null,null,{"$f":"IF(U178=\"\",\"\",INDEX($AE$163:$AM$189,MATCH(U178&W178&AA178,$AE$163:$AE$189&$AG$163:$AG$189&$AK$163:$AK$189,0),9))","v":""},"",null,null,null,"",null,null,null,null,null,"X"]
[null,null,"1003ASCHD","220617-A03","J1P3388","0450","413200096",59061,"SCRUB SEAL","E042","",0,null,"","","","","","","","","","",null,null,null,null,{"$f":"IF(U179=\"\",\"\",INDEX($AE$163:$AM$189,MATCH(U179&W179&AA179,$AE$163:$AE$189&$AG$163:$AG$189&$AK$163:$AK$189,0),9))","v":""},"",null,null,null,"",null,null,null,null,null,"X"]
[null,null,"1003ASCHD","220617-A03","J1P3388","0460","413200096",59062,"SCRUB SEAL","E042","",0,null,"","","","","","","","","","",null,null,null,null,{"$f":"IF(U180=\"\",\"\",INDEX($AE$163:$AM$189,MATCH(U180&W180&AA180,$AE$163:$AE$189&$AG$163:$AG$189&$AK$163:$AK$189,0),9))","v":""},"",null,null,null,"",null,null,null,null,null,"X"]
[null,null,"1003ASCHD","220617-A03","J1P3388","0470","413200096",59063,"SCRUB SEAL","E042","",0,null,"","","","","","","","","","",null,null,null,null,{"$f":"IF(U181=\"\",\"\",INDEX($AE$163:$AM$189,MATCH(U181&W181&AA181,$AE$163:$AE$189&$AG$163:$AG$189&$AK$163:$AK$189,0),9))","v":""},"",null,null,null,"",null,null,null,null,null,"X"]
[null,null,"1003ASCHD","220617-A03","J1P3388","0480","413200096",59064,"SCRUB SEAL","E042","",0,null,"","","","","","","","","","",null,null,null,null,{"$f":"IF(U182=\"\",\"\",INDEX($AE$163:$AM$189,MATCH(U182&W182&AA182,$AE$163:$AE$189&$AG$163:$AG$189&$AK$163:$AK$189,0),9))","v":""},"",null,null,null,"",null,null,null,null,null,"X"]
[null,null,"1003ASCHD","220617-A03","J1P3388","0490","413200096",59065,"SCRUB SEAL","E042","",0,null,"","","","","","","","","","",null,null,null,null,{"$f":"IF(U183=\"\",\"\",INDEX($AE$163:$AM$189,MATCH(U183&W183&AA183,$AE$163:$AE$189&$AG$163:$AG$189&$AK$163:$AK$189,0),9))","v":""},"",null,null,null,"",null,null,null,null,null,"X"]
[null,null,"1003ASCHD","220617-A03","J1P3388","0500","413200096",59066,"SCRUB SEAL","E042","",0,null,"","","","","","","","","","",null,null,null,null,{"$f":"IF(U184=\"\",\"\",INDEX($AE$163:$AM$189,MATCH(U184&W184&AA184,$AE$163:$AE$189&$AG$163:$AG$189&$AK$163:$AK$189,0),9))","v":""},"",null,null,null,"",null,null,null,null,null,"X"]
[null,null,"1003ASCHD","220617-A03","J1P3388","0510","413200096",59067,"SCRUB SEAL","E042","",0,null,"","","","","","","","","","",null,null,null,null,{"$f":"IF(U185=\"\",\"\",INDEX($AE$163:$AM$189,MATCH(U185&W185&AA185,$AE$163:$AE$189&$AG$163:$AG$189&$AK$163:$AK$189,0),9))","v":""},"",null,null,null,"",null,null,null,null,null,"X"]
[null,null,"1003ASCHD","220617-A08","J1P3328","0120","413200096",59118,"SCRUB SEAL","E042","",0,null,"","","","","","","","","","",null,null,null,null,{"$f":"IF(U186=\"\",\"\",INDEX($AE$163:$AM$189,MATCH(U186&W186&AA186,$AE$163:$AE$189&$AG$163:$AG$189&$AK$163:$AK$189,0),9))","v":""},"",null,null,null,"",null,null,null,null,null,"X"]
[null,null,"1003ASCHD","220617-A08","J1P3328","0130","413200096",59107,"SCRUB SEAL","E042","",0,null,"","","","","","","",0,0,0,0,0,0,0,{"$f":"IF(U187=\"\",\"\",INDEX($AE$163:$AM$189,MATCH(U187&W187&AA187,$AE$163:$AE$189&$AG$163:$AG$189&$AK$163:$AK$189,0),9))","v":"X"},"",null,0,0,0,0,0,0,0,null,"X"]
[null,null,"1003ASCHD","220617-A08","J1P3328","0140","413200096",59119,"SCRUB SEAL","E042","",0,null,"","","","","","","",0,0,0,0,0,0,0,{"$f":"IF(U188=\"\",\"\",INDEX($AE$163:$AM$189,MATCH(U188&W188&AA188,$AE$163:$AE$189&$AG$163:$AG$189&$AK$163:$AK$189,0),9))","v":"X"},"",null,0,0,0,0,0,0,0,null,"X"]
[null,null,"1003ASCHD","220617-A08","J1P3328","0150","413200096",59120,"SCRUB SEAL","E042","",0,null,"","","","","","","",0,0,0,0,0,0,0,{"$f":"IF(U189=\"\",\"\",INDEX($AE$163:$AM$189,MATCH(U189&W189&AA189,$AE$163:$AE$189&$AG$163:$AG$189&$AK$163:$AK$189,0),9))","v":"X"},"",null,0,0,0,0,0,0,0,null,"X"]
[null,null,"1003ASCHD","220617-A08","J1P3328","0160","413200096",59121,"SCRUB SEAL","E042","",0,null,"","","","","","","",0,0,0,0,0,0,0,{"$f":"IF(U190=\"\",\"\",INDEX($AE$163:$AM$189,MATCH(U190&W190&AA190,$AE$163:$AE$189&$AG$163:$AG$189&$AK$163:$AK$189,0),9))","v":"X"},"",null,0,0,0,0,0,0,0,null,"X"]
[null,null,"1003ASCHD","220617-A08","J1P3328","0170","413200096",59122,"SCRUB SEAL","E042","",0,null,"","","","","","","",0,0,0,0,0,0,0,{"$f":"IF(U191=\"\",\"\",INDEX($AE$163:$AM$189,MATCH(U191&W191&AA191,$AE$163:$AE$189&$AG$163:$AG$189&$AK$163:$AK$189,0),9))","v":"X"},"",null,0,0,0,0,0,0,0,null,"X"]
[null,null,"1003ASCHD","220617-A08","J1P3328","0180","413200096",59123,"SCRUB SEAL","E042","",0,null,"","","","","","","",0,0,0,0,0,0,0,{"$f":"IF(U192=\"\",\"\",INDEX($AE$163:$AM$189,MATCH(U192&W192&AA192,$AE$163:$AE$189&$AG$163:$AG$189&$AK$163:$AK$189,0),9))","v":"X"},"",null,0,0,0,0,0,0,0,null,"X"]
[null,null,"1003ASCHD","220617-A08","J1P3328","0190","413200096",59124,"SCRUB SEAL","E042","",0,null,"","","","","","","",0,0,0,0,0,0,0,{"$f":"IF(U193=\"\",\"\",INDEX($AE$163:$AM$189,MATCH(U193&W193&AA193,$AE$163:$AE$189&$AG$163:$AG$189&$AK$163:$AK$189,0),9))","v":"X"},"",null,0,0,0,0,0,0,0,null,"X"]
[null,null,"1003ASCHD","220617-A08","J1P3328","0200","413200096",59125,"SCRUB SEAL","E042","",0,null,"","","","","","","",0,0,0,0,0,0,0,{"$f":"IF(U194=\"\",\"\",INDEX($AE$163:$AM$189,MATCH(U194&W194&AA194,$AE$163:$AE$189&$AG$163:$AG$189&$AK$163:$AK$189,0),9))","v":"X"},"",null,0,0,0,0,0,0,0,null,"X"]
[null,null,"1003ASCHD","220617-A08","J1P3328","0210","413200096",59126,"SCRUB SEAL","E042","",0,null,"","","","","","","",0,0,0,0,0,0,0,{"$f":"IF(U195=\"\",\"\",INDEX($AE$163:$AM$189,MATCH(U195&W195&AA195,$AE$163:$AE$189&$AG$163:$AG$189&$AK$163:$AK$189,0),9))","v":"X"},"",null,0,0,0,0,0,0,0,null,"X"]
[null,null,"1003ASCHD","220617-A08","J1P3328","0220","413200096",59127,"SCRUB SEAL","E042","",0,null,"","","","","","","",0,0,0,0,0,0,0,{"$f":"IF(U196=\"\",\"\",INDEX($AE$163:$AM$189,MATCH(U196&W196&AA196,$AE$163:$AE$189&$AG$163:$AG$189&$AK$163:$AK$189,0),9))","v":"X"},"",null,0,0,0,0,0,0,0,null,"X"]
[null,null,"1003ASCHD","220617-A08","J1P3328","0230","413200096",59128,"SCRUB SEAL","E042","",0,null,"","","","","","","",0,0,0,0,0,0,0,{"$f":"IF(U197=\"\",\"\",INDEX($AE$163:$AM$189,MATCH(U197&W197&AA197,$AE$163:$AE$189&$AG$163:$AG$189&$AK$163:$AK$189,0),9))","v":"X"},"",null,0,0,0,0,0,0,0,null,"X"]
[null,null,"1003ASCHD","230616-A01","J1I3437","0020","409400296",77763,"SEAL COAT AGGREGATE, GRADE A2","E042","",0,null,"","","","","","","",0,0,0,0,0,0,0,{"$f":"IF(U198=\"\",\"\",INDEX($AE$163:$AM$189,MATCH(U198&W198&AA198,$AE$163:$AE$189&$AG$163:$AG$189&$AK$163:$AK$189,0),9))","v":"X"},"",null,0,0,0,0,0,0,0,null,"X"]
[null,null,"1003ASCHD","230616-A02","JNW0015","0010","413200096",77772,"SCRUB SEAL","E042","",0,null,"","","","","","","",0,0,0,0,0,0,0,{"$f":"IF(U199=\"\",\"\",INDEX($AE$163:$AM$189,MATCH(U199&W199&AA199,$AE$163:$AE$189&$AG$163:$AG$189&$AK$163:$AK$189,0),9))","v":"X"},"",null,0,0,0,0,0,0,0,null,"X"]
[null,null,"1003GA","230120-G04","J7P3503","0020","409400196",70296,"SEAL COAT AGGREGATE, GRADE A1","E042","",0,null,"","","","","","","",0,0,0,0,0,0,0,{"$f":"IF(U200=\"\",\"\",INDEX($AE$163:$AM$189,MATCH(U200&W200&AA200,$AE$163:$AE$189&$AG$163:$AG$189&$AK$163:$AK$189,0),9))","v":"X"},"",null,0,0,0,0,0,0,0,null,"X"]
[null,null,"1003GA","230120-G04","JSU0065","0190","409400196",70312,"SEAL COAT AGGREGATE, GRADE A1","E042","",0,null,"","","","","","","",0,0,0,0,0,0,0,{"$f":"IF(U201=\"\",\"\",INDEX($AE$163:$AM$189,MATCH(U201&W201&AA201,$AE$163:$AE$189&$AG$163:$AG$189&$AK$163:$AK$189,0),9))","v":"X"},"",null,0,0,0,0,0,0,0,null,"X"]
[null,null,"1003GA2","220121-B01","J2I3310","0070","409400296",52958,"SEAL COAT AGGREGATE, GRADE A2","E042","",0,null,"","","","","","","",0,0,0,0,0,0,0,{"$f":"IF(U202=\"\",\"\",INDEX($AE$163:$AM$189,MATCH(U202&W202&AA202,$AE$163:$AE$189&$AG$163:$AG$189&$AK$163:$AK$189,0),9))","v":"X"},"",null,0,0,0,0,0,0,0,null,"X"]
[null,null,"1003GA2","230915-B02","J2P3386","0020","409400296",80163,"SEAL COAT AGGREGATE, GRADE A2","E042","",0,null,"","","","","","","",0,0,0,0,0,0,0,{"$f":"IF(U203=\"\",\"\",INDEX($AE$163:$AM$189,MATCH(U203&W203&AA203,$AE$163:$AE$189&$AG$163:$AG$189&$AK$163:$AK$189,0),9))","v":"X"},"",null,0,0,0,0,0,0,0,null,"X"]
[null,null,"1003GA2","230915-B03","J2S3407","0040","409400296",79188,"SEAL COAT AGGREGATE, GRADE A2","E042","",0,null,"","","","","","","",0,0,0,0,0,0,0,{"$f":"IF(U204=\"\",\"\",INDEX($AE$163:$AM$189,MATCH(U204&W204&AA204,$AE$163:$AE$189&$AG$163:$AG$189&$AK$163:$AK$189,0),9))","v":"X"},"",null,0,0,0,0,0,0,0,null,"X"]
[null,null,"1003GA2","230915-B03","J2S3408","0200","409400296",79199,"SEAL COAT AGGREGATE, GRADE A2","E042","",0,null,"","","","","","","",0,0,0,0,0,0,0,{"$f":"IF(U205=\"\",\"\",INDEX($AE$163:$AM$189,MATCH(U205&W205&AA205,$AE$163:$AE$189&$AG$163:$AG$189&$AK$163:$AK$189,0),9))","v":"X"},"",null,0,0,0,0,0,0,0,null,"X"]
[null,null,"1003GA2","230915-B05","JNE0015","0130","409400296",80172,"SEAL COAT AGGREGATE, GRADE A2","E042","",0,null,"","","","","","","",0,0,0,0,0,0,0,{"$f":"IF(U206=\"\",\"\",INDEX($AE$163:$AM$189,MATCH(U206&W206&AA206,$AE$163:$AE$189&$AG$163:$AG$189&$AK$163:$AK$189,0),9))","v":"X"},"",null,0,0,0,0,0,0,0,null,"X"]
[null,null,"1003GALW","220617-A01","J1I3436","0020","409400196",59007,"SEAL COAT AGGREGATE, GRADE A1","E042","",0,null,"","","","","","","",0,0,0,0,0,0,0,{"$f":"IF(U207=\"\",\"\",INDEX($AE$163:$AM$189,MATCH(U207&W207&AA207,$AE$163:$AE$189&$AG$163:$AG$189&$AK$163:$AK$189,0),9))","v":"X"},"",null,0,0,0,0,0,0,0,null,"X"]
[null,null,"1003GB","200117-H07","J9I3553","0410","409401196",21274,"SEAL COAT AGGREGATE, GRADE B1","E042","",0,null,"","","","","","","",0,0,0,0,0,0,0,{"$f":"IF(U208=\"\",\"\",INDEX($AE$163:$AM$189,MATCH(U208&W208&AA208,$AE$163:$AE$189&$AG$163:$AG$189&$AK$163:$AK$189,0),9))","v":"X"},"",null,0,0,0,0,0,0,0,null,"X"]
[null,null,"1003GB","200117-H07","J9I3553","0460","409401196",21279,"SEAL COAT AGGREGATE, GRADE B1","E042","",0,null,"","","","","","","",0,0,0,0,0,0,0,{"$f":"IF(U209=\"\",\"\",INDEX($AE$163:$AM$189,MATCH(U209&W209&AA209,$AE$163:$AE$189&$AG$163:$AG$189&$AK$163:$AK$189,0),9))","v":"X"},"",null,0,0,0,0,0,0,0,null,"X"]
[null,null,"1003GB","200117-H07","J9I3553","0510","409401196",21284,"SEAL COAT AGGREGATE, GRADE B1","E042","",0,null,"","","","","","","",0,0,0,0,0,0,0,{"$f":"IF(U210=\"\",\"\",INDEX($AE$163:$AM$189,MATCH(U210&W210&AA210,$AE$163:$AE$189&$AG$163:$AG$189&$AK$163:$AK$189,0),9))","v":"X"},"",null,0,0,0,0,0,0,0,null,"X"]
[null,null,"1003GB","200117-H07","J9I3553","0560","409401196",21289,"SEAL COAT AGGREGATE, GRADE B1","E042","",0,null,"","","","","","","",0,0,0,0,0,0,0,{"$f":"IF(U211=\"\",\"\",INDEX($AE$163:$AM$189,MATCH(U211&W211&AA211,$AE$163:$AE$189&$AG$163:$AG$189&$AK$163:$AK$189,0),9))","v":"X"},"",null,0,0,0,0,0,0,0,null,"X"]
[null,null,"1003GB","200117-H07","J9I3553","0630","409401196",21294,"SEAL COAT AGGREGATE, GRADE B1","E042","",0,null,"","","","","","","",0,0,0,0,0,0,0,{"$f":"IF(U212=\"\",\"\",INDEX($AE$163:$AM$189,MATCH(U212&W212&AA212,$AE$163:$AE$189&$AG$163:$AG$189&$AK$163:$AK$189,0),9))","v":"X"},"",null,0,0,0,0,0,0,0,null,"X"]
[null,null,"1003GB","200117-H07","J9I3553","0720","409401196",21302,"SEAL COAT AGGREGATE, GRADE B1","E042","",0,null,"","","","","","","",0,0,0,0,0,0,0,{"$f":"IF(U213=\"\",\"\",INDEX($AE$163:$AM$189,MATCH(U213&W213&AA213,$AE$163:$AE$189&$AG$163:$AG$189&$AK$163:$AK$189,0),9))","v":"X"},"",null,0,0,0,0,0,0,0,null,"X"]
[null,null,"1003GB","200117-H07","J9I3553","0770","409401196",21307,"SEAL COAT AGGREGATE, GRADE B1","E042","",0,null,"","","","","","","",0,0,0,0,0,0,0,{"$f":"IF(U214=\"\",\"\",INDEX($AE$163:$AM$189,MATCH(U214&W214&AA214,$AE$163:$AE$189&$AG$163:$AG$189&$AK$163:$AK$189,0),9))","v":"X"},"",null,0,0,0,0,0,0,0,null,"X"]
[null,null,"1003GB","200117-H07","J9I3553","0810","409401196",21311,"SEAL COAT AGGREGATE, GRADE B1","E042","",0,null,"","","","","","","",0,0,0,0,0,0,0,{"$f":"IF(U215=\"\",\"\",INDEX($AE$163:$AM$189,MATCH(U215&W215&AA215,$AE$163:$AE$189&$AG$163:$AG$189&$AK$163:$AK$189,0),9))","v":"X"},"",null,0,0,0,0,0,0,0,null,"X"]
[null,null,"1003GB","200117-H07","J9S3571","1140","409401196",21336,"SEAL COAT AGGREGATE, GRADE B1","E042","",0,null,"","","","","","","",0,0,0,0,0,0,0,{"$f":"IF(U216=\"\",\"\",INDEX($AE$163:$AM$189,MATCH(U216&W216&AA216,$AE$163:$AE$189&$AG$163:$AG$189&$AK$163:$AK$189,0),9))","v":"X"},"",null,0,0,0,0,0,0,0,null,"X"]
[null,null,"1003GB","220916-G07","J8S3221","1180","409401196",64015,"SEAL COAT AGGREGATE, GRADE B1","E042","",0,null,"","","","","","","",0,0,0,0,0,0,0,{"$f":"IF(U217=\"\",\"\",INDEX($AE$163:$AM$189,MATCH(U217&W217&AA217,$AE$163:$AE$189&$AG$163:$AG$189&$AK$163:$AK$189,0),9))","v":"X"},"",null,0,0,0,0,0,0,0,null,"X"]
[null,null,"1003GB","221021-H03","J9P3702","0370","409401196",63505,"SEAL COAT AGGREGATE, GRADE B1","E042","",0,null,"","","","","","","",0,0,0,0,0,0,0,{"$f":"IF(U218=\"\",\"\",INDEX($AE$163:$AM$189,MATCH(U218&W218&AA218,$AE$163:$AE$189&$AG$163:$AG$189&$AK$163:$AK$189,0),9))","v":"X"},"",null,0,0,0,0,0,0,0,null,"X"]
[null,null,"1003GB","221021-H06","J9S3549","0440","409401196",63402,"SEAL COAT AGGREGATE, GRADE B1","E042","",0,null,"","","","","","","",0,0,0,0,0,0,0,{"$f":"IF(U219=\"\",\"\",INDEX($AE$163:$AM$189,MATCH(U219&W219&AA219,$AE$163:$AE$189&$AG$163:$AG$189&$AK$163:$AK$189,0),9))","v":"X"},"",null,0,0,0,0,0,0,0,null,"X"]
[null,null,"1003GB","221216-H02","J9P3615","0100","409401196",66908,"SEAL COAT AGGREGATE, GRADE B1","E042","",0,null,"","","","","","","",0,0,0,0,0,0,0,{"$f":"IF(U220=\"\",\"\",INDEX($AE$163:$AM$189,MATCH(U220&W220&AA220,$AE$163:$AE$189&$AG$163:$AG$189&$AK$163:$AK$189,0),9))","v":"X"},"",null,0,0,0,0,0,0,0,null,"X"]
[null,null,"1003GB","230120-G04","J7P3503","0030","409401196",70297,"SEAL COAT AGGREGATE, GRADE B1","E042","",0,null,"","","","","","","",0,0,0,0,0,0,0,{"$f":"IF(U221=\"\",\"\",INDEX($AE$163:$AM$189,MATCH(U221&W221&AA221,$AE$163:$AE$189&$AG$163:$AG$189&$AK$163:$AK$189,0),9))","v":"X"},"",null,0,0,0,0,0,0,0,null,"X"]
[null,null,"1003GB","230120-G04","JSU0065","0200","409401196",70313,"SEAL COAT AGGREGATE, GRADE B1","E042","",0,null,"","","","","","","",0,0,0,0,0,0,0,{"$f":"IF(U222=\"\",\"\",INDEX($AE$163:$AM$189,MATCH(U222&W222&AA222,$AE$163:$AE$189&$AG$163:$AG$189&$AK$163:$AK$189,0),9))","v":"X"},"",null,0,0,0,0,0,0,0,null,"X"]
[null,null,"1003GB","230217-H01","J9S3191","0210","409401196",71429,"SEAL COAT AGGREGATE, GRADE B1","E042","",0,null,"","","","","","","",0,0,0,0,0,0,0,{"$f":"IF(U223=\"\",\"\",INDEX($AE$163:$AM$189,MATCH(U223&W223&AA223,$AE$163:$AE$189&$AG$163:$AG$189&$AK$163:$AK$189,0),9))","v":"X"},"",null,0,0,0,0,0,0,0,null,"X"]
[null,null,"1003GB","230317-H03","J9S3326","0080","409401196",73129,"SEAL COAT AGGREGATE, GRADE B1","E042","",0,null,"","","","","","","",0,0,0,0,0,0,0,{"$f":"IF(U224=\"\",\"\",INDEX($AE$163:$AM$189,MATCH(U224&W224&AA224,$AE$163:$AE$189&$AG$163:$AG$189&$AK$163:$AK$189,0),9))","v":"X"},"",null,0,0,0,0,0,0,0,null,"X"]
[null,null,"1003GB","230317-H03","J9S3403","0490","409401196",73114,"SEAL COAT AGGREGATE, GRADE B1","E042","",0,null,"","","","","","","",0,0,0,0,0,0,0,{"$f":"IF(U225=\"\",\"\",INDEX($AE$163:$AM$189,MATCH(U225&W225&AA225,$AE$163:$AE$189&$AG$163:$AG$189&$AK$163:$AK$189,0),9))","v":"X"},"",null,0,0,0,0,0,0,0,null,"X"]
[null,null,"1003GB","230421-B04","JNE0135","0060","409401196",74326,"SEAL COAT AGGREGATE, GRADE B1","E042","",0,null,"","","","","","","",0,0,0,0,0,0,0,{"$f":"IF(U226=\"\",\"\",INDEX($AE$163:$AM$189,MATCH(U226&W226&AA226,$AE$163:$AE$189&$AG$163:$AG$189&$AK$163:$AK$189,0),9))","v":"X"},"",null,0,0,0,0,0,0,0,null,"X"]
[null,null,"1003GB","230915-H01","JST0032","0290","409401196",79853,"SEAL COAT AGGREGATE, GRADE B1","E042",{"$f":"IF(C227=$C$162,D227,\"\")","v":""},0,null,{"$f":"(IF(K227=\"\",\"\",IF(OR(D227=$J$33,D227=$T$33, D227=$O$33),D227,\"\")))","v":""},{"$f":"IF(N227=\"\",\"\",F227)","v":""},{"$f":"IF(N227=\"\", \"\", E227)","v":""},{"$f":"IF(N227=\"\", \"\", G227)","v":""},"","","",0,0,0,0,0,0,0,{"$f":"IF(U227=\"\",\"\",INDEX($AE$163:$AM$189,MATCH(U227&W227&AA227,$AE$163:$AE$189&$AG$163:$AG$189&$AK$163:$AK$189,0),9))","v":"X"},{"$f":"IF(ISNA(AB227),\"\",IF(AB227=\"X\",\"\",AB227))","v":""},null,0,0,0,0,0,0,0,null,"X"]
[null,null,"1003GB","230915-H01","JST0041","0600","409401196",79869,"SEAL COAT AGGREGATE, GRADE B1","E042","",0,null,"","","","",{"$f":"IF(N228=\"\",\"\",I228)","v":""},{"$f":"IF(N228=\"\",\"\",J228)","v":""},{"$f":"IF(N228=\"\",\"\",H228)","v":""},0,0,0,0,0,0,0,{"$f":"IF(U228=\"\",\"\",INDEX($AE$163:$AM$189,MATCH(U228&W228&AA228,$AE$163:$AE$189&$AG$163:$AG$189&$AK$163:$AK$189,0),9))","v":"X"},"",null,0,0,0,0,0,0,0,null,{"$f":"IF(ISBLANK(AL228),\"X\",AL228)","v":"X"}]
[null,null,"1003GB2","220916-D01","J5S3472","0130","409401296",61460,"SEAL COAT AGGREGATE, GRADE B2","E042","",0,null,"","","","","","","",0,0,0,0,0,0,0,{"$f":"IF(U229=\"\",\"\",INDEX($AE$163:$AM$189,MATCH(U229&W229&AA229,$AE$163:$AE$189&$AG$163:$AG$189&$AK$163:$AK$189,0),9))","v":"X"},"",null,0,0,0,0,0,0,0,null,"X"]
[null,null,"1003GB2","220916-D01","J5S3472","0150","409401296",61462,"SEAL COAT AGGREGATE, GRADE B2","E042","",0,null,"","","","","","","",0,0,0,0,0,0,0,{"$f":"IF(U230=\"\",\"\",INDEX($AE$163:$AM$189,MATCH(U230&W230&AA230,$AE$163:$AE$189&$AG$163:$AG$189&$AK$163:$AK$189,0),9))","v":"X"},"",null,0,0,0,0,0,0,0,null,"X"]
[null,null,"1003GB2","220916-D01","J5S3472","0170","409401296",61464,"SEAL COAT AGGREGATE, GRADE B2","E042","",0,null,"","","","","","","",0,0,0,0,0,0,0,{"$f":"IF(U231=\"\",\"\",INDEX($AE$163:$AM$189,MATCH(U231&W231&AA231,$AE$163:$AE$189&$AG$163:$AG$189&$AK$163:$AK$189,0),9))","v":"X"},"",null,0,0,0,0,0,0,0,null,"X"]
[null,null,"1003GB2","220916-D06","J5S3474","0090","409401296",61418,"SEAL COAT AGGREGATE, GRADE B2","E042","",0,null,"","","","","","","",0,0,0,0,0,0,0,{"$f":"IF(U232=\"\",\"\",INDEX($AE$163:$AM$189,MATCH(U232&W232&AA232,$AE$163:$AE$189&$AG$163:$AG$189&$AK$163:$AK$189,0),9))","v":"X"},"",null,0,0,0,0,0,0,0,null,"X"]
[null,null,"1003GB2","220916-D06","J5S3474","0110","409401296",61420,"SEAL COAT AGGREGATE, GRADE B2","E042","",0,null,"","","","","","","",0,0,0,0,0,0,0,{"$f":"IF(U233=\"\",\"\",INDEX($AE$163:$AM$189,MATCH(U233&W233&AA233,$AE$163:$AE$189&$AG$163:$AG$189&$AK$163:$AK$189,0),9))","v":"X"},"",null,0,0,0,0,0,0,0,null,"X"]
[null,null,"1003GB2","220916-D06","J5S3474","0130","409401296",61422,"SEAL COAT AGGREGATE, GRADE B2","E042","",0,null,"","","","","","","",0,0,0,0,0,0,0,{"$f":"IF(U234=\"\",\"\",INDEX($AE$163:$AM$189,MATCH(U234&W234&AA234,$AE$163:$AE$189&$AG$163:$AG$189&$AK$163:$AK$189,0),9))","v":"X"},"",null,0,0,0,0,0,0,0,null,"X"]
[null,null,"1003GB2","220916-D06","J5S3474","0150","409401296",61424,"SEAL COAT AGGREGATE, GRADE B2","E042","",0,null,"","","","","","","",0,0,0,0,0,0,0,{"$f":"IF(U235=\"\",\"\",INDEX($AE$163:$AM$189,MATCH(U235&W235&AA235,$AE$163:$AE$189&$AG$163:$AG$189&$AK$163:$AK$189,0),9))","v":"X"},"",null,0,0,0,0,0,0,0,null,"X"]
[null,null,"1003GB2","220916-D06","J5S3571","0170","409401296",61426,"SEAL COAT AGGREGATE, GRADE B2","E042","",0,null,"","","","","","","",0,0,0,0,0,0,0,{"$f":"IF(U236=\"\",\"\",INDEX($AE$163:$AM$189,MATCH(U236&W236&AA236,$AE$163:$AE$189&$AG$163:$AG$189&$AK$163:$AK$189,0),9))","v":"X"},"",null,0,0,0,0,0,0,0,null,"X"]
[null,null,"1003GB2","221216-B04","J2S3389","0540","409401296",66822,"SEAL COAT AGGREGATE, GRADE B2","E042","",0,null,"","","","","","","",0,0,0,0,0,0,0,{"$f":"IF(U237=\"\",\"\",INDEX($AE$163:$AM$189,MATCH(U237&W237&AA237,$AE$163:$AE$189&$AG$163:$AG$189&$AK$163:$AK$189,0),9))","v":"X"},"",null,0,0,0,0,0,0,0,null,"X"]
[null,null,"1003GB2","230519-D10","J5S3466","0070","409401296",76683,"SEAL COAT AGGREGATE, GRADE B2","E042","",0,null,"","","","","","","",0,0,0,0,0,0,0,{"$f":"IF(U238=\"\",\"\",INDEX($AE$163:$AM$189,MATCH(U238&W238&AA238,$AE$163:$AE$189&$AG$163:$AG$189&$AK$163:$AK$189,0),9))","v":"X"},"",null,0,0,0,0,0,0,0,null,"X"]
[null,null,"1003GB2","230915-B02","JNE0017","0100","409401296",80155,"SEAL COAT AGGREGATE, GRADE B2","E042","",0,null,"","","","","","","",0,0,0,0,0,0,0,{"$f":"IF(U239=\"\",\"\",INDEX($AE$163:$AM$189,MATCH(U239&W239&AA239,$AE$163:$AE$189&$AG$163:$AG$189&$AK$163:$AK$189,0),9))","v":"X"},"",null,0,0,0,0,0,0,0,null,"X"]
[null,null,"1003GB2","230915-B05","JNE0014","0020","409401296",80179,"SEAL COAT AGGREGATE, GRADE B2","E042","",0,null,"","","","","","","",0,0,0,0,0,0,0,{"$f":"IF(U240=\"\",\"\",INDEX($AE$163:$AM$189,MATCH(U240&W240&AA240,$AE$163:$AE$189&$AG$163:$AG$189&$AK$163:$AK$189,0),9))","v":"X"},"",null,0,0,0,0,0,0,0,null,"X"]
[null,null,"1003GB2","230915-D02","J5P3518","0200","409401296",79094,"SEAL COAT AGGREGATE, GRADE B2","E042","",0,null,"","","","","","","",0,0,0,0,0,0,0,{"$f":"IF(U241=\"\",\"\",INDEX($AE$163:$AM$189,MATCH(U241&W241&AA241,$AE$163:$AE$189&$AG$163:$AG$189&$AK$163:$AK$189,0),9))","v":"X"},"",null,0,0,0,0,0,0,0,null,"X"]
[null,null,"1003GB2","230915-D02","J5P3518","0220","409401296",79096,"SEAL COAT AGGREGATE, GRADE B2","E042","",0,null,"","","","","","","",0,0,0,0,0,0,0,{"$f":"IF(U242=\"\",\"\",INDEX($AE$163:$AM$189,MATCH(U242&W242&AA242,$AE$163:$AE$189&$AG$163:$AG$189&$AK$163:$AK$189,0),9))","v":"X"},"",null,0,0,0,0,0,0,0,null,"X"]
[null,null,"1003GB2","230915-D02","JCD0017","0240","409401296",79098,"SEAL COAT AGGREGATE, GRADE B2","E042","",0,null,"","","","","","","",0,0,0,0,0,0,0,{"$f":"IF(U243=\"\",\"\",INDEX($AE$163:$AM$189,MATCH(U243&W243&AA243,$AE$163:$AE$189&$AG$163:$AG$189&$AK$163:$AK$189,0),9))","v":"X"},"",null,0,0,0,0,0,0,0,null,"X"]
[null,null,"1003GB2","230915-D02","JCD0018","0340","409401296",79107,"SEAL COAT AGGREGATE, GRADE B2","E042","",0,null,"","","","","","","",0,0,0,0,0,0,0,{"$f":"IF(U244=\"\",\"\",INDEX($AE$163:$AM$189,MATCH(U244&W244&AA244,$AE$163:$AE$189&$AG$163:$AG$189&$AK$163:$AK$189,0),9))","v":"X"},"",null,0,0,0,0,0,0,0,null,"X"]
[null,null,"1003GB2","230915-D03","J5P3527","0020","409401296",79331,"SEAL COAT AGGREGATE, GRADE B2","E042","",0,null,"","","","","","","",0,0,0,0,0,0,0,{"$f":"IF(U245=\"\",\"\",INDEX($AE$163:$AM$189,MATCH(U245&W245&AA245,$AE$163:$AE$189&$AG$163:$AG$189&$AK$163:$AK$189,0),9))","v":"X"},"",null,0,0,0,0,0,0,0,null,"X"]
[null,null,"1003GB2","231020-B02","J2P3411","0020","409401296",80660,"SEAL COAT AGGREGATE, GRADE B2","E042","",0,null,"","","","","","","",0,0,0,0,0,0,0,{"$f":"IF(U246=\"\",\"\",INDEX($AE$163:$AM$189,MATCH(U246&W246&AA246,$AE$163:$AE$189&$AG$163:$AG$189&$AK$163:$AK$189,0),9))","v":"X"},"",null,0,0,0,0,0,0,0,null,"X"]
[null,null,"1003GB2","231020-B03","JNE0011","0440","409401296",80776,"SEAL COAT AGGREGATE, GRADE B2","E042","",0,null,"","","","","","","",0,0,0,0,0,0,0,{"$f":"IF(U247=\"\",\"\",INDEX($AE$163:$AM$189,MATCH(U247&W247&AA247,$AE$163:$AE$189&$AG$163:$AG$189&$AK$163:$AK$189,0),9))","v":"X"},"",null,0,0,0,0,0,0,0,null,"X"]
[null,null,"1003GB2","231020-D05","JCD0025","0040","409401296",80382,"SEAL COAT AGGREGATE, GRADE B2","E042","",0,null,"","","","","","","",0,0,0,0,0,0,0,{"$f":"IF(U248=\"\",\"\",INDEX($AE$163:$AM$189,MATCH(U248&W248&AA248,$AE$163:$AE$189&$AG$163:$AG$189&$AK$163:$AK$189,0),9))","v":"X"},"",null,0,0,0,0,0,0,0,null,"X"]
[null,null,"1003GB2","231020-D05","JCD0025","0180","409401296",80395,"SEAL COAT AGGREGATE, GRADE B2","E042","",0,null,"","","","","","","",0,0,0,0,0,0,0,{"$f":"IF(U249=\"\",\"\",INDEX($AE$163:$AM$189,MATCH(U249&W249&AA249,$AE$163:$AE$189&$AG$163:$AG$189&$AK$163:$AK$189,0),9))","v":"X"},"",null,0,0,0,0,0,0,0,null,"X"]
[null,null,"1003GB2","231020-D05","JCD0026","0200","409401296",80397,"SEAL COAT AGGREGATE, GRADE B2","E042","",0,null,"","","","","","","",0,0,0,0,0,0,0,{"$f":"IF(U250=\"\",\"\",INDEX($AE$163:$AM$189,MATCH(U250&W250&AA250,$AE$163:$AE$189&$AG$163:$AG$189&$AK$163:$AK$189,0),9))","v":"X"},"",null,0,0,0,0,0,0,0,null,"X"]
[null,null,"1003GB2","231020-D07","JCD0047","0020","409401296",80979,"SEAL COAT AGGREGATE, GRADE B2","E042","",0,null,"","","","","","","",0,0,0,0,0,0,0,{"$f":"IF(U251=\"\",\"\",INDEX($AE$163:$AM$189,MATCH(U251&W251&AA251,$AE$163:$AE$189&$AG$163:$AG$189&$AK$163:$AK$189,0),9))","v":"X"},"",null,0,0,0,0,0,0,0,null,"X"]
[null,null,"1003GBLW","220121-A01","J1P3432","0690","409401196",55125,"SEAL COAT AGGREGATE, GRADE B1","E042","",0,null,"","","","","","","",0,0,0,0,0,0,0,{"$f":"IF(U252=\"\",\"\",INDEX($AE$163:$AM$189,MATCH(U252&W252&AA252,$AE$163:$AE$189&$AG$163:$AG$189&$AK$163:$AK$189,0),9))","v":"X"},"",null,0,0,0,0,0,0,0,null,"X"]
[null,null,"1003GC","230616-H01","J9S3371","0080","409402196",77286,"SEAL COAT AGGREGATE, GRADE C","E042","",0,null,"","","","","","","",0,0,0,0,0,0,0,{"$f":"IF(U253=\"\",\"\",INDEX($AE$163:$AM$189,MATCH(U253&W253&AA253,$AE$163:$AE$189&$AG$163:$AG$189&$AK$163:$AK$189,0),9))","v":"X"},"",null,0,0,0,0,0,0,0,null,"X"]
[null,null,"100504..CPCMLD","210917-F05","J6P3418","1900","7039904",45856,"SOIL NAIL WALL SYSTEM","E042","",0,null,"","","","","","","",0,0,0,0,0,0,0,{"$f":"IF(U254=\"\",\"\",INDEX($AE$163:$AM$189,MATCH(U254&W254&AA254,$AE$163:$AE$189&$AG$163:$AG$189&$AK$163:$AK$189,0),9))","v":"X"},"",null,0,0,0,0,0,0,0,null,"X"]
[null,null,"100504..CPCMLD","220715-F01","J6I3020C","0190","401990596",60321,"OPTIONAL TEMPORARY PAVEMENT","E042","",0,null,"","","","","","","",0,0,0,0,0,0,0,{"$f":"IF(U255=\"\",\"\",INDEX($AE$163:$AM$189,MATCH(U255&W255&AA255,$AE$163:$AE$189&$AG$163:$AG$189&$AK$163:$AK$189,0),9))","v":"X"},"",null,0,0,0,0,0,0,0,null,"X"]
[null,null,"100504..CPCMLD","230519-C04","J4P3443","0140","502133496",75862,"CONCRETE PAVEMENT (10 1/2 IN. NON-REINFORCED, 15 FT. JOINTS)","E042","",0,null,"","","","","","","",0,0,0,0,0,0,0,{"$f":"IF(U256=\"\",\"\",INDEX($AE$163:$AM$189,MATCH(U256&W256&AA256,$AE$163:$AE$189&$AG$163:$AG$189&$AK$163:$AK$189,0),9))","v":"X"},"",null,0,0,0,0,0,0,0,null,"X"]
[null,null,"100504..CPCMLD","230519-C04","J4P3443","2010","7034219A96",75961,"TYPE D BARRIER","E042","",0,null,"","","","","","","",0,0,0,0,0,0,0,{"$f":"IF(U257=\"\",\"\",INDEX($AE$163:$AM$189,MATCH(U257&W257&AA257,$AE$163:$AE$189&$AG$163:$AG$189&$AK$163:$AK$189,0),9))","v":"X"},"",null,0,0,0,0,0,0,0,null,"X"]
[null,null,"100504..CPCMLD","230519-C04","J4P3443","2020","703422196",75962,"SLAB ON CONCRETE NU-GIRDER","E042","",0,null,"","","","","","","",0,0,0,0,0,0,0,{"$f":"IF(U258=\"\",\"\",INDEX($AE$163:$AM$189,MATCH(U258&W258&AA258,$AE$163:$AE$189&$AG$163:$AG$189&$AK$163:$AK$189,0),9))","v":"X"},"",null,0,0,0,0,0,0,0,null,"X"]
[null,null,"100507..CPCMLD","210203-C01","J4S3085C","0050","50199DB",49675,"DESIGN BUILD - RIGID PAVEMENTS","E042","",0,null,"","","","","","","",0,0,0,0,0,0,0,{"$f":"IF(U259=\"\",\"\",INDEX($AE$163:$AM$189,MATCH(U259&W259&AA259,$AE$163:$AE$189&$AG$163:$AG$189&$AK$163:$AK$189,0),9))","v":"X"},"",null,0,0,0,0,0,0,0,null,"X"]
[null,null,"100507..CPCMLD","210416-F02","J6S3048","5005","609105296",44932,"CURB AND GUTTER TYPE B","E042","",0,null,"","","","","","","",0,0,0,0,0,0,0,{"$f":"IF(U260=\"\",\"\",INDEX($AE$163:$AM$189,MATCH(U260&W260&AA260,$AE$163:$AE$189&$AG$163:$AG$189&$AK$163:$AK$189,0),9))","v":"X"},"",null,0,0,0,0,0,0,0,null,"X"]
[null,null,"100507..CPCMLD","210521-F01","J6S1718","0460","617310196",43044,"CONCRETE TRAFFIC BARRIER, TYPE D (MODIFIED)","E042","",0,null,"","","","","","","",0,0,0,0,0,0,0,{"$f":"IF(U261=\"\",\"\",INDEX($AE$163:$AM$189,MATCH(U261&W261&AA261,$AE$163:$AE$189&$AG$163:$AG$189&$AK$163:$AK$189,0),9))","v":"X"},"",null,0,0,0,0,0,0,0,null,"X"]
[null,null,"100507..CPCMLD","210521-F01","J6S1718B","2930","609201196",42947,"INTEGRAL CURB (6 IN. HEIGHT AND UNDER) TYPE A","E042","",0,null,"","","","","","","",0,0,0,0,0,0,0,{"$f":"IF(U262=\"\",\"\",INDEX($AE$163:$AM$189,MATCH(U262&W262&AA262,$AE$163:$AE$189&$AG$163:$AG$189&$AK$163:$AK$189,0),9))","v":"X"},"",null,0,0,0,0,0,0,0,null,"X"]
[null,null,"100507..CPCMLD","210521-F01","J6S1718B","2980","617320096",42949,"CONCRETE TRAFFIC BARRIER, TYPE E","E042","",0,null,"","","","","","","",0,0,0,0,0,0,0,{"$f":"IF(U263=\"\",\"\",INDEX($AE$163:$AM$189,MATCH(U263&W263&AA263,$AE$163:$AE$189&$AG$163:$AG$189&$AK$163:$AK$189,0),9))","v":"X"},"",null,0,0,0,0,0,0,0,null,"X"]
[null,null,"100507..CPCMLD","210521-F01","J6S1718C","4420","502110796",43170,"CONCRETE PAVEMENT ( 7 IN. NON-REINF)","E042","",0,null,"","","","","","","",0,0,0,0,0,0,0,{"$f":"IF(U264=\"\",\"\",INDEX($AE$163:$AM$189,MATCH(U264&W264&AA264,$AE$163:$AE$189&$AG$163:$AG$189&$AK$163:$AK$189,0),9))","v":"X"},"",null,0,0,0,0,0,0,0,null,"X"]
[null,null,"100507..CPCMLD","210521-F04","J6P3372","0170","609104196",42306,"CONCRETE GUTTER TYPE A","E042","",0,null,"","","","","","","",0,0,0,0,0,0,0,{"$f":"IF(U265=\"\",\"\",INDEX($AE$163:$AM$189,MATCH(U265&W265&AA265,$AE$163:$AE$189&$AG$163:$AG$189&$AK$163:$AK$189,0),9))","v":"X"},"",null,0,0,0,0,0,0,0,null,"X"]
[null,null,"100507..CPCMLD","210521-F04","J6P3372","0890","502134096",42355,"TYPE A2 SHOULDER","E042","",0,null,"","","","","","","",0,0,0,0,0,0,0,{"$f":"IF(U266=\"\",\"\",INDEX($AE$163:$AM$189,MATCH(U266&W266&AA266,$AE$163:$AE$189&$AG$163:$AG$189&$AK$163:$AK$189,0),9))","v":"X"},"",null,null,null,null,null,null,null,null,null,"X"]
[null,null,"100507..CPCMLD","211217-H05","J9I3597","0570","703460096",50445,"CURB BLOCKOUT","E042","",0,null,"","","","","","","",0,0,0,0,0,0,0,{"$f":"IF(U267=\"\",\"\",INDEX($AE$163:$AM$189,MATCH(U267&W267&AA267,$AE$163:$AE$189&$AG$163:$AG$189&$AK$163:$AK$189,0),9))","v":"X"},"",null,null,null,null,null,null,null,null,null,"X"]
[null,null,"100507..CPCMLD","221216-H04","JSEM0023","0135","6099903",66636,"SOW-BELLY","E042","",0,null,"","","","","","","",0,0,0,0,0,0,0,{"$f":"IF(U268=\"\",\"\",INDEX($AE$163:$AM$189,MATCH(U268&W268&AA268,$AE$163:$AE$189&$AG$163:$AG$189&$AK$163:$AK$189,0),9))","v":"X"},"",null,null,null,null,null,null,null,null,null,"X"]
[null,null,"100510..CPCMLD","190206-G01","J7I3357","1513","5031010A96",25554,"BRIDGE APPROACH SLAB (MAJOR)","E042","",0,null,"","","","","","","",0,0,0,0,0,0,0,{"$f":"IF(U269=\"\",\"\",INDEX($AE$163:$AM$189,MATCH(U269&W269&AA269,$AE$163:$AE$189&$AG$163:$AG$189&$AK$163:$AK$189,0),9))","v":"X"},"",null,null,null,null,null,null,null,null,null,"X"]
[null,null,"100510..CPCMLD","190206-G01","J7I3357","1613","5031010A96",25553,"BRIDGE APPROACH SLAB (MAJOR)","E042","",0,null,"","","","","","","",0,0,0,0,0,0,0,{"$f":"IF(U270=\"\",\"\",INDEX($AE$163:$AM$189,MATCH(U270&W270&AA270,$AE$163:$AE$189&$AG$163:$AG$189&$AK$163:$AK$189,0),9))","v":"X"},"",null,null,null,null,null,null,null,null,null,"X"]
[null,null,"100510..CPCMLD","190206-G01","J7I3357","1713","5031010A96",10726,"BRIDGE APPROACH SLAB (MAJOR)","E042","",0,null,"","","","","","","",0,0,0,0,0,0,0]
[null,null,"100510..CPCMLD","190206-G01","J7I3357","1715","701120596",10727,"ROCK SOCKETS (3 FT 6 IN. DIA.)","E042","",0,null,"","","","","","","",0,0,0,0,0,0,0]
[null,null,"100510..CPCMLD","190206-G01","J7I3357","1718","701110696",10728,"DRILLED SHAFTS (4 FT. 0 IN. DIA.)","E042","",0,null,"","","","","","","",0,0,0,0,0,0,0]
[null,null,"100510..CPCMLD","190206-G01","J7I3357","1727","703200396",10731,"CLASS B CONCRETE (SUBSTRUCTURE)","E042","",0,null,"","","","","","","",0,0,0,0,0,0,0]
[null,null,"100510..CPCMLD","190206-G01","J7I3357","1729","7034219A96",10733,"TYPE D BARRIER","E042","",0,null,"","","","","","","",0,0,0,0,0,0,0]
[null,null,"100510..CPCMLD","190206-G01","J7I3357","1731","703422196",10734,"SLAB ON CONCRETE NU-GIRDER","E042","",0,null,"","","","","","","",0,0,0,0,0,0,0]
[null,null,"100510..CPCMLD","190206-G01","J7I3357","1813","5031010A96",10744,"BRIDGE APPROACH SLAB (MAJOR)","E042","",0,null,"","","","","","","",0,0,0,0,0,0,0]
[null,null,"100510..CPCMLD","190206-G01","J7I3357","1815","701120596",10745,"ROCK SOCKETS (3 FT 6 IN. DIA.)","E042","",0,null,"","","","","","","",0,0,0,0,0,0,0]
[null,null,"100510..CPCMLD","190206-G01","J7I3357","1818","701110696",10746,"DRILLED SHAFTS (4 FT. 0 IN. DIA.)","E042","",0,null,"","","","","","","",0,0,0,0,0,0,0]
[null,null,"100510..CPCMLD","190206-G01","J7I3357","1827","703200396",10749,"CLASS B CONCRETE (SUBSTRUCTURE)","E042","",0,null,"","","","","","","",0,0,0,0,0,0,0]
[null,null,"100510..CPCMLD","190206-G01","J7I3357","1829","7034219A96",10750,"TYPE D BARRIER","E042","",0,null,"","","","","","","",0,0,0,0,0,0,0]
[null,null,"100510..CPCMLD","190206-G01","J7I3357","1831","703422196",10751,"SLAB ON CONCRETE NU-GIRDER","E042","",0,null,"","","","","","","",0,0,0,0,0,0,0]
[null,null,"100510..CPCMLD","190206-G01","J7I3357","2513","5031010A96",10762,"BRIDGE APPROACH SLAB (MAJOR)","E042","",0,null,"","","","","","","",0,0,0,0,0,0,0]
[null,null,"100510..CPCMLD","190206-G01","J7I3357","2527","703200396",10765,"CLASS B CONCRETE (SUBSTRUCTURE)","E042","",0,null,"","","","","","","",0,0,0,0,0,0,0]
[null,null,"100510..CPCMLD","190206-G01","J7I3357","2528","703421496",10766,"CLASS B-2 CONCRETE","E042","",0,null,"","","","","","","",0,0,0,0,0,0,0]
[null,null,"100510..CPCMLD","190206-G01","J7I3357","2628","703421496",10784,"CLASS B-2 CONCRETE","E042","",0,null,"","","","","","","",0,0,0,0,0,0,0]
[null,null,"100510..CPCMLD","190206-G01","J7I3357","2713","5031010A96",10794,"BRIDGE APPROACH SLAB (MAJOR)","E042","",0,null,"","","","","","","",0,0,0,0,0,0,0]
[null,null,"100510..CPCMLD","190206-G01","J7I3357","2715","701120596",10795,"ROCK SOCKETS (3 FT 6 IN. DIA.)","E042","",0,null,"","","","","","","",0,0,0,0,0,0,0]
[null,null,"100510..CPCMLD","190206-G01","J7I3357","2718","701110696",10796,"DRILLED SHAFTS (4 FT. 0 IN. DIA.)","E042","",0,null,"","","","","","","",0,0,0,0,0,0,0]
[null,null,"100510..CPCMLD","190206-G01","J7I3357","2727","703200396",10799,"CLASS B CONCRETE (SUBSTRUCTURE)","E042","",0,null,"","","","","","","",0,0,0,0,0,0,0]
[null,null,"100510..CPCMLD","190206-G01","J7I3357","2729","7034219A96",10800,"TYPE D BARRIER","E042",{"$f":"IF(C291=$C$162,D291,\"\")","v":""},0,null,{"$f":"(IF(K291=\"\",\"\",IF(OR(D291=$J$33,D291=$T$33, D291=$O$33),D291,\"\")))","v":""},{"$f":"IF(N291=\"\",\"\",F291)","v":""},{"$f":"IF(N291=\"\", \"\", E291)","v":""},{"$f":"IF(N291=\"\", \"\", G291)","v":""},"","","",0,0,0,0,0,0,0]
[null,null,"100510..CPCMLD","190206-G01","J7I3357","2731","703422196",10801,"SLAB ON CONCRETE NU-GIRDER","E042","",0,null,"","","","",{"$f":"IF(N292=\"\",\"\",I292)","v":""},{"$f":"IF(N292=\"\",\"\",J292)","v":""},{"$f":"IF(N292=\"\",\"\",H292)","v":""},0,0,0,0,0,0,0]
[null,null,"100510..CPCMLD","190206-G01","J7I3357","2813","5031010A96",10813,"BRIDGE APPROACH SLAB (MAJOR)","E042","",0,null,"","","","","","","",0,0,0,0,0,0,0]
[null,null,"100510..CPCMLD","190206-G01","J7I3357","2827","703200396",10816,"CLASS B CONCRETE (SUBSTRUCTURE)","E042","",0,null,"","","","","","","",0,0,0,0,0,0,0]
[null,null,"100510..CPCMLD","190206-G01","J7I3357","2829","7034219A96",10817,"TYPE D BARRIER","E042","",0,null,"","","","","","","",0,0,0,0,0,0,0]
[null,null,"100510..CPCMLD","190206-G01","J7I3357","2832","703421396",10818,"SLAB ON CONCRETE I-GIRDER","E042","",0,null,"","","","","","","",0,0,0,0,0,0,0]
[null,null,"100510..CPCMLD","190206-G01","J7I3357","2913","5031010A96",10823,"BRIDGE APPROACH SLAB (MAJOR)","E042","",0,null,"","","","","","","",0,0,0,0,0,0,0]
[null,null,"100510..CPCMLD","190206-G01","J7I3357","2927","703200396",10826,"CLASS B CONCRETE (SUBSTRUCTURE)","E042","",0,null,"","","","","","","",0,0,0,0,0,0,0]
[null,null,"100510..CPCMLD","190206-G01","J7I3357","2929","7034219A96",10827,"TYPE D BARRIER","E042","",0,null,"","","","","","","",0,0,0,0,0,0,0]
[null,null,"100510..CPCMLD","190206-G01","J7I3357","2932","703421396",10828,"SLAB ON CONCRETE I-GIRDER","E042","",0,null,"","","","","","","",0,0,0,0,0,0,0]
[null,null,"100510..CPCMLD","190206-G01","J7I3357","2990","720100096",10832,"MECHANICALLY STABILIZED EARTH WALL SYSTEMS","E042","",0,null,"","","","","","","",0,0,0,0,0,0,0]
[null,null,"100510..CPCMLD","190206-G01","J7I3357","2991","720100096",10833,"MECHANICALLY STABILIZED EARTH WALL SYSTEMS","E042","",0,null,"","","","","","","",0,0,0,0,0,0,0]
[null,null,"100510..CPCMLD","190206-G01","J7I3357","2992","720100096",10834,"MECHANICALLY STABILIZED EARTH WALL SYSTEMS","E042","",0,null,"","","","","","","",0,0,0,0,0,0,0]
[null,null,"100510..CPCMLD","190206-G01","J7I3357","2993","720100096",10835,"MECHANICALLY STABILIZED EARTH WALL SYSTEMS","E042","",0,null,"","","","","","","",0,0,0,0,0,0,0]
[null,null,"100510..CPCMLD","190206-G01","J7I3357","3526","703200396",10837,"CLASS B CONCRETE (SUBSTRUCTURE)","E042","",0,null,"","","","","","","",0,0,0,0,0,0,0]
[null,null,"100510..CPCMLD","190206-G01","J7I3357","3613","5031010A96",10840,"BRIDGE APPROACH SLAB (MAJOR)","E042","",0,null,"","","","","","","",0,0,0,0,0,0,0]
[null,null,"100510..CPCMLD","190206-G01","J7I3357","3627","703200396",10845,"CLASS B CONCRETE (SUBSTRUCTURE)","E042","",0,null,"","","","","","","",0,0,0,0,0,0,0]
[null,null,"100510..CPCMLD","190206-G01","J7I3357","3629","7034219A96",10846,"TYPE D BARRIER","E042","",0,null,"","","","","","","",0,0,0,0,0,0,0]
[null,null,"100510..CPCMLD","190206-G01","J7I3357","3630","703421296",10847,"SLAB ON STEEL","E042","",0,null,"","","","","","","",0,0,0,0,0,0,0]
[null,null,"100510..CPCMLD","190206-G01","J7I3357","3713","5031010A96",10853,"BRIDGE APPROACH SLAB (MAJOR)","E042","",0,null,"","","","","","","",0,0,0,0,0,0,0]
[null,null,"100510..CPCMLD","190206-G01","J7I3357","3727","703200396",10858,"CLASS B CONCRETE (SUBSTRUCTURE)","E042","",0,null,"","","","","","","",0,0,0,0,0,0,0]
[null,null,"100510..CPCMLD","190206-G01","J7I3357","3729","7034219A96",10859,"TYPE D BARRIER","E042","",0,null,"","","","","","","",0,0,0,0,0,0,0]
[null,null,"100510..CPCMLD","190206-G01","J7I3357","3730","703421296",10860,"SLAB ON STEEL","E042","",0,null,"","","","","","","",0,0,0,0,0,0,0]
[null,null,"100510..CPCMLD","190206-G01","J7I3357","4513","5031010A96",10865,"BRIDGE APPROACH SLAB (MAJOR)","E042","",0,null,"","","","","","","",0,0,0,0,0,0,0]
[null,null,"100510..CPCMLD","190206-G01","J7I3357","4514","701120496",10866,"ROCK SOCKETS (3 FT  0 IN. DIA.)","E042","",0,null,"","","","","","","",0,0,0,0,0,0,0]
[null,null,"100510..CPCMLD","190206-G01","J7I3357","4517","701110596",10867,"DRILLED SHAFTS (3 FT. 6 IN. DIA.)","E042","",0,null,"","","","","","","",0,0,0,0,0,0,0]
[null,null,"100510..CPCMLD","190206-G01","J7I3357","4527","703200396",10870,"CLASS B CONCRETE (SUBSTRUCTURE)","E042","",0,null,"","","","","","","",0,0,0,0,0,0,0]
[null,null,"100510..CPCMLD","190206-G01","J7I3357","4529","7034219A96",10871,"TYPE D BARRIER","E042","",0,null,"","","","","","","",0,0,0,0,0,0,0]
[null,null,"100510..CPCMLD","190206-G01","J7I3357","4532","703421396",10872,"SLAB ON CONCRETE I-GIRDER","E042","",0,null,"","","","","","","",0,0,0,0,0,0,0]
[null,null,"100510..CPCMLD","190206-G01","J7I3357","4613","5031010A96",10879,"BRIDGE APPROACH SLAB (MAJOR)","E042","",0,null,"","","","","","","",0,0,0,0,0,0,0]
[null,null,"100510..CPCMLD","190206-G01","J7I3357","4614","701120496",10880,"ROCK SOCKETS (3 FT  0 IN. DIA.)","E042","",0,null,"","","","","","","",0,0,0,0,0,0,0]
[null,null,"100510..CPCMLD","190206-G01","J7I3357","4617","701110596",10881,"DRILLED SHAFTS (3 FT. 6 IN. DIA.)","E042","",0,null,"","","","","","","",0,0,0,0,0,0,0]
[null,null,"100510..CPCMLD","190206-G01","J7I3357","4627","703200396",10884,"CLASS B CONCRETE (SUBSTRUCTURE)","E042","",0,null,"","","","","","","",0,0,0,0,0,0,0]
[null,null,"100510..CPCMLD","190206-G01","J7I3357","4629","7034219A96",10885,"TYPE D BARRIER","E042","",0,null,"","","","","","","",0,0,0,0,0,0,0]
[null,null,"100510..CPCMLD","190206-G01","J7I3357","4632","703421396",10886,"SLAB ON CONCRETE I-GIRDER","E042","",0,null,"","","","","","","",0,0,0,0,0,0,0]
[null,null,"100510..CPCMLD","190206-G01","J7I3357","4713","5031010A96",10893,"BRIDGE APPROACH SLAB (MAJOR)","E042","",0,null,"","","","","","","",0,0,0,0,0,0,0]
[null,null,"100510..CPCMLD","190206-G01","J7I3357","4716","701120696",10894,"ROCK SOCKETS (4 FT  0 IN. DIA.)","E042","",0,null,"","","","","","","",0,0,0,0,0,0,0]
[null,null,"100510..CPCMLD","190206-G01","J7I3357","4719","701110796",10895,"DRILLED SHAFTS (4 FT. 6 IN. DIA.)","E042","",0,null,"","","","","","","",0,0,0,0,0,0,0]
[null,null,"100510..CPCMLD","190206-G01","J7I3357","4727","703200396",10898,"CLASS B CONCRETE (SUBSTRUCTURE)","E042","",0,null,"","","","","","","",0,0,0,0,0,0,0]
[null,null,"100510..CPCMLD","190206-G01","J7I3357","4729","7034219A96",10899,"TYPE D BARRIER","E042","",0,null,"","","","","","","",0,0,0,0,0,0,0]
[null,null,"100510..CPCMLD","190206-G01","J7I3357","4733","703421896",10900,"SLAB ON CONCRETE BULB-TEE GIRDER","E042","",0,null,"","","","","","","",0,0,0,0,0,0,0]
[null,null,"100510..CPCMLD","190206-G01","J7I3357","4813","5031010A96",10907,"BRIDGE APPROACH SLAB (MAJOR)","E042","",0,null,"","","","","","","",0,0,0,0,0,0,0]
[null,null,"100510..CPCMLD","190206-G01","J7I3357","4816","701120696",10908,"ROCK SOCKETS (4 FT  0 IN. DIA.)","E042","",0,null,"","","","","","","",0,0,0,0,0,0,0]
[null,null,"100510..CPCMLD","190206-G01","J7I3357","4819","701110796",10909,"DRILLED SHAFTS (4 FT. 6 IN. DIA.)","E042","",0,null,"","","","","","","",0,0,0,0,0,0,0]
[null,null,"100510..CPCMLD","190206-G01","J7I3357","4827","703200396",10912,"CLASS B CONCRETE (SUBSTRUCTURE)","E042","",0,null,"","","","","","","",0,0,0,0,0,0,0]
[null,null,"100510..CPCMLD","190206-G01","J7I3357","4829","7034219A96",10913,"TYPE D BARRIER","E042","",0,null,"","","","","","","",0,0,0,0,0,0,0]
[null,null,"100510..CPCMLD","190206-G01","J7I3357","4833","703421896",10914,"SLAB ON CONCRETE BULB-TEE GIRDER","E042","",0,null,"","","","","","","",0,0,0,0,0,0,0]
[null,null,"100510..CPCMLD","190206-G01","J7I3357","5526","703200396",10921,"CLASS B CONCRETE (SUBSTRUCTURE)","E042","",0,null,"","","","","","","",0,0,0,0,0,0,0]
[null,null,"100510..CPCMLD","190206-G01","J7I3357","6103","504100096",10932,"CONCRETE APPROACH PAVEMENT","E042","",0,null,"","","","","","","",0,0,0,0,0,0,0]
[null,null,"100510..CPCMLD","190206-G01","J7I3357","6104","617310096",10933,"CONCRETE TRAFFIC BARRIER, TYPE D","E042","",0,null,"","","","","","","",0,0,0,0,0,0,0]
[null,null,"100510..CPCMLD","190206-G01","J7I3357","6305","609106096",10973,"PAVED DITCH","E042","",0,null,"","","","","","","",0,0,0,0,0,0,0]
[null,null,"100510..CPCMLD","191115-D02","J5P3121","0130","502133196",15633,"CONCRETE PAVEMENT (7 1/2 IN. NON-REINFORCED, 15 FT. JOINTS)","E042","",0,null,"","","","","","","",0,0,0,0,0,0,0]
[null,null,"100510..CPCMLD","191115-D02","J5P3121","0300","617300096",15649,"CONCRETE TRAFFIC BARRIER, TYPE C","E042","",0,null,"","","","","","","",0,0,0,0,0,0,0]
[null,null,"100510..CPCMLD","191115-D02","J5P3121","0310","617310196",15650,"CONCRETE TRAFFIC BARRIER, TYPE D (MODIFIED)","E042","",0,null,"","","","","","","",0,0,0,0,0,0,0]
[null,null,"100510..CPCMLD","191115-D02","J5P3121","0330","6179905",16263,"CONCRETE TRAFFIC BARRIER PAD, 8 IN. THICK","E042","",0,null,"","","","","","","",0,0,0,0,0,0,0]
[null,null,"100510..CPCMLD","191206-F01","J6I3020B","0010","10199DB",24674,"DESIGN BUILD - GENERAL CONDITIONS","E042","",0,null,"","","","","","","",0,0,0,0,0,0,0]
[null,null,"100510..CPCMLD","191213-H01","J9I3125","0090","401015096",17452,"TYPE A2 SHOULDER","E042","",0,null,"","","","","","","",0,0,0,0,0,0,0]
[null,null,"100510..CPCMLD","191213-H01","J9I3125","0130","403990596",17455,"OPTIONAL PAVEMENT INTERSTATE","E042","",0,null,"","","","","","","",0,0,0,0,0,0,0]
[null,null,"100510..CPCMLD","191213-H01","J9I3125","0140","403990596",17456,"OPTIONAL PAVEMENT TEMPORARY CROSSOVER","E042","",0,null,"","","","","","","",0,0,0,0,0,0,0]
[null,null,"100510..CPCMLD","191213-H01","J9I3125","0145","403990596",17457,"OPTIONAL SHOULDER FOR STAGING","E042","",0,null,"","","","","","","",0,0,0,0,0,0,0]
[null,null,"100510..CPCMLD","191213-H01","J9I3125","0150","504100096",17458,"CONCRETE APPROACH PAVEMENT","E042","",0,null,"","","","","","","",0,0,0,0,0,0,0]
[null,null,"100510..CPCMLD","191213-H01","J9I3125","0170","609104196",17460,"CONCRETE GUTTER TYPE A","E042","",0,null,"","","","","","","",0,0,0,0,0,0,0]
[null,null,"100510..CPCMLD","191213-H01","J9I3125","0530","5031010A96",17483,"BRIDGE APPROACH SLAB (MAJOR)","E042","",0,null,"","","","","","","",0,0,0,0,0,0,0]
[null,null,"100510..CPCMLD","191213-H01","J9I3125","0540","701110696",17484,"DRILLED SHAFTS (4 FT. 0 IN. DIA.)","E042","",0,null,"","","","","","","",0,0,0,0,0,0,0]
[null,null,"100510..CPCMLD","191213-H01","J9I3125","0550","701120596",17485,"ROCK SOCKETS (3 FT 6 IN. DIA.)","E042",{"$f":"IF(C355=$C$162,D355,\"\")","v":""},0,null,{"$f":"(IF(K355=\"\",\"\",IF(OR(D355=$J$33,D355=$T$33, D355=$O$33),D355,\"\")))","v":""},{"$f":"IF(N355=\"\",\"\",F355)","v":""},{"$f":"IF(N355=\"\", \"\", E355)","v":""},{"$f":"IF(N355=\"\", \"\", G355)","v":""},"","","",0,0,0,0,0,0,0]
[null,null,"100510..CPCMLD","191213-H01","J9I3125","0630","703200396",17488,"CLASS B CONCRETE (SUBSTRUCTURE)","E042","",0,null,"","","","",{"$f":"IF(N356=\"\",\"\",I356)","v":""},{"$f":"IF(N356=\"\",\"\",J356)","v":""},{"$f":"IF(N356=\"\",\"\",H356)","v":""},0,0,0,0,0,0,0]
[null,null,"100510..CPCMLD","191213-H01","J9I3125","0640","703400396",17489,"CLASS B-1 CONCRETE (SUBSTRUCTURE)","E042","",0,null,"","","","","","","",0,0,0,0,0,0,0]
[null,null,"100510..CPCMLD","191213-H01","J9I3125","0650","7034219A96",17490,"TYPE D BARRIER","E042","",0,null,"","","","","","","",0,0,0,0,0,0,0]
[null,null,"100510..CPCMLD","191213-H01","J9I3125","0770","5031010A96",17498,"BRIDGE APPROACH SLAB (MAJOR)","E042","",0,null,"","","","","","","",0,0,0,0,0,0,0]
[null,null,"100510..CPCMLD","191213-H01","J9I3125","0780","701110696",17499,"DRILLED SHAFTS (4 FT. 0 IN. DIA.)","E042","",0,null,"","","","","","","",0,0,0,0,0,0,0]
[null,null,"100510..CPCMLD","191213-H01","J9I3125","0790","701120596",17500,"ROCK SOCKETS (3 FT 6 IN. DIA.)","E042","",0,null,"","","","","","","",0,0,0,0,0,0,0]
[null,null,"100510..CPCMLD","191213-H01","J9I3125","0870","703200396",17503,"CLASS B CONCRETE (SUBSTRUCTURE)","E042","",0,null,"","","","","","","",0,0,0,0,0,0,0]
[null,null,"100510..CPCMLD","191213-H01","J9I3125","0880","703400396",17504,"CLASS B-1 CONCRETE (SUBSTRUCTURE)","E042","",0,null,"","","","","","","",0,0,0,0,0,0,0]
[null,null,"100510..CPCMLD","191213-H01","J9I3125","0890","703421396",17505,"SLAB ON CONCRETE I-GIRDER","E042","",0,null,"","","","","","","",0,0,0,0,0,0,0]
[null,null,"100510..CPCMLD","191213-H01","J9I3125","0900","7034219A96",17506,"TYPE D BARRIER","E042","",0,null,"","","","","","","",0,0,0,0,0,0,0]
[null,null,"100510..CPCMLD","191213-H01","J9P3460","1180","403990596",17525,"OPTIONAL PAVEMENT #1","E042","",0,null,"","","","","","","",0,0,0,0,0,0,0]
[null,null,"100510..CPCMLD","191213-H01","J9P3460","1190","403990596",17526,"OPTIONAL PAVEMENT #2","E042","",0,null,"","","","","","","",0,0,0,0,0,0,0]
[null,null,"100510..CPCMLD","191213-H01","J9P3460","1250","502130996",17532,"CONCRETE PAVEMENT (9 IN. NON-REINFORCED 15 FT. JOINTS)","E042","",0,null,"","","","","","","",0,0,0,0,0,0,0]
[null,null,"100510..CPCMLD","191213-H01","J9P3460","1280","608300396",17535,"3 IN. CONCRETE MEDIAN STRIP","E042","",0,null,"","","","","","","",0,0,0,0,0,0,0]
[null,null,"100510..CPCMLD","191213-H01","J9P3460","1290","608300696",17536,"6 IN. CONCRETE MEDIAN STRIP","E042","",0,null,"","","","","","","",0,0,0,0,0,0,0]
[null,null,"100510..CPCMLD","191213-H01","J9P3460","1300","608600496",17537,"CONCRETE SIDEWALK, 4 IN.","E042","",0,null,"","","","","","","",0,0,0,0,0,0,0]
[null,null,"100510..CPCMLD","191213-H01","J9P3460","1310","6089905",28904,"8 IN. CONCRETE MEDIAN STRIP TINTED","E042","",0,null,"","","","","","","",0,0,0,0,0,0,0]
[null,null,"100510..CPCMLD","191213-H01","J9P3460","1320","609101096",17538,"CONCRETE CURB (6 IN. HEIGHT AND UNDER) TYPE S","E042","",0,null,"","","","","","","",0,0,0,0,0,0,0]
[null,null,"100510..CPCMLD","191213-H01","J9P3460","1330","609104296",17539,"CONCRETE GUTTER TYPE B","E042","",0,null,"","","","","","","",0,0,0,0,0,0,0]
[null,null,"100510..CPCMLD","191213-H01","J9P3460","1380","6116010A96",17543,"SLOPE PROTECTION","E042","",0,null,"","","","","","","",0,0,0,0,0,0,0]
[null,null,"100510..CPCMLD","191213-H01","J9P3460","1440","617310096",17549,"CONCRETE TRAFFIC BARRIER, TYPE D","E042","",0,null,"","","","","","","",0,0,0,0,0,0,0]
[null,null,"100510..CPCMLD","191213-H01","J9P3460","1630","701110796",17561,"DRILLED SHAFTS (4 FT. 6 IN. DIA.)","E042","",0,null,"","","","","","","",0,0,0,0,0,0,0]
[null,null,"100510..CPCMLD","191213-H01","J9P3460","1660","703404196",17562,"CLASS B-1 CONCRETE (CULVERTS)","E042","",0,null,"","","","","","","",0,0,0,0,0,0,0]
[null,null,"100510..CPCMLD","191213-H01","J9P3460","1960","502130996",17588,"CONCRETE PAVEMENT (9 IN. NON-REINFORCED 15 FT. JOINTS)","E042","",0,null,"","","","","","","",0,0,0,0,0,0,0]
[null,null,"100510..CPCMLD","191213-H01","J9P3460","1980","502134096",17589,"TYPE A2 SHOULDER","E042","",0,null,"","","","","","","",0,0,0,0,0,0,0]
[null,null,"100510..CPCMLD","191213-H01","J9I3125","5010","7034219A96",56507,"TYPE D BARRIER","E042","",0,null,"","","","","","","",0,0,0,0,0,0,0]
[null,null,"100510..CPCMLD","191213-H01","J9P3460","5102","613101096",24774,"FURNISHING AND PLACING CONCRETE MATERIAL FOR FULL DEPTH PAVEMENT REPAIR","E042","",0,null,"","","","","","","",0,0,0,0,0,0,0]
[null,null,"100510..CPCMLD","191213-H01","J9P3460","5103","613101096",24775,"FURNISHING AND PLACING CONCRETE MATERIAL FOR FULL DEPTH PAVEMENT REPAIR","E042","",0,null,"","","","","","","",0,0,0,0,0,0,0]
[null,null,"100510..CPCMLD","200117-H07","J9I3553","0080","608300396",21248,"3 IN. CONCRETE MEDIAN STRIP","E042","",0,null,"","","","","","","",0,0,0,0,0,0,0]
[null,null,"100510..CPCMLD","200117-H07","J9I3553","0100","613101096",28162,"FURNISHING AND PLACING CONCRETE MATERIAL FOR FULL DEPTH PAVEMENT REPAIR","E042","",0,null,"","","","","","","",0,0,0,0,0,0,0]
[null,null,"100510..CPCMLD","200117-H07","J9I3553","0340","703400196",21267,"CLASS B-1 CONCRETE","E042","",0,null,"","","","","","","",0,0,0,0,0,0,0]
[null,null,"100510..CPCMLD","200117-H07","J9I3553","0420","703460096",21275,"CURB BLOCKOUT","E042","",0,null,"","","","","","","",0,0,0,0,0,0,0]
[null,null,"100510..CPCMLD","200117-H07","J9I3553","0430","704010496",21276,"HALF-SOLE REPAIR","E042","",0,null,"","","","","","","",0,0,0,0,0,0,0]
[null,null,"100510..CPCMLD","200117-H07","J9I3553","0470","703460096",21280,"CURB BLOCKOUT","E042","",0,null,"","","","","","","",0,0,0,0,0,0,0]
[null,null,"100510..CPCMLD","200117-H07","J9I3553","0480","704010496",21281,"HALF-SOLE REPAIR","E042","",0,null,"","","","","","","",0,0,0,0,0,0,0]
[null,null,"100510..CPCMLD","200117-H07","J9I3553","0520","703460096",21285,"CURB BLOCKOUT","E042","",0,null,"","","","","","","",0,0,0,0,0,0,0]
[null,null,"100510..CPCMLD","200117-H07","J9I3553","0570","703460096",21290,"CURB BLOCKOUT","E042","",0,null,"","","","","","","",0,0,0,0,0,0,0]
[null,null,"100510..CPCMLD","200117-H07","J9I3553","0640","703421496",21295,"CLASS B-2 CONCRETE","E042","",0,null,"","","","","","","",0,0,0,0,0,0,0]
[null,null,"100510..CPCMLD","200117-H07","J9I3553","0650","703460096",21296,"CURB BLOCKOUT","E042","",0,null,"","","","","","","",0,0,0,0,0,0,0]
[null,null,"100510..CPCMLD","200117-H07","J9I3553","0730","703460096",21303,"CURB BLOCKOUT","E042","",0,null,"","","","","","","",0,0,0,0,0,0,0]
[null,null,"100510..CPCMLD","200918-F02","J6S3049","0130","502400896",30493,"CONCRETE BASE ( 8 IN. NON-REINF)","E042","",0,null,"","","","","","","",0,0,0,0,0,0,0]
[null,null,"100510..CPCMLD","200918-F02","J6S3049","0170","6042010",40587,"ADJUSTING MANHOLE","E042","",0,null,"","","","","","","",0,0,0,0,0,0,0]
[null,null,"100510..CPCMLD","200918-F02","J6S3049","0180","6042020",40588,"ADJUSTING BASIN OR INLET","E042","",0,null,"","","","","","","",0,0,0,0,0,0,0]
[null,null,"100510..CPCMLD","200918-F02","J6S3049","0190","604401196",30494,"PIPE COLLAR, TYPE A","E042","",0,null,"","","","","","","",0,0,0,0,0,0,0]
[null,null,"100510..CPCMLD","200918-F02","J6S3049","0200","604990296",30599,"PIPE CONNECTION TO REINFORCED CONCRETE BOX (INCLUDES ANY EXCAVATION)","E042","",0,null,"","","","","","","",0,0,0,0,0,0,0]
[null,null,"100510..CPCMLD","200918-F02","J6S3049","0220","608300696",30496,"6 IN. CONCRETE MEDIAN STRIP","E042","",0,null,"","","","","","","",0,0,0,0,0,0,0]
[null,null,"100510..CPCMLD","200918-F02","J6S3049","0230","608500796",30497,"PAVED APPROACH, 7 IN.","E042","",0,null,"","","","","","","",0,0,0,0,0,0,0]
[null,null,"100510..CPCMLD","200918-F02","J6S3049","0240","608500896",30498,"PAVED APPROACH, 8 IN.","E042","",0,null,"","","","","","","",0,0,0,0,0,0,0]
[null,null,"100510..CPCMLD","200918-F02","J6S3049","0250","608600496",30499,"CONCRETE SIDEWALK, 4 IN.","E042","",0,null,"","","","","","","",0,0,0,0,0,0,0]
[null,null,"100510..CPCMLD","200918-F02","J6S3049","0260","608990296",30600,"ADA CURB RAMP","E042","",0,null,"","","","","","","",0,0,0,0,0,0,0]
[null,null,"100510..CPCMLD","200918-F02","J6S3049","0270","6089905",35390,"CONCRETE SIDEWALK, 4 IN., TINTED","E042","",0,null,"","","","","","","",0,0,0,0,0,0,0]
[null,null,"100510..CPCMLD","200918-F02","J6S3049","0280","609101096",30500,"CONCRETE CURB (6 IN. HEIGHT AND UNDER) TYPE S","E042","",0,null,"","","","","","","",0,0,0,0,0,0,0]
[null,null,"100510..CPCMLD","200918-F02","J6S3049","0290","609105296",30501,"CURB AND GUTTER TYPE B","E042","",0,null,"","","","","","","",0,0,0,0,0,0,0]
[null,null,"100510..CPCMLD","200918-F02","J6S3049","0310","6099903",35397,"INTEGRAL CURB (6 IN. HEIGHT AND UNDER) TYPE B","E042","",0,null,"","","","","","","",0,0,0,0,0,0,0]
[null,null,"100510..CPCMLD","200918-F02","J6S3049","0350","613101096",30505,"FURNISHING AND PLACING CONCRETE MATERIAL FOR FULL DEPTH PAVEMENT REPAIR","E042","",0,null,"","","","","","","",0,0,0,0,0,0,0]
[null,null,"100510..CPCMLD","200918-F02","J6S3049","0840","7269902",38962,"4' SPECIAL FLUME","E042","",0,null,"","","","","","","",0,0,0,0,0,0,0]
[null,null,"100510..CPCMLD","200918-F02","J6S3049","0850","7269902",38964,"REINFORCED SIDEWALK COVERED INLET EXTENSION","E042","",0,null,"","","","","","","",0,0,0,0,0,0,0]
[null,null,"100510..CPCMLD","200918-F02","J6S3049","1510","902910096",30580,"BASE, CONCRETE","E042","",0,null,"","","","","","","",0,0,0,0,0,0,0]
[null,null,"100510..CPCMLD","200918-F02","J6S3049","1620","903101096",30581,"CONCRETE FOOTINGS, EMBEDDED","E042","",0,null,"","","","","","","",0,0,0,0,0,0,0]
[null,null,"100510..CPCMLD","200918-F02","J6S3049","1840","6089905",38919,"GRG 8 IN. SPECIAL PAVED APPROACH WITH 2 IN. CURB","E042","",0,null,"","","","","","","",0,0,0,0,0,0,0]
[null,null,"100510..CPCMLD","200918-F02","J6S3049","1850","6089905",40949,"GRG CONCRETE SIDEWALK 4-IN.","E042","",0,null,"","","","","","","",0,0,0,0,0,0,0]
[null,null,"100510..CPCMLD","200918-F02","J6S3049","1960","7209904",40951,"GRG MODULAR SMALL BLOCK WALL","E042","",0,null,"","","","","","","",0,0,0,0,0,0,0]
[null,null,"100510..CPCMLD","200918-F02","J6S3049","5004","609104296",44228,"CONCRETE GUTTER TYPE B","E042","",0,null,"","","","","","","",0,0,0,0,0,0,0]
[null,null,"100510..CPCMLD","200918-F02","J6S3049","5007","617310196",44231,"CONCRETE TRAFFIC BARRIER, TYPE D (MODIFIED)","E042",{"$f":"IF(C419=$C$162,D419,\"\")","v":""},0,null,{"$f":"(IF(K419=\"\",\"\",IF(OR(D419=$J$33,D419=$T$33, D419=$O$33),D419,\"\")))","v":""},{"$f":"IF(N419=\"\",\"\",F419)","v":""},{"$f":"IF(N419=\"\", \"\", E419)","v":""},{"$f":"IF(N419=\"\", \"\", G419)","v":""},"","","",0,0,0,0,0,0,0]
[null,null,"100510..CPCMLD","201016-G01","J7I3363","0100","504100096",31687,"CONCRETE APPROACH PAVEMENT","E042","",0,null,"","","","",{"$f":"IF(N420=\"\",\"\",I420)","v":""},{"$f":"IF(N420=\"\",\"\",J420)","v":""},{"$f":"IF(N420=\"\",\"\",H420)","v":""},0,0,0,0,0,0,0]
[null,null,"100510..CPCMLD","201016-G01","J7I3363","0110","609201196",31689,"INTEGRAL CURB (6 IN. HEIGHT AND UNDER) TYPE A","E042","",0,null,"","","","","","","",0,0,0,0,0,0,0]
[null,null,"100510..CPCMLD","201016-G01","J7I3363","0560","5031010A96",31723,"BRIDGE APPROACH SLAB (MAJOR)","E042","",0,null,"","","","","","","",0,0,0,0,0,0,0]
[null,null,"100510..CPCMLD","201016-G01","J7I3363","0580","701110896",31725,"DRILLED SHAFTS (5 FT. 0 IN. DIA.)","E042","",0,null,"","","","","","","",0,0,0,0,0,0,0]
[null,null,"100510..CPCMLD","201016-G01","J7I3363","0590","701120796",31726,"ROCK SOCKETS (4 FT  6 IN. DIA.)","E042","",0,null,"","","","","","","",0,0,0,0,0,0,0]
[null,null,"100510..CPCMLD","201016-G01","J7I3363","0650","703200396",31729,"CLASS B CONCRETE (SUBSTRUCTURE)","E042","",0,null,"","","","","","","",0,0,0,0,0,0,0]
[null,null,"100510..CPCMLD","201016-G01","J7I3363","0660","7034219A96",31730,"TYPE D BARRIER","E042","",0,null,"","","","","","","",0,0,0,0,0,0,0]
[null,null,"100510..CPCMLD","201016-G01","J7I3363","0670","703422196",31731,"SLAB ON CONCRETE NU-GIRDER","E042","",0,null,"","","","","","","",0,0,0,0,0,0,0]
[null,null,"100510..CPCMLD","201016-G01","J7I3363","0720","701110496",31736,"DRILLED SHAFTS (3 FT. 0 IN. DIA.)","E042","",0,null,"","","","","","","",0,0,0,0,0,0,0]
[null,null,"100510..CPCMLD","201016-G01","J7I3363","0730","701120396",31737,"ROCK SOCKETS (2 FT  6IN. DIA.)","E042","",0,null,"","","","","","","",0,0,0,0,0,0,0]
[null,null,"100510..CPCMLD","201016-G01","J7I3363","0780","701110496",31739,"DRILLED SHAFTS (3 FT. 0 IN. DIA.)","E042","",0,null,"","","","","","","",0,0,0,0,0,0,0]
[null,null,"100510..CPCMLD","201016-G01","J7I3363","0790","701120396",31740,"ROCK SOCKETS (2 FT  6IN. DIA.)","E042","",0,null,"","","","","","","",0,0,0,0,0,0,0]
[null,null,"100510..CPCMLD","201120-C06","J4P3213","0220","605402096",33051,"OUTLET PIPES AND SPLASH PADS","E042","",0,null,"","","","","","","",0,0,0,0,0,0,0]
[null,null,"100510..CPCMLD","201120-C06","J4P3213","0250","608500796",33052,"PAVED APPROACH, 7 IN.","E042","",0,null,"","","","","","","",0,0,0,0,0,0,0]
[null,null,"100510..CPCMLD","201120-G10","J8P3032B","0120","502130596",46368,"CONCRETE PAVEMENT (5 3/4 IN. NON-REINFORCED, 15 FT. JOINTS)","E042","",0,null,"","","","","","","",0,0,0,0,0,0,0]
[null,null,"100510..CPCMLD","201120-G10","J8P3032B","0130","502131296",33256,"CONCRETE PAVEMENT (12 IN. NON-REINFORCED 15 FT. JOINTS)","E042","",0,null,"","","","","","","",0,0,0,0,0,0,0]
[null,null,"100510..CPCMLD","201120-G10","J8P3032B","0140","502990596",33257,"8 IN. TRUCK APRON (PIGMENTED & TEXTURED)","E042","",0,null,"","","","","","","",0,0,0,0,0,0,0]
[null,null,"100510..CPCMLD","201120-G10","J8P3032B","0180","608100096",33260,"CONCRETE MEDIAN","E042","",0,null,"","","","","","","",0,0,0,0,0,0,0]
[null,null,"100510..CPCMLD","201120-G10","J8P3032B","0190","608101096",33261,"CONCRETE CURB RAMP","E042","",0,null,"","","","","","","",0,0,0,0,0,0,0]
[null,null,"100510..CPCMLD","201120-G10","J8P3032B","0210","608300896",33263,"8 IN. CONCRETE MEDIAN STRIP","E042","",0,null,"","","","","","","",0,0,0,0,0,0,0]
[null,null,"100510..CPCMLD","201120-G10","J8P3032B","0220","608600496",33264,"CONCRETE SIDEWALK, 4 IN.","E042","",0,null,"","","","","","","",0,0,0,0,0,0,0]
[null,null,"100510..CPCMLD","201120-G10","J8P3032B","0230","609105296",58588,"CURB AND GUTTER TYPE B","E042","",0,null,"","","","","","","",0,0,0,0,0,0,0]
[null,null,"100510..CPCMLD","201120-G10","J8P3032B","0240","609201196",33266,"INTEGRAL CURB (6 IN. HEIGHT AND UNDER) TYPE A","E042","",0,null,"","","","","","","",0,0,0,0,0,0,0]
[null,null,"100510..CPCMLD","201120-G10","J8P3032B","0470","617300096",33285,"CONCRETE TRAFFIC BARRIER, TYPE C","E042","",0,null,"","","","","","","",0,0,0,0,0,0,0]
[null,null,"100510..CPCMLD","201120-G10","J8P3032B","0480","617310096",33286,"CONCRETE TRAFFIC BARRIER, TYPE D","E042","",0,null,"","","","","","","",0,0,0,0,0,0,0]
[null,null,"100510..CPCMLD","201120-G10","J8P3032B","0490","617310196",33287,"CONCRETE TRAFFIC BARRIER, TYPE D (MODIFIED)","E042","",0,null,"","","","","","","",0,0,0,0,0,0,0]
[null,null,"100510..CPCMLD","201120-G10","J8P3032B","0560","6179903",33806,"CONCRETE TRAFFIC BARRIER, TYPE D (MEDIAN) (MODIFIED)","E042","",0,null,"","","","","","","",0,0,0,0,0,0,0]
[null,null,"100510..CPCMLD","201120-G10","J8P3032B","1150","401015096",42791,"TYPE A2 SHOULDER","E042","",0,null,"","","","","","","",0,0,0,0,0,0,0]
[null,null,"100510..CPCMLD","201120-G10","J8P3032B","1180","609101096",33395,"CONCRETE CURB (6 IN. HEIGHT AND UNDER) TYPE S","E042","",0,null,"","","","","","","",0,0,0,0,0,0,0]
[null,null,"100510..CPCMLD","201120-G10","J8P3032B","1190","609203296",33396,"CONCRETE CURB LOW PROFILE TYPE F","E042","",0,null,"","","","","","","",0,0,0,0,0,0,0]
[null,null,"100510..CPCMLD","201120-G10","J8P3032B","1440","9019902",33944,"FURNISH/INSTALL FOUNDATION PER STD. WITH GALV. ANCHOR BOLTS (WW40S-*)","E042","",0,null,"","","","","","","",0,0,0,0,0,0,0]
[null,null,"100510..CPCMLD","201120-G10","J8P3032B","1790","903102096",33375,"CONCRETE FOOTINGS, BOLT DOWN","E042","",0,null,"","","","","","","",0,0,0,0,0,0,0]
[null,null,"100510..CPCMLD","201120-G10","J8P3032B","5012","502130996",44953,"CONCRETE PAVEMENT (9 IN. NON-REINFORCED 15 FT. JOINTS)","E042","",0,null,"","","","","","","",0,0,0,0,0,0,0]
[null,null,"100510..CPCMLD","201120-G10","J8P3032B","5018","502133396",60348,"CONCRETE PAVEMENT (9 1/2 IN. NON-REINFORCED, 15 FT. JOINTS)","E042","",0,null,"","","","","","","",0,0,0,0,0,0,0]
[null,null,"100510..CPCMLD","201218-C04","J4P3015","0120","504100096",34239,"CONCRETE APPROACH PAVEMENT","E042","",0,null,"","","","","","","",0,0,0,0,0,0,0]
[null,null,"100510..CPCMLD","210203-C01","J4S3085C","0050","50199DB",49675,"DESIGN BUILD - RIGID PAVEMENTS","E042","",0,null,"","","","","","","",0,0,0,0,0,0,0]
[null,null,"100510..CPCMLD","210416-F02","J6S3048","0100","502131096",44297,"CONCRETE PAVEMENT (10 IN. NON-REINFORCED 15 FT. JOINTS)","E042","",0,null,"","","","","","","",0,0,0,0,0,0,0]
[null,null,"100510..CPCMLD","210416-F02","J6S3048","0150","604401196",41044,"PIPE COLLAR, TYPE A","E042","",0,null,"","","","","","","",0,0,0,0,0,0,0]
[null,null,"100510..CPCMLD","210416-F02","J6S3048","0160","604990296",44961,"CONVERT INLET TO MANHOLE","E042","",0,null,"","","","","","","",0,0,0,0,0,0,0]
[null,null,"100510..CPCMLD","210416-F02","J6S3048","0190","608300696",44298,"6 IN. CONCRETE MEDIAN STRIP","E042","",0,null,"","","","","","","",0,0,0,0,0,0,0]
[null,null,"100510..CPCMLD","210416-F02","J6S3048","0200","608500896",41048,"PAVED APPROACH, 8 IN.","E042","",0,null,"","","","","","","",0,0,0,0,0,0,0]
[null,null,"100510..CPCMLD","210416-F02","J6S3048","0210","608600496",41049,"CONCRETE SIDEWALK, 4 IN.","E042","",0,null,"","","","","","","",0,0,0,0,0,0,0]
[null,null,"100510..CPCMLD","210416-F02","J6S3048","0220","608600796",41050,"CONCRETE SIDEWALK, 7 IN.","E042","",0,null,"","","","","","","",0,0,0,0,0,0,0]
[null,null,"100510..CPCMLD","210416-F02","J6S3048","0230","608990296",41155,"CONCRETE CURB RAMP","E042","",0,null,"","","","","","","",0,0,0,0,0,0,0]
[null,null,"100510..CPCMLD","210416-F02","J6S3048","0240","608990296",41156,"CONCRETE CURB RAMP, CORAL COLOR","E042","",0,null,"","","","","","","",0,0,0,0,0,0,0]
[null,null,"100510..CPCMLD","210416-F02","J6S3048","0250","6089905",41353,"CONCRETE SIDEWALK REPAIR, 4 IN.","E042","",0,null,"","","","","","","",0,0,0,0,0,0,0]
[null,null,"100510..CPCMLD","210416-F02","J6S3048","0260","6089905",41354,"CONCRETE SIDEWALK REPAIR, 4 IN., CORAL COLOR","E042","",0,null,"","","","","","","",0,0,0,0,0,0,0]
[null,null,"100510..CPCMLD","210416-F02","J6S3048","0270","6089905",41355,"CONCRETE SIDEWALK, 4 IN., CORAL COLOR","E042","",0,null,"","","","","","","",0,0,0,0,0,0,0]
[null,null,"100510..CPCMLD","210416-F02","J6S3048","0290","609101096",41051,"CONCRETE CURB (6 IN. HEIGHT AND UNDER) TYPE S","E042","",0,null,"","","","","","","",0,0,0,0,0,0,0]
[null,null,"100510..CPCMLD","210416-F02","J6S3048","0300","609104196",41052,"CONCRETE GUTTER TYPE A","E042","",0,null,"","","","","","","",0,0,0,0,0,0,0]
[null,null,"100510..CPCMLD","210416-F02","J6S3048","0310","609201196",41053,"INTEGRAL CURB (6 IN. HEIGHT AND UNDER) TYPE A","E042","",0,null,"","","","","","","",0,0,0,0,0,0,0]
[null,null,"100510..CPCMLD","210416-F02","J6S3048","0320","609202196",41054,"INTEGRAL CURB (OVER 6 IN. HEIGHT) TYPE A","E042","",0,null,"","","","","","","",0,0,0,0,0,0,0]
[null,null,"100510..CPCMLD","210416-F02","J6S3048","0330","609203196",41055,"CONCRETE CURB LOW PROFILE TYPE E","E042","",0,null,"","","","","","","",0,0,0,0,0,0,0]
[null,null,"100510..CPCMLD","210416-F02","J6S3048","0360","6099903",42755,"LANDSCAPE CURB","E042","",0,null,"","","","","","","",0,0,0,0,0,0,0]
[null,null,"100510..CPCMLD","210416-F02","J6S3048","0370","6099903",42756,"SLOTTED INTEGRAL CURB","E042","",0,null,"","","","","","","",0,0,0,0,0,0,0]
[null,null,"100510..CPCMLD","210416-F02","J6S3048","0380","6116010A96",41057,"SLOPE PROTECTION","E042","",0,null,"","","","","","","",0,0,0,0,0,0,0]
[null,null,"100510..CPCMLD","210416-F02","J6S3048","0390","6119905",41356,"SLOPE PROTECTION, CORAL COLOR","E042","",0,null,"","","","","","","",0,0,0,0,0,0,0]
[null,null,"100510..CPCMLD","210416-F02","J6S3048","0400","613101096",44299,"FURNISHING AND PLACING CONCRETE MATERIAL FOR FULL DEPTH PAVEMENT REPAIR","E042","",0,null,"","","","","","","",0,0,0,0,0,0,0]
[null,null,"100510..CPCMLD","210416-F02","J6S3048","0500","6179903",42764,"CONCRETE TRAFFIC BARRIER, TYPE C (PERFORATED)","E042","",0,null,"","","","","","","",0,0,0,0,0,0,0]
[null,null,"100510..CPCMLD","210416-F02","J6S3048","0750","7039903",42779,"SPECIAL GUTTER RETAINING WALL","E042","",0,null,"","","","","","","",0,0,0,0,0,0,0]
[null,null,"100510..CPCMLD","210416-F02","J6S3048","1810","903101096",41145,"CONCRETE FOOTINGS, EMBEDDED","E042","",0,null,"","","","","","","",0,0,0,0,0,0,0]
[null,null,"100510..CPCMLD","210416-F02","J6S3048","5004","608990596",44935,"Misc. Concrete Sidewalk, 7 IN. Coral Color","E042","",0,null,"","","","","","","",0,0,0,0,0,0,0]
[null,null,"100510..CPCMLD","210416-F02","J6S3048","5005","609105296",44932,"CURB AND GUTTER TYPE B","E042","",0,null,"","","","","","","",0,0,0,0,0,0,0]
[null,null,"100510..CPCMLD","210416-F02","J6S3048","5006","6099903",44947,"Integral Curb (6 IN Height and Under), Type A, Coral Color","E042",{"$f":"IF(C483=$C$162,D483,\"\")","v":""},0,null,{"$f":"(IF(K483=\"\",\"\",IF(OR(D483=$J$33,D483=$T$33, D483=$O$33),D483,\"\")))","v":""},{"$f":"IF(N483=\"\",\"\",F483)","v":""},{"$f":"IF(N483=\"\", \"\", E483)","v":""},{"$f":"IF(N483=\"\", \"\", G483)","v":""},"","","",0,0,0,0,0,0,0]
[null,null,"100510..CPCMLD","210521-D05","J5S3290","0370","703404196",42150,"CLASS B-1 CONCRETE (CULVERTS)","E042","",0,null,"","","","",{"$f":"IF(N484=\"\",\"\",I484)","v":""},{"$f":"IF(N484=\"\",\"\",J484)","v":""},{"$f":"IF(N484=\"\",\"\",H484)","v":""},0,0,0,0,0,0,0]
[null,null,"100510..CPCMLD","210521-D05","J5S3395","0880","703404196",42055,"CLASS B-1 CONCRETE (CULVERTS)","E042","",0,null,"","","","","","","",0,0,0,0,0,0,0]
[null,null,"100510..CPCMLD","210521-F01","J6S1718","0130","502110796",43022,"CONCRETE PAVEMENT ( 7 IN. NON-REINF)","E042","",0,null,"","","","","","","",0,0,0,0,0,0,0]
[null,null,"100510..CPCMLD","210521-F01","J6S1718","0140","502110996",43023,"CONCRETE PAVEMENT ( 9 IN. NON-REINF)","E042","",0,null,"","","","","","","",0,0,0,0,0,0,0]
[null,null,"100510..CPCMLD","210521-F01","J6S1718","0150","504100096",43024,"CONCRETE APPROACH PAVEMENT","E042","",0,null,"","","","","","","",0,0,0,0,0,0,0]
[null,null,"100510..CPCMLD","210521-F01","J6S1718","0160","607110296",43025,"MODIFIED CONCRETE GUTTER TYPE B","E042","",0,null,"","","","","","","",0,0,0,0,0,0,0]
[null,null,"100510..CPCMLD","210521-F01","J6S1718","0190","608300896",43027,"8 IN. CONCRETE MEDIAN STRIP","E042","",0,null,"","","","","","","",0,0,0,0,0,0,0]
[null,null,"100510..CPCMLD","210521-F01","J6S1718","0210","608500796",43028,"PAVED APPROACH, 7 IN.","E042","",0,null,"","","","","","","",0,0,0,0,0,0,0]
[null,null,"100510..CPCMLD","210521-F01","J6S1718","0220","608600496",43029,"CONCRETE SIDEWALK, 4 IN.","E042","",0,null,"","","","","","","",0,0,0,0,0,0,0]
[null,null,"100510..CPCMLD","210521-F01","J6S1718","0230","608600896",43030,"CONCRETE SIDEWALK, 8 IN.","E042","",0,null,"","","","","","","",0,0,0,0,0,0,0]
[null,null,"100510..CPCMLD","210521-F01","J6S1718","0260","609101096",43031,"CONCRETE CURB (6 IN. HEIGHT AND UNDER) TYPE S","E042","",0,null,"","","","","","","",0,0,0,0,0,0,0]
[null,null,"100510..CPCMLD","210521-F01","J6S1718","0270","609105296",43032,"CURB AND GUTTER TYPE B","E042","",0,null,"","","","","","","",0,0,0,0,0,0,0]
[null,null,"100510..CPCMLD","210521-F01","J6S1718","0280","609201196",43033,"INTEGRAL CURB (6 IN. HEIGHT AND UNDER) TYPE A","E042","",0,null,"","","","","","","",0,0,0,0,0,0,0]
[null,null,"100510..CPCMLD","210521-F01","J6S1718","0290","609201296",43034,"INTEGRAL CURB (6 IN. HEIGHT AND UNDER) TYPE B","E042","",0,null,"","","","","","","",0,0,0,0,0,0,0]
[null,null,"100510..CPCMLD","210521-F01","J6S1718","0300","6099903",45992,"MODIFIED CURB","E042","",0,null,"","","","","","","",0,0,0,0,0,0,0]
[null,null,"100510..CPCMLD","210521-F01","J6S1718","0310","6099903",45993,"MODIFIED CURB TYPE A","E042","",0,null,"","","","","","","",0,0,0,0,0,0,0]
[null,null,"100510..CPCMLD","210521-F01","J6S1718","0340","613101096",43036,"FURNISHING AND PLACING CONCRETE MATERIAL FOR FULL DEPTH PAVEMENT REPAIR","E042","",0,null,"","","","","","","",0,0,0,0,0,0,0]
[null,null,"100510..CPCMLD","210521-F01","J6S1718","0460","617310196",43044,"CONCRETE TRAFFIC BARRIER, TYPE D (MODIFIED)","E042","",0,null,"","","","","","","",0,0,0,0,0,0,0]
[null,null,"100510..CPCMLD","210521-F01","J6S1718","0490","6179902",45995,"CONCRETE BARRIER HEIGHT TRANSITION","E042","",0,null,"","","","","","","",0,0,0,0,0,0,0]
[null,null,"100510..CPCMLD","210521-F01","J6S1718","0700","7209904",46008,"SMALL BLOCK WALL","E042","",0,null,"","","","","","","",0,0,0,0,0,0,0]
[null,null,"100510..CPCMLD","210521-F01","J6S1718","1670","7319902",51657,"REPLACE EXISTING INLET TOP WITH MANHOLE FRAME AND COVER","E042","",0,null,"","","","","","","",0,0,0,0,0,0,0]
[null,null,"100510..CPCMLD","210521-F01","J6S1718","2210","7034219A96",43148,"TYPE D BARRIER","E042","",0,null,"","","","","","","",0,0,0,0,0,0,0]
[null,null,"100510..CPCMLD","210521-F01","J6S1718","2220","703443096",43149,"SIDEWALK (BRIDGES)","E042","",0,null,"","","","","","","",0,0,0,0,0,0,0]
[null,null,"100510..CPCMLD","210521-F01","J6S1718","2270","5031010A96",43152,"BRIDGE APPROACH SLAB (MAJOR)","E042","",0,null,"","","","","","","",0,0,0,0,0,0,0]
[null,null,"100510..CPCMLD","210521-F01","J6S1718","2320","703200396",43155,"CLASS B CONCRETE (SUBSTRUCTURE)","E042","",0,null,"","","","","","","",0,0,0,0,0,0,0]
[null,null,"100510..CPCMLD","210521-F01","J6S1718","2330","7034219A96",43156,"TYPE D BARRIER","E042","",0,null,"","","","","","","",0,0,0,0,0,0,0]
[null,null,"100510..CPCMLD","210521-F01","J6S1718","2340","703422196",43157,"SLAB ON CONCRETE NU-GIRDER","E042","",0,null,"","","","","","","",0,0,0,0,0,0,0]
[null,null,"100510..CPCMLD","210521-F01","J6S1718","2350","703443096",43158,"SIDEWALK (BRIDGES)","E042","",0,null,"","","","","","","",0,0,0,0,0,0,0]
[null,null,"100510..CPCMLD","210521-F01","J6S1718B","2680","502110796",42938,"CONCRETE PAVEMENT ( 7 IN. NON-REINF)","E042","",0,null,"","","","","","","",0,0,0,0,0,0,0]
[null,null,"100510..CPCMLD","210521-F01","J6S1718B","2690","502110996",42939,"CONCRETE PAVEMENT ( 9 IN. NON-REINF)","E042","",0,null,"","","","","","","",0,0,0,0,0,0,0]
[null,null,"100510..CPCMLD","210521-F01","J6S1718B","2700","5029903",74000,"12 IN. CONCRETE HEADER","E042","",0,null,"","","","","","","",0,0,0,0,0,0,0]
[null,null,"100510..CPCMLD","210521-F01","J6S1718B","2720","607110296",42941,"MODIFIED CONCRETE GUTTER TYPE B","E042","",0,null,"","","","","","","",0,0,0,0,0,0,0]
[null,null,"100510..CPCMLD","210521-F01","J6S1718B","2780","608300896",42943,"8 IN. CONCRETE MEDIAN STRIP","E042","",0,null,"","","","","","","",0,0,0,0,0,0,0]
[null,null,"100510..CPCMLD","210521-F01","J6S1718B","2800","608500796",42944,"PAVED APPROACH, 7 IN.","E042","",0,null,"","","","","","","",0,0,0,0,0,0,0]
[null,null,"100510..CPCMLD","210521-F01","J6S1718B","2880","608990596",43193,"4 IN. CONCRETE SIDEWALK (10 FT WIDE)","E042","",0,null,"","","","","","","",0,0,0,0,0,0,0]
[null,null,"100510..CPCMLD","210521-F01","J6S1718B","2910","609101096",42945,"CONCRETE CURB (6 IN. HEIGHT AND UNDER) TYPE S","E042","",0,null,"","","","","","","",0,0,0,0,0,0,0]
[null,null,"100510..CPCMLD","210521-F01","J6S1718B","2920","609105296",42946,"CURB AND GUTTER TYPE B","E042","",0,null,"","","","","","","",0,0,0,0,0,0,0]
[null,null,"100510..CPCMLD","210521-F01","J6S1718B","2930","609201196",42947,"INTEGRAL CURB (6 IN. HEIGHT AND UNDER) TYPE A","E042","",0,null,"","","","","","","",0,0,0,0,0,0,0]
[null,null,"100510..CPCMLD","210521-F01","J6S1718B","2940","609201296",42948,"INTEGRAL CURB (6 IN. HEIGHT AND UNDER) TYPE B","E042","",0,null,"","","","","","","",0,0,0,0,0,0,0]
[null,null,"100510..CPCMLD","210521-F01","J6S1718B","2980","617320096",42949,"CONCRETE TRAFFIC BARRIER, TYPE E","E042","",0,null,"","","","","","","",0,0,0,0,0,0,0]
[null,null,"100510..CPCMLD","210521-F01","J6S1718B","3050","703200296",42952,"CLASS B CONCRETE (MISC)","E042","",0,null,"","","","","","","",0,0,0,0,0,0,0]
[null,null,"100510..CPCMLD","210521-F01","J6S1718B","3060","703200396",42953,"CLASS B CONCRETE (SUBSTRUCTURE)","E042","",0,null,"","","","","","","",0,0,0,0,0,0,0]
[null,null,"100510..CPCMLD","210521-F01","J6S1718C","4420","502110796",43170,"CONCRETE PAVEMENT ( 7 IN. NON-REINF)","E042","",0,null,"","","","","","","",0,0,0,0,0,0,0]
[null,null,"100510..CPCMLD","210521-F01","J6S1718C","4430","607110296",43171,"MODIFIED CONCRETE GUTTER TYPE B","E042","",0,null,"","","","","","","",0,0,0,0,0,0,0]
[null,null,"100510..CPCMLD","210521-F01","J6S1718C","4480","608500796",43172,"PAVED APPROACH, 7 IN.","E042","",0,null,"","","","","","","",0,0,0,0,0,0,0]
[null,null,"100510..CPCMLD","210521-F01","J6S1718C","4490","608600496",43173,"CONCRETE SIDEWALK, 4 IN.","E042","",0,null,"","","","","","","",0,0,0,0,0,0,0]
[null,null,"100510..CPCMLD","210521-F01","J6S1718C","4510","609101096",43174,"CONCRETE CURB (6 IN. HEIGHT AND UNDER) TYPE S","E042","",0,null,"","","","","","","",0,0,0,0,0,0,0]
[null,null,"100510..CPCMLD","210521-F01","J6S1718C","4520","609105296",43175,"CURB AND GUTTER TYPE B","E042","",0,null,"","","","","","","",0,0,0,0,0,0,0]
[null,null,"100510..CPCMLD","210521-F01","J6S1718C","4620","701110396",43176,"DRILLED SHAFTS (2 FT. 6 IN. DIA.)","E042","",0,null,"","","","","","","",0,0,0,0,0,0,0]
[null,null,"100510..CPCMLD","210521-F01","J6S1718C","4630","703421496",43177,"CLASS B-2 CONCRETE","E042","",0,null,"","","","","","","",0,0,0,0,0,0,0]
[null,null,"100510..CPCMLD","210521-F04","J6P3372","0140","401990596",42304,"OPTIONAL TEMPORARY PAVEMENT","E042","",0,null,"","","","","","","",0,0,0,0,0,0,0]
[null,null,"100510..CPCMLD","210521-F04","J6P3372","0170","609104196",42306,"CONCRETE GUTTER TYPE A","E042","",0,null,"","","","","","","",0,0,0,0,0,0,0]
[null,null,"100510..CPCMLD","210521-F04","J6P3372","0360","617100096",42322,"CONCRETE TRAFFIC BARRIER, TYPE A","E042","",0,null,"","","","","","","",0,0,0,0,0,0,0]
[null,null,"100510..CPCMLD","210521-F04","J6P3372","0370","617300096",42323,"CONCRETE TRAFFIC BARRIER, TYPE C","E042","",0,null,"","","","","","","",0,0,0,0,0,0,0]
[null,null,"100510..CPCMLD","210521-F04","J6P3372","0770","502130996",42352,"CONCRETE PAVEMENT (9 IN. NON-REINFORCED 15 FT. JOINTS)","E042","",0,null,"","","","","","","",0,0,0,0,0,0,0]
[null,null,"100510..CPCMLD","210521-F04","J6P3372","0850","502133196",42354,"CONCRETE PAVEMENT (7 1/2 IN. NON-REINFORCED, 15 FT. JOINTS)","E042","",0,null,"","","","","","","",0,0,0,0,0,0,0]
[null,null,"100510..CPCMLD","210521-F04","J6P3372","0890","502134096",42355,"TYPE A2 SHOULDER","E042","",0,null,"","","","","","","",0,0,0,0,0,0,0]
[null,null,"100510..CPCMLD","210521-F04","J6P3372","1120","903101096",42371,"CONCRETE FOOTINGS, EMBEDDED","E042","",0,null,"","","","","","","",0,0,0,0,0,0,0]
[null,null,"100510..CPCMLD","210521-G08","J8P0588H","0230","502110896",43407,"CONCRETE PAVEMENT ( 8 IN. NON-REINF)","E042","",0,null,"","","","","","","",0,0,0,0,0,0,0]
[null,null,"100510..CPCMLD","210521-G08","J8P0588H","0240","502990596",43408,"CONCRETE PAVEMENT (5 IN. NON-REINFORCED)","E042","",0,null,"","","","","","","",0,0,0,0,0,0,0]
[null,null,"100510..CPCMLD","210521-G08","J8P0588H","0250","604401196",43409,"PIPE COLLAR, TYPE A","E042","",0,null,"","","","","","","",0,0,0,0,0,0,0]
[null,null,"100510..CPCMLD","210521-G08","J8P0588H","0270","604401396",43411,"PIPE COLLAR, TYPE C","E042","",0,null,"","","","","","","",0,0,0,0,0,0,0]
[null,null,"100510..CPCMLD","210521-G08","J8P0588H","0300","608101096",43414,"CONCRETE CURB RAMP","E042","",0,null,"","","","","","","",0,0,0,0,0,0,0]
[null,null,"100510..CPCMLD","210521-G08","J8P0588H","0320","608300896",43416,"8 IN. CONCRETE MEDIAN STRIP","E042",{"$f":"IF(C547=$C$162,D547,\"\")","v":""},0,null,{"$f":"(IF(K547=\"\",\"\",IF(OR(D547=$J$33,D547=$T$33, D547=$O$33),D547,\"\")))","v":""},{"$f":"IF(N547=\"\",\"\",F547)","v":""},{"$f":"IF(N547=\"\", \"\", E547)","v":""},{"$f":"IF(N547=\"\", \"\", G547)","v":""},"","","",0,0,0,0,0,0,0]
[null,null,"100510..CPCMLD","210521-G08","J8P0588H","0340","608500896",43417,"PAVED APPROACH, 8 IN.","E042","",0,null,"","","","",{"$f":"IF(N548=\"\",\"\",I548)","v":""},{"$f":"IF(N548=\"\",\"\",J548)","v":""},{"$f":"IF(N548=\"\",\"\",H548)","v":""},0,0,0,0,0,0,0]
[null,null,"100510..CPCMLD","210521-G08","J8P0588H","0350","608600496",43418,"CONCRETE SIDEWALK, 4 IN.","E042","",0,null,"","","","","","","",0,0,0,0,0,0,0]
[null,null,"100510..CPCMLD","210521-G08","J8P0588H","0360","608600896",43419,"CONCRETE SIDEWALK, 8 IN.","E042","",0,null,"","","","","","","",0,0,0,0,0,0,0]
[null,null,"100510..CPCMLD","210521-G08","J8P0588H","0370","609101096",43420,"CONCRETE CURB (6 IN. HEIGHT AND UNDER) TYPE S","E042","",0,null,"","","","","","","",0,0,0,0,0,0,0]
[null,null,"100510..CPCMLD","210521-G08","J8P0588H","0380","609101196",43421,"CONCRETE CURB (OVER 6 IN. HEIGHT) TYPE S","E042","",0,null,"","","","","","","",0,0,0,0,0,0,0]
[null,null,"100510..CPCMLD","210521-G08","J8P0588H","0390","609104196",43422,"CONCRETE GUTTER TYPE A","E042","",0,null,"","","","","","","",0,0,0,0,0,0,0]
[null,null,"100510..CPCMLD","210521-G08","J8P0588H","0400","609104296",43423,"CONCRETE GUTTER TYPE B","E042","",0,null,"","","","","","","",0,0,0,0,0,0,0]
[null,null,"100510..CPCMLD","210521-G08","J8P0588H","0410","609105296",43424,"CURB AND GUTTER TYPE B","E042","",0,null,"","","","","","","",0,0,0,0,0,0,0]
[null,null,"100510..CPCMLD","210521-G08","J8P0588H","0420","609106096",43425,"PAVED DITCH","E042","",0,null,"","","","","","","",0,0,0,0,0,0,0]
[null,null,"100510..CPCMLD","210521-G08","J8P0588H","0460","6099903",43653,"MODIFIED TYPE S CURB","E042","",0,null,"","","","","","","",0,0,0,0,0,0,0]
[null,null,"100510..CPCMLD","210521-G08","J8P0588H","0470","6116010A96",43428,"SLOPE PROTECTION","E042","",0,null,"","","","","","","",0,0,0,0,0,0,0]
[null,null,"100510..CPCMLD","210521-G08","J8P0588H","0490","613101096",43430,"FURNISHING AND PLACING CONCRETE MATERIAL FOR FULL DEPTH PAVEMENT REPAIR","E042","",0,null,"","","","","","","",0,0,0,0,0,0,0]
[null,null,"100510..CPCMLD","210521-G08","J8P0588H","0550","614112096",43435,"CURVED VANE GRATE AND FRAME (2 FT. X 2 FT. OR 600MM X 600MM)","E042","",0,null,"","","","","","","",0,0,0,0,0,0,0]
[null,null,"100510..CPCMLD","210521-G08","J8P0588H","0850","703404196",43702,"CLASS B-1 CONCRETE (CULVERTS)","E042","",0,null,"","","","","","","",0,0,0,0,0,0,0]
[null,null,"100510..CPCMLD","210521-G08","J8P0588H","0880","720100096",43460,"MECHANICALLY STABILIZED EARTH WALL SYSTEMS","E042","",0,null,"","","","","","","",0,0,0,0,0,0,0]
[null,null,"100510..CPCMLD","210521-G08","J8P0588H","1710","902910096",43533,"BASE, CONCRETE","E042","",0,null,"","","","","","","",0,0,0,0,0,0,0]
[null,null,"100510..CPCMLD","210521-G08","J8P0588H","1810","903101096",43537,"CONCRETE FOOTINGS, EMBEDDED","E042","",0,null,"","","","","","","",0,0,0,0,0,0,0]
[null,null,"100510..CPCMLD","210521-G08","J8P0588H","2020","608101096",43555,"CONCRETE CURB RAMP","E042","",0,null,"","","","","","","",0,0,0,0,0,0,0]
[null,null,"100510..CPCMLD","210521-G08","J8P0588H","2030","608500896",43556,"PAVED APPROACH, 8 IN.","E042","",0,null,"","","","","","","",0,0,0,0,0,0,0]
[null,null,"100510..CPCMLD","210521-G08","J8P0588H","2040","608600496",43557,"CONCRETE SIDEWALK, 4 IN.","E042","",0,null,"","","","","","","",0,0,0,0,0,0,0]
[null,null,"100510..CPCMLD","210521-G08","J8P0588H","2050","608600896",43558,"CONCRETE SIDEWALK, 8 IN.","E042","",0,null,"","","","","","","",0,0,0,0,0,0,0]
[null,null,"100510..CPCMLD","210521-G08","J8P0588H","2060","609105296",43559,"CURB AND GUTTER TYPE B","E042","",0,null,"","","","","","","",0,0,0,0,0,0,0]
[null,null,"100510..CPCMLD","210521-G08","J8P0588H","2130","608101096",43562,"CONCRETE CURB RAMP","E042","",0,null,"","","","","","","",0,0,0,0,0,0,0]
[null,null,"100510..CPCMLD","210521-G08","J8P0588H","2150","608300896",43564,"8 IN. CONCRETE MEDIAN STRIP","E042","",0,null,"","","","","","","",0,0,0,0,0,0,0]
[null,null,"100510..CPCMLD","210521-G08","J8P0588H","2160","608600496",43565,"CONCRETE SIDEWALK, 4 IN.","E042","",0,null,"","","","","","","",0,0,0,0,0,0,0]
[null,null,"100510..CPCMLD","210521-G08","J8P0588H","2170","608600896",43566,"CONCRETE SIDEWALK, 8 IN.","E042","",0,null,"","","","","","","",0,0,0,0,0,0,0]
[null,null,"100510..CPCMLD","210521-G08","J8P0588H","2180","609101196",43567,"CONCRETE CURB (OVER 6 IN. HEIGHT) TYPE S","E042","",0,null,"","","","","","","",0,0,0,0,0,0,0]
[null,null,"100510..CPCMLD","210820-A02","J1I3242","0070","502111096",44758,"CONCRETE PAVEMENT (10 IN. NON-REINF)","E042","",0,null,"","","","","","","",0,0,0,0,0,0,0]
[null,null,"100510..CPCMLD","210820-A02","J1I3242","0080","504100096",44759,"CONCRETE APPROACH PAVEMENT","E042","",0,null,"","","","","","","",0,0,0,0,0,0,0]
[null,null,"100510..CPCMLD","210820-A02","J1I3242","0440","5031010A96",44780,"BRIDGE APPROACH SLAB (MAJOR)","E042","",0,null,"","","","","","","",0,0,0,0,0,0,0]
[null,null,"100510..CPCMLD","210820-A02","J1I3242","0480","703421496",44782,"CLASS B-2 CONCRETE","E042","",0,null,"","","","","","","",0,0,0,0,0,0,0]
[null,null,"100510..CPCMLD","210820-A02","J1I3242","0490","7034219A96",44783,"TYPE D BARRIER","E042","",0,null,"","","","","","","",0,0,0,0,0,0,0]
[null,null,"100510..CPCMLD","210820-A02","J1I3242","0620","5031010A96",44788,"BRIDGE APPROACH SLAB (MAJOR)","E042","",0,null,"","","","","","","",0,0,0,0,0,0,0]
[null,null,"100510..CPCMLD","210820-A02","J1I3242","0660","703421496",44790,"CLASS B-2 CONCRETE","E042","",0,null,"","","","","","","",0,0,0,0,0,0,0]
[null,null,"100510..CPCMLD","210820-A02","J1I3242","0670","7034219A96",44791,"TYPE D BARRIER","E042","",0,null,"","","","","","","",0,0,0,0,0,0,0]
[null,null,"100510..CPCMLD","210820-A05","J1S3341","0110","502130896",44596,"CONCRETE PAVEMENT (8 IN. NON-REINFORCED, 15 FT. JOINTS)","E042","",0,null,"","","","","","","",0,0,0,0,0,0,0]
[null,null,"100510..CPCMLD","210820-A05","J1S3341","0130","608300696",44598,"6 IN. CONCRETE MEDIAN STRIP","E042","",0,null,"","","","","","","",0,0,0,0,0,0,0]
[null,null,"100510..CPCMLD","210820-A05","J1S3341","0140","609104196",44599,"CONCRETE GUTTER TYPE A","E042","",0,null,"","","","","","","",0,0,0,0,0,0,0]
[null,null,"100510..CPCMLD","210820-A05","J1S3341","0150","609105196",44600,"CURB AND GUTTER TYPE A","E042","",0,null,"","","","","","","",0,0,0,0,0,0,0]
[null,null,"100510..CPCMLD","210820-A05","J1S3341","0420","703404196",44619,"CLASS B-1 CONCRETE (CULVERTS)","E042","",0,null,"","","","","","","",0,0,0,0,0,0,0]
[null,null,"100510..CPCMLD","210917-A02","J1P3270","0090","504100096",46207,"CONCRETE APPROACH PAVEMENT","E042","",0,null,"","","","","","","",0,0,0,0,0,0,0]
[null,null,"100510..CPCMLD","210917-A02","J1P3270","0390","5031010A96",46228,"BRIDGE APPROACH SLAB (MAJOR)","E042","",0,null,"","","","","","","",0,0,0,0,0,0,0]
[null,null,"100510..CPCMLD","210917-A02","J1P3270","0400","703421296",46229,"SLAB ON STEEL","E042","",0,null,"","","","","","","",0,0,0,0,0,0,0]
[null,null,"100510..CPCMLD","210917-A02","J1P3270","0410","703421696",46230,"TYPE H BARRIER","E042","",0,null,"","","","","","","",0,0,0,0,0,0,0]
[null,null,"100510..CPCMLD","210917-A02","J1S3218","0740","703200396",46281,"CLASS B CONCRETE (SUBSTRUCTURE)","E042","",0,null,"","","","","","","",0,0,0,0,0,0,0]
[null,null,"100510..CPCMLD","210917-A02","J1S3218","0750","703421696",46282,"TYPE H BARRIER","E042","",0,null,"","","","","","","",0,0,0,0,0,0,0]
[null,null,"100510..CPCMLD","210917-A02","J1S3218","0760","703422296",46283,"SLAB ON CONCRETE BEAM","E042","",0,null,"","","","","","","",0,0,0,0,0,0,0]
[null,null,"100510..CPCMLD","210917-A02","J1S3263","1060","703421296",46196,"SLAB ON STEEL","E042","",0,null,"","","","","","","",0,0,0,0,0,0,0]
[null,null,"100510..CPCMLD","210917-A02","J1S3263","1070","703421696",46197,"TYPE H BARRIER","E042","",0,null,"","","","","","","",0,0,0,0,0,0,0]
[null,null,"100510..CPCMLD","210917-A02","J2S0502","1420","703421296",46257,"SLAB ON STEEL","E042","",0,null,"","","","","","","",0,0,0,0,0,0,0]
[null,null,"100510..CPCMLD","210917-A02","J2S0502","1430","703421696",46258,"TYPE H BARRIER","E042","",0,null,"","","","","","","",0,0,0,0,0,0,0]
[null,null,"100510..CPCMLD","210917-D07","J5P3409","0310","613101096",45110,"FURNISHING AND PLACING CONCRETE MATERIAL FOR FULL DEPTH PAVEMENT REPAIR","E042","",0,null,"","","","","","","",0,0,0,0,0,0,0]
[null,null,"100510..CPCMLD","210917-D07","J5P3409","0370","613990596",45115,"TYPE 1 OR 5 AGGREGATE FOR BASE (6 IN THICK) (PAVEMENT REPAIR)","E042","",0,null,"","","","","","","",0,0,0,0,0,0,0]
[null,null,"100510..CPCMLD","210917-F05","J6P3418","0100","504100096",45563,"CONCRETE APPROACH PAVEMENT","E042","",0,null,"","","","","","","",0,0,0,0,0,0,0]
[null,null,"100510..CPCMLD","210917-F05","J6P3418","0110","604401196",45564,"PIPE COLLAR, TYPE A","E042","",0,null,"","","","","","","",0,0,0,0,0,0,0]
[null,null,"100510..CPCMLD","210917-F05","J6P3418","0130","607110196",45566,"MODIFIED CONCRETE GUTTER TYPE A","E042","",0,null,"","","","","","","",0,0,0,0,0,0,0]
[null,null,"100510..CPCMLD","210917-F05","J6P3418","0140","608300896",45567,"8 IN. CONCRETE MEDIAN STRIP","E042","",0,null,"","","","","","","",0,0,0,0,0,0,0]
[null,null,"100510..CPCMLD","210917-F05","J6P3418","0150","608500896",45568,"PAVED APPROACH, 8 IN.","E042","",0,null,"","","","","","","",0,0,0,0,0,0,0]
[null,null,"100510..CPCMLD","210917-F05","J6P3418","0160","609104196",45569,"CONCRETE GUTTER TYPE A","E042","",0,null,"","","","","","","",0,0,0,0,0,0,0]
[null,null,"100510..CPCMLD","210917-F05","J6P3418","0170","609105296",45570,"CURB AND GUTTER TYPE B","E042","",0,null,"","","","","","","",0,0,0,0,0,0,0]
[null,null,"100510..CPCMLD","210917-F05","J6P3418","0180","609201196",45571,"INTEGRAL CURB (6 IN. HEIGHT AND UNDER) TYPE A","E042","",0,null,"","","","","","","",0,0,0,0,0,0,0]
[null,null,"100510..CPCMLD","210917-F05","J6P3418","0310","6116010A96",45579,"SLOPE PROTECTION","E042","",0,null,"","","","","","","",0,0,0,0,0,0,0]
[null,null,"100510..CPCMLD","210917-F05","J6P3418","0440","617300096",45589,"CONCRETE TRAFFIC BARRIER, TYPE C","E042","",0,null,"","","","","","","",0,0,0,0,0,0,0]
[null,null,"100510..CPCMLD","210917-F05","J6P3418","0460","617310296",45591,"CONCRETE TRAFFIC BARRIER, TYPE D (RETAINING WALL)","E042",{"$f":"IF(C611=$C$162,D611,\"\")","v":""},0,null,{"$f":"(IF(K611=\"\",\"\",IF(OR(D611=$J$33,D611=$T$33, D611=$O$33),D611,\"\")))","v":""},{"$f":"IF(N611=\"\",\"\",F611)","v":""},{"$f":"IF(N611=\"\", \"\", E611)","v":""},{"$f":"IF(N611=\"\", \"\", G611)","v":""},"","","",0,0,0,0,0,0,0]
[null,null,"100510..CPCMLD","210917-F05","J6P3418","0970","502130996",45633,"CONCRETE PAVEMENT (9 IN. NON-REINFORCED 15 FT. JOINTS)","E042","",0,null,"","","","",{"$f":"IF(N612=\"\",\"\",I612)","v":""},{"$f":"IF(N612=\"\",\"\",J612)","v":""},{"$f":"IF(N612=\"\",\"\",H612)","v":""},0,0,0,0,0,0,0]
[null,null,"100510..CPCMLD","210917-F05","J6P3418","0980","502133396",53373,"CONCRETE PAVEMENT (9 1/2 IN. NON-REINFORCED, 15 FT. JOINTS)","E042","",0,null,"","","","","","","",0,0,0,0,0,0,0]
[null,null,"100510..CPCMLD","210917-F05","J6P3418","0990","609201196",45635,"INTEGRAL CURB (6 IN. HEIGHT AND UNDER) TYPE A","E042","",0,null,"","","","","","","",0,0,0,0,0,0,0]
[null,null,"100510..CPCMLD","210917-F05","J6P3418","1000","609203196",53375,"CONCRETE CURB LOW PROFILE TYPE E","E042","",0,null,"","","","","","","",0,0,0,0,0,0,0]
[null,null,"100510..CPCMLD","210917-F05","J6P3418","1030","502134096",53376,"TYPE A2 SHOULDER","E042","",0,null,"","","","","","","",0,0,0,0,0,0,0]
[null,null,"100510..CPCMLD","210917-F05","J6P3418","1940","703403096",45721,"CLASS B-1 CONCRETE (BARRIERS)","E042","",0,null,"","","","","","","",0,0,0,0,0,0,0]
[null,null,"100510..CPCMLD","210917-F05","J6P3418","2140","5031010A96",45734,"BRIDGE APPROACH SLAB (MAJOR)","E042","",0,null,"","","","","","","",0,0,0,0,0,0,0]
[null,null,"100510..CPCMLD","210917-F05","J6P3418","2180","703200396",45738,"CLASS B CONCRETE (SUBSTRUCTURE)","E042","",0,null,"","","","","","","",0,0,0,0,0,0,0]
[null,null,"100510..CPCMLD","210917-F05","J6P3418","2190","703421296",45739,"SLAB ON STEEL","E042","",0,null,"","","","","","","",0,0,0,0,0,0,0]
[null,null,"100510..CPCMLD","210917-F05","J6P3418","2200","7034219A96",45740,"TYPE D BARRIER","E042","",0,null,"","","","","","","",0,0,0,0,0,0,0]
[null,null,"100510..CPCMLD","210917-F05","J6P3418","2210","703422096",45741,"SLAB ON SEMI-DEEP ABUTMENT","E042","",0,null,"","","","","","","",0,0,0,0,0,0,0]
[null,null,"100510..CPCMLD","210917-F05","J6S3304","2390","608101096",45826,"CONCRETE CURB RAMP","E042","",0,null,"","","","","","","",0,0,0,0,0,0,0]
[null,null,"100510..CPCMLD","210917-F05","J6S3304","2410","608500896",45828,"PAVED APPROACH, 8 IN.","E042","",0,null,"","","","","","","",0,0,0,0,0,0,0]
[null,null,"100510..CPCMLD","210917-F05","J6S3304","2420","608600496",45829,"CONCRETE SIDEWALK, 4 IN.","E042","",0,null,"","","","","","","",0,0,0,0,0,0,0]
[null,null,"100510..CPCMLD","210917-F05","J6S3304","2430","609105296",45830,"CURB AND GUTTER TYPE B","E042","",0,null,"","","","","","","",0,0,0,0,0,0,0]
[null,null,"100510..CPCMLD","210917-F05","J6S3304","2440","613101096",45831,"FURNISHING AND PLACING CONCRETE MATERIAL FOR FULL DEPTH PAVEMENT REPAIR","E042","",0,null,"","","","","","","",0,0,0,0,0,0,0]
[null,null,"100510..CPCMLD","210917-F05","J6S3600","2740","604401196",45756,"PIPE COLLAR, TYPE A","E042","",0,null,"","","","","","","",0,0,0,0,0,0,0]
[null,null,"100510..CPCMLD","210917-F05","J6S3600","2750","608300896",45757,"8 IN. CONCRETE MEDIAN STRIP","E042","",0,null,"","","","","","","",0,0,0,0,0,0,0]
[null,null,"100510..CPCMLD","210917-F05","J6S3600","2840","617310096",45764,"CONCRETE TRAFFIC BARRIER, TYPE D","E042","",0,null,"","","","","","","",0,0,0,0,0,0,0]
[null,null,"100510..CPCMLD","210917-F05","J6S3600","3170","502133396",45788,"CONCRETE PAVEMENT (9 1/2 IN. NON-REINFORCED, 15 FT. JOINTS)","E042","",0,null,"","","","","","","",0,0,0,0,0,0,0]
[null,null,"100510..CPCMLD","210917-F05","J6S3600","3180","609201196",45789,"INTEGRAL CURB (6 IN. HEIGHT AND UNDER) TYPE A","E042","",0,null,"","","","","","","",0,0,0,0,0,0,0]
[null,null,"100510..CPCMLD","210917-F05","J6S3600","3210","502134096",45790,"TYPE A2 SHOULDER","E042","",0,null,"","","","","","","",0,0,0,0,0,0,0]
[null,null,"100510..CPCMLD","210917-F05","J6S3600","3430","902910096",45811,"BASE, CONCRETE","E042","",0,null,"","","","","","","",0,0,0,0,0,0,0]
[null,null,"100510..CPCMLD","210917-F05","J6S3600","3500","903101096",45818,"CONCRETE FOOTINGS, EMBEDDED","E042","",0,null,"","","","","","","",0,0,0,0,0,0,0]
[null,null,"100510..CPCMLD","210917-F05","J6S3600","3510","903102096",45819,"CONCRETE FOOTINGS, BOLT DOWN","E042","",0,null,"","","","","","","",0,0,0,0,0,0,0]
[null,null,"100510..CPCMLD","210917-F05","J6P3418","5007","6173103",57256,"CONCRETE TRAFFIC BARRIER, TYPE D (MOMENT SLAB)","E042","",0,null,"","","","","","","",0,0,0,0,0,0,0]
[null,null,"100510..CPCMLD","210917-F05","J6P3418","5008","7039905",57255,"Modified Gravity Retaining Wall","E042","",0,null,"","","","","","","",0,0,0,0,0,0,0]
[null,null,"100510..CPCMLD","210917-F05","J6P3418","5009","607110296",55122,"MODIFIED CONCRETE GUTTER TYPE B","E042","",0,null,"","","","","","","",0,0,0,0,0,0,0]
[null,null,"100510..CPCMLD","210917-F05","J6P3418","5013","7039904",57245,"MODIFIED GRAVITY RETAINING WALL","E042","",0,null,"","","","","","","",0,0,0,0,0,0,0]
[null,null,"100510..CPCMLD","210917-F05","J6P3418","5037","613101096",70500,"FURNISHING AND PLACING CONCRETE MATERIAL FOR FULL DEPTH PAVEMENT REPAIR","E042","",0,null,"","","","","","","",0,0,0,0,0,0,0]
[null,null,"100510..CPCMLD","211015-A01","J1P3252","0120","504100096",46815,"CONCRETE APPROACH PAVEMENT","E042","",0,null,"","","","","","","",0,0,0,0,0,0,0]
[null,null,"100510..CPCMLD","211015-A01","J1P3252","0130","609101096",46816,"CONCRETE CURB (6 IN. HEIGHT AND UNDER) TYPE S","E042","",0,null,"","","","","","","",0,0,0,0,0,0,0]
[null,null,"100510..CPCMLD","211015-A01","J1P3252","0420","5031010A96",46836,"BRIDGE APPROACH SLAB (MAJOR)","E042","",0,null,"","","","","","","",0,0,0,0,0,0,0]
[null,null,"100510..CPCMLD","211015-A01","J1P3252","0450","703460096",46838,"CURB BLOCKOUT","E042","",0,null,"","","","","","","",0,0,0,0,0,0,0]
[null,null,"100510..CPCMLD","211015-A01","J1P3255","0590","504100096",46846,"CONCRETE APPROACH PAVEMENT","E042","",0,null,"","","","","","","",0,0,0,0,0,0,0]
[null,null,"100510..CPCMLD","211015-A01","J1P3255","0890","5031010A96",46868,"BRIDGE APPROACH SLAB (MAJOR)","E042","",0,null,"","","","","","","",0,0,0,0,0,0,0]
[null,null,"100510..CPCMLD","211015-A01","J1P3255","0950","5031010A96",46872,"BRIDGE APPROACH SLAB (MAJOR)","E042","",0,null,"","","","","","","",0,0,0,0,0,0,0]
[null,null,"100510..CPCMLD","211015-A01","J1S3259","1250","703421296",46944,"SLAB ON STEEL","E042","",0,null,"","","","","","","",0,0,0,0,0,0,0]
[null,null,"100510..CPCMLD","211015-A01","J1S3259","1260","703421696",46945,"TYPE H BARRIER","E042","",0,null,"","","","","","","",0,0,0,0,0,0,0]
[null,null,"100510..CPCMLD","211015-A01","J1S3264","1570","703421296",46893,"SLAB ON STEEL","E042","",0,null,"","","","","","","",0,0,0,0,0,0,0]
[null,null,"100510..CPCMLD","211015-A01","J1S3264","1580","703421696",46894,"TYPE H BARRIER","E042","",0,null,"","","","","","","",0,0,0,0,0,0,0]
[null,null,"100510..CPCMLD","211015-A01","J1S3265","1680","401990596",46899,"pavement","E042","",0,null,"","","","","","","",0,0,0,0,0,0,0]
[null,null,"100510..CPCMLD","211015-A01","J1S3265","1910","703421296",46915,"SLAB ON STEEL","E042","",0,null,"","","","","","","",0,0,0,0,0,0,0]
[null,null,"100510..CPCMLD","211015-A01","J1S3265","1920","703421696",46916,"TYPE H BARRIER","E042","",0,null,"","","","","","","",0,0,0,0,0,0,0]
[null,null,"100510..CPCMLD","211015-A01","J1P3252","5002","502110896",64136,"CONCRETE PAVEMENT ( 8 IN. NON-REINF)","E042","",0,null,"","","","","","","",0,0,0,0,0,0,0]
[null,null,"100510..CPCMLD","211015-B01","J2P3281","0040","613101096",47718,"FURNISHING AND PLACING CONCRETE MATERIAL FOR FULL DEPTH PAVEMENT REPAIR","E042","",0,null,"","","","","","","",0,0,0,0,0,0,0]
[null,null,"100510..CPCMLD","211015-B01","J2P3281","0041","613101096",72063,"FURNISHING AND PLACING CONCRETE MATERIAL FOR FULL DEPTH PAVEMENT REPAIR","E042","",0,null,"","","","","","","",0,0,0,0,0,0,0]
[null,null,"100510..CPCMLD","211119-A04","J1P3277","0220","613101096",48359,"FURNISHING AND PLACING CONCRETE MATERIAL FOR FULL DEPTH PAVEMENT REPAIR","E042","",0,null,"","","","","","","",0,0,0,0,0,0,0]
[null,null,"100510..CPCMLD","211119-A04","J1P3277","0340","617310096",48368,"CONCRETE TRAFFIC BARRIER, TYPE D","E042","",0,null,"","","","","","","",0,0,0,0,0,0,0]
[null,null,"100510..CPCMLD","211119-A04","J1P3277","0580","703404096",48350,"CLASS B-1 CONCRETE (CULVERTS-BRIDGE)","E042","",0,null,"","","","","","","",0,0,0,0,0,0,0]
[null,null,"100510..CPCMLD","211119-A09","J1S3215","0050","502111296",47792,"CONCRETE PAVEMENT (12 INCH NON-REINFORCED)","E042","",0,null,"","","","","","","",0,0,0,0,0,0,0]
[null,null,"100510..CPCMLD","211119-A09","J1S3215","0060","504100096",47793,"CONCRETE APPROACH PAVEMENT","E042","",0,null,"","","","","","","",0,0,0,0,0,0,0]
[null,null,"100510..CPCMLD","211119-A09","J1S3215","0350","5031011A96",47813,"BRIDGE APPROACH SLAB (MINOR ROAD)","E042","",0,null,"","","","","","","",0,0,0,0,0,0,0]
[null,null,"100510..CPCMLD","211119-A09","J1S3215","0360","703421296",47814,"SLAB ON STEEL","E042","",0,null,"","","","","","","",0,0,0,0,0,0,0]
[null,null,"100510..CPCMLD","211119-A09","J1S3215","0370","703421696",49966,"TYPE H BARRIER","E042","",0,null,"","","","","","","",0,0,0,0,0,0,0]
[null,null,"100510..CPCMLD","211119-A09","J1S3230","0880","703421296",47901,"SLAB ON STEEL","E042","",0,null,"","","","","","","",0,0,0,0,0,0,0]
[null,null,"100510..CPCMLD","211119-A09","J1S3230","0890","703421696",49986,"TYPE H BARRIER","E042","",0,null,"","","","","","","",0,0,0,0,0,0,0]
[null,null,"100510..CPCMLD","211119-A09","J1S3278","1170","703421296",47866,"SLAB ON STEEL","E042","",0,null,"","","","","","","",0,0,0,0,0,0,0]
[null,null,"100510..CPCMLD","211119-A09","J1S3278","1180","703421696",49987,"TYPE H BARRIER","E042","",0,null,"","","","","","","",0,0,0,0,0,0,0]
[null,null,"100510..CPCMLD","211119-A09","J1S3279","1440","703421296",47845,"SLAB ON STEEL","E042","",0,null,"","","","","","","",0,0,0,0,0,0,0]
[null,null,"100510..CPCMLD","211119-A09","J1S3279","1450","703421696",49988,"TYPE H BARRIER","E042","",0,null,"","","","","","","",0,0,0,0,0,0,0]
[null,null,"100510..CPCMLD","211119-F01","J6I3413","0030","4029901",53437,"TEMPORARY MEDIAN CROSSOVER EAST","E042","",0,null,"","","","","","","",0,0,0,0,0,0,0]
[null,null,"100510..CPCMLD","211119-F01","J6I3413","0040","4029901",53386,"TEMPORARY MEDIAN CROSSOVER WEST","E042","",0,null,"","","","","","","",0,0,0,0,0,0,0]
[null,null,"100510..CPCMLD","211119-F01","J6I3413","0140","617300096",49178,"CONCRETE TRAFFIC BARRIER, TYPE C","E042",{"$f":"IF(C675=$C$162,D675,\"\")","v":""},0,null,{"$f":"(IF(K675=\"\",\"\",IF(OR(D675=$J$33,D675=$T$33, D675=$O$33),D675,\"\")))","v":""},{"$f":"IF(N675=\"\",\"\",F675)","v":""},{"$f":"IF(N675=\"\", \"\", E675)","v":""},{"$f":"IF(N675=\"\", \"\", G675)","v":""},"","","",0,0,0,0,0,0,0]
[null,null,"100510..CPCMLD","211119-F01","J6I3413","0450","2169903",60112,"REMOVE AND REPLACE BARRIER CURB","E042","",0,null,"","","","",{"$f":"IF(N676=\"\",\"\",I676)","v":""},{"$f":"IF(N676=\"\",\"\",J676)","v":""},{"$f":"IF(N676=\"\",\"\",H676)","v":""},0,0,0,0,0,0,0]
[null,null,"100510..CPCMLD","211119-F01","J6I3413","0490","7049903",53439,"BARRIER CURB REPAIR","E042","",0,null,"","","","","","","",0,0,0,0,0,0,0]
[null,null,"100510..CPCMLD","211119-F01","J6I3413","0920","2169903",62095,"REMOVE AND REPLACE BARRIER CURB","E042","",0,null,"","","","","","","",0,0,0,0,0,0,0]
[null,null,"100510..CPCMLD","211119-F01","J6I3413","1000","7049903",60060,"BARRIER CURB REPAIR","E042","",0,null,"","","","","","","",0,0,0,0,0,0,0]
[null,null,"100510..CPCMLD","211119-F01","J6I3500","1310","613101096",49233,"FURNISHING AND PLACING CONCRETE MATERIAL FOR FULL DEPTH PAVEMENT REPAIR","E042","",0,null,"","","","","","","",0,0,0,0,0,0,0]
[null,null,"100510..CPCMLD","211119-F01","J6I3500","1370","6179903",54723,"CONCRETE TRAFFIC BARRIER, TYPE C, TRANSITION","E042","",0,null,"","","","","","","",0,0,0,0,0,0,0]
[null,null,"100510..CPCMLD","211119-F01","J6I3500","1460","7034219A96",49241,"TYPE D BARRIER","E042","",0,null,"","","","","","","",0,0,0,0,0,0,0]
[null,null,"100510..CPCMLD","211119-F01","J6I3500","1660","7034219A96",49251,"TYPE D BARRIER","E042","",0,null,"","","","","","","",0,0,0,0,0,0,0]
[null,null,"100510..CPCMLD","211119-F01","J6I3413","5012","502111096",60448,"CONCRETE PAVEMENT (10 IN. NON-REINF)","E042","",0,null,"","","","","","","",0,0,0,0,0,0,0]
[null,null,"100510..CPCMLD","211119-F01","J6I3500","5115","502133496",73217,"CONCRETE PAVEMENT (10 1/2 IN. NON-REINFORCED, 15 FT. JOINTS)","E042","",0,null,"","","","","","","",0,0,0,0,0,0,0]
[null,null,"100510..CPCMLD","211119-F01","J6I3500","5116","6173103",77108,"CONCRETE TRAFFIC BARRIER, TYPE D (MOMENT SLAB)","E042","",0,null,"","","","","","","",0,0,0,0,0,0,0]
[null,null,"100510..CPCMLD","211119-F01","J6I3500","5120","609106096",73220,"PAVED DITCH","E042","",0,null,"","","","","","","",0,0,0,0,0,0,0]
[null,null,"100510..CPCMLD","211119-G02","J7P3210","0300","604401196",48993,"PIPE COLLAR, TYPE A","E042","",0,null,"","","","","","","",0,0,0,0,0,0,0]
[null,null,"100510..CPCMLD","211119-G02","J7P3210","0310","608300496",48975,"4 IN. CONCRETE MEDIAN STRIP","E042","",0,null,"","","","","","","",0,0,0,0,0,0,0]
[null,null,"100510..CPCMLD","211119-G02","J7P3210","0910","6069902",49071,"HTGC ANCHOR ASSEMBLY","E042","",0,null,"","","","","","","",0,0,0,0,0,0,0]
[null,null,"100510..CPCMLD","211119-G02","J7P3210","0980","903101096",49044,"CONCRETE FOOTINGS, EMBEDDED","E042","",0,null,"","","","","","","",0,0,0,0,0,0,0]
[null,null,"100510..CPCMLD","211119-G02","J7P3210","5003","606990396",55712,"MISC. HIGH TENSION GUARD CABLE","E042","",0,null,"","","","","","","",0,0,0,0,0,0,0]
[null,null,"100510..CPCMLD","211119-G02","J7P3210","5006","6049902",57248,"Misc. Concrete for Plugging Culvert","E042","",0,null,"","","","","","","",0,0,0,0,0,0,0]
[null,null,"100510..CPCMLD","211217-D05","J5S3330","0110","401990596",51065,"OPTIONAL PAVEMENT (8 IN. JPCP OR 10 IN. HMA)","E042","",0,null,"","","","","","","",0,0,0,0,0,0,0]
[null,null,"100510..CPCMLD","211217-D05","J5S3330","0130","609101096",51066,"CONCRETE CURB (6 IN. HEIGHT AND UNDER) TYPE S","E042","",0,null,"","","","","","","",0,0,0,0,0,0,0]
[null,null,"100510..CPCMLD","211217-D05","J5S3330","0520","5031011A96",51095,"BRIDGE APPROACH SLAB (MINOR ROAD)","E042","",0,null,"","","","","","","",0,0,0,0,0,0,0]
[null,null,"100510..CPCMLD","211217-D05","J5S3330","0530","701110996",51096,"DRILLED SHAFTS (5 FT. 6 IN. DIA.)","E042","",0,null,"","","","","","","",0,0,0,0,0,0,0]
[null,null,"100510..CPCMLD","211217-D05","J5S3330","0540","701111296",51097,"DRILLED SHAFTS (7 FT. 0 IN. DIA.)","E042","",0,null,"","","","","","","",0,0,0,0,0,0,0]
[null,null,"100510..CPCMLD","211217-D05","J5S3330","0550","701120896",51098,"ROCK SOCKETS (5 FT  0 IN. DIA.)","E042","",0,null,"","","","","","","",0,0,0,0,0,0,0]
[null,null,"100510..CPCMLD","211217-D05","J5S3330","0560","701121196",51099,"ROCK SOCKETS (6 FT  6 IN. DIA.)","E042","",0,null,"","","","","","","",0,0,0,0,0,0,0]
[null,null,"100510..CPCMLD","211217-D05","J5S3330","0660","702990396",51103,"GALVANIZED CAST-IN-PLACE CONCRETE PILES (36  IN)","E042","",0,null,"","","","","","","",0,0,0,0,0,0,0]
[null,null,"100510..CPCMLD","211217-D05","J5S3330","0670","703200396",51104,"CLASS B CONCRETE (SUBSTRUCTURE)","E042","",0,null,"","","","","","","",0,0,0,0,0,0,0]
[null,null,"100510..CPCMLD","211217-D05","J5S3330","0680","703421296",51105,"SLAB ON STEEL","E042","",0,null,"","","","","","","",0,0,0,0,0,0,0]
[null,null,"100510..CPCMLD","211217-D05","J5S3330","0690","703421696",51106,"TYPE H BARRIER","E042","",0,null,"","","","","","","",0,0,0,0,0,0,0]
[null,null,"100510..CPCMLD","211217-D05","J5S3403","1050","703421296",51134,"SLAB ON STEEL","E042","",0,null,"","","","","","","",0,0,0,0,0,0,0]
[null,null,"100510..CPCMLD","211217-D05","J5S3403","1060","703421696",51135,"TYPE H BARRIER","E042","",0,null,"","","","","","","",0,0,0,0,0,0,0]
[null,null,"100510..CPCMLD","211217-D05","J5S3416","1170","502130896",51140,"CONCRETE PAVEMENT (8 IN. NON-REINFORCED, 15 FT. JOINTS)","E042","",0,null,"","","","","","","",0,0,0,0,0,0,0]
[null,null,"100510..CPCMLD","211217-D05","J5S3416","1440","5031011A96",51158,"BRIDGE APPROACH SLAB (MINOR ROAD)","E042","",0,null,"","","","","","","",0,0,0,0,0,0,0]
[null,null,"100510..CPCMLD","211217-D05","J5S3416","1460","703200396",51160,"CLASS B CONCRETE (SUBSTRUCTURE)","E042","",0,null,"","","","","","","",0,0,0,0,0,0,0]
[null,null,"100510..CPCMLD","211217-D05","J5S3416","1470","703421296",51161,"SLAB ON STEEL","E042","",0,null,"","","","","","","",0,0,0,0,0,0,0]
[null,null,"100510..CPCMLD","211217-D05","J5S3416","1480","7034219A96",51162,"TYPE D BARRIER","E042","",0,null,"","","","","","","",0,0,0,0,0,0,0]
[null,null,"100510..CPCMLD","211217-F04","J6S3272","0090","401990596",51649,"OPTIONAL PAVEMENT","E042","",0,null,"","","","","","","",0,0,0,0,0,0,0]
[null,null,"100510..CPCMLD","211217-F04","J6S3272","0120","502133496",50799,"CONCRETE PAVEMENT (10 1/2 IN. NON-REINFORCED, 15 FT. JOINTS)","E042","",0,null,"","","","","","","",0,0,0,0,0,0,0]
[null,null,"100510..CPCMLD","211217-F04","J6S3272","0140","607110196",50801,"MODIFIED CONCRETE GUTTER TYPE A","E042","",0,null,"","","","","","","",0,0,0,0,0,0,0]
[null,null,"100510..CPCMLD","211217-F04","J6S3272","0150","607110296",50802,"MODIFIED CONCRETE GUTTER TYPE B","E042","",0,null,"","","","","","","",0,0,0,0,0,0,0]
[null,null,"100510..CPCMLD","211217-F04","J6S3272","0160","608300696",50803,"6 IN. CONCRETE MEDIAN STRIP","E042","",0,null,"","","","","","","",0,0,0,0,0,0,0]
[null,null,"100510..CPCMLD","211217-F04","J6S3272","0170","609201196",53402,"INTEGRAL CURB (6 IN. HEIGHT AND UNDER) TYPE A","E042","",0,null,"","","","","","","",0,0,0,0,0,0,0]
[null,null,"100510..CPCMLD","211217-F04","J6S3272","0250","617200096",50808,"CONCRETE TRAFFIC BARRIER, TYPE B","E042","",0,null,"","","","","","","",0,0,0,0,0,0,0]
[null,null,"100510..CPCMLD","211217-F04","J6S3272","0260","6172002",51183,"CONCRETE TRAFFIC BARRIER, TYPE B (MOMENT SLAB)","E042","",0,null,"","","","","","","",0,0,0,0,0,0,0]
[null,null,"100510..CPCMLD","211217-F04","J6S3272","0270","617300096",53403,"CONCRETE TRAFFIC BARRIER, TYPE C","E042","",0,null,"","","","","","","",0,0,0,0,0,0,0]
[null,null,"100510..CPCMLD","211217-F04","J6S3272","0280","617310096",50810,"CONCRETE TRAFFIC BARRIER, TYPE D","E042","",0,null,"","","","","","","",0,0,0,0,0,0,0]
[null,null,"100510..CPCMLD","211217-F04","J6S3272","0290","6173103",51530,"CONCRETE TRAFFIC BARRIER, TYPE D (MOMENT SLAB)","E042","",0,null,"","","","","","","",0,0,0,0,0,0,0]
[null,null,"100510..CPCMLD","211217-F04","J6S3272","0340","5031011A96",53404,"BRIDGE APPROACH SLAB (MINOR ROAD)","E042","",0,null,"","","","","","","",0,0,0,0,0,0,0]
[null,null,"100510..CPCMLD","211217-F04","J6S3272","0370","703200396",50816,"CLASS B CONCRETE (SUBSTRUCTURE)","E042","",0,null,"","","","","","","",0,0,0,0,0,0,0]
[null,null,"100510..CPCMLD","211217-F04","J6S3272","0390","703421696",50818,"TYPE H BARRIER","E042","",0,null,"","","","","","","",0,0,0,0,0,0,0]
[null,null,"100510..CPCMLD","211217-F04","J6S3272","0400","703441196",50819,"TYPE C BARRIER","E042","",0,null,"","","","","","","",0,0,0,0,0,0,0]
[null,null,"100510..CPCMLD","211217-F04","J6S3272","0410","7039905",51185,"SLAB ON STEEL (WITH TRANSPARENT FORMS)","E042","",0,null,"","","","","","","",0,0,0,0,0,0,0]
[null,null,"100510..CPCMLD","211217-F04","J6S3272","0560","5031011A96",53405,"BRIDGE APPROACH SLAB (MINOR ROAD)","E042","",0,null,"","","","","","","",0,0,0,0,0,0,0]
[null,null,"100510..CPCMLD","211217-F04","J6S3272","0570","701110796",50831,"DRILLED SHAFTS (4 FT. 6 IN. DIA.)","E042","",0,null,"","","","","","","",0,0,0,0,0,0,0]
[null,null,"100510..CPCMLD","211217-F04","J6S3272","0580","701120696",50832,"ROCK SOCKETS (4 FT  0 IN. DIA.)","E042","",0,null,"","","","","","","",0,0,0,0,0,0,0]
[null,null,"100510..CPCMLD","211217-F04","J6S3272","0650","703200396",50835,"CLASS B CONCRETE (SUBSTRUCTURE)","E042","",0,null,"","","","","","","",0,0,0,0,0,0,0]
[null,null,"100510..CPCMLD","211217-F04","J6S3272","0670","703421696",50837,"TYPE H BARRIER","E042","",0,null,"","","","","","","",0,0,0,0,0,0,0]
[null,null,"100510..CPCMLD","211217-F04","J6S3272","0680","7039905",51531,"SLAB ON CONCRETE NU_GIRDER (WITH TRANSPARENT FORMS)","E042","",0,null,"","","","","","","",0,0,0,0,0,0,0]
[null,null,"100510..CPCMLD","211217-F04","J6S3272","0860","704010196",50853,"SUBSTRUCTURE REPAIR (FORMED)","E042","",0,null,"","","","","","","",0,0,0,0,0,0,0]
[null,null,"100510..CPCMLD","211217-F04","J6S3272","0910","704010196",50857,"SUBSTRUCTURE REPAIR (FORMED)","E042","",0,null,"","","","","","","",0,0,0,0,0,0,0]
[null,null,"100510..CPCMLD","211217-F04","J6S3638","0990","502990596",53420,"PAVEMENT RESTORATION","E042","",0,null,"","","","","","","",0,0,0,0,0,0,0]
[null,null,"100510..CPCMLD","211217-F04","J6S3638","1025","6116010A96",50721,"SLOPE PROTECTION","E042","",0,null,"","","","","","","",0,0,0,0,0,0,0]
[null,null,"100510..CPCMLD","211217-F04","J6S3638","1265","7319902",54727,"GRATE INLET TOP REPLACMENT","E042","",0,null,"","","","","","","",0,0,0,0,0,0,0]
[null,null,"100510..CPCMLD","211217-F04","J6S3638","1600","902910096",50770,"BASE, CONCRETE","E042",{"$f":"IF(C739=$C$162,D739,\"\")","v":""},0,null,{"$f":"(IF(K739=\"\",\"\",IF(OR(D739=$J$33,D739=$T$33, D739=$O$33),D739,\"\")))","v":""},{"$f":"IF(N739=\"\",\"\",F739)","v":""},{"$f":"IF(N739=\"\", \"\", E739)","v":""},{"$f":"IF(N739=\"\", \"\", G739)","v":""},"","","",0,0,0,0,0,0,0]
[null,null,"100510..CPCMLD","211217-F04","J6S3638","5003","9029901",71785,null,"E042","",0,null,"","","","",{"$f":"IF(N740=\"\",\"\",I740)","v":""},{"$f":"IF(N740=\"\",\"\",J740)","v":""},{"$f":"IF(N740=\"\",\"\",H740)","v":""},0,0,0,0,0,0,0]
[null,null,"100510..CPCMLD","211217-F04","J6S3272","5017","617300096",79012,"CONCRETE TRAFFIC BARRIER, TYPE C","E042","",0,null,"","","","","","","",0,0,0,0,0,0,0]
[null,null,"100510..CPCMLD","211217-F04","J6S3272","5025","6099903",79019,"Concrete Curb Under Guardrail","E042","",0,null,"","","","","","","",0,0,0,0,0,0,0]
[null,null,"100510..CPCMLD","211217-H05","J9I3597","0170","605402096",50415,"OUTLET PIPES AND SPLASH PADS","E042","",0,null,"","","","","","","",0,0,0,0,0,0,0]
[null,null,"100510..CPCMLD","211217-H05","J9I3597","0240","613201896",50421,"FURNISHING AND PLACING CONCRETE MATERIAL FOR CLASS A PARTIAL DEPTH PAVEMENT REPAIR","E042","",0,null,"","","","","","","",0,0,0,0,0,0,0]
[null,null,"100510..CPCMLD","211217-H05","J9I3597","0370","617200096",50432,"CONCRETE TRAFFIC BARRIER, TYPE B","E042","",0,null,"","","","","","","",0,0,0,0,0,0,0]
[null,null,"100510..CPCMLD","211217-H05","J9I3597","0570","703460096",50445,"CURB BLOCKOUT","E042","",0,null,"","","","","","","",0,0,0,0,0,0,0]
[null,null,"100510..CPCMLD","220120-G01","J7I3420","0100","504100096",55134,"CONCRETE APPROACH PAVEMENT","E042","",0,null,"","","","","","","",0,0,0,0,0,0,0]
[null,null,"100510..CPCMLD","220120-G01","J7I3420","0460","6069902",55427,"Temp. Guard Cable Anchors","E042","",0,null,"","","","","","","",0,0,0,0,0,0,0]
[null,null,"100510..CPCMLD","220120-G01","J7I3420","1145","703460096",55196,"CURB BLOCKOUT","E042","",0,null,"","","","","","","",0,0,0,0,0,0,0]
[null,null,"100510..CPCMLD","220120-G01","J7I3420","1212","5031010A96",55200,"BRIDGE APPROACH SLAB (MAJOR)","E042","",0,null,"","","","","","","",0,0,0,0,0,0,0]
[null,null,"100510..CPCMLD","220120-G01","J7I3420","1226","703421496",55201,"CLASS B-2 CONCRETE","E042","",0,null,"","","","","","","",0,0,0,0,0,0,0]
[null,null,"100510..CPCMLD","220120-G01","J7I3420","1271","403990596",67521,"Optional Pavement - Asphalt","E042","",0,null,"","","","","","","",0,0,0,0,0,0,0]
[null,null,"100510..CPCMLD","220120-G01","J7I3420","1272","504100096",67490,"CONCRETE APPROACH PAVEMENT","E042","",0,null,"","","","","","","",0,0,0,0,0,0,0]
[null,null,"100510..CPCMLD","220120-G01","J7I3420","1295","703460096",72056,"CURB BLOCKOUT","E042","",0,null,"","","","","","","",0,0,0,0,0,0,0]
[null,null,"100510..CPCMLD","220120-G01","J7I3420","1312","5031010A96",55212,"BRIDGE APPROACH SLAB (MAJOR)","E042","",0,null,"","","","","","","",0,0,0,0,0,0,0]
[null,null,"100510..CPCMLD","220120-G01","J7I3420","1326","703421496",55213,"CLASS B-2 CONCRETE","E042","",0,null,"","","","","","","",0,0,0,0,0,0,0]
[null,null,"100510..CPCMLD","220120-G01","J7I3420","1371","403990596",67522,"Optional Pavement - Asphalt","E042","",0,null,"","","","","","","",0,0,0,0,0,0,0]
[null,null,"100510..CPCMLD","220120-G01","J7I3420","1372","504100096",67491,"CONCRETE APPROACH PAVEMENT","E042","",0,null,"","","","","","","",0,0,0,0,0,0,0]
[null,null,"100510..CPCMLD","220120-G01","J7I3420","1395","703460096",72057,"CURB BLOCKOUT","E042","",0,null,"","","","","","","",0,0,0,0,0,0,0]
[null,null,"100510..CPCMLD","220120-G01","J7I3420","1429","703421296",55221,"SLAB ON STEEL","E042","",0,null,"","","","","","","",0,0,0,0,0,0,0]
[null,null,"100510..CPCMLD","220120-G01","J7I3420","1512","5031010A96",55228,"BRIDGE APPROACH SLAB (MAJOR)","E042","",0,null,"","","","","","","",0,0,0,0,0,0,0]
[null,null,"100510..CPCMLD","220120-G01","J7I3420","1513","701120396",55229,"ROCK SOCKETS (2 FT  6IN. DIA.)","E042","",0,null,"","","","","","","",0,0,0,0,0,0,0]
[null,null,"100510..CPCMLD","220120-G01","J7I3420","1516","701110496",55230,"DRILLED SHAFTS (3 FT. 0 IN. DIA.)","E042","",0,null,"","","","","","","",0,0,0,0,0,0,0]
[null,null,"100510..CPCMLD","220120-G01","J7I3420","1525","703200396",55260,"CLASS B CONCRETE (SUBSTRUCTURE)","E042","",0,null,"","","","","","","",0,0,0,0,0,0,0]
[null,null,"100510..CPCMLD","220120-G01","J7I3420","1528","703421696",55261,"TYPE H BARRIER","E042","",0,null,"","","","","","","",0,0,0,0,0,0,0]
[null,null,"100510..CPCMLD","220120-G01","J7I3420","1529","703421296",55262,"SLAB ON STEEL","E042","",0,null,"","","","","","","",0,0,0,0,0,0,0]
[null,null,"100510..CPCMLD","220120-G01","J7I3420","1612","5031010A96",55270,"BRIDGE APPROACH SLAB (MAJOR)","E042","",0,null,"","","","","","","",0,0,0,0,0,0,0]
[null,null,"100510..CPCMLD","220120-G01","J7I3420","1615","701120696",55271,"ROCK SOCKETS (4 FT  0 IN. DIA.)","E042","",0,null,"","","","","","","",0,0,0,0,0,0,0]
[null,null,"100510..CPCMLD","220120-G01","J7I3420","1618","701110796",55272,"DRILLED SHAFTS (4 FT. 6 IN. DIA.)","E042","",0,null,"","","","","","","",0,0,0,0,0,0,0]
[null,null,"100510..CPCMLD","220120-G01","J7I3420","1625","703200396",55275,"CLASS B CONCRETE (SUBSTRUCTURE)","E042","",0,null,"","","","","","","",0,0,0,0,0,0,0]
[null,null,"100510..CPCMLD","220120-G01","J7I3420","1627","7034219A96",55276,"TYPE D BARRIER","E042","",0,null,"","","","","","","",0,0,0,0,0,0,0]
[null,null,"100510..CPCMLD","220120-G01","J7I3420","1630","703422196",55277,"SLAB ON CONCRETE NU-GIRDER","E042","",0,null,"","","","","","","",0,0,0,0,0,0,0]
[null,null,"100510..CPCMLD","220120-G01","J7I3420","1671","403990596",67523,"Optional Pavement - Asphalt","E042","",0,null,"","","","","","","",0,0,0,0,0,0,0]
[null,null,"100510..CPCMLD","220120-G01","J7I3420","1672","504100096set",67492,"CONCRETE APPROACH PAVEMENT","E042","",0,null,"","","","","","","",0,0,0,0,0,0,0]
[null,null,"100510..CPCMLD","220120-G01","J7I3420","1712","5031010A96",55310,"BRIDGE APPROACH SLAB (MAJOR)","E042","",0,null,"","","","","","","",0,0,0,0,0,0,0]
[null,null,"100510..CPCMLD","220120-G01","J7I3420","1714","701120396",67462,"ROCK SOCKETS (2 FT  6IN. DIA.)","E042","",0,null,"","","","","","","",0,0,0,0,0,0,0]
[null,null,"100510..CPCMLD","220120-G01","J7I3420","1715","701110496",67467,"DRILLED SHAFTS (3 FT. 0 IN. DIA.)","E042","",0,null,"","","","","","","",0,0,0,0,0,0,0]
[null,null,"100510..CPCMLD","220120-G01","J7I3420","1725","703200396",55315,"CLASS B CONCRETE (SUBSTRUCTURE)","E042","",0,null,"","","","","","","",0,0,0,0,0,0,0]
[null,null,"100510..CPCMLD","220120-G01","J7I3420","1727","7034219A96",55316,"TYPE D BARRIER","E042","",0,null,"","","","","","","",0,0,0,0,0,0,0]
[null,null,"100510..CPCMLD","220120-G01","J7I3420","1731","703421396",55317,"SLAB ON CONCRETE I-GIRDER","E042","",0,null,"","","","","","","",0,0,0,0,0,0,0]
[null,null,"100510..CPCMLD","220120-G01","J7I3420","1771","403990596",67524,"Optional Pavement - Asphalt","E042","",0,null,"","","","","","","",0,0,0,0,0,0,0]
[null,null,"100510..CPCMLD","220120-G01","J7I3420","1772","504100096",67493,"CONCRETE APPROACH PAVEMENT","E042","",0,null,"","","","","","","",0,0,0,0,0,0,0]
[null,null,"100510..CPCMLD","220120-G01","J7I3420","1812","5031010A96",55324,"BRIDGE APPROACH SLAB (MAJOR)","E042","",0,null,"","","","","","","",0,0,0,0,0,0,0]
[null,null,"100510..CPCMLD","220120-G01","J7I3420","1813","701120496",55325,"ROCK SOCKETS (3 FT  0 IN. DIA.)","E042","",0,null,"","","","","","","",0,0,0,0,0,0,0]
[null,null,"100510..CPCMLD","220120-G01","J7I3420","1816","701110596",55326,"DRILLED SHAFTS (3 FT. 6 IN. DIA.)","E042","",0,null,"","","","","","","",0,0,0,0,0,0,0]
[null,null,"100510..CPCMLD","220120-G01","J7I3420","1825","703200396",55329,"CLASS B CONCRETE (SUBSTRUCTURE)","E042","",0,null,"","","","","","","",0,0,0,0,0,0,0]
[null,null,"100510..CPCMLD","220120-G01","J7I3420","1827","7034219A96",55330,"TYPE D BARRIER","E042","",0,null,"","","","","","","",0,0,0,0,0,0,0]
[null,null,"100510..CPCMLD","220120-G01","J7I3420","1831","703421396",55331,"SLAB ON CONCRETE I-GIRDER","E042","",0,null,"","","","","","","",0,0,0,0,0,0,0]
[null,null,"100510..CPCMLD","220120-G01","J7I3420","1872","504100096",67494,"CONCRETE APPROACH PAVEMENT","E042","",0,null,"","","","","","","",0,0,0,0,0,0,0]
[null,null,"100510..CPCMLD","220120-G01","J7I3420","1912","5031010A96",55338,"BRIDGE APPROACH SLAB (MAJOR)","E042","",0,null,"","","","","","","",0,0,0,0,0,0,0]
[null,null,"100510..CPCMLD","220120-G01","J7I3420","1925","703200396",55341,"CLASS B CONCRETE (SUBSTRUCTURE)","E042","",0,null,"","","","","","","",0,0,0,0,0,0,0]
[null,null,"100510..CPCMLD","220120-G01","J7I3420","1927","7034219A96",55342,"TYPE D BARRIER","E042","",0,null,"","","","","","","",0,0,0,0,0,0,0]
[null,null,"100510..CPCMLD","220120-G01","J7I3420","1930","703422196",55343,"SLAB ON CONCRETE NU-GIRDER","E042","",0,null,"","","","","","","",0,0,0,0,0,0,0]
[null,null,"100510..CPCMLD","220120-G01","J7I3420","1971","403990596",67526,"Optional Pavement - Asphalt","E042","",0,null,"","","","","","","",0,0,0,0,0,0,0]
[null,null,"100510..CPCMLD","220120-G01","J7I3420","1972","504100096",67495,"CONCRETE APPROACH PAVEMENT","E042","",0,null,"","","","","","","",0,0,0,0,0,0,0]
[null,null,"100510..CPCMLD","220120-G01","J7I3420","2012","5031010A96",55349,"BRIDGE APPROACH SLAB (MAJOR)","E042","",0,null,"","","","","","","",0,0,0,0,0,0,0]
[null,null,"100510..CPCMLD","220120-G01","J7I3420","2025","703200396",55352,"CLASS B CONCRETE (SUBSTRUCTURE)","E042","",0,null,"","","","","","","",0,0,0,0,0,0,0]
[null,null,"100510..CPCMLD","220120-G01","J7I3420","2027","7034219A96",55353,"TYPE D BARRIER","E042","",0,null,"","","","","","","",0,0,0,0,0,0,0]
[null,null,"100510..CPCMLD","220120-G01","J7I3420","2030","703422196",55354,"SLAB ON CONCRETE NU-GIRDER","E042","",0,null,"","","","","","","",0,0,0,0,0,0,0]
[null,null,"100510..CPCMLD","220120-G01","J7I3420","2071","403990596",67527,"Optional Pavement - Asphalt","E042","",0,null,"","","","","","","",0,0,0,0,0,0,0]
[null,null,"100510..CPCMLD","220120-G01","J7I3420","2072","504100096",67496,"CONCRETE APPROACH PAVEMENT","E042","",0,null,"","","","","","","",0,0,0,0,0,0,0]
[null,null,"100510..CPCMLD","220120-G01","J7I3420","2081","401015096",67510,"TYPE A2 SHOULDER","E042","",0,null,"","","","","","","",0,0,0,0,0,0,0]
[null,null,"100510..CPCMLD","220120-G01","J7I3420","2125","703200396",55367,"CLASS B CONCRETE (SUBSTRUCTURE)","E042",{"$f":"IF(C803=$C$162,D803,\"\")","v":""},0,null,{"$f":"(IF(K803=\"\",\"\",IF(OR(D803=$J$33,D803=$T$33, D803=$O$33),D803,\"\")))","v":""},{"$f":"IF(N803=\"\",\"\",F803)","v":""},{"$f":"IF(N803=\"\", \"\", E803)","v":""},{"$f":"IF(N803=\"\", \"\", G803)","v":""},"","","",0,0,0,0,0,0,0]
[null,null,"100510..CPCMLD","220120-G01","J7I3420","2127","7034219A96",55368,"TYPE D BARRIER","E042","",0,null,"","","","",{"$f":"IF(N804=\"\",\"\",I804)","v":""},{"$f":"IF(N804=\"\",\"\",J804)","v":""},{"$f":"IF(N804=\"\",\"\",H804)","v":""},0,0,0,0,0,0,0]
[null,null,"100510..CPCMLD","220120-G01","J7I3420","2129","703421296",55369,"SLAB ON STEEL","E042","",0,null,"","","","","","","",0,0,0,0,0,0,0]
[null,null,"100510..CPCMLD","220120-G01","J7I3420","2228","703421696",55378,"TYPE H BARRIER","E042","",0,null,"","","","","","","",0,0,0,0,0,0,0]
[null,null,"100510..CPCMLD","220120-G01","J7I3420","2229","703421296",55379,"SLAB ON STEEL","E042","",0,null,"","","","","","","",0,0,0,0,0,0,0]
[null,null,"100510..CPCMLD","220120-G01","J7I3420","2313","701120496",55388,"ROCK SOCKETS (3 FT  0 IN. DIA.)","E042","",0,null,"","","","","","","",0,0,0,0,0,0,0]
[null,null,"100510..CPCMLD","220120-G01","J7I3420","2316","701110596",55389,"DRILLED SHAFTS (3 FT. 6 IN. DIA.)","E042","",0,null,"","","","","","","",0,0,0,0,0,0,0]
[null,null,"100510..CPCMLD","220120-G01","J7I3420","2325","703200396",55392,"CLASS B CONCRETE (SUBSTRUCTURE)","E042","",0,null,"","","","","","","",0,0,0,0,0,0,0]
[null,null,"100510..CPCMLD","220120-G01","J7I3420","2327","7034219A96",55393,"TYPE D BARRIER","E042","",0,null,"","","","","","","",0,0,0,0,0,0,0]
[null,null,"100510..CPCMLD","220120-G01","J7I3420","2329","703421296",55394,"SLAB ON STEEL","E042","",0,null,"","","","","","","",0,0,0,0,0,0,0]
[null,null,"100510..CPCMLD","220120-G01","J7I3420","2412","5031010A96",55403,"BRIDGE APPROACH SLAB (MAJOR)","E042","",0,null,"","","","","","","",0,0,0,0,0,0,0]
[null,null,"100510..CPCMLD","220120-G01","J7I3420","2427","7034219A96",55404,"TYPE D BARRIER","E042","",0,null,"","","","","","","",0,0,0,0,0,0,0]
[null,null,"100510..CPCMLD","220120-G01","J7I3420","2429","703421296",55405,"SLAB ON STEEL","E042","",0,null,"","","","","","","",0,0,0,0,0,0,0]
[null,null,"100510..CPCMLD","220120-G01","J7I3420","2512","5031010A96",55414,"BRIDGE APPROACH SLAB (MAJOR)","E042","",0,null,"","","","","","","",0,0,0,0,0,0,0]
[null,null,"100510..CPCMLD","220120-G01","J7I3420","2527","7034219A96",55415,"TYPE D BARRIER","E042","",0,null,"","","","","","","",0,0,0,0,0,0,0]
[null,null,"100510..CPCMLD","220120-G01","J7I3420","2529","703421296",55416,"SLAB ON STEEL","E042","",0,null,"","","","","","","",0,0,0,0,0,0,0]
[null,null,"100510..CPCMLD","220120-G01","J7I3420","2614","701120396",67463,"ROCK SOCKETS (2 FT  6IN. DIA.)","E042","",0,null,"","","","","","","",0,0,0,0,0,0,0]
[null,null,"100510..CPCMLD","220120-G01","J7I3420","2615","701110496",67468,"DRILLED SHAFTS (3 FT. 0 IN. DIA.)","E042","",0,null,"","","","","","","",0,0,0,0,0,0,0]
[null,null,"100510..CPCMLD","220120-G01","J7I3420","2625","703200396",55143,"CLASS B CONCRETE (SUBSTRUCTURE)","E042","",0,null,"","","","","","","",0,0,0,0,0,0,0]
[null,null,"100510..CPCMLD","220120-G01","J7I3420","2628","703421696",55144,"TYPE H BARRIER","E042","",0,null,"","","","","","","",0,0,0,0,0,0,0]
[null,null,"100510..CPCMLD","220120-G01","J7I3420","2629","703421296",55145,"SLAB ON STEEL","E042","",0,null,"","","","","","","",0,0,0,0,0,0,0]
[null,null,"100510..CPCMLD","220120-G01","J7I3420","2689","609101096",67489,"CONCRETE CURB (6 IN. HEIGHT AND UNDER) TYPE S","E042","",0,null,"","","","","","","",0,0,0,0,0,0,0]
[null,null,"100510..CPCMLD","220120-G01","J7I3420","2728","703421696",55153,"TYPE H BARRIER","E042","",0,null,"","","","","","","",0,0,0,0,0,0,0]
[null,null,"100510..CPCMLD","220120-G01","J7I3420","2729","703421296",55154,"SLAB ON STEEL","E042","",0,null,"","","","","","","",0,0,0,0,0,0,0]
[null,null,"100510..CPCMLD","220120-G01","J7I3420","2825","703200396",55231,"CLASS B CONCRETE (SUBSTRUCTURE)","E042","",0,null,"","","","","","","",0,0,0,0,0,0,0]
[null,null,"100510..CPCMLD","220120-G01","J7I3420","2828","703421696",55232,"TYPE H BARRIER","E042","",0,null,"","","","","","","",0,0,0,0,0,0,0]
[null,null,"100510..CPCMLD","220120-G01","J7I3420","2829","703421296",55233,"SLAB ON STEEL","E042","",0,null,"","","","","","","",0,0,0,0,0,0,0]
[null,null,"100510..CPCMLD","220120-G01","J7I3420","2961","703404196set",55240,"CLASS B-1 CONCRETE (CULVERTS)","E042","",0,null,"","","","","","","",0,0,0,0,0,0,0]
[null,null,"100510..CPCMLD","220120-G01","J7I3420","3061","703404196",55242,"CLASS B-1 CONCRETE (CULVERTS)","E042","",0,null,"","","","","","","",0,0,0,0,0,0,0]
[null,null,"100510..CPCMLD","220120-G01","J7I3420","3161","703404196",55244,"CLASS B-1 CONCRETE (CULVERTS)","E042","",0,null,"","","","","","","",0,0,0,0,0,0,0]
[null,null,"100510..CPCMLD","220120-G01","J7I3420","3212","5031010A96",55246,"BRIDGE APPROACH SLAB (MAJOR)","E042","",0,null,"","","","","","","",0,0,0,0,0,0,0]
[null,null,"100510..CPCMLD","220120-G01","J7I3420","3213","701120496",55247,"ROCK SOCKETS (3 FT  0 IN. DIA.)","E042","",0,null,"","","","","","","",0,0,0,0,0,0,0]
[null,null,"100510..CPCMLD","220120-G01","J7I3420","3216","701110596",55248,"DRILLED SHAFTS (3 FT. 6 IN. DIA.)","E042","",0,null,"","","","","","","",0,0,0,0,0,0,0]
[null,null,"100510..CPCMLD","220120-G01","J7I3420","3225","703200396",55251,"CLASS B CONCRETE (SUBSTRUCTURE)","E042","",0,null,"","","","","","","",0,0,0,0,0,0,0]
[null,null,"100510..CPCMLD","220120-G01","J7I3420","3227","7034219A96",55252,"TYPE D BARRIER","E042","",0,null,"","","","","","","",0,0,0,0,0,0,0]
[null,null,"100510..CPCMLD","220120-G01","J7I3420","3229","703421296",55253,"SLAB ON STEEL","E042","",0,null,"","","","","","","",0,0,0,0,0,0,0]
[null,null,"100510..CPCMLD","220120-G01","J7I3420","3324","703400196",55288,"CLASS B-1 CONCRETE","E042","",0,null,"","","","","","","",0,0,0,0,0,0,0]
[null,null,"100510..CPCMLD","220120-G01","J7I3420","3328","703421696",55289,"TYPE H BARRIER","E042","",0,null,"","","","","","","",0,0,0,0,0,0,0]
[null,null,"100510..CPCMLD","220120-G01","J7I3420","3329","703421296",55290,"SLAB ON STEEL","E042","",0,null,"","","","","","","",0,0,0,0,0,0,0]
[null,null,"100510..CPCMLD","220120-G01","J7I3420","3395","703460096",82886,"CURB BLOCKOUT","E042","",0,null,"","","","","","","",0,0,0,0,0,0,0]
[null,null,"100510..CPCMLD","220120-G01","J7I3420","3461","703404196",55295,"CLASS B-1 CONCRETE (CULVERTS)","E042","",0,null,"","","","","","","",0,0,0,0,0,0,0]
[null,null,"100510..CPCMLD","220120-G01","J7I3420","3514","701120596",55297,"ROCK SOCKETS (3 FT 6 IN. DIA.)","E042","",0,null,"","","","","","","",0,0,0,0,0,0,0]
[null,null,"100510..CPCMLD","220120-G01","J7I3420","3517","701110696",55298,"DRILLED SHAFTS (4 FT. 0 IN. DIA.)","E042","",0,null,"","","","","","","",0,0,0,0,0,0,0]
[null,null,"100510..CPCMLD","220120-G01","J7I3420","3525","703200396",55301,"CLASS B CONCRETE (SUBSTRUCTURE)","E042","",0,null,"","","","","","","",0,0,0,0,0,0,0]
[null,null,"100510..CPCMLD","220120-G01","J7I3420","3528","703421696",55302,"TYPE H BARRIER","E042","",0,null,"","","","","","","",0,0,0,0,0,0,0]
[null,null,"100510..CPCMLD","220120-G01","J7I3420","3530","703422196",55303,"SLAB ON CONCRETE NU-GIRDER","E042","",0,null,"","","","","","","",0,0,0,0,0,0,0]
[null,null,"100510..CPCMLD","220120-G01","J7I3420","5002","7034219A96",57768,"TYPE D BARRIER","E042","",0,null,"","","","","","","",0,0,0,0,0,0,0]
[null,null,"100510..CPCMLD","220120-G01","J7I3420","5003","701120296",57770,"ROCK SOCKETS (2 FT  0 IN. DIA.)","E042","",0,null,"","","","","","","",0,0,0,0,0,0,0]
[null,null,"100510..CPCMLD","220120-G01","J7I3420","5004","701110396set",57771,"DRILLED SHAFTS (2 FT. 6 IN. DIA.)","E042","",0,null,"","","","","","","",0,0,0,0,0,0,0]
[null,null,"100510..CPCMLD","220120-G01","J7I3420","5030","701120396",59757,"ROCK SOCKETS (2 FT  6IN. DIA.)","E042","",0,null,"","","","","","","",0,0,0,0,0,0,0]
[null,null,"100510..CPCMLD","220120-G01","J7I3420","5031","701110496",59758,"DRILLED SHAFTS (3 FT. 0 IN. DIA.)","E042","",0,null,"","","","","","","",0,0,0,0,0,0,0]
[null,null,"100510..CPCMLD","220120-G01","J7I3420","5034","703200296",59770,"CLASS B CONCRETE (MISC)","E042","",0,null,"","","","","","","",0,0,0,0,0,0,0]
[null,null,"100510..CPCMLD","220120-G01","J7I3420","5035","609101099",60546,"CONCRETE CURB (6 IN. HEIGHT AND UNDER) TYPE S","E042","",0,null,"","","","","","","",0,0,0,0,0,0,0]
[null,null,"100510..CPCMLD","220120-G01","J7I3420","5037","703200296",60653,"CLASS B CONCRETE (MISC)","E042","",0,null,"","","","","","","",0,0,0,0,0,0,0]
[null,null,"100510..CPCMLD","220120-G01","J7I3420","5038","703200296",60654,"CLASS B CONCRETE (MISC)","E042","",0,null,"","","","","","","",0,0,0,0,0,0,0]
[null,null,"100510..CPCMLD","220120-G01","J7I3420","5039","703200296",60655,"CLASS B CONCRETE (MISC)","E042","",0,null,"","","","","","","",0,0,0,0,0,0,0]
[null,null,"100510..CPCMLD","220120-G01","J7I3420","5040","703200396",60652,"CLASS B CONCRETE (SUBSTRUCTURE)","E042","",0,null,"","","","","","","",0,0,0,0,0,0,0]
[null,null,"100510..CPCMLD","220121-C02","J4I2006","0150","403990596",52787,"TRUCK APRON PAVEMENT","E042","",0,null,"","","","","","","",0,0,0,0,0,0,0]
[null,null,"100510..CPCMLD","220121-C02","J4I2006","0160","502130896",52788,"CONCRETE PAVEMENT (8 IN. NON-REINFORCED, 15 FT. JOINTS)","E042","",0,null,"","","","","","","",0,0,0,0,0,0,0]
[null,null,"100510..CPCMLD","220121-C02","J4I2006","0170","502133296",52789,"CONCRETE PAVEMENT (8 1/2 IN. NON-REINFORCED, 15 FT. JOINTS)","E042","",0,null,"","","","","","","",0,0,0,0,0,0,0]
[null,null,"100510..CPCMLD","220121-C02","J4I2006","0180","504100096",52790,"CONCRETE APPROACH PAVEMENT","E042","",0,null,"","","","","","","",0,0,0,0,0,0,0]
[null,null,"100510..CPCMLD","220121-C02","J4I2006","0190","604401196",52791,"PIPE COLLAR, TYPE A","E042","",0,null,"","","","","","","",0,0,0,0,0,0,0]
[null,null,"100510..CPCMLD","220121-C02","J4I2006","0240","607110196",52794,"MODIFIED CONCRETE GUTTER TYPE A","E042","",0,null,"","","","","","","",0,0,0,0,0,0,0]
[null,null,"100510..CPCMLD","220121-C02","J4I2006","0280","608101096",52795,"CONCRETE CURB RAMP","E042","",0,null,"","","","","","","",0,0,0,0,0,0,0]
[null,null,"100510..CPCMLD","220121-C02","J4I2006","0300","608500896",52797,"PAVED APPROACH, 8 IN.","E042",{"$f":"IF(C867=$C$162,D867,\"\")","v":""},0,null,{"$f":"(IF(K867=\"\",\"\",IF(OR(D867=$J$33,D867=$T$33, D867=$O$33),D867,\"\")))","v":""},{"$f":"IF(N867=\"\",\"\",F867)","v":""},{"$f":"IF(N867=\"\", \"\", E867)","v":""},{"$f":"IF(N867=\"\", \"\", G867)","v":""},"","","",0,0,0,0,0,0,0]
[null,null,"100510..CPCMLD","220121-C02","J4I2006","0310","608600496",52798,"CONCRETE SIDEWALK, 4 IN.","E042","",0,null,"","","","",{"$f":"IF(N868=\"\",\"\",I868)","v":""},{"$f":"IF(N868=\"\",\"\",J868)","v":""},{"$f":"IF(N868=\"\",\"\",H868)","v":""},0,0,0,0,0,0,0]
[null,null,"100510..CPCMLD","220121-C02","J4I2006","0320","608990296",52931,"RAMPED MEDIAN NOSE","E042","",0,null,"","","","","","","",0,0,0,0,0,0,0]
[null,null,"100510..CPCMLD","220121-C02","J4I2006","0330","608990596",52932,"8 IN. CONCRETE MEDIAN STRIP (SPECIAL)","E042","",0,null,"","","","","","","",0,0,0,0,0,0,0]
[null,null,"100510..CPCMLD","220121-C02","J4I2006","0340","608990596",52933,"CONCRETE MEDIAN (SPECIAL)","E042","",0,null,"","","","","","","",0,0,0,0,0,0,0]
[null,null,"100510..CPCMLD","220121-C02","J4I2006","0350","609105296",52799,"CURB AND GUTTER TYPE B","E042","",0,null,"","","","","","","",0,0,0,0,0,0,0]
[null,null,"100510..CPCMLD","220121-C02","J4I2006","0360","609201196",52800,"INTEGRAL CURB (6 IN. HEIGHT AND UNDER) TYPE A","E042","",0,null,"","","","","","","",0,0,0,0,0,0,0]
[null,null,"100510..CPCMLD","220121-C02","J4I2006","0380","6099903",52934,"CURB AND GUTTER TYPE CG-1","E042","",0,null,"","","","","","","",0,0,0,0,0,0,0]
[null,null,"100510..CPCMLD","220121-C02","J4I2006","0390","6099903",52935,"TRUCK APRON CURB","E042","",0,null,"","","","","","","",0,0,0,0,0,0,0]
[null,null,"100510..CPCMLD","220121-C02","J4I2006","0620","6179903",53416,"CONCRETE TRAFFIC BARRIER, TYPE B (SPECIAL)","E042","",0,null,"","","","","","","",0,0,0,0,0,0,0]
[null,null,"100510..CPCMLD","220121-C02","J4I2006","0870","703404196",52741,"CLASS B-1 CONCRETE (CULVERTS)","E042","",0,null,"","","","","","","",0,0,0,0,0,0,0]
[null,null,"100510..CPCMLD","220121-C02","J4I2006","2070","604401196",52900,"PIPE COLLAR, TYPE A","E042","",0,null,"","","","","","","",0,0,0,0,0,0,0]
[null,null,"100510..CPCMLD","220121-C02","J4I2006","2140","5031011A96",52906,"BRIDGE APPROACH SLAB (MINOR ROAD)","E042","",0,null,"","","","","","","",0,0,0,0,0,0,0]
[null,null,"100510..CPCMLD","220121-C02","J4I2006","2160","701110796",52907,"DRILLED SHAFTS (4 FT. 6 IN. DIA.)","E042","",0,null,"","","","","","","",0,0,0,0,0,0,0]
[null,null,"100510..CPCMLD","220121-C02","J4I2006","2170","701120696",52908,"ROCK SOCKETS (4 FT  0 IN. DIA.)","E042","",0,null,"","","","","","","",0,0,0,0,0,0,0]
[null,null,"100510..CPCMLD","220121-C02","J4I2006","2250","703200396",52911,"CLASS B CONCRETE (SUBSTRUCTURE)","E042","",0,null,"","","","","","","",0,0,0,0,0,0,0]
[null,null,"100510..CPCMLD","220121-C02","J4I2006","2270","703421596",52913,"TYPE B BARRIER","E042","",0,null,"","","","","","","",0,0,0,0,0,0,0]
[null,null,"100510..CPCMLD","220121-C02","J4I2006","2280","7034219A96",52914,"TYPE D BARRIER","E042","",0,null,"","","","","","","",0,0,0,0,0,0,0]
[null,null,"100510..CPCMLD","220121-C02","J4I2006","2290","703422196",52915,"SLAB ON CONCRETE NU-GIRDER","E042","",0,null,"","","","","","","",0,0,0,0,0,0,0]
[null,null,"100510..CPCMLD","220121-C02","J4I2006","2420","720100096",52925,"MECHANICALLY STABILIZED EARTH WALL SYSTEMS","E042","",0,null,"","","","","","","",0,0,0,0,0,0,0]
[null,null,"100510..CPCMLD","220121-C02","J4I2006","2450","720100096",52927,"MECHANICALLY STABILIZED EARTH WALL SYSTEMS","E042","",0,null,"","","","","","","",0,0,0,0,0,0,0]
[null,null,"100510..CPCMLD","220121-D06","J5I3397","0110","401015096",52480,"TYPE A2 SHOULDER","E042","",0,null,"","","","","","","",0,0,0,0,0,0,0]
[null,null,"100510..CPCMLD","220121-D06","J5I3397","0170","502110896",52486,"CONCRETE PAVEMENT ( 8 IN. NON-REINF)","E042","",0,null,"","","","","","","",0,0,0,0,0,0,0]
[null,null,"100510..CPCMLD","220121-D06","J5I3397","0180","5062030A96",52487,"FURNISHING UNBONDED CONCRETE OVERLAY","E042","",0,null,"","","","","","","",0,0,0,0,0,0,0]
[null,null,"100510..CPCMLD","220121-D06","J5I3397","0320","613101096",52495,"FURNISHING AND PLACING CONCRETE MATERIAL FOR FULL DEPTH PAVEMENT REPAIR","E042","",0,null,"","","","","","","",0,0,0,0,0,0,0]
[null,null,"100510..CPCMLD","220121-D06","J5I3482","1450","703404096",52467,"CLASS B-1 CONCRETE (CULVERTS-BRIDGE)","E042","",0,null,"","","","","","","",0,0,0,0,0,0,0]
[null,null,"100510..CPCMLD","220121-D06","J5I3482","1520","703460096",52470,"CURB BLOCKOUT","E042","",0,null,"","","","","","","",0,0,0,0,0,0,0]
[null,null,"100510..CPCMLD","220121-D06","J5I3572","2030","703404196",52406,"CLASS B-1 CONCRETE (CULVERTS)","E042","",0,null,"","","","","","","",0,0,0,0,0,0,0]
[null,null,"100510..CPCMLD","220121-D06","J5I3572","2260","502131196",52423,"CONCRETE PAVEMENT (11 IN. NON-REINFORCED 15 FT. JOINTS)","E042","",0,null,"","","","","","","",0,0,0,0,0,0,0]
[null,null,"100510..CPCMLD","220121-D06","J5I3572","2310","502130896",52425,"CONCRETE PAVEMENT (8 IN. NON-REINFORCED, 15 FT. JOINTS)","E042","",0,null,"","","","","","","",0,0,0,0,0,0,0]
[null,null,"100510..CPCMLD","220121-F02","J6P3291","0050","504100096",53388,"CONCRETE APPROACH PAVEMENT","E042","",0,null,"","","","","","","",0,0,0,0,0,0,0]
[null,null,"100510..CPCMLD","220121-F02","J6P3291","0090","6116010A96",53104,"SLOPE PROTECTION","E042","",0,null,"","","","","","","",0,0,0,0,0,0,0]
[null,null,"100510..CPCMLD","220121-F02","J6P3291","0520","703421296",53135,"SLAB ON STEEL","E042","",0,null,"","","","","","","",0,0,0,0,0,0,0]
[null,null,"100510..CPCMLD","220121-F02","J6P3291","0530","703421696",53136,"TYPE H BARRIER","E042","",0,null,"","","","","","","",0,0,0,0,0,0,0]
[null,null,"100510..CPCMLD","220121-F02","J6I3505","0640","502130996",53154,"CONCRETE PAVEMENT (9 IN. NON-REINFORCED 15 FT. JOINTS)","E042","",0,null,"","","","","","","",0,0,0,0,0,0,0]
[null,null,"100510..CPCMLD","220121-F02","J6I3505","0660","613101096",53156,"FURNISHING AND PLACING CONCRETE MATERIAL FOR FULL DEPTH PAVEMENT REPAIR","E042","",0,null,"","","","","","","",0,0,0,0,0,0,0]
[null,null,"100510..CPCMLD","220121-F02","J6P3291","0840","5031010A96",53389,"BRIDGE APPROACH SLAB (MAJOR)","E042","",0,null,"","","","","","","",0,0,0,0,0,0,0]
[null,null,"100510..CPCMLD","220121-F02","J6P3291","0850","7034219A96",53146,"TYPE D BARRIER","E042","",0,null,"","","","","","","",0,0,0,0,0,0,0]
[null,null,"100510..CPCMLD","220121-F02","J6P3291","0860","7039905",56710,"Slab on Steel (with Transparent Forms)","E042","",0,null,"","","","","","","",0,0,0,0,0,0,0]
[null,null,"100510..CPCMLD","220121-F02","J6S3298","1260","903101096",53195,"CONCRETE FOOTINGS, EMBEDDED","E042","",0,null,"","","","","","","",0,0,0,0,0,0,0]
[null,null,"100510..CPCMLD","220121-F02","J6S3298","1320","701110496",53199,"DRILLED SHAFTS (3 FT. 0 IN. DIA.)","E042","",0,null,"","","","","","","",0,0,0,0,0,0,0]
[null,null,"100510..CPCMLD","220121-F02","J6S3298","1330","701120396",53200,"ROCK SOCKETS (2 FT  6IN. DIA.)","E042","",0,null,"","","","","","","",0,0,0,0,0,0,0]
[null,null,"100510..CPCMLD","220121-F02","J6S3298","1390","703200396",53203,"CLASS B CONCRETE (SUBSTRUCTURE)","E042","",0,null,"","","","","","","",0,0,0,0,0,0,0]
[null,null,"100510..CPCMLD","220121-F02","J6S3298","1400","703421396",53384,"SLAB ON CONCRETE I-GIRDER","E042","",0,null,"","","","","","","",0,0,0,0,0,0,0]
[null,null,"100510..CPCMLD","220121-F02","J6S3298","1410","703421696",53205,"TYPE H BARRIER","E042","",0,null,"","","","","","","",0,0,0,0,0,0,0]
[null,null,"100510..CPCMLD","220121-F09","J6S3296","0120","502110896",52180,"CONCRETE PAVEMENT ( 8 IN. NON-REINF)","E042","",0,null,"","","","","","","",0,0,0,0,0,0,0]
[null,null,"100510..CPCMLD","220121-F09","J6S3296","0130","502400896",52181,"CONCRETE BASE ( 8 IN. NON-REINF)","E042","",0,null,"","","","","","","",0,0,0,0,0,0,0]
[null,null,"100510..CPCMLD","220121-F09","J6S3296","0210","608300396",52185,"3 IN. CONCRETE MEDIAN STRIP","E042","",0,null,"","","","","","","",0,0,0,0,0,0,0]
[null,null,"100510..CPCMLD","220121-F09","J6S3296","0220","608300696",52186,"6 IN. CONCRETE MEDIAN STRIP","E042","",0,null,"","","","","","","",0,0,0,0,0,0,0]
[null,null,"100510..CPCMLD","220121-F09","J6S3296","0240","608500896",52187,"PAVED APPROACH, 8 IN.","E042","",0,null,"","","","","","","",0,0,0,0,0,0,0]
[null,null,"100510..CPCMLD","220121-F09","J6S3296","0250","608600496",52188,"CONCRETE SIDEWALK, 4 IN.","E042","",0,null,"","","","","","","",0,0,0,0,0,0,0]
[null,null,"100510..CPCMLD","220121-F09","J6S3296","0260","608990296",52270,"MISC. CONCRETE CURB RAMP","E042","",0,null,"","","","","","","",0,0,0,0,0,0,0]
[null,null,"100510..CPCMLD","220121-F09","J6S3296","0270","609101096",52189,"CONCRETE CURB (6 IN. HEIGHT AND UNDER) TYPE S","E042","",0,null,"","","","","","","",0,0,0,0,0,0,0]
[null,null,"100510..CPCMLD","220121-F09","J6S3296","0280","609105296",52190,"CURB AND GUTTER TYPE B","E042","",0,null,"","","","","","","",0,0,0,0,0,0,0]
[null,null,"100510..CPCMLD","220121-F09","J6S3296","0290","609203196",52191,"CONCRETE CURB LOW PROFILE TYPE E","E042","",0,null,"","","","","","","",0,0,0,0,0,0,0]
[null,null,"100510..CPCMLD","220121-F09","J6S3296","0300","6099903",52271,"MODIFIED CURB AND GUTTER (2 FT WIDE)","E042","",0,null,"","","","","","","",0,0,0,0,0,0,0]
[null,null,"100510..CPCMLD","220121-F09","J6S3296","0310","6099903",52272,"MODIFIED TYPE S CURB","E042","",0,null,"","","","","","","",0,0,0,0,0,0,0]
[null,null,"100510..CPCMLD","220121-F09","J6S3296","0320","613101096",52192,"FURNISHING AND PLACING CONCRETE MATERIAL FOR FULL DEPTH PAVEMENT REPAIR","E042","",0,null,"","","","","","","",0,0,0,0,0,0,0]
[null,null,"100510..CPCMLD","220121-F09","J6S3433","1360","608500896",52060,"PAVED APPROACH, 8 IN.","E042","",0,null,"","","","","","","",0,0,0,0,0,0,0]
[null,null,"100510..CPCMLD","220121-F09","J6S3433","1370","608600496",52061,"CONCRETE SIDEWALK, 4 IN.","E042","",0,null,"","","","","","","",0,0,0,0,0,0,0]
[null,null,"100510..CPCMLD","220121-F09","J6S3433","1380","608990296",52262,"ADA CONCRETE CURB RAMP","E042","",0,null,"","","","","","","",0,0,0,0,0,0,0]
[null,null,"100510..CPCMLD","220121-F09","J6S3433","1390","609101096",52062,"CONCRETE CURB (6 IN. HEIGHT AND UNDER) TYPE S","E042","",0,null,"","","","","","","",0,0,0,0,0,0,0]
[null,null,"100510..CPCMLD","220121-F09","J6S3433","1400","609105296",52063,"CURB AND GUTTER TYPE B","E042","",0,null,"","","","","","","",0,0,0,0,0,0,0]
[null,null,"100510..CPCMLD","220121-F09","J6S3433","2300","902882196",52140,"PULL BOX, CONCRETE, DOUBLE, TYPE A","E042","",0,null,"","","","","","","",0,0,0,0,0,0,0]
[null,null,"100510..CPCMLD","220121-F10","J6S3404","0070","502110896",51966,"CONCRETE PAVEMENT ( 8 IN. NON-REINF)","E042",{"$f":"IF(C931=$C$162,D931,\"\")","v":""},0,null,{"$f":"(IF(K931=\"\",\"\",IF(OR(D931=$J$33,D931=$T$33, D931=$O$33),D931,\"\")))","v":""},{"$f":"IF(N931=\"\",\"\",F931)","v":""},{"$f":"IF(N931=\"\", \"\", E931)","v":""},{"$f":"IF(N931=\"\", \"\", G931)","v":""},"","","",0,0,0,0,0,0,0]
[null,null,"100510..CPCMLD","220121-F10","J6S3404","0080","502133396",51967,"CONCRETE PAVEMENT (9 1/2 IN. NON-REINFORCED, 15 FT. JOINTS)","E042","",0,null,"","","","",{"$f":"IF(N932=\"\",\"\",I932)","v":""},{"$f":"IF(N932=\"\",\"\",J932)","v":""},{"$f":"IF(N932=\"\",\"\",H932)","v":""},0,0,0,0,0,0,0]
[null,null,"100510..CPCMLD","220121-F10","J6S3404","0110","608300696",51970,"6 IN. CONCRETE MEDIAN STRIP","E042","",0,null,"","","","","","","",0,0,0,0,0,0,0]
[null,null,"100510..CPCMLD","220121-F10","J6S3404","0120","608500796",51971,"PAVED APPROACH, 7 IN.","E042","",0,null,"","","","","","","",0,0,0,0,0,0,0]
[null,null,"100510..CPCMLD","220121-F10","J6S3404","0130","608990296",52047,"CONCRETE CURB RAMP","E042","",0,null,"","","","","","","",0,0,0,0,0,0,0]
[null,null,"100510..CPCMLD","220121-F10","J6S3404","0140","608990596",52048,"CONCRETE SIDEWALK, 6 IN.","E042","",0,null,"","","","","","","",0,0,0,0,0,0,0]
[null,null,"100510..CPCMLD","220121-F10","J6S3404","0150","609101096",51972,"CONCRETE CURB (6 IN. HEIGHT AND UNDER) TYPE S","E042","",0,null,"","","","","","","",0,0,0,0,0,0,0]
[null,null,"100510..CPCMLD","220121-F10","J6S3404","0160","609104196",51973,"CONCRETE GUTTER TYPE A","E042","",0,null,"","","","","","","",0,0,0,0,0,0,0]
[null,null,"100510..CPCMLD","220121-F10","J6S3404","0170","609104296",51974,"CONCRETE GUTTER TYPE B","E042","",0,null,"","","","","","","",0,0,0,0,0,0,0]
[null,null,"100510..CPCMLD","220121-F10","J6S3404","0180","609201196",51975,"INTEGRAL CURB (6 IN. HEIGHT AND UNDER) TYPE A","E042","",0,null,"","","","","","","",0,0,0,0,0,0,0]
[null,null,"100510..CPCMLD","220121-F10","J6S3404","0270","617310096",51980,"CONCRETE TRAFFIC BARRIER, TYPE D","E042","",0,null,"","","","","","","",0,0,0,0,0,0,0]
[null,null,"100510..CPCMLD","220121-F10","J6S3404","0730","5031011A96",52017,"BRIDGE APPROACH SLAB (MINOR ROAD)","E042","",0,null,"","","","","","","",0,0,0,0,0,0,0]
[null,null,"100510..CPCMLD","220121-F10","J6S3404","0750","703421296",52018,"SLAB ON STEEL","E042","",0,null,"","","","","","","",0,0,0,0,0,0,0]
[null,null,"100510..CPCMLD","220121-F10","J6S3404","0760","703443096",52019,"SIDEWALK (BRIDGES)","E042","",0,null,"","","","","","","",0,0,0,0,0,0,0]
[null,null,"100510..CPCMLD","220121-F10","J6S3404","0770","7039903",53264,"MODIFIED BARRIER CURB","E042","",0,null,"","","","","","","",0,0,0,0,0,0,0]
[null,null,"100510..CPCMLD","220121-F10","J6S3404","0910","5031011A96",52032,"BRIDGE APPROACH SLAB (MINOR ROAD)","E042","",0,null,"","","","","","","",0,0,0,0,0,0,0]
[null,null,"100510..CPCMLD","220121-F10","J6S3404","0930","703421296",52033,"SLAB ON STEEL","E042","",0,null,"","","","","","","",0,0,0,0,0,0,0]
[null,null,"100510..CPCMLD","220121-F10","J6S3404","0940","703443096",52034,"SIDEWALK (BRIDGES)","E042","",0,null,"","","","","","","",0,0,0,0,0,0,0]
[null,null,"100510..CPCMLD","220121-F10","J6S3404","0950","7039903",53266,"MODIFIED BARRIER CURB","E042","",0,null,"","","","","","","",0,0,0,0,0,0,0]
[null,null,"100510..CPCMLD","220121-H01","J9I3643","0060","502133496",51743,"CONCRETE PAVEMENT (10 1/2 IN. NON-REINFORCED, 15 FT. JOINTS)","E042","",0,null,"","","","","","","",0,0,0,0,0,0,0]
[null,null,"100510..CPCMLD","220121-H01","J9I3643","0070","504100096",51744,"CONCRETE APPROACH PAVEMENT","E042","",0,null,"","","","","","","",0,0,0,0,0,0,0]
[null,null,"100510..CPCMLD","220121-H01","J9I3643","0080","609101096",51745,"CONCRETE CURB (6 IN. HEIGHT AND UNDER) TYPE S","E042","",0,null,"","","","","","","",0,0,0,0,0,0,0]
[null,null,"100510..CPCMLD","220121-H01","J9I3643","0490","5031010A96",51775,"BRIDGE APPROACH SLAB (MAJOR)","E042","",0,null,"","","","","","","",0,0,0,0,0,0,0]
[null,null,"100510..CPCMLD","220121-H01","J9I3643","0500","703421296",51776,"SLAB ON STEEL","E042","",0,null,"","","","","","","",0,0,0,0,0,0,0]
[null,null,"100510..CPCMLD","220121-H01","J9I3643","0510","7034219A96",51777,"TYPE D BARRIER","E042","",0,null,"","","","","","","",0,0,0,0,0,0,0]
[null,null,"100510..CPCMLD","220121-H01","J9I3643","0620","5031010A96",51786,"BRIDGE APPROACH SLAB (MAJOR)","E042","",0,null,"","","","","","","",0,0,0,0,0,0,0]
[null,null,"100510..CPCMLD","220121-H01","J9I3643","0630","703421296",51787,"SLAB ON STEEL","E042","",0,null,"","","","","","","",0,0,0,0,0,0,0]
[null,null,"100510..CPCMLD","220121-H01","J9I3643","0640","7034219A96",51788,"TYPE D BARRIER","E042","",0,null,"","","","","","","",0,0,0,0,0,0,0]
[null,null,"100510..CPCMLD","220218-D03","J5S3359","0100","609101096",54817,"CONCRETE CURB (6 IN. HEIGHT AND UNDER) TYPE S","E042","",0,null,"","","","","","","",0,0,0,0,0,0,0]
[null,null,"100510..CPCMLD","220218-D03","J5S3359","0360","702131496",54811,"GALVANIZED CAST-IN-PLACE CONCRETE PILES (14 IN)","E042","",0,null,"","","","","","","",0,0,0,0,0,0,0]
[null,null,"100510..CPCMLD","220218-D03","J5S3359","0370","702132096",54837,"GALVANIZED CAST-IN-PLACE CONCRETE PILES (20 IN)","E042","",0,null,"","","","","","","",0,0,0,0,0,0,0]
[null,null,"100510..CPCMLD","220218-D03","J5S3359","0400","703200396",54839,"CLASS B CONCRETE (SUBSTRUCTURE)","E042","",0,null,"","","","","","","",0,0,0,0,0,0,0]
[null,null,"100510..CPCMLD","220218-D03","J5S3359","0410","703421296",54841,"SLAB ON STEEL","E042","",0,null,"","","","","","","",0,0,0,0,0,0,0]
[null,null,"100510..CPCMLD","220218-D03","J5S3359","0420","703421696",54842,"TYPE H BARRIER","E042","",0,null,"","","","","","","",0,0,0,0,0,0,0]
[null,null,"100510..CPCMLD","220218-F01","J6P3373","0560","302131196",54140,"STABILIZED PERMEABLE BASE (4IN. THICK)","E042","",0,null,"","","","","","","",0,0,0,0,0,0,0]
[null,null,"100510..CPCMLD","220218-F01","J6P3373","0620","613101096",54145,"FURNISHING AND PLACING CONCRETE MATERIAL FOR FULL DEPTH PAVEMENT REPAIR","E042","",0,null,"","","","","","","",0,0,0,0,0,0,0]
[null,null,"100510..CPCMLD","220218-F01","J6P3373","0750","617300096",54156,"CONCRETE TRAFFIC BARRIER, TYPE C","E042","",0,null,"","","","","","","",0,0,0,0,0,0,0]
[null,null,"100510..CPCMLD","220218-F06","J6I3149","0110","504100096",54329,"CONCRETE APPROACH PAVEMENT","E042","",0,null,"","","","","","","",0,0,0,0,0,0,0]
[null,null,"100510..CPCMLD","220218-F06","J6I3149","0120","608300696",54330,"6 IN. CONCRETE MEDIAN STRIP","E042","",0,null,"","","","","","","",0,0,0,0,0,0,0]
[null,null,"100510..CPCMLD","220218-F06","J6I3149","0130","608600496",54331,"CONCRETE SIDEWALK, 4 IN.","E042","",0,null,"","","","","","","",0,0,0,0,0,0,0]
[null,null,"100510..CPCMLD","220218-F06","J6I3149","0140","609105296",54332,"CURB AND GUTTER TYPE B","E042","",0,null,"","","","","","","",0,0,0,0,0,0,0]
[null,null,"100510..CPCMLD","220218-F06","J6I3149","0150","6099903",54692,"Concrete Curb Under Guardrail","E042","",0,null,"","","","","","","",0,0,0,0,0,0,0]
[null,null,"100510..CPCMLD","220218-F06","J6I3149","0160","6116010A96",54333,"SLOPE PROTECTION","E042","",0,null,"","","","","","","",0,0,0,0,0,0,0]
[null,null,"100510..CPCMLD","220218-F06","J6I3149","0210","613101096",54337,"FURNISHING AND PLACING CONCRETE MATERIAL FOR FULL DEPTH PAVEMENT REPAIR","E042","",0,null,"","","","","","","",0,0,0,0,0,0,0]
[null,null,"100510..CPCMLD","220218-F06","J6I3149","0270","617200096",54340,"CONCRETE TRAFFIC BARRIER, TYPE B","E042","",0,null,"","","","","","","",0,0,0,0,0,0,0]
[null,null,"100510..CPCMLD","220218-F06","J6I3149","0280","617300096",54341,"CONCRETE TRAFFIC BARRIER, TYPE C","E042","",0,null,"","","","","","","",0,0,0,0,0,0,0]
[null,null,"100510..CPCMLD","220218-F06","J6I3149","0290","617310096",54342,"CONCRETE TRAFFIC BARRIER, TYPE D","E042","",0,null,"","","","","","","",0,0,0,0,0,0,0]
[null,null,"100510..CPCMLD","220218-F06","J6I3149","0450","7319902",54761,"Inlet Top Replacement (In Kind)","E042","",0,null,"","","","","","","",0,0,0,0,0,0,0]
[null,null,"100510..CPCMLD","220218-F06","J6I3149","0720","5031010A96",54536,"BRIDGE APPROACH SLAB (MAJOR)","E042","",0,null,"","","","","","","",0,0,0,0,0,0,0]
[null,null,"100510..CPCMLD","220218-F06","J6I3149","0770","703421496",54538,"CLASS B-2 CONCRETE","E042","",0,null,"","","","","","","",0,0,0,0,0,0,0]
[null,null,"100510..CPCMLD","220218-F06","J6I3149","0780","7039903",54762,"Median Barrier Transition (Type B)","E042","",0,null,"","","","","","","",0,0,0,0,0,0,0]
[null,null,"100510..CPCMLD","220218-F06","J6I3149","0930","5031010A96",54547,"BRIDGE APPROACH SLAB (MAJOR)","E042","",0,null,"","","","","","","",0,0,0,0,0,0,0]
[null,null,"100510..CPCMLD","220218-F06","J6I3149","0980","703421496",54549,"CLASS B-2 CONCRETE","E042","",0,null,"","","","","","","",0,0,0,0,0,0,0]
[null,null,"100510..CPCMLD","220218-F06","J6I3149","1130","5031010A96",54558,"BRIDGE APPROACH SLAB (MAJOR)","E042","",0,null,"","","","","","","",0,0,0,0,0,0,0]
[null,null,"100510..CPCMLD","220218-F06","J6I3149","1180","703421496",54560,"CLASS B-2 CONCRETE","E042","",0,null,"","","","","","","",0,0,0,0,0,0,0]
[null,null,"100510..CPCMLD","220218-F06","J6I3149","1190","7039903",54771,"Median Barrier Transition (Type B)","E042","",0,null,"","","","","","","",0,0,0,0,0,0,0]
[null,null,"100510..CPCMLD","220218-F06","J6I3149","1340","5031010A96",54300,"BRIDGE APPROACH SLAB (MAJOR)","E042","",0,null,"","","","","","","",0,0,0,0,0,0,0]
[null,null,"100510..CPCMLD","220218-F06","J6I3149","1390","703421496",54302,"CLASS B-2 CONCRETE","E042","",0,null,"","","","","","","",0,0,0,0,0,0,0]
[null,null,"100510..CPCMLD","220218-F06","J6I3149","1540","5031010A96",54311,"BRIDGE APPROACH SLAB (MAJOR)","E042","",0,null,"","","","","","","",0,0,0,0,0,0,0]
[null,null,"100510..CPCMLD","220218-F06","J6I3149","1590","703421496",54313,"CLASS B-2 CONCRETE","E042","",0,null,"","","","","","","",0,0,0,0,0,0,0]
[null,null,"100510..CPCMLD","220218-F06","J6I3149","1600","7039903",54778,"Median Barrier Transition (Type B)","E042","",0,null,"","","","","","","",0,0,0,0,0,0,0]
[null,null,"100510..CPCMLD","220218-F06","J6I3149","1760","5031010A96",54351,"BRIDGE APPROACH SLAB (MAJOR)","E042","",0,null,"","","","","","","",0,0,0,0,0,0,0]
[null,null,"100510..CPCMLD","220218-F06","J6I3149","1810","703421496",54353,"CLASS B-2 CONCRETE","E042","",0,null,"","","","","","","",0,0,0,0,0,0,0]
[null,null,"100510..CPCMLD","220218-F06","J6I3149","1820","703421596",54354,"TYPE B BARRIER","E042","",0,null,"","","","","","","",0,0,0,0,0,0,0]
[null,null,"100510..CPCMLD","220218-F06","J6I3149","1950","5031010A96",54362,"BRIDGE APPROACH SLAB (MAJOR)","E042",{"$f":"IF(C995=$C$162,D995,\"\")","v":""},0,null,{"$f":"(IF(K995=\"\",\"\",IF(OR(D995=$J$33,D995=$T$33, D995=$O$33),D995,\"\")))","v":""},{"$f":"IF(N995=\"\",\"\",F995)","v":""},{"$f":"IF(N995=\"\", \"\", E995)","v":""},{"$f":"IF(N995=\"\", \"\", G995)","v":""},"","","",0,0,0,0,0,0,0]
[null,null,"100510..CPCMLD","220218-F06","J6I3149","2000","703421496",54364,"CLASS B-2 CONCRETE","E042","",0,null,"","","","",{"$f":"IF(N996=\"\",\"\",I996)","v":""},{"$f":"IF(N996=\"\",\"\",J996)","v":""},{"$f":"IF(N996=\"\",\"\",H996)","v":""},0,0,0,0,0,0,0]
[null,null,"100510..CPCMLD","220218-F06","J6I3149","2170","5031010A96",54375,"BRIDGE APPROACH SLAB (MAJOR)","E042","",0,null,"","","","","","","",0,0,0,0,0,0,0]
[null,null,"100510..CPCMLD","220218-F06","J6I3149","2220","703421496",54377,"CLASS B-2 CONCRETE","E042","",0,null,"","","","","","","",0,0,0,0,0,0,0]
[null,null,"100510..CPCMLD","220218-F06","J6I3149","2380","5031010A96",54388,"BRIDGE APPROACH SLAB (MAJOR)","E042","",0,null,"","","","","","","",0,0,0,0,0,0,0]
[null,null,"100510..CPCMLD","220218-F06","J6I3149","2430","703421496",54390,"CLASS B-2 CONCRETE","E042","",0,null,"","","","","","","",0,0,0,0,0,0,0]
[null,null,"100510..CPCMLD","220218-F06","J6I3149","2790","7034219A96",54416,"TYPE D BARRIER","E042","",0,null,"","","","","","","",0,0,0,0,0,0,0]
[null,null,"100510..CPCMLD","220218-F06","J6I3149","3400","703421496",54457,"CLASS B-2 CONCRETE","E042","",0,null,"","","","","","","",0,0,0,0,0,0,0]
[null,null,"100510..CPCMLD","220218-F06","J6I3187","3740","609101096",54482,"CONCRETE CURB (6 IN. HEIGHT AND UNDER) TYPE S","E042","",0,null,"","","","","","","",0,0,0,0,0,0,0]
[null,null,"100510..CPCMLD","220218-F06","J6I3187","4330","7034219A96",54575,"TYPE D BARRIER","E042","",0,null,"","","","","","","",0,0,0,0,0,0,0]
[null,null,"100510..CPCMLD","220218-F06","J6I3187","4820","704010296",54609,"SUBSTRUCTURE REPAIR (UNFORMED)","E042","",0,null,"","","","","","","",0,0,0,0,0,0,0]
[null,null,"100510..CPCMLD","220218-F06","J6I3187","5130","703421296",54636,"SLAB ON STEEL","E042","",0,null,"","","","","","","",0,0,0,0,0,0,0]
[null,null,"100510..CPCMLD","220218-F06","J6I3187","5740","703421296",54682,"SLAB ON STEEL","E042","",0,null,"","","","","","","",0,0,0,0,0,0,0]
[null,null,"100510..CPCMLD","220218-F08","J6S3437","0810","608990296",54078,"ADA Curb Ramp","E042","",0,null,"","","","","","","",0,0,0,0,0,0,0]
[null,null,"100510..CPCMLD","220218-H01","J9S3381","0130","608101096",53883,"CONCRETE CURB RAMP","E042","",0,null,"","","","","","","",0,0,0,0,0,0,0]
[null,null,"100510..CPCMLD","220218-H01","J9S3381","0200","609105296",53889,"CURB AND GUTTER TYPE B","E042","",0,null,"","","","","","","",0,0,0,0,0,0,0]
[null,null,"100510..CPCMLD","220318-B01","J2P3156","0150","502130996",55623,"CONCRETE PAVEMENT (9 IN. NON-REINFORCED 15 FT. JOINTS)","E042","",0,null,"","","","","","","",0,0,0,0,0,0,0]
[null,null,"100510..CPCMLD","220415-A03","J1P3275","0610","703421496",56415,"CLASS B-2 CONCRETE","E042","",0,null,"","","","","","","",0,0,0,0,0,0,0]
[null,null,"100510..CPCMLD","220415-A03","J1P3275","1190","703460096",56458,"CURB BLOCKOUT","E042",{"$f":"IF(C1123=$C$162,D1123,\"\")","v":""},0,null,{"$f":"(IF(K1123=\"\",\"\",IF(OR(D1123=$J$33,D1123=$T$33, D1123=$O$33),D1123,\"\")))","v":""},{"$f":"IF(N1123=\"\",\"\",F1123)","v":""},{"$f":"IF(N1123=\"\", \"\", E1123)","v":""},{"$f":"IF(N1123=\"\", \"\", G1123)","v":""},"","","",0,0,0,0,0,0,0]
[null,null,"100510..CPCMLD","220415-B04","J2S3267","0120","608500796",56901,"PAVED APPROACH, 7 IN.","E042","",0,null,"","","","","","","",0,0,0,0,0,0,0]
[null,null,"100510..CPCMLD","220415-B04","J2S3269","0530","609101096",56927,"CONCRETE CURB (6 IN. HEIGHT AND UNDER) TYPE S","E042","",0,null,"","","","","","","",0,0,0,0,0,0,0]
[null,null,"100510..CPCMLD","220415-F03","J6S3273","0310","609201596",56988,"INTEGRAL CURB TYPE O","E042","",0,null,"","","","","","","",0,0,0,0,0,0,0]
[null,null,"100510..CPCMLD","220415-G02","J7S3194","0180","401990596",57285,"OPTIONAL PAVEMENT","E042","",0,null,"","","","","","","",0,0,0,0,0,0,0]
[null,null,"100510..CPCMLD","220415-G02","J7S3194","0920","701110896",57345,"DRILLED SHAFTS (5 FT. 0 IN. DIA.)","E042","",0,null,"","","","","","","",0,0,0,0,0,0,0]
[null,null,"100510..CPCMLD","220415-G02","J7S3194","1100","7034219A96",58571,"TYPE D BARRIER","E042","",0,null,"","","","","","","",0,0,0,0,0,0,0]
[null,null,"100510..CPCMLD","220520-F10","J6S3255","0270","608600496",59618,"CONCRETE SIDEWALK, 4 IN.","E042","",0,null,"","","","","","","",0,0,0,0,0,0,0]
[null,null,"100510..CPCMLD","220520-F10","J6S3255","0330","609105196",59622,"CURB AND GUTTER TYPE A","E042","",0,null,"","","","","","","",0,0,0,0,0,0,0]
[null,null,"100510..CPCMLD","220520-F12","J6S3259","0240","608300696",59199,"6 IN. CONCRETE MEDIAN STRIP","E042","",0,null,"","","","","","","",0,0,0,0,0,0,0]
[null,null,"100510..CPCMLD","220520-F12","J6S3259","0320","609101096",59205,"CONCRETE CURB (6 IN. HEIGHT AND UNDER) TYPE S","E042","",0,null,"","","","","","","",0,0,0,0,0,0,0]
[null,null,"100510..CPCMLD","220520-F12","J6S3259","0790","7069902",60525,"DRAINAGE FLUME, DOUBLE BARRELL","E042","",0,null,"","","","","","","",0,0,0,0,0,0,0]
[null,null,"100510..CPCMLD","220520-G05","J7S3421","0180","608600496",57830,"CONCRETE SIDEWALK, 4 IN.","E042","",0,null,"","","","","","","",0,0,0,0,0,0,0]
[null,null,"100510..CPCMLD","220520-G05","J7S3421","0400","608100096",57845,"CONCRETE MEDIAN","E042","",0,null,"","","","","","","",0,0,0,0,0,0,0]
[null,null,"100510..CPCMLD","220520-G05","J7S3421","0880","609101096",57819,"CONCRETE CURB (6 IN. HEIGHT AND UNDER) TYPE S","E042","",0,null,"","","","","","","",0,0,0,0,0,0,0]
[null,null,"100510..CPCMLD","220520-G06","J8P3032C","0630","502133396",57582,"CONCRETE PAVEMENT (9 1/2 IN. NON-REINFORCED, 15 FT. JOINTS)","E042","",0,null,"","","","","","","",0,0,0,0,0,0,0]
[null,null,"100510..CPCMLD","220520-G06","J8P3032C","1200","703421396",57619,"SLAB ON CONCRETE I-GIRDER","E042","",0,null,"","","","","","","",0,0,0,0,0,0,0]
[null,null,"100510..CPCMLD","220520-G06","J8P3032D","1437","502131296",57648,"CONCRETE PAVEMENT (12 IN. NON-REINFORCED 15 FT. JOINTS)","E042","",0,null,"","","","","","","",0,0,0,0,0,0,0]
[null,null,"100510..CPCMLD","220520-H06","J9P3621","0090","608600796",58498,"CONCRETE SIDEWALK, 7 IN.","E042","",0,null,"","","","","","","",0,0,0,0,0,0,0]
[null,null,"100510..CPCMLD","220520-H07","J9P3622","0070","608500796",57780,"PAVED APPROACH, 7 IN.","E042","",0,null,"","","","","","","",0,0,0,0,0,0,0]
[null,null,"100510..CPCMLD","220520-H08","J9P3663","0210","609104196",58905,"CONCRETE GUTTER TYPE A","E042","",0,null,"","","","","","","",0,0,0,0,0,0,0]
[null,null,"100510..CPCMLD","220617-B01","J2P3090","0320","609201196",58683,"INTEGRAL CURB (6 IN. HEIGHT AND UNDER) TYPE A","E042","",0,null,"","","","","","","",0,0,0,0,0,0,0]
[null,null,"100510..CPCMLD","220617-B01","J2P3090","1900","7034219A96",58818,"TYPE D BARRIER","E042","",0,null,"","","","","","","",0,0,0,0,0,0,0]
[null,null,"100510..CPCMLD","220617-F04","J6S3312","0090","608990296",59552,"ADA CURB RAMP","E042","",0,null,"","","","","","","",0,0,0,0,0,0,0]
[null,null,"100510..CPCMLD","220715-F01","J6I3020C","0220","502133396",60324,"CONCRETE PAVEMENT (9 1/2 IN. NON-REINFORCED, 15 FT. JOINTS)","E042","",0,null,"","","","","","","",0,0,0,0,0,0,0]
[null,null,"100510..CPCMLD","220715-F01","J6I3020C","0230","504100096",60325,"CONCRETE APPROACH PAVEMENT","E042","",0,null,"","","","","","","",0,0,0,0,0,0,0]
[null,null,"100510..CPCMLD","220715-F01","J6I3020C","1980","701120696",60276,"ROCK SOCKETS (4 FT  0 IN. DIA.)","E042",{"$f":"IF(C1379=$C$162,D1379,\"\")","v":""},0,null,{"$f":"(IF(K1379=\"\",\"\",IF(OR(D1379=$J$33,D1379=$T$33, D1379=$O$33),D1379,\"\")))","v":""},{"$f":"IF(N1379=\"\",\"\",F1379)","v":""},{"$f":"IF(N1379=\"\", \"\", E1379)","v":""},{"$f":"IF(N1379=\"\", \"\", G1379)","v":""},"","","",0,0,0,0,0,0,0]
[null,null,"100510..CPCMLD","220715-F01","J6I3020C","2160","701110796",60290,"DRILLED SHAFTS (4 FT. 6 IN. DIA.)","E042","",0,null,"","","","","","","",0,0,0,0,0,0,0]
[null,null,"100510..CPCMLD","220819-H04","J9P3721","0110","613101096",61029,"FURNISHING AND PLACING CONCRETE MATERIAL FOR FULL DEPTH PAVEMENT REPAIR","E042","",0,null,"","","","","","","",0,0,0,0,0,0,0]
[null,null,"100510..CPCMLD","220916-C01","J4P3295","0540","502990596",61545,"Concrete Pavement","E042","",0,null,"","","","","","","",0,0,0,0,0,0,0]
[null,null,"100510..CPCMLD","220916-G04","J7P3428","0220","608600496",61317,"CONCRETE SIDEWALK, 4 IN.","E042","",0,null,"","","","","","","",0,0,0,0,0,0,0]
[null,null,"100510..CPCMLD","220916-G04","J7P3428","5009","502110896",74953,"CONCRETE PAVEMENT ( 8 IN. NON-REINF)","E042","",0,null,"","","","","","","",0,0,0,0,0,0,0]
[null,null,"100510..CPCMLD","221021-C01","J4S3337","0400","613101096",63351,"FURNISHING AND PLACING CONCRETE MATERIAL FOR FULL DEPTH PAVEMENT REPAIR","E042","",0,null,"","","","","","","",0,0,0,0,0,0,0]
[null,null,"100510..CPCMLD","221021-C02","J4I3451","0790","703200396",62433,"CLASS B CONCRETE (SUBSTRUCTURE)","E042","",0,null,"","","","","","","",0,0,0,0,0,0,0]
[null,null,"100510..CPCMLD","221021-C02","J4I3451","1010","703200396",62373,"CLASS B CONCRETE (SUBSTRUCTURE)","E042","",0,null,"","","","","","","",0,0,0,0,0,0,0]
[null,null,"100510..CPCMLD","221021-C04","J4S3433","0930","609201196",62278,"INTEGRAL CURB (6 IN. HEIGHT AND UNDER) TYPE A","E042","",0,null,"","","","","","","",0,0,0,0,0,0,0]
[null,null,"100510..CPCMLD","221021-D03","J5S3354","0510","703404096",63798,"CLASS B-1 CONCRETE (CULVERTS-BRIDGE)","E042","",0,null,"","","","","","","",0,0,0,0,0,0,0]
[null,null,"100510..CPCMLD","221021-F01","J6I3501","0130","609105296",62724,"CURB AND GUTTER TYPE B","E042","",0,null,"","","","","","","",0,0,0,0,0,0,0]
[null,null,"100510..CPCMLD","221021-F02","J6S3556","0960","6116010A96",63634,"SLOPE PROTECTION","E042","",0,null,"","","","","","","",0,0,0,0,0,0,0]
[null,null,"100510..CPCMLD","221021-F05","J6S3595","0880","608600496",63079,"CONCRETE SIDEWALK, 4 IN.","E042",{"$f":"IF(C1507=$C$162,D1507,\"\")","v":""},0,null,{"$f":"(IF(K1507=\"\",\"\",IF(OR(D1507=$J$33,D1507=$T$33, D1507=$O$33),D1507,\"\")))","v":""},{"$f":"IF(N1507=\"\",\"\",F1507)","v":""},{"$f":"IF(N1507=\"\", \"\", E1507)","v":""},{"$f":"IF(N1507=\"\", \"\", G1507)","v":""},"","","",0,0,0,0,0,0,0]
[null,null,"100510..CPCMLD","221021-G04","J7S3440","0100","608101096",62630,"CONCRETE CURB RAMP","E042","",0,null,"","","","","","","",0,0,0,0,0,0,0]
[null,null,"100510..CPCMLD","221118-A04","J1S3361","0390","703422296",66154,"SLAB ON CONCRETE BEAM","E042","",0,null,"","","","","","","",0,0,0,0,0,0,0]
[null,null,"100510..CPCMLD","221118-A08","J1S3392","0270","609101096",66011,"CONCRETE CURB (6 IN. HEIGHT AND UNDER) TYPE S","E042","",0,null,"","","","","","","",0,0,0,0,0,0,0]
[null,null,"100510..CPCMLD","221118-A08","J1S3392","1860","703421696",65980,"TYPE H BARRIER","E042","",0,null,"","","","","","","",0,0,0,0,0,0,0]
[null,null,"100510..CPCMLD","221118-C01","J4I3334","0140","613101096",65865,"FURNISHING AND PLACING CONCRETE MATERIAL FOR FULL DEPTH PAVEMENT REPAIR","E042","",0,null,"","","","","","","",0,0,0,0,0,0,0]
[null,null,"100510..CPCMLD","221118-C04","J4S3429","5201","608300896",77740,"8 IN. CONCRETE MEDIAN STRIP","E042","",0,null,"","","","","","","",0,0,0,0,0,0,0]
[null,null,"100510..CPCMLD","221118-C05","J4S3414","0600","609101196",65647,"CONCRETE CURB (OVER 6 IN. HEIGHT) TYPE S","E042","",0,null,"","","","","","","",0,0,0,0,0,0,0]
[null,null,"100510..CPCMLD","221118-F01","J6I3326","0250","617310096",65247,"CONCRETE TRAFFIC BARRIER, TYPE D","E042","",0,null,"","","","","","","",0,0,0,0,0,0,0]
[null,null,"100510..CPCMLD","221118-F03","J6P3483","0140","613101096",65183,"FURNISHING AND PLACING CONCRETE MATERIAL FOR FULL DEPTH PAVEMENT REPAIR","E042","",0,null,"","","","","","","",0,0,0,0,0,0,0]
[null,null,"100510..CPCMLD","221118-F04","J6P3436","0140","608500796",64997,"PAVED APPROACH, 7 IN.","E042","",0,null,"","","","","","","",0,0,0,0,0,0,0]
[null,null,"100510..CPCMLD","221118-G04","J8P0683E","0700","502110896",64800,"CONCRETE PAVEMENT ( 8 IN. NON-REINF)","E042","",0,null,"","","","","","","",0,0,0,0,0,0,0]
[null,null,"100510..CPCMLD","221118-G04","J8P0683E","0790","609105296",64809,"CURB AND GUTTER TYPE B","E042","",0,null,"","","","","","","",0,0,0,0,0,0,0]
[null,null,"100510..CPCMLD","221118-G04","J8P0683E","1690","502133496",76091,"CONCRETE PAVEMENT (10 1/2 IN. NON-REINFORCED, 15 FT. JOINTS)","E042","",0,null,"","","","","","","",0,0,0,0,0,0,0]
[null,null,"100510..CPCMLD","221118-G04","J8P0683E","2220","701120596",64770,"ROCK SOCKETS (3 FT 6 IN. DIA.)","E042","",0,null,"","","","","","","",0,0,0,0,0,0,0]
[null,null,"100510..CPCMLD","221118-G06","J8S3160","1160","608101096",64532,"CONCRETE CURB RAMP","E042","",0,null,"","","","","","","",0,0,0,0,0,0,0]
[null,null,"100510..CPCMLD","221118-G06","J8S3160","1910","902910096",64590,"BASE, CONCRETE","E042","",0,null,"","","","","","","",0,0,0,0,0,0,0]
[null,null,"100510..CPCMLD","221118-H02","J9P3584","0280","617310196",64407,"CONCRETE TRAFFIC BARRIER, TYPE D (MODIFIED)","E042","",0,null,"","","","","","","",0,0,0,0,0,0,0]
[null,null,"100510..CPCMLD","221118-H02","J9P3584","0530","703400396",64425,"CLASS B-1 CONCRETE (SUBSTRUCTURE)","E042","",0,null,"","","","","","","",0,0,0,0,0,0,0]
[null,null,"100510..CPCMLD","221216-B01","J2P3249","0840","7034219A96",67845,"TYPE D BARRIER","E042","",0,null,"","","","","","","",0,0,0,0,0,0,0]
[null,null,"100510..CPCMLD","221216-C02","J4I3288","0190","502130996",67112,"CONCRETE PAVEMENT (9 IN. NON-REINFORCED 15 FT. JOINTS)","E042","",0,null,"","","","","","","",0,0,0,0,0,0,0]
[null,null,"100510..CPCMLD","221216-C02","J4I3288","0480","617200096",67136,"CONCRETE TRAFFIC BARRIER, TYPE B","E042","",0,null,"","","","","","","",0,0,0,0,0,0,0]
[null,null,"100510..CPCMLD","221216-C03","J4I3486","0430","5031010A96",66416,"BRIDGE APPROACH SLAB (MAJOR)","E042","",0,null,"","","","","","","",0,0,0,0,0,0,0]
[null,null,"100510..CPCMLD","221216-D02","J5S3447","0450","703200396",67433,"CLASS B CONCRETE (SUBSTRUCTURE)","E042","",0,null,"","","","","","","",0,0,0,0,0,0,0]
[null,null,"100510..CPCMLD","221216-F02","J6I3463","0120","617310096",67616,"CONCRETE TRAFFIC BARRIER, TYPE D","E042","",0,null,"","","","","","",""]
[null,null,"100510..CPCMLD","221216-F03","J6I3576","0130","609201196",67228,"INTEGRAL CURB (6 IN. HEIGHT AND UNDER) TYPE A","E042","",0,null,"","","","","","",""]
[null,null,"100510..CPCMLD","221216-G01","J7P3465","0110","5062030A96",67766,"FURNISHING UNBONDED CONCRETE OVERLAY","E042","",0,null,"","","","","","",""]
[null,null,"100510..CPCMLD","230120-B01","J2S3320","0370","703422196",70024,"SLAB ON CONCRETE NU-GIRDER","E042","",0,null,"","","","","","",""]
[null,null,"100510..CPCMLD","230120-C02","J3P3112B","0030","608101096",70474,"CONCRETE CURB RAMP","E042","",0,null,"","","","","","",""]
[null,null,"100510..CPCMLD","230120-C04","J3P3164","0390","701120396",68431,"ROCK SOCKETS (2 FT  6IN. DIA.)","E042","",0,null,"","","","","","",""]
[null,null,"100510..CPCMLD","230120-C07","J4I3450","0190","403990596",69679,"OPTIONAL PAVEMENT -  NW PRAIRIE VIEW","E042","",0,null,"","","","","","",""]
[null,null,"100510..CPCMLD","230120-C07","J4I3450","0340","609105296",69693,"CURB AND GUTTER TYPE B","E042","",0,null,"","","","","","",""]
[null,null,"100510..CPCMLD","230120-C07","J4I3450","1630","701110896",69775,"DRILLED SHAFTS (5 FT. 0 IN. DIA.)","E042","",0,null,"","","","","","",""]
[null,null,"100510..CPCMLD","230120-C07","J4I3450","2100","720100096",69742,"MECHANICALLY STABILIZED EARTH WALL SYSTEMS","E042","",0,null,"","","","","","",""]
[null,null,"100510..CPCMLD","230120-D02","J5P3476","0410","703200396",69541,"CLASS B CONCRETE (SUBSTRUCTURE)","E042","",0,null,"","","","","","",""]
[null,null,"100510..CPCMLD","230120-D02","J5P3476","0430","703422196",69543,"SLAB ON CONCRETE NU-GIRDER","E042","",0,null,"","","","","","",""]
[null,null,"100510..CPCMLD","230120-D05","J5S3444","0400","703421296",70437,"SLAB ON STEEL","E042","",0,null,"","","","","","",""]
[null,null,"100510..CPCMLD","230120-F02","J6I3490","1380","704010496",68764,"HALF-SOLE REPAIR","E042","",0,null,"","","","","","",""]
[null,null,"100510..CPCMLD","230120-F02","J6I3490","1870","704010496",68789,"HALF-SOLE REPAIR","E042","",0,null,"","","","","","",""]
[null,null,"100510..CPCMLD","230120-F02","J6I3490","2440","703421296",68878,"SLAB ON STEEL","E042","",0,null,"","","","","","",""]
[null,null,"100510..CPCMLD","230120-F02","J6P3548","3860","703421496",68710,"CLASS B-2 CONCRETE","E042","",0,null,"","","","","","",""]
[null,null,"100510..CPCMLD","230120-F02","J6S3488","4570","5031010A96",68926,"BRIDGE APPROACH SLAB (MAJOR)","E042","",0,null,"","","","","","",""]
[null,null,"100510..CPCMLD","230120-F04","J6I3647","0100","502110896",70100,"CONCRETE PAVEMENT ( 8 IN. NON-REINF)","E042","",0,null,"","","","","","",""]
[null,null,"100510..CPCMLD","230120-F04","J6I3647","5001","613101096",81738,"FURNISHING AND PLACING CONCRETE MATERIAL FOR FULL DEPTH PAVEMENT REPAIR","E042","",0,null,"","","","","","",""]
[null,null,"100510..CPCMLD","230120-G07","J8S3138","0270","609105296",69094,"CURB AND GUTTER TYPE B","E042","",0,null,"","","","","","",""]
[null,null,"100510..CPCMLD","230120-G07","J8S3138B","3320","701110696",69315,"DRILLED SHAFTS (4 FT. 0 IN. DIA.)","E042","",0,null,"","","","","","",""]
[null,null,"100510..CPCMLD","230120-H01","J9P3650","1160","613101096",68171,"FURNISHING AND PLACING CONCRETE MATERIAL FOR FULL DEPTH PAVEMENT REPAIR","E042","",0,null,"","","","","","",""]
[null,null,"100510..CPCMLD","230120-H02","J9P3547","0360","704010196",68564,"SUBSTRUCTURE REPAIR (FORMED)","E042","",0,null,"","","","","","",""]
[null,null,"100510..CPCMLD","230217-C07","J4S3444","0370","703422296",71903,"SLAB ON CONCRETE BEAM","E042","",0,null,"","","","","","",""]
[null,null,"100510..CPCMLD","230217-F02","J6I3568","0270","609101096",71020,"CONCRETE CURB (6 IN. HEIGHT AND UNDER) TYPE S","E042","",0,null,"","","","","","",""]
[null,null,"100510..CPCMLD","230217-F04","J6P3561","0070","502110696",71676,"CONCRETE PAVEMENT ( 6 IN. NON-REINF)","E042","",0,null,"","","","","","",""]
[null,null,"100510..CPCMLD","230217-F07","J6S3281","0290","609201196",71521,"INTEGRAL CURB (6 IN. HEIGHT AND UNDER) TYPE A","E042","",0,null,"","","","","","",""]
[null,null,"100510..CPCMLD","230217-G04","J7S3381","0540","703200396",70783,"CLASS B CONCRETE (SUBSTRUCTURE)","E042","",0,null,"","","","",{"$f":"IF(N2020=\"\",\"\",I2020)","v":""},{"$f":"IF(N2020=\"\",\"\",J2020)","v":""},{"$f":"IF(N2020=\"\",\"\",H2020)","v":""}]
[null,null,"100510..CPCMLD","230217-G05","J7S3395","0110","608600896",70722,"CONCRETE SIDEWALK, 8 IN.","E042","",0,null,"","","","","","",""]
[null,null,"100510..CPCMLD","230217-G06","J7S3508","1330","703422296",70635,"SLAB ON CONCRETE BEAM","E042","",0,null,"","","","","","",""]
[null,null,"100510..CPCMLD","230217-H04","J9S3557","0690","703421696",70596,"TYPE H BARRIER","E042","",0,null,"","","","","","",""]
[null,null,"100510..CPCMLD","230317-B01","J2S3147","0440","703420896",72806,"CLASS B-2 CONCRETE (SUPERSTRUCTURE SOLID SLAB)","E042","",0,null,"","","","","","",""]
[null,null,"100510..CPCMLD","230317-C01","J4P3323C","0280","703404196",72567,"CLASS B-1 CONCRETE (CULVERTS)","E042","",0,null,"","","","","","",""]
[null,null,"100510..CPCMLD","230317-D01","J5P3576","0110","609201196",72712,"INTEGRAL CURB (6 IN. HEIGHT AND UNDER) TYPE A","E042","",0,null,"","","","","","",""]
[null,null,"100510..CPCMLD","230317-G01","J7P3527","0170","608300696",72584,"6 IN. CONCRETE MEDIAN STRIP","E042","",0,null,"","","","",{"$f":"IF(N2084=\"\",\"\",I2084)","v":""},{"$f":"IF(N2084=\"\",\"\",J2084)","v":""},{"$f":"IF(N2084=\"\",\"\",H2084)","v":""}]
[null,null,"100510..CPCMLD","230317-G01","J7P3527","0620","7319903",73261,"RECTANGULAR CONCRETE BOX (4FT X 2.25FT)","E042","",0,null,"","","","","","",""]
[null,null,"100510..CPCMLD","230317-G04","J8P3087E","0100","604401196",72497,"PIPE COLLAR, TYPE A","E042","",0,null,"","","","","","",""]
[null,null,"100510..CPCMLD","230317-G04","J8P3087F","1320","608600496",72391,"CONCRETE SIDEWALK, 4 IN.","E042","",0,null,"","","","","","",""]
[null,null,"100510..CPCMLD","230317-G04","J8S3173","2750","608600496",72260,"CONCRETE SIDEWALK, 4 IN.","E042","",0,null,"","","","","","",""]
[null,null,"100510..CPCMLD","230317-G04","J8S3173","4020","902910096",72415,"BASE, CONCRETE","E042","",0,null,"","","","","","",""]
[null,null,"100510..CPCMLD","230317-H01","J9P3683","0710","703422196",73080,"SLAB ON CONCRETE NU-GIRDER","E042","",0,null,"","","","","","",""]
[null,null,"100510..CPCMLD","230317-H03","J9S3326","0380","703460096",73179,"CURB BLOCKOUT","E042","",0,null,"","","","","","",""]
[null,null,"100510..CPCMLD","230421-A03","J1S3363","0270","6173103",74921,"CONCRETE TRAFFIC BARRIER, TYPE D (MOMENT SLAB)","E042","",0,null,"","","","","","","",null,null,""]
[null,null,"100510..CPCMLD","230421-B01","J2P3355","0190","609201196",74219,"INTEGRAL CURB (6 IN. HEIGHT AND UNDER) TYPE A","E042","",0,null,"","","","","","","",null,null,""]
[null,null,"100510..CPCMLD","230421-B01","J2S3356","0680","608101096",74255,"CONCRETE CURB RAMP","E042","",0,null,"","","","","","","",null,null,""]
[null,null,"100510..CPCMLD","230421-C02","J3P3198","0070","504100096",73361,"CONCRETE APPROACH PAVEMENT","E042","",0,null,"","","","","","","",null,null,""]
[null,null,"100510..CPCMLD","230421-C06","J4S3374","0570","617310096",74757,"CONCRETE TRAFFIC BARRIER, TYPE D","E042","",0,null,"","","","","","","",null,null,""]
[null,null,"100510..CPCMLD","230421-C06","J4S3374","1750","703422196",74721,"SLAB ON CONCRETE NU-GIRDER","E042",{"$f":"IF(C2211=$C$162,D2211,\"\")","v":""},0,null,{"$f":"(IF(K2211=\"\",\"\",IF(OR(D2211=$J$33,D2211=$T$33, D2211=$O$33),D2211,\"\")))","v":""},{"$f":"IF(N2211=\"\",\"\",F2211)","v":""},{"$f":"IF(N2211=\"\", \"\", E2211)","v":""},{"$f":"IF(N2211=\"\", \"\", G2211)","v":""},"","","",null,null,""]
[null,null,"100510..CPCMLD","230421-C09","J3P3168","0060","608300496",73866,"4 IN. CONCRETE MEDIAN STRIP","E042","",0,null,"","","","","","","",null,null,""]
[null,null,"100510..CPCMLD","230421-F06","J6P3288","1760","5031010A96",74477,"BRIDGE APPROACH SLAB (MAJOR)","E042","",0,null,"","","","","","","",null,null,""]
[null,null,"100510..CPCMLD","230421-F06","J6P3288","3140","703421496",74538,"CLASS B-2 CONCRETE","E042","",0,null,"","","","","","","",null,null,""]
[null,null,"100510..CPCMLD","230421-G01","J7P3434","1000","608600496",73649,"CONCRETE SIDEWALK, 4 IN.","E042","",0,null,"","","","","","","",null,null,""]
[null,null,"100510..CPCMLD","230421-G05","J8P0605I","0260","613101096",73541,"FURNISHING AND PLACING CONCRETE MATERIAL FOR FULL DEPTH PAVEMENT REPAIR","E042","",0,null,"","","","","","","",null,null,""]
[null,null,"100510..CPCMLD","230421-G05","J8P0605I","0410","617300096",73553,"CONCRETE TRAFFIC BARRIER, TYPE C","E042","",0,null,"","","","","","","",null,null,""]
[null,null,"100510..CPCMLD","230421-G05","J8P0605J","2440","701110596",73417,"DRILLED SHAFTS (3 FT. 6 IN. DIA.)","E042","",0,null,"","","","","","","",null,null,""]
[null,null,"100510..CPCMLD","230421-H04","J9P3747","0180","609201196",74044,"INTEGRAL CURB (6 IN. HEIGHT AND UNDER) TYPE A","E042","",0,null,"","","","","","","",null,null,""]
[null,null,"100510..CPCMLD","230519-C04","J4P3443","0200","609101196",75868,"CONCRETE CURB (OVER 6 IN. HEIGHT) TYPE S","E042","",0,null,"","","","","","","",null,null,""]
[null,null,"100510..CPCMLD","230519-C04","J4P3443","2020","703422196",75962,"SLAB ON CONCRETE NU-GIRDER","E042","",0,null,"","","","","","","",null,null,""]
[null,null,"100510..CPCMLD","230519-C05","J4S3410","1140","608300696",75658,"6 IN. CONCRETE MEDIAN STRIP","E042","",0,null,"","","","","","","",null,null,""]
[null,null,"100510..CPCMLD","230519-C05","J4S3410","1190","609105296",75663,"CURB AND GUTTER TYPE B","E042","",0,null,"","","","","","","",null,null,""]
[null,null,"100510..CPCMLD","230519-C06","J4S3405B","1550","607110196",76309,"MODIFIED CONCRETE GUTTER TYPE A","E042","",0,null,"","","","","","","",null,null,""]
[null,null,"100510..CPCMLD","230519-C06","J4S3405B","1970","703404196",76345,"CLASS B-1 CONCRETE (CULVERTS)","E042","",0,null,"","","","","","","",null,null,""]
[null,null,"100510..CPCMLD","230519-D03","J5P3490","0140","608101096",76533,"CONCRETE CURB RAMP","E042","",0,null,"","","","","","","",null,null,""]
[null,null,"100510..CPCMLD","230519-D05","J5S3369","0050","502110896",76025,"CONCRETE PAVEMENT ( 8 IN. NON-REINF)","E042","",0,null,"","","","","","","",null,null,""]
[null,null,"100510..CPCMLD","230519-D12","J5S3478","0430","7034219A96",75004,"TYPE D BARRIER","E042","",0,null,"","","","","","","",null,null,""]
[null,null,"100510..CPCMLD","230519-D12","J5S3478","0570","703422296",75015,"SLAB ON CONCRETE BEAM","E042","",0,null,"","","","","","","",null,null,""]
[null,null,"100510..CPCMLD","230519-F01","J6I2090","0290","609105296",75418,"CURB AND GUTTER TYPE B","E042","",0,null,"","","","","","","",null,null,""]
[null,null,"100510..CPCMLD","230519-F01","J6I2090","1650","502134096",75334,"TYPE A2 SHOULDER","E042","",0,null,"","","","","","","",null,null,""]
[null,null,"100510..CPCMLD","230519-F01","J6I2090","2110","7034219A96",75348,"TYPE D BARRIER","E042","",0,null,"","","","","","","",null,null,""]
[null,null,"100510..CPCMLD","230519-F01","J6I2090","2860","703421296",75460,"SLAB ON STEEL","E042","",0,null,"","","","","","","",null,null,""]
[null,null,"100510..CPCMLD","230519-F01","J6I2090","3160","703200396",75481,"CLASS B CONCRETE (SUBSTRUCTURE)","E042","",0,null,"","","","","","","",null,null,""]
[null,null,"100510..CPCMLD","230519-F03","J6I3550","1620","7029902",77090,"Pile Encasement","E042","",0,null,"","","","","","","",null,null,""]
[null,null,"100510..CPCMLD","230519-F09","J6S3583","0200","613101096",76103,"FURNISHING AND PLACING CONCRETE MATERIAL FOR FULL DEPTH PAVEMENT REPAIR","E042","",0,null,"","","","","","","",null,null,""]
[null,null,"100510..CPCMLD","230519-G04","J8S3194","0280","608300896",76465,"8 IN. CONCRETE MEDIAN STRIP","E042","",0,null,"","","","","","","",null,null,""]
[null,null,"100510..CPCMLD","230519-G06","JSU0054","0100","608101096",76053,"CONCRETE CURB RAMP","E042","",0,null,"","","","","","","",null,null,""]
[null,null,"100510..CPCMLD","230519-H01","J9P3735","2210","5031011A96",76975,"BRIDGE APPROACH SLAB (MINOR ROAD)","E042","",0,null,"","","","","","","",null,null,""]
[null,null,"100510..CPCMLD","230519-H06","J9S3734","0170","608990596",76780,"6 IN CONCRETE SIDEWALK","E042","",0,null,"","","","","","","",null,null,""]
[null,null,"100510..CPCMLD","230519-H06","J9S3734","0330","703404196",76729,"CLASS B-1 CONCRETE (CULVERTS)","E042","",0,null,"","","","","","","",null,null,""]
[null,null,"100510..CPCMLD","230616-G01","J8S3190","1780","608101096",77502,"CONCRETE CURB RAMP","E042","",0,null,"","","","","","","",null,null,""]
[null,null,"100510..CPCMLD","230616-G01","J8S3190","1810","608500896",77504,"PAVED APPROACH, 8 IN.","E042","",0,null,"","","","","","","",null,null,""]
[null,null,"100510..CPCMLD","230818-A03","J1P3318","0220","502111096",78741,"CONCRETE PAVEMENT (10 IN. NON-REINF)","E042","",0,null,"","","","","","","",null,null,""]
[null,null,"100510..CPCMLD","230818-A10","JNW0102","0130","608600496",78181,"CONCRETE SIDEWALK, 4 IN.","E042","",0,null,"","","","","","","",null,null,""]
[null,null,"100510..CPCMLD","230818-F01","J6M0288","0160","609101096",78383,"CONCRETE CURB (6 IN. HEIGHT AND UNDER) TYPE S","E042","",0,null,"","","","","","","",null,null,""]
[null,null,"100510..CPCMLD","230818-G01","J7S3500","1410","7039902",78590,"End Post Modifications","E042","",0,null,"","","","","","","",null,null,""]
[null,null,"100510..CPCMLD","230915-A02","J1S3393","0130","608500896",79168,"PAVED APPROACH, 8 IN.","E042","",0,null,"","","","","","","",null,null,""]
[null,null,"100510..CPCMLD","230915-B01","J2P3357","0180","608600896",79225,"CONCRETE SIDEWALK, 8 IN.","E042","",0,null,"","","","","","","",null,null,""]
[null,null,"100510..CPCMLD","230915-B01","J2P3357","1320","702990396",79314,"GALVANIZED SOLDIER PILES (HP16X121)","E042","",0,null,"","","","","","","",null,null,""]
[null,null,"100510..CPCMLD","230915-D05","J5S3369B","0160","608500896",80120,"PAVED APPROACH, 8 IN.","E042","",0,null,"","","","","","","",null,null,""]
[null,null,"100510..CPCMLD","230915-F04","JSLM0034","0070","609106096",80346,"PAVED DITCH","E042","",0,null,"","","","","","","",null,null,""]
[null,null,"100510..CPCMLD","230915-G03","J7P3470","0160","609101096",79661,"CONCRETE CURB (6 IN. HEIGHT AND UNDER) TYPE S","E042","",0,null,"","","","","","","",null,null,""]
[null,null,"100510..CPCMLD","230915-G04","J7S3487","0160","608990596",79453,"CONCRETE PAVEMENT (8 IN. NON-REINFORCED, TINTED)","E042","",0,null,"","","","","","","",null,null,""]
[null,null,"100510..CPCMLD","230915-G05","J8S3157","0160","608600496",79466,"CONCRETE SIDEWALK, 4 IN.","E042","",0,null,"","","","","","","",null,null,""]
[null,null,"100510..CPCMLD","230915-G05","J8S3157","0940","703463096",79526,"CONCRETE CURB (BRIDGE RAIL)","E042","",0,null,"","","","","","","",null,null,""]
[null,null,"100510..CPCMLD","231020-C02","J4P3465","0100","608101096",80540,"CONCRETE CURB RAMP","E042","",0,null,"","","","","","","",null,null,""]
[null,null,"100510..CPCMLD","231020-D03","J5P3542","0170","609105296",81591,"CURB AND GUTTER TYPE B","E042","",0,null,"","","","","","","",null,null,""]
[null,null,"100510..CPCMLD","231020-F03","J6S3215","0310","609104196",81485,"CONCRETE GUTTER TYPE A","E042","",0,null,"","","","","","","",null,null,""]
[null,null,"100510..CPCMLD","231020-F03","J6S3592","1770","608600496",81394,"CONCRETE SIDEWALK, 4 IN.","E042","",0,null,"","","","","","","",null,null,""]
[null,null,"100510..CPCMLD","231020-G02","J7S3447","0690","7039902",80976,"END POST MODIFICATION","E042","",0,null,"","","","","","","",null,null,""]
[null,null,"100510..CPCMLD","231117-D2B","J5S3458","1060","703421496",82603,"CLASS B-2 CONCRETE","E042","",0,null,"","","","","","","",null,null,""]
[null,null,"100510..CPCMLD","231117-F01","J6S3280","0230","608300696",81838,"6 IN. CONCRETE MEDIAN STRIP","E042","",0,null,"","","","","","","",null,null,""]
[null,null,"100510..CPCMLD","231117-F01","J6S3280","1560","5031010A96",81941,"BRIDGE APPROACH SLAB (MAJOR)","E042","",0,null,"","","","","","","",null,null,""]
[null,null,"100510..CPCMLD","231117-F02","J6S3351","0230","609104196",82180,"CONCRETE GUTTER TYPE A","E042","",0,null,"","","","","","","",null,null,""]
[null,null,"100510..CPCMLD","231117-F02","J6S3351","0270","609203196",82184,"CONCRETE CURB LOW PROFILE TYPE E","E042","",0,null,"","","","","","","",null,null,""]
[null,null,"100510..CPCMLD","231117-G02","J7S3519","0150","608600896",82508,"CONCRETE SIDEWALK, 8 IN.","E042","",0,null,"","","","","","","",null,null,""]
[null,null,"100510..CPCMLD","231201-G01","JSUM0050","0330","7039905",82893,"PARTIAL REPLACEMENT OF SLAB ON CONCRETE I-GIRDER","E042","",null,null,"","","","","","","",null,null,""]
[null,null,"100510..OPTLD1","210416-F02","J6S3048","5005","609105296",44932,"CURB AND GUTTER TYPE B","E042","",null,null,"","","","","","","",null,null,""]
[null,null,"1005CM..GV10","221216-H01","J9P3599","0110","502110896",67201,"CONCRETE PAVEMENT ( 8 IN. NON-REINF)","E042","",null,null,"","","","","","","",null,null,""]
[null,null,"1005CM..LD10","220218-G04","J7P3107F","0350","701110996",53540,"DRILLED SHAFTS (5 FT. 6 IN. DIA.)","E042","",null,null,"","","","","","","",null,null,""]
[null,null,"1005CM..LD10","220218-G04","J7P3107F","0430","7034219A96",53545,"TYPE D BARRIER","E042","",null,null,"","","","","","","",null,null,""]
[null,null,"1005CM..LD10","230120-G01","J7I3524","0650","5031010A96",69475,"BRIDGE APPROACH SLAB (MAJOR)","E042","",null,null,"","","","","","","",null,null,""]
[null,null,"1005FACCNS..CA","190206-G01","J7I3357","1727","703200396",10731,"CLASS B CONCRETE (SUBSTRUCTURE)","E042","",null,null,"","","","","","","",null,null,""]
[null,null,"1005FACCNS..CA","190206-G01","J7I3357","1818","701110696",10746,"DRILLED SHAFTS (4 FT. 0 IN. DIA.)","E042","",null,null,"","","","","","","",null,null,""]
[null,null,"1005FACCNS..CA","190206-G01","J7I3357","2731","703422196",10801,"SLAB ON CONCRETE NU-GIRDER","E042","",null,null,"","","","","","","",null,null,""]
[null,null,"1005FACCNS..CA","190206-G01","J7I3357","2832","703421396",10818,"SLAB ON CONCRETE I-GIRDER","E042","",null,null,"","","","","","","",null,null,""]
[null,null,"1005FACCNS..CA","190206-G01","J7I3357","3627","703200396",10845,"CLASS B CONCRETE (SUBSTRUCTURE)","E042","",null,null,"","","","","","","",null,null,""]
[null,null,"1005FACCNS..CA","190206-G01","J7I3357","4617","701110596",10881,"DRILLED SHAFTS (3 FT. 6 IN. DIA.)","E042","",null,null,"","","","","","","",null,null,""]
[null,null,"1005FACCNS..CA","190206-G01","J7I3357","4816","701120696",10908,"ROCK SOCKETS (4 FT  0 IN. DIA.)","E042","",null,null,"","","","","","","",null,null,""]
[null,null,"1005FACCNS..CA","190206-G01","J7I3357","5526","703200396",10921,"CLASS B CONCRETE (SUBSTRUCTURE)","E042","",null,null,"","","","","","","",null,null,""]
[null,null,"1005FACCNS..CA","191213-H01","J9I3125","0140","403990596",17456,"OPTIONAL PAVEMENT TEMPORARY CROSSOVER","E042","",null,null,"","","","","","","",null,null,""]
[null,null,"1005FACCNS..CA","191213-H01","J9I3125","0540","701110696",17484,"DRILLED SHAFTS (4 FT. 0 IN. DIA.)","E042","",null,null,"","","","","","","",null,null,""]
[null,null,"1005FACCNS..CA","191213-H01","J9P3460","1250","502130996",17532,"CONCRETE PAVEMENT (9 IN. NON-REINFORCED 15 FT. JOINTS)","E042","",null,null,"","","","","","","",null,null,""]
[null,null,"1005FACCNS..CA","191213-H01","J9P3460","1960","502130996",17588,"CONCRETE PAVEMENT (9 IN. NON-REINFORCED 15 FT. JOINTS)","E042","",null,null,"","","","","","","",null,null,""]
[null,null,"1005FACCNS..CA","200117-H07","J9I3553","0080","608300396",21248,"3 IN. CONCRETE MEDIAN STRIP","E042","",null,null,"","","","","","","",null,null,""]
[null,null,"1005FACCNS..CA","200117-H07","J9I3553","0730","703460096",21303,"CURB BLOCKOUT","E042","",null,null,"","","","","","","",null,null,""]
[null,null,"1005FACCNS..CA","200918-F02","J6S3049","0350","613101096",30505,"FURNISHING AND PLACING CONCRETE MATERIAL FOR FULL DEPTH PAVEMENT REPAIR","E042","",null,null,"","","","","","","",null,null,""]
[null,null,"1005FACCNS..CA","201016-G01","J7I3363","0110","609201196",31689,"INTEGRAL CURB (6 IN. HEIGHT AND UNDER) TYPE A","E042","",null,null,"","","","","","","",null,null,""]
[null,null,"1005FACCNS..CA","201016-G01","J7I3363","0650","703200396",31729,"CLASS B CONCRETE (SUBSTRUCTURE)","E042","",null,null,"","","","","","","",null,null,""]
[null,null,"1005FACCNS..CA","201120-G10","J8P3032B","0180","608100096",33260,"CONCRETE MEDIAN","E042","",null,null,"","","","","","","",null,null,""]
[null,null,"1005FACCNS..CA","201120-G10","J8P3032B","0240","609201196",33266,"INTEGRAL CURB (6 IN. HEIGHT AND UNDER) TYPE A","E042","",null,null,"","","","","","","",null,null,""]
[null,null,"1005FACCNS..CA","201120-G10","J8P3032B","5018","502133396",60348,"CONCRETE PAVEMENT (9 1/2 IN. NON-REINFORCED, 15 FT. JOINTS)","E042","",null,null,"","","","","","","",null,null,""]
[null,null,"1005FACCNS..CA","201218-C04","J4P3015","1050","7034219A96",34317,"TYPE D BARRIER","E042","",null,null,"","","","","","","",null,null,""]
[null,null,"1005FACCNS..CA","201218-C04","J4P3015","1230","5031010A96",34330,"BRIDGE APPROACH SLAB (MAJOR)","E042","",null,null,"","","","","","","",null,null,""]
[null,null,"1005FACCNS..CA","210219-A01","J1I3110","0550","703421496",38753,"CLASS B-2 CONCRETE","E042","",null,null,"","","","","","","",null,null,""]
[null,null,"1005FACCNS..CA","210219-A01","J1I3110","0870","703421296",38773,"SLAB ON STEEL","E042","",null,null,"","","","","","","",null,null,""]
[null,null,"1005FACCNS..CA","210416-F02","J6S3048","0240","608990296",41156,"CONCRETE CURB RAMP, CORAL COLOR","E042","",null,null,"","","","","","","",null,null,""]
[null,null,"1005FACCNS..CA","210416-F02","J6S3048","0750","7039903",42779,"SPECIAL GUTTER RETAINING WALL","E042","",null,null,"","","","","","","",null,null,""]
[null,null,"1005FACCNS..CA","210521-F01","J6S1718","0130","502110796",43022,"CONCRETE PAVEMENT ( 7 IN. NON-REINF)","E042","",null,null,"","","","","","","",null,null,""]
[null,null,"1005FACCNS..CA","210521-F01","J6S1718","0260","609101096",43031,"CONCRETE CURB (6 IN. HEIGHT AND UNDER) TYPE S","E042","",null,null,"","","","","","","",null,null,""]
[null,null,"1005FACCNS..CA","210521-F01","J6S1718","2330","7034219A96",43156,"TYPE D BARRIER","E042","",null,null,"","","","","","","",null,null,""]
[null,null,"1005FACCNS..CA","210521-F01","J6S1718B","2920","609105296",42946,"CURB AND GUTTER TYPE B","E042","",null,null,"","","","","","","",null,null,""]
[null,null,"1005FACCNS..CA","210521-F01","J6S1718B","3060","703200396",42953,"CLASS B CONCRETE (SUBSTRUCTURE)","E042","",null,null,"","","","","","","",null,null,""]
[null,null,"1005FACCNS..CA","210521-F04","J6P3372","0890","502134096",42355,"TYPE A2 SHOULDER","E042","",null,null,"","","","","","","",null,null,""]
[null,null,"1005FACCNS..CA","210521-G08","J8P0588H","0340","608500896",43417,"PAVED APPROACH, 8 IN.","E042","",null,null,"","","","","","","",null,null,""]
[null,null,"1005FACCNS..CA","210521-G08","J8P0588H","0410","609105296",43424,"CURB AND GUTTER TYPE B","E042","",null,null,"","","","","","","",null,null,""]
[null,null,"1005FACCNS..CA","210521-G08","J8P0588H","2030","608500896",43556,"PAVED APPROACH, 8 IN.","E042","",null,null,"","","","","","","",null,null,""]
[null,null,"1005FACCNS..CA","210521-G08","J8P0588H","2150","608300896",43564,"8 IN. CONCRETE MEDIAN STRIP","E042","",null,null,"","","","",{"$f":"IF(N3172=\"\",\"\",I3172)","v":""},{"$f":"IF(N3172=\"\",\"\",J3172)","v":""},{"$f":"IF(N3172=\"\",\"\",H3172)","v":""},null,null,""]
[null,null,"1005FACCNS..CA","210820-A03","J1I3271","0690","703421296",44573,"SLAB ON STEEL","E042","",null,null,"","","","","","","",null,null,""]
[null,null,"1005FACCNS..CA","210820-A03","J1S3251","2190","609101096",44466,"CONCRETE CURB (6 IN. HEIGHT AND UNDER) TYPE S","E042","",null,null,"","","","","","","",null,null,""]
[null,null,"1005FACCNS..CA","210917-A02","J1P3270","0090","504100096",46207,"CONCRETE APPROACH PAVEMENT","E042","",null,null,"","","","","","","",null,null,""]
[null,null,"1005FACCNS..CA","210917-D07","J5P3409","1040","505000196",45170,"OPTIONAL CONCRETE WEARING SURFACE","E042","",null,null,"","","","","","","",null,null,""]
[null,null,"1005FACCNS..CA","210917-F05","J6P3418","0160","609104196",45569,"CONCRETE GUTTER TYPE A","E042","",null,null,"","","","","","","",null,null,""]
[null,null,"1005FACCNS..CA","210917-F05","J6P3418","0460","617310296",45591,"CONCRETE TRAFFIC BARRIER, TYPE D (RETAINING WALL)","E042","",null,null,"","","","","","","",null,null,""]
[null,null,"1005FACCNS..CA","210917-F05","J6P3418","2200","7034219A96",45740,"TYPE D BARRIER","E042","",null,null,"","","","","","","",null,null,""]
[null,null,"1005FACCNS..CA","210917-F05","J6S3600","2750","608300896",45757,"8 IN. CONCRETE MEDIAN STRIP","E042","",null,null,"","","","","","","",null,null,""]
[null,null,"1005FACCNS..CA","210917-F05","J6P3418","5013","7039904",57245,"MODIFIED GRAVITY RETAINING WALL","E042","",null,null,"","","","","","","",null,null,""]
[null,null,"1005FACCNS..CA","211015-A01","J1P3255","0960","505000196",46873,"OPTIONAL CONCRETE WEARING SURFACE","E042","",null,null,"","","","","","","",null,null,""]
[null,null,"1005FACCNS..CA","211119-A05","J1P3295","0220","617100096",48805,"CONCRETE TRAFFIC BARRIER, TYPE A","E042","",null,null,"","","","","","","",null,null,""]
[null,null,"1005FACCNS..CA","211119-A05","J1P3295","0660","5031010A96",48834,"BRIDGE APPROACH SLAB (MAJOR)","E042","",null,null,"","","","","","","",null,null,""]
[null,null,"1005FACCNS..CA","211119-A08","J1S3213","0290","701120496",49703,"ROCK SOCKETS (3 FT  0 IN. DIA.)","E042","",null,null,"","","","","","","",null,null,""]
[null,null,"1005FACCNS..CA","211119-F01","J6I3413","0030","4029901",53437,"TEMPORARY MEDIAN CROSSOVER EAST","E042","",null,null,"","","","","","","",null,null,""]
[null,null,"1005FACCNS..CA","211119-F01","J6I3500","1460","7034219A96",49241,"TYPE D BARRIER","E042","",null,null,"","","","","","","",null,null,""]
[null,null,"1005FACCNS..CA","211119-G02","J7P3210","5006","6049902",57248,"Misc. Concrete for Plugging Culvert","E042","",null,null,"","","","","","","",null,null,""]
[null,null,"1005FACCNS..CA","211217-D05","J5S3330","0540","701111296",51097,"DRILLED SHAFTS (7 FT. 0 IN. DIA.)","E042","",null,null,"","","","","","","",null,null,""]
[null,null,"1005FACCNS..CA","211217-D05","J5S3416","1460","703200396",51160,"CLASS B CONCRETE (SUBSTRUCTURE)","E042","",null,null,"","","","","","","",null,null,""]
[null,null,"1005FACCNS..CA","211217-F04","J6S3272","0370","703200396",50816,"CLASS B CONCRETE (SUBSTRUCTURE)","E042","",null,null,"","","","","","","",null,null,""]
[null,null,"1005FACCNS..CA","211217-F04","J6S3272","0580","701120696",50832,"ROCK SOCKETS (4 FT  0 IN. DIA.)","E042","",null,null,"","","","","","","",null,null,""]
[null,null,"1005FACCNS..CA","211217-F04","J6S3638","1600","902910096",50770,"BASE, CONCRETE","E042","",null,null,"","","","","","","",null,null,""]
[null,null,"1005FACCNS..CA","220120-G01","J7I3420","1212","5031010A96",55200,"BRIDGE APPROACH SLAB (MAJOR)","E042","",null,null,"","","","","","","",null,null,""]
[null,null,"1005FACCNS..CA","220120-G01","J7I3420","1372","504100096",67491,"CONCRETE APPROACH PAVEMENT","E042","",null,null,"","","","","","","",null,null,""]
[null,null,"1005FACCNS..CA","220120-G01","J7I3420","1516","701110496",55230,"DRILLED SHAFTS (3 FT. 0 IN. DIA.)","E042","",null,null,"","","","","","","",null,null,""]
[null,null,"1005FACCNS..CA","220120-G01","J7I3420","1725","703200396",55315,"CLASS B CONCRETE (SUBSTRUCTURE)","E042",{"$f":"IF(C3427=$C$162,D3427,\"\")","v":""},null,null,{"$f":"(IF(K3427=\"\",\"\",IF(OR(D3427=$J$33,D3427=$T$33, D3427=$O$33),D3427,\"\")))","v":""},{"$f":"IF(N3427=\"\",\"\",F3427)","v":""},{"$f":"IF(N3427=\"\", \"\", E3427)","v":""},{"$f":"IF(N3427=\"\", \"\", G3427)","v":""},"","","",null,null,""]
[null,null,"1005FACCNS..CA","220120-G01","J7I3420","1771","403990596",67524,"Optional Pavement - Asphalt","E042","",null,null,"","","","","","","",null,null,""]
[null,null,"1005FACCNS..CA","220120-G01","J7I3420","1930","703422196",55343,"SLAB ON CONCRETE NU-GIRDER","E042","",null,null,"","","","","","","",null,null,""]
[null,null,"1005FACCNS..CA","220120-G01","J7I3420","2127","7034219A96",55368,"TYPE D BARRIER","E042","",null,null,"","","","","","","",null,null,""]
[null,null,"1005FACCNS..CA","220120-G01","J7I3420","2316","701110596",55389,"DRILLED SHAFTS (3 FT. 6 IN. DIA.)","E042","",null,null,"","","","","","","",null,null,""]
[null,null,"1005FACCNS..CA","220120-G01","J7I3420","2689","609101096",67489,"CONCRETE CURB (6 IN. HEIGHT AND UNDER) TYPE S","E042","",null,null,"","","","","","","",null,null,""]
[null,null,"1005FACCNS..CA","220120-G01","J7I3420","3216","701110596",55248,"DRILLED SHAFTS (3 FT. 6 IN. DIA.)","E042","",null,null,"","","","","","","",null,null,""]
[null,null,"1005FACCNS..CA","220120-G01","J7I3420","3324","703400196",55288,"CLASS B-1 CONCRETE","E042","",null,null,"","","","","","","",null,null,""]
[null,null,"1005FACCNS..CA","220120-G01","J7I3420","5003","701120296",57770,"ROCK SOCKETS (2 FT  0 IN. DIA.)","E042","",null,null,"","","","","","","",null,null,""]
[null,null,"1005FACCNS..CA","220121-C02","J4I2006","0240","607110196",52794,"MODIFIED CONCRETE GUTTER TYPE A","E042","",null,null,"","","","","","","",null,null,""]
[null,null,"1005FACCNS..CA","220121-C02","J4I2006","0330","608990596",52932,"8 IN. CONCRETE MEDIAN STRIP (SPECIAL)","E042","",null,null,"","","","","","","",null,null,""]
[null,null,"1005FACCNS..CA","220121-C02","J4I2006","2170","701120696",52908,"ROCK SOCKETS (4 FT  0 IN. DIA.)","E042","",null,null,"","","","","","","",null,null,""]
[null,null,"1005FACCNS..CA","220121-D06","J5I3482","1500","505000196",52469,"OPTIONAL CONCRETE WEARING SURFACE","E042","",null,null,"","","","","","","",null,null,""]
[null,null,"1005FACCNS..CA","220121-F02","J6P3291","0090","6116010A96",53104,"SLOPE PROTECTION","E042","",null,null,"","","","","","","",null,null,""]
[null,null,"1005FACCNS..CA","220121-F02","J6S3298","1390","703200396",53203,"CLASS B CONCRETE (SUBSTRUCTURE)","E042","",null,null,"","","","","","","",null,null,""]
[null,null,"1005FACCNS..CA","220121-F09","J6S3296","0210","608300396",52185,"3 IN. CONCRETE MEDIAN STRIP","E042","",null,null,"","","","","","","",null,null,""]
[null,null,"1005FACCNS..CA","220121-F09","J6S3433","1360","608500896",52060,"PAVED APPROACH, 8 IN.","E042","",null,null,"","","","","","","",null,null,""]
[null,null,"1005FACCNS..CA","220121-F10","J6S3404","0180","609201196",51975,"INTEGRAL CURB (6 IN. HEIGHT AND UNDER) TYPE A","E042","",null,null,"","","","","","","",null,null,""]
[null,null,"1005FACCNS..CA","220121-F10","J6S3404","0950","7039903",53266,"MODIFIED BARRIER CURB","E042","",null,null,"","","","","","","",null,null,""]
[null,null,"1005FACCNS..CA","220121-H01","J9I3643","0510","7034219A96",51777,"TYPE D BARRIER","E042","",null,null,"","","","","","","",null,null,""]
[null,null,"1005FACCNS..CA","220218-F06","J6I3149","0130","608600496",54331,"CONCRETE SIDEWALK, 4 IN.","E042","",null,null,"","","","","","","",null,null,""]
[null,null,"1005FACCNS..CA","220218-F06","J6I3149","0270","617200096",54340,"CONCRETE TRAFFIC BARRIER, TYPE B","E042","",null,null,"","","","","","","",null,null,""]
[null,null,"1005FACCNS..CA","220218-F06","J6I3149","0830","704011296",54543,"DECK REPAIR WITH VOID TUBE REPLACEMENT","E042","",null,null,"","","","","","","",null,null,""]
[null,null,"1005FACCNS..CA","220218-F06","J6I3149","1340","5031010A96",54300,"BRIDGE APPROACH SLAB (MAJOR)","E042","",null,null,"","","","","","","",null,null,""]
[null,null,"1005FACCNS..CA","220218-F06","J6I3149","1590","703421496",54313,"CLASS B-2 CONCRETE","E042","",null,null,"","","","","","","",null,null,""]
[null,null,"1005FACCNS..CA","220218-F06","J6I3149","1650","704010796",54347,"SLAB EDGE REPAIR (BRIDGES)","E042","",null,null,"","","","","","","",null,null,""]
[null,null,"1005FACCNS..CA","220218-F06","J6I3149","2010","703421596",54365,"TYPE B BARRIER","E042","",null,null,"","","","","","","",null,null,""]
[null,null,"1005FACCNS..CA","220218-F06","J6I3149","2020","704010296",54366,"SUBSTRUCTURE REPAIR (UNFORMED)","E042",{"$f":"IF(C3683=$C$162,D3683,\"\")","v":""},null,null,{"$f":"(IF(K3683=\"\",\"\",IF(OR(D3683=$J$33,D3683=$T$33, D3683=$O$33),D3683,\"\")))","v":""},{"$f":"IF(N3683=\"\",\"\",F3683)","v":""},{"$f":"IF(N3683=\"\", \"\", E3683)","v":""},{"$f":"IF(N3683=\"\", \"\", G3683)","v":""},"","","",null,null,""]
[null,null,"1005FACCNS..CA","220218-F06","J6I3149","2280","704010696",54383,"FULL DEPTH REPAIR","E042","",null,null,"","","","","","","",null,null,""]
[null,null,"1005FACCNS..CA","220218-F06","J6I3149","2500","704011296",54397,"DECK REPAIR WITH VOID TUBE REPLACEMENT","E042","",null,null,"","","","","","","",null,null,""]
[null,null,"1005FACCNS..CA","220218-F06","J6I3149","2680","704010696",54407,"FULL DEPTH REPAIR","E042","",null,null,"","","","","","","",null,null,""]
[null,null,"1005FACCNS..CA","220218-F06","J6I3149","3350","5031010A96",54455,"BRIDGE APPROACH SLAB (MAJOR)","E042","",null,null,"","","","","","","",null,null,""]
[null,null,"1005FACCNS..CA","220218-F06","J6I3187","3750","609104196",54483,"CONCRETE GUTTER TYPE A","E042","",null,null,"","","","","","","",null,null,""]
[null,null,"1005FACCNS..CA","220218-F06","J6I3187","3990","6179903",54802,"Concrete Traffic Barrier, Type C (Modified)","E042","",null,null,"","","","","","","",null,null,""]
[null,null,"1005FACCNS..CA","220218-F06","J6I3187","4620","703421296",54598,"SLAB ON STEEL","E042","",null,null,"","","","","","","",null,null,""]
[null,null,"1005FACCNS..CA","220218-F06","J6I3187","4810","703441096",54608,"TYPE A BARRIER","E042","",null,null,"","","","","","","",null,null,""]
[null,null,"1005FACCNS..CA","220218-F06","J6I3187","5120","5031010A96",54635,"BRIDGE APPROACH SLAB (MAJOR)","E042","",null,null,"","","","","","","",null,null,""]
[null,null,"1005FACCNS..CA","220218-F06","J6I3187","5470","704011296",54662,"DECK REPAIR WITH VOID TUBE REPLACEMENT","E042","",null,null,"","","","","","","",null,null,""]
[null,null,"1005FACCNS..CA","220218-F08","J6P3308","0070","609201196",54027,"INTEGRAL CURB (6 IN. HEIGHT AND UNDER) TYPE A","E042","",null,null,"","","","","","","",null,null,""]
[null,null,"1005FACCNS..CA","220218-F08","J6S3437","0760","607110296",54061,"MODIFIED CONCRETE GUTTER TYPE B","E042","",null,null,"","","","","","","",null,null,""]
[null,null,"1005FACCNS..CA","220218-F08","J6S3437","1700","902910096",54009,"BASE, CONCRETE","E042","",null,null,"","","","","","","",null,null,""]
[null,null,"1005FACCNS..CA","220218-G04","J7P3107F","0440","703422196",53546,"SLAB ON CONCRETE NU-GIRDER","E042","",null,null,"","","","","","","",null,null,""]
[null,null,"1005FACCNS..CA","220218-G04","J7P3190K","0980","5031011A96",53588,"BRIDGE APPROACH SLAB (MINOR ROAD)","E042","",null,null,"","","","","","","",null,null,""]
[null,null,"1005FACCNS..CA","220218-H01","J9S3381","0700","701120596",53925,"ROCK SOCKETS (3 FT 6 IN. DIA.)","E042","",null,null,"","","","","","","",null,null,""]
[null,null,"1005FACCNS..CA","220318-A02","J1S3207","0310","703200396",55954,"CLASS B CONCRETE (SUBSTRUCTURE)","E042","",null,null,"","","","","","","",null,null,""]
[null,null,"1005FACCNS..CA","220415-A03","J1P3275","0440","703460096",56402,"CURB BLOCKOUT","E042","",null,null,"","","","","","","",null,null,""]
[null,null,"1005FACCNS..CA","220415-A03","J1P3275","1000","703421496",56444,"CLASS B-2 CONCRETE","E042","",null,null,"","","","","","","",null,null,""]
[null,null,"1005FACCNS..CA","220415-A03","J1P3275","1180","703421496",56457,"CLASS B-2 CONCRETE","E042","",null,null,"","","","","","","",null,null,""]
[null,null,"1005FACCNS..CA","220415-B04","J2S3267","0130","608500896",56902,"PAVED APPROACH, 8 IN.","E042","",null,null,"","","","","","","",null,null,""]
[null,null,"1005FACCNS..CA","220415-F01","J6I3489","0470","704010496",56637,"HALF-SOLE REPAIR","E042","",null,null,"","","","","","","",null,null,""]
[null,null,"1005FACCNS..CA","220415-F03","J6S3273","0260","608500796",57121,"PAVED APPROACH, 7 IN.","E042","",null,null,"","","","","","","",null,null,""]
[null,null,"1005FACCNS..CA","220415-F03","J6S3273","0320","609202196",56989,"INTEGRAL CURB (OVER 6 IN. HEIGHT) TYPE A","E042","",null,null,"","","","","","","",null,null,""]
[null,null,"1005FACCNS..CA","220415-G02","J7S3194","0220","608500896",57289,"PAVED APPROACH, 8 IN.","E042","",null,null,"","","","","","","",null,null,""]
[null,null,"1005FACCNS..CA","220415-G02","J7S3194","0790","903101096",57334,"CONCRETE FOOTINGS, EMBEDDED","E042","",null,null,"","","","","","","",null,null,""]
[null,null,"1005FACCNS..CA","220415-G02","J7S3194","1100","7034219A96",58571,"TYPE D BARRIER","E042","",null,null,"","","","","","","",null,null,""]
[null,null,"1005FACCNS..CA","220415-H06","J9P3737","0040","401015096",56963,"TYPE A2 SHOULDER","E042","",null,null,"","","","","","","",null,null,""]
[null,null,"1005FACCNS..CA","220520-A07","J1S3258","0740","703422196",58364,"SLAB ON CONCRETE NU-GIRDER","E042","",null,null,"","","","","","","",null,null,""]
[null,null,"1005FACCNS..CA","220520-F10","J6S3255","0830","703200296",59582,"CLASS B CONCRETE (MISC)","E042","",null,null,"","","","","","","",null,null,""]
[null,null,"1005FACCNS..CA","220520-F12","J6S3259","0210","6049902",59353,"CONCRETE MANHOLE COLLAR","E042","",null,null,"","","","","","","",null,null,""]
[null,null,"1005FACCNS..CA","220520-F12","J6S3259","0350","609201196",59208,"INTEGRAL CURB (6 IN. HEIGHT AND UNDER) TYPE A","E042","",null,null,"","","","","","","",null,null,""]
[null,null,"1005FACCNS..CA","220520-F12","J6S3259C","2040","701110396",59326,"DRILLED SHAFTS (2 FT. 6 IN. DIA.)","E042","",null,null,"","","","","","","",null,null,""]
[null,null,"1005FACCNS..CA","220520-G05","J7S3421","0400","608100096",57845,"CONCRETE MEDIAN","E042","",null,null,"","","","","","","",null,null,""]
[null,null,"1005FACCNS..CA","220520-G05","J7S3421","0460","609101096",57851,"CONCRETE CURB (6 IN. HEIGHT AND UNDER) TYPE S","E042","",null,null,"","","","","","","",null,null,""]
[null,null,"1005FACCNS..CA","220520-G05","J7S3421","0890","609101196",57884,"CONCRETE CURB (OVER 6 IN. HEIGHT) TYPE S","E042","",null,null,"","","","","","","",null,null,""]
[null,null,"1005FACCNS..CA","220520-G06","J8P3032C","0850","701120596",57596,"ROCK SOCKETS (3 FT 6 IN. DIA.)","E042","",null,null,"","","","","","","",null,null,""]
[null,null,"1005FACCNS..CA","220520-G06","J8P3032C","1120","701110696",57614,"DRILLED SHAFTS (4 FT. 0 IN. DIA.)","E042","",null,null,"","","","","","","",null,null,""]
[null,null,"1005FACCNS..CA","220520-G06","J8P3032D","1920","502133396",57684,"CONCRETE PAVEMENT (9 1/2 IN. NON-REINFORCED, 15 FT. JOINTS)","E042","",null,null,"","","","","","","",null,null,""]
[null,null,"1005FACCNS..CA","220520-G06","J8P3223","2500","704010496",57713,"HALF-SOLE REPAIR","E042","",null,null,"","","","","","","",null,null,""]
[null,null,"1005FACCNS..CA","220520-H07","J9P3622","0120","609105196",57784,"CURB AND GUTTER TYPE A","E042","",null,null,"","","","","","","",null,null,""]
[null,null,"1005FACCNS..CA","220520-H08","J9P3663","0390","617300096",58914,"CONCRETE TRAFFIC BARRIER, TYPE C","E042","",null,null,"","","","","","","",null,null,""]
[null,null,"1005FACCNS..CA","220617-B01","J2P3090","0320","609201196",58683,"INTEGRAL CURB (6 IN. HEIGHT AND UNDER) TYPE A","E042","",null,null,"","","","","","","",null,null,""]
[null,null,"1005FACCNS..CA","220617-B01","J2P3090","1640","703200296",58799,"CLASS B CONCRETE (MISC)","E042","",null,null,"","","","","","","",null,null,""]
[null,null,"1005FACCNS..CA","220617-F05","J6P3062B","0120","6116010A96",59437,"SLOPE PROTECTION","E042","",null,null,"","","","",{"$f":"IF(N4132=\"\",\"\",I4132)","v":""},{"$f":"IF(N4132=\"\",\"\",J4132)","v":""},{"$f":"IF(N4132=\"\",\"\",H4132)","v":""},null,null,""]
[null,null,"1005FACCNS..CA","220617-F05","J6P3062B","0680","5031010A96",59478,"BRIDGE APPROACH SLAB (MAJOR)","E042","",null,null,"","","","","","","",null,null,""]
[null,null,"1005FACCNS..CA","220715-F01","J6I3020C","0310","608300696",60133,"6 IN. CONCRETE MEDIAN STRIP","E042","",null,null,"","","","","","","",null,null,""]
[null,null,"1005FACCNS..CA","220715-F01","J6I3020C","1560","903102096",60240,"CONCRETE FOOTINGS, BOLT DOWN","E042","",null,null,"","","","","","","",null,null,""]
[null,null,"1005FACCNS..CA","220715-F01","J6I3020C","2170","701120696",60291,"ROCK SOCKETS (4 FT  0 IN. DIA.)","E042","",null,null,"","","","","","","",null,null,""]
[null,null,"1005FACCNS..CA","220819-A01","J1I3268","0220","613101096",60846,"FURNISHING AND PLACING CONCRETE MATERIAL FOR FULL DEPTH PAVEMENT REPAIR","E042","",null,null,"","","","","","","",null,null,""]
[null,null,"1005FACCNS..CA","220916-C01","J4P3295","0180","608500896",61551,"PAVED APPROACH, 8 IN.","E042","",null,null,"","","","","","","",null,null,""]
[null,null,"1005FACCNS..CA","220916-C01","J4P3295","0230","6099903",61583,"APWA CURB & GUTTER TYPE CG-1","E042","",null,null,"","","","","","","",null,null,""]
[null,null,"1005FACCNS..CA","220916-G04","J7P3428","0710","7039903",63758,"PEDESTRIAN BARRIER","E042","",null,null,"","","","","","","",null,null,""]
[null,null,"1005FACCNS..CA","220916-G07","J8S3221","0800","608101096",63988,"CONCRETE CURB RAMP","E042","",null,null,"","","","","","","",null,null,""]
[null,null,"1005FACCNS..CA","221021-A07","JNW0004","0510","5031011A96",63250,"BRIDGE APPROACH SLAB (MINOR ROAD)","E042","",null,null,"","","","","","","",null,null,""]
[null,null,"1005FACCNS..CA","221021-C02","J4I3451","0810","7034219A96",62435,"TYPE D BARRIER","E042","",null,null,"","","","","","","",null,null,""]
[null,null,"1005FACCNS..CA","221021-C04","J4S3433","0150","609104196",62223,"CONCRETE GUTTER TYPE A","E042","",null,null,"","","","","","","",null,null,""]
[null,null,"1005FACCNS..CA","221021-C04","J4S3433","0900","608500896",62275,"PAVED APPROACH, 8 IN.","E042","",null,null,"","","","","","","",null,null,""]
[null,null,"1005FACCNS..CA","221021-D03","J5S3473","0750","7039902",63822,"Barrier End Modification","E042","",null,null,"","","","","","","",null,null,""]
[null,null,"1005FACCNS..CA","221021-F01","J6I3653","1660","613101096",62781,"FURNISHING AND PLACING CONCRETE MATERIAL FOR FULL DEPTH PAVEMENT REPAIR","E042","",null,null,"","","","","","","",null,null,""]
[null,null,"1005FACCNS..CA","221021-F02","J6I3534","0640","704010296",63695,"SUBSTRUCTURE REPAIR (UNFORMED)","E042","",null,null,"","","","","","","",null,null,""]
[null,null,"1005FACCNS..CA","221021-F05","J6S3595","0890","608990296",63101,"ADA CONCRETE CURB RAMP","E042","",null,null,"","","","","","","",null,null,""]
[null,null,"1005FACCNS..CA","221021-G04","JSR0036","5301","7039903",80339,"Box Culvert Extension","E042","",null,null,"","","","","","","",null,null,""]
[null,null,"1005FACCNS..CA","221021-H06","J9S3549","0460","7034219A96",63404,"TYPE D BARRIER","E042","",null,null,"","","","","","","",null,null,""]
[null,null,"1005FACCNS..CA","221118-A08","J1S3392","1480","5031010A96",66090,"BRIDGE APPROACH SLAB (MAJOR)","E042","",null,null,"","","","","","","",null,null,""]
[null,null,"1005FACCNS..CA","221118-A08","J1S3392","1850","703200396",65979,"CLASS B CONCRETE (SUBSTRUCTURE)","E042","",null,null,"","","","","","","",null,null,""]
[null,null,"1005FACCNS..CA","221118-A08","J1S3392","2280","703200396",66114,"CLASS B CONCRETE (SUBSTRUCTURE)","E042","",null,null,"","","","","","","",null,null,""]
[null,null,"1005FACCNS..CA","221118-C04","J4S3348","0480","613101096",65733,"FURNISHING AND PLACING CONCRETE MATERIAL FOR FULL DEPTH PAVEMENT REPAIR","E042","",null,null,"","","","","","","",null,null,""]
[null,null,"1005FACCNS..CA","221118-C05","J4S3414","0530","502110896",65643,"CONCRETE PAVEMENT ( 8 IN. NON-REINF)","E042","",null,null,"","","","","","","",null,null,""]
[null,null,"1005FACCNS..CA","221118-D05","J5S3457","5001","704010196",80277,"SUBSTRUCTURE REPAIR (FORMED)","E042","",null,null,"","","","","","","",null,null,""]
[null,null,"1005FACCNS..CA","221118-F01","J6I3326","0110","502133196",65301,"CONCRETE PAVEMENT (7 1/2 IN. NON-REINFORCED, 15 FT. JOINTS)","E042","",null,null,"","","","","","","",null,null,""]
[null,null,"1005FACCNS..CA","221118-F01","J6I3326","0870","505200096",65271,"LATEX MODIFIED CONCRETE WEARING SURFACE","E042","",null,null,"","","","","","","",null,null,""]
[null,null,"1005FACCNS..CA","221118-F03","J6P3555","1270","701110596",65069,"DRILLED SHAFTS (3 FT. 6 IN. DIA.)","E042","",null,null,"","","","","","","",null,null,""]
[null,null,"1005FACCNS..CA","221118-F06","J6S3432","0180","613101096",64217,"FURNISHING AND PLACING CONCRETE MATERIAL FOR FULL DEPTH PAVEMENT REPAIR","E042","",null,null,"","","","","","","",null,null,""]
[null,null,"1005FACCNS..CA","221118-G04","J8P0683E","0730","608300396",64803,"3 IN. CONCRETE MEDIAN STRIP","E042","",null,null,"","","","","","","",null,null,""]
[null,null,"1005FACCNS..CA","221118-G04","J8P0683E","0880","6116010A96",64815,"SLOPE PROTECTION","E042","",null,null,"","","","","","","",null,null,""]
[null,null,"1005FACCNS..CA","221118-G05","J7S3535","0140","608300396",66704,"3 IN. CONCRETE MEDIAN STRIP","E042","",null,null,"","","","","","","",null,null,""]
[null,null,"1005FACCNS..CA","221118-G06","J8S3117","0760","502110896",64506,"CONCRETE PAVEMENT ( 8 IN. NON-REINF)","E042","",null,null,"","","","","","","",null,null,""]
[null,null,"1005FACCNS..CA","221118-G06","J8S3160","1300","6099903",64659,"MODIFIED TYPE A GUTTER","E042","",null,null,"","","","","","","",null,null,""]
[null,null,"1005FACCNS..CA","221118-G06","J8S3175","2250","608500896",64618,"PAVED APPROACH, 8 IN.","E042","",null,null,"","","","","","","",null,null,""]
[null,null,"1005FACCNS..CA","221118-H02","J9P3584","0490","5031011A96",64422,"BRIDGE APPROACH SLAB (MINOR ROAD)","E042","",null,null,"","","","","","","",null,null,""]
[null,null,"1005FACCNS..CA","221216-B03","J2P3278","0470","7039902",66575,"BARRIER END MODIFICATION","E042","",null,null,"","","","","","","",null,null,""]
[null,null,"1005FACCNS..CA","221216-C02","J4I3288","0230","608100096",67116,"CONCRETE MEDIAN","E042","",null,null,"","","","","","","",null,null,""]
[null,null,"1005FACCNS..CA","221216-C02","J4I3288","1140","5031010A96",67084,"BRIDGE APPROACH SLAB (MAJOR)","E042","",null,null,"","","","","","","",null,null,""]
[null,null,"1005FACCNS..CA","221216-C06","JKU0007","0170","613101096",66439,"FURNISHING AND PLACING CONCRETE MATERIAL FOR FULL DEPTH PAVEMENT REPAIR","E042","",null,null,"","","","","","","",null,null,""]
[null,null,"1005FACCNS..CA","221216-F02","J6I3463","0060","609201596",67613,"INTEGRAL CURB TYPE O","E042","",null,null,"","","","","","","",null,null,""]
[null,null,"1005FACCNS..CA","221216-F02","J6I3463","0280","903101096",67626,"CONCRETE FOOTINGS, EMBEDDED","E042","",null,null,"","","","","","","",null,null,""]
[null,null,"1005FACCNS..CA","221216-G01","J7P3465","0150","608101096",67768,"CONCRETE CURB RAMP","E042","",null,null,"","","","","","","",null,null,""]
[null,null,"1005FACCNS..CA","221216-G01","J7P3465","0190","609104196",67772,"CONCRETE GUTTER TYPE A","E042","",null,null,"","","","","","","",null,null,""]
[null,null,"1005FACCNS..CA","230120-A07","JNWM0026","0590","608101096",70080,"CONCRETE CURB RAMP","E042","",null,null,"","","","","","","",null,null,""]
[null,null,"1005FACCNS..CA","230120-B01","J2S3449","1300","703422196",69993,"SLAB ON CONCRETE NU-GIRDER","E042","",null,null,"","","","","","","",null,null,""]
[null,null,"1005FACCNS..CA","230120-C02","J3P3112B","0070","608600896",70478,"CONCRETE SIDEWALK, 8 IN.","E042","",null,null,"","","","","","","",null,null,""]
[null,null,"1005FACCNS..CA","230120-C07","J4I3450","0170","401990596",69677,"OPTIONAL PAVEMENT (CROSSOVER)","E042","",null,null,"","","","","","","",null,null,""]
[null,null,"1005FACCNS..CA","230120-C07","J4I3450","0330","609104296",69692,"CONCRETE GUTTER TYPE B","E042","",null,null,"","","","","","","",null,null,""]
[null,null,"1005FACCNS..CA","230120-C07","J4I3450","0850","703404196",69646,"CLASS B-1 CONCRETE (CULVERTS)","E042","",null,null,"","","","","","","",null,null,""]
[null,null,"1005FACCNS..CA","230120-C08","J4P3460","0100","613101096",69600,"FURNISHING AND PLACING CONCRETE MATERIAL FOR FULL DEPTH PAVEMENT REPAIR","E042","",null,null,"","","","","","","",null,null,""]
[null,null,"1005FACCNS..CA","230120-C11","J3S3163","0780","703420896",68394,"CLASS B-2 CONCRETE (SUPERSTRUCTURE SOLID SLAB)","E042",{"$f":"IF(C4643=$C$162,D4643,\"\")","v":""},null,null,{"$f":"(IF(K4643=\"\",\"\",IF(OR(D4643=$J$33,D4643=$T$33, D4643=$O$33),D4643,\"\")))","v":""},{"$f":"IF(N4643=\"\",\"\",F4643)","v":""},{"$f":"IF(N4643=\"\", \"\", E4643)","v":""},{"$f":"IF(N4643=\"\", \"\", G4643)","v":""},"","","",null,null,""]
[null,null,"1005FACCNS..CA","230120-D02","J5P3476","0520","703421296",69550,"SLAB ON STEEL","E042","",null,null,"","","","","","","",null,null,""]
[null,null,"1005FACCNS..CA","230120-D05","J5S3444","0390","703400396",70436,"CLASS B-1 CONCRETE (SUBSTRUCTURE)","E042","",null,null,"","","","","","","",null,null,""]
[null,null,"1005FACCNS..CA","230120-F02","J6I3490","0380","617300096",68665,"CONCRETE TRAFFIC BARRIER, TYPE C","E042","",null,null,"","","","","","","",null,null,""]
[null,null,"1005FACCNS..CA","230120-F02","J6I3490","1420","703421496",68765,"CLASS B-2 CONCRETE","E042","",null,null,"","","","","","","",null,null,""]
[null,null,"1005FACCNS..CA","230120-F02","J6I3490","2180","703441096",68804,"TYPE A BARRIER","E042","",null,null,"","","","","","","",null,null,""]
[null,null,"1005FACCNS..CA","230120-F02","J6P3548","3710","505200096",68702,"LATEX MODIFIED CONCRETE WEARING SURFACE","E042","",null,null,"","","","","","","",null,null,""]
[null,null,"1005FACCNS..CA","230120-F02","J6P3548","3730","703421496",68703,"CLASS B-2 CONCRETE","E042","",null,null,"","","","","","","",null,null,""]
[null,null,"1005FACCNS..CA","230120-F03","J6I3616","0200","504100096",68607,"CONCRETE APPROACH PAVEMENT","E042","",null,null,"","","","","","","",null,null,""]
[null,null,"1005FACCNS..CA","230120-F03","J6I3616","0810","5031010A96",68597,"BRIDGE APPROACH SLAB (MAJOR)","E042","",null,null,"","","","","","","",null,null,""]
[null,null,"1005FACCNS..CA","230120-F04","J6I3647","5001","613101096",81738,"FURNISHING AND PLACING CONCRETE MATERIAL FOR FULL DEPTH PAVEMENT REPAIR","E042","",null,null,"","","","","","","",null,null,""]
[null,null,"1005FACCNS..CA","230120-G07","J8S3138","0220","608500896",69090,"PAVED APPROACH, 8 IN.","E042","",null,null,"","","","","","","",null,null,""]
[null,null,"1005FACCNS..CA","230120-G07","J8S3138","0270","609105296",69094,"CURB AND GUTTER TYPE B","E042","",null,null,"","","","","","","",null,null,""]
[null,null,"1005FACCNS..CA","230120-G07","J8S3138B","3060","902910096",69297,"BASE, CONCRETE","E042","",null,null,"","","","","","","",null,null,""]
[null,null,"1005FACCNS..CA","230120-H01","J9P3644","0690","613101096",68281,"FURNISHING AND PLACING CONCRETE MATERIAL FOR FULL DEPTH PAVEMENT REPAIR","E042","",null,null,"","","","","","","",null,null,""]
[null,null,"1005FACCNS..CA","230120-H05","J9S3517","0260","703404096",69025,"CLASS B-1 CONCRETE (CULVERTS-BRIDGE)","E042","",null,null,"","","","","","","",null,null,""]
[null,null,"1005FACCNS..CA","230217-C02","J3S3076","0300","401990596",70899,"OPTIONAL PAVEMENT","E042","",null,null,"","","","","","","",null,null,""]
[null,null,"1005FACCNS..CA","230217-C04","J4I3024B","0810","609101096",71295,"CONCRETE CURB (6 IN. HEIGHT AND UNDER) TYPE S","E042","",null,null,"","","","","","","",null,null,""]
[null,null,"1005FACCNS..CA","230217-C06","J4S3383B","0460","703421496",70854,"CLASS B-2 CONCRETE","E042","",null,null,"","","","","","","",null,null,""]
[null,null,"1005FACCNS..CA","230217-C06","J4S3383B","0640","703421496",70866,"CLASS B-2 CONCRETE","E042","",null,null,"","","","","","","",null,null,""]
[null,null,"1005FACCNS..CA","230217-F02","J6I3568","0240","608300696",71018,"6 IN. CONCRETE MEDIAN STRIP","E042","",null,null,"","","","","","","",null,null,""]
[null,null,"1005FACCNS..CA","230217-F02","J6I3568","0250","608600496",71019,"CONCRETE SIDEWALK, 4 IN.","E042","",null,null,"","","","","","","",null,null,""]
[null,null,"1005FACCNS..CA","230217-F07","J6S3281","0230","608500896",71516,"PAVED APPROACH, 8 IN.","E042","",null,null,"","","","","","","",null,null,""]
[null,null,"1005FACCNS..CA","230217-F07","J6S3281","5004","613990596",80379,"Removal and Replacement of 10in Pavement","E042","",null,null,"","","","","","","",null,null,""]
[null,null,"1005FACCNS..CA","230217-G04","J7S3381","0560","703422196",70785,"SLAB ON CONCRETE NU-GIRDER","E042","",null,null,"","","","","","","",null,null,""]
[null,null,"1005FACCNS..CA","230217-G06","J7S3508","1320","7034219A96",70634,"TYPE D BARRIER","E042","",null,null,"","","","","","","",null,null,""]
[null,null,"1005FACCNS..CA","230217-H04","J9S3557","0690","703421696",70596,"TYPE H BARRIER","E042","",null,null,"","","","","","","",null,null,""]
[null,null,"1005FACCNS..CA","230217-H05","J9S3740","0640","608500796",71798,"PAVED APPROACH, 7 IN.","E042","",null,null,"","","","","","","",null,null,""]
[null,null,"1005FACCNS..CA","230317-B02","J2S3257","0610","703421696",72864,"TYPE H BARRIER","E042","",null,null,"","","","","","","",null,null,""]
[null,null,"1005FACCNS..CA","230317-D01","J5P3576","0095","502990596",72710,"TRUCK APRON PAVEMENT","E042","",null,null,"","","","","","","",null,null,""]
[null,null,"1005FACCNS..CA","230317-G01","J7P3527","0080","502110896",72580,"CONCRETE PAVEMENT ( 8 IN. NON-REINF)","E042","",null,null,"","","","","","","",null,null,""]
[null,null,"1005FACCNS..CA","230317-G01","J7P3527","0260","609105296",72592,"CURB AND GUTTER TYPE B","E042","",null,null,"","","","","","","",null,null,""]
[null,null,"1005FACCNS..CA","230317-G01","J7P3527","0620","7319903",73261,"RECTANGULAR CONCRETE BOX (4FT X 2.25FT)","E042","",null,null,"","","","","","","",null,null,""]
[null,null,"1005FACCNS..CA","230317-G04","J8P3087F","1280","604401196",72386,"PIPE COLLAR, TYPE A","E042","",null,null,"","","","",{"$f":"IF(N4964=\"\",\"\",I4964)","v":""},{"$f":"IF(N4964=\"\",\"\",J4964)","v":""},{"$f":"IF(N4964=\"\",\"\",H4964)","v":""},null,null,""]
[null,null,"1005FACCNS..CA","230317-G04","J8S3173","2740","608500896",72259,"PAVED APPROACH, 8 IN.","E042","",null,null,"","","","","","","",null,null,""]
[null,null,"1005FACCNS..CA","230317-G04","J8S3173","3610","604401196",72363,"PIPE COLLAR, TYPE A","E042","",null,null,"","","","","","","",null,null,""]
[null,null,"1005FACCNS..CA","230317-H03","J9S3326","0370","703460096",73178,"CURB BLOCKOUT","E042","",null,null,"","","","","","","",null,null,""]
[null,null,"1005FACCNS..CA","230421-A03","J1S3363","0540","7034219A96",73973,"TYPE D BARRIER","E042","",null,null,"","","","","","","",null,null,""]
[null,null,"1005FACCNS..CA","230421-B01","J2S3356","0680","608101096",74255,"CONCRETE CURB RAMP","E042","",null,null,"","","","","","","",null,null,""]
[null,null,"1005FACCNS..CA","230421-C02","J3P3198","0380","5031010A96",73382,"BRIDGE APPROACH SLAB (MAJOR)","E042","",null,null,"","","","","","","",null,null,""]
[null,null,"1005FACCNS..CA","230421-C06","J4S3374","1620","5031010A96",74713,"BRIDGE APPROACH SLAB (MAJOR)","E042","",null,null,"","","","","","","",null,null,""]
[null,null,"1005FACCNS..CA","230421-C06","J4S3374","1750","703422196",74721,"SLAB ON CONCRETE NU-GIRDER","E042","",null,null,"","","","","","","",null,null,""]
[null,null,"1005FACCNS..CA","230421-C07","JKU0133","0190","609201196",73905,"INTEGRAL CURB (6 IN. HEIGHT AND UNDER) TYPE A","E042","",null,null,"","","","","","","",null,null,""]
[null,null,"1005FACCNS..CA","230421-F06","J6P3288","0430","703421496",74412,"CLASS B-2 CONCRETE","E042","",null,null,"","","","","","","",null,null,""]
[null,null,"1005FACCNS..CA","230421-F06","J6P3288","1240","505200096",74455,"LATEX MODIFIED CONCRETE WEARING SURFACE","E042","",null,null,"","","","","","","",null,null,""]
[null,null,"1005FACCNS..CA","230421-F06","J6P3288","1470","703421496",74461,"CLASS B-2 CONCRETE","E042","",null,null,"","","","","","","",null,null,""]
[null,null,"1005FACCNS..CA","230421-F06","J6P3288","2490","5050004",74620,"SUPPLEMENTARY WEARING SURFACE MATERIAL","E042","",null,null,"","","","","","","",null,null,""]
[null,null,"1005FACCNS..CA","230421-F06","J6P3288","2500","505200096",74515,"LATEX MODIFIED CONCRETE WEARING SURFACE","E042","",null,null,"","","","","","","",null,null,""]
[null,null,"1005FACCNS..CA","230421-F06","J6P3288","3340","2169903",77716,"Remove and Replace Barrier Curb","E042","",null,null,"","","","","","","",null,null,""]
[null,null,"1005FACCNS..CA","230421-G01","J7P3434","0970","604401196",73646,"PIPE COLLAR, TYPE A","E042","",null,null,"","","","","","","",null,null,""]
[null,null,"1005FACCNS..CA","230421-G01","J7P3434","1000","608600496",73649,"CONCRETE SIDEWALK, 4 IN.","E042","",null,null,"","","","","","","",null,null,""]
[null,null,"1005FACCNS..CA","230421-G05","J8P0605I","0260","613101096",73541,"FURNISHING AND PLACING CONCRETE MATERIAL FOR FULL DEPTH PAVEMENT REPAIR","E042","",null,null,"","","","","","","",null,null,""]
[null,null,"1005FACCNS..CA","230421-G05","J8P0605J","2130","701120496",73508,"ROCK SOCKETS (3 FT  0 IN. DIA.)","E042","",null,null,"","","","","","","",null,null,""]
[null,null,"1005FACCNS..CA","230421-G05","J8P0605J","2430","5031010A96",73416,"BRIDGE APPROACH SLAB (MAJOR)","E042","",null,null,"","","","","","","",null,null,""]
[null,null,"1005FACCNS..CA","230519-A02","J1S3387","0160","5031011A96",75596,"BRIDGE APPROACH SLAB (MINOR ROAD)","E042","",null,null,"","","","","","","",null,null,""]
[null,null,"1005FACCNS..CA","230519-C04","J4P3443","0980","502134096",76010,"TYPE A2 SHOULDER","E042","",null,null,"","","","","","","",null,null,""]
[null,null,"1005FACCNS..CA","230519-C04","J4P3443","1960","5031010A96",75949,"BRIDGE APPROACH SLAB (MAJOR)","E042","",null,null,"","","","","","","",null,null,""]
[null,null,"1005FACCNS..CA","230519-C05","J4S3410","1060","5031010A96",75651,"BRIDGE APPROACH SLAB (MAJOR)","E042","",null,null,"","","","","","","",null,null,""]
[null,null,"1005FACCNS..CA","230519-C06","J4S3405","0260","608500796",76209,"PAVED APPROACH, 7 IN.","E042","",null,null,"","","","","","","",null,null,""]
[null,null,"1005FACCNS..CA","230519-C06","J4S3405","0340","613101096",76193,"FURNISHING AND PLACING CONCRETE MATERIAL FOR FULL DEPTH PAVEMENT REPAIR","E042","",null,null,"","","","",{"$f":"IF(N5220=\"\",\"\",I5220)","v":""},{"$f":"IF(N5220=\"\",\"\",J5220)","v":""},{"$f":"IF(N5220=\"\",\"\",H5220)","v":""},null,null,""]
[null,null,"1005FACCNS..CA","230519-C06","J4S3405B","1640","609105296",76317,"CURB AND GUTTER TYPE B","E042","",null,null,"","","","","","","",null,null,""]
[null,null,"1005FACCNS..CA","230519-D03","J5P3490","0190","608500896",76537,"PAVED APPROACH, 8 IN.","E042","",null,null,"","","","","","","",null,null,""]
[null,null,"1005FACCNS..CA","230519-D03","J5P3490","0250","609101096",76539,"CONCRETE CURB (6 IN. HEIGHT AND UNDER) TYPE S","E042","",null,null,"","","","","","","",null,null,""]
[null,null,"1005FACCNS..CA","230519-D09","J5S3462","0620","703421296",76668,"SLAB ON STEEL","E042","",null,null,"","","","","","","",null,null,""]
[null,null,"1005FACCNS..CA","230519-D12","J5S3478","0440","703422196",75005,"SLAB ON CONCRETE NU-GIRDER","E042","",null,null,"","","","","","","",null,null,""]
[null,null,"1005FACCNS..CA","230519-F01","J6I2090","0250","609101196",75414,"CONCRETE CURB (OVER 6 IN. HEIGHT) TYPE S","E042","",null,null,"","","","","","","",null,null,""]
[null,null,"1005FACCNS..CA","230519-F01","J6I2090","0710","617310096",75508,"CONCRETE TRAFFIC BARRIER, TYPE D","E042","",null,null,"","","","","","","",null,null,""]
[null,null,"1005FACCNS..CA","230519-F01","J6I2090","2110","7034219A96",75348,"TYPE D BARRIER","E042","",null,null,"","","","","","","",null,null,""]
[null,null,"1005FACCNS..CA","230519-F01","J6I2090","2750","5031010A96",75454,"BRIDGE APPROACH SLAB (MAJOR)","E042","",null,null,"","","","","","","",null,null,""]
[null,null,"1005FACCNS..CA","230519-F03","J6I3550","0690","6099903",75277,"CONCRETE CURB","E042","",null,null,"","","","","","","",null,null,""]
[null,null,"1005FACCNS..CA","230519-F03","J6I3550","2090","704010496",75186,"HALF-SOLE REPAIR","E042","",null,null,"","","","","","","",null,null,""]
[null,null,"1005FACCNS..CA","230519-F04","J6I3573","0140","609105296",75069,"CURB AND GUTTER TYPE B","E042","",null,null,"","","","","","","",null,null,""]
[null,null,"1005FACCNS..CA","230519-F04","J6I3573","0290","6179903",80295,"CONCRETE TRAFFIC BARRIER, TYPE D\" HEIGHT TRANSITION","E042","",null,null,"","","","","","","",null,null,""]
[null,null,"1005FACCNS..CA","230519-G02","J7P3477","0280","7034219A96",75041,"TYPE D BARRIER","E042","",null,null,"","","","","","","",null,null,""]
[null,null,"1005FACCNS..CA","230519-G06","JSU0054","0150","609106096",76057,"PAVED DITCH","E042","",null,null,"","","","","","","",null,null,""]
[null,null,"1005FACCNS..CA","230519-H01","J9P3735","0240","608101096",76796,"CONCRETE CURB RAMP","E042","",null,null,"","","","","","","",null,null,""]
[null,null,"1005FACCNS..CA","230616-C01","J3P3108","0120","613101096",77174,"FURNISHING AND PLACING CONCRETE MATERIAL FOR FULL DEPTH PAVEMENT REPAIR","E042","",null,null,"","","","","","","",null,null,""]
[null,null,"1005FACCNS..CA","230616-G01","J8S3190","1810","608500896",77504,"PAVED APPROACH, 8 IN.","E042","",null,null,"","","","","","","",null,null,""]
[null,null,"1005FACCNS..CA","230616-G01","JSR0127","2130","608600496",77527,"CONCRETE SIDEWALK, 4 IN.","E042","",null,null,"","","","","","","",null,null,""]
[null,null,"1005FACCNS..CA","230818-A03","J1P3318","0250","605402096",78744,"OUTLET PIPES AND SPLASH PADS","E042","",null,null,"","","","","","","",null,null,""]
[null,null,"1005FACCNS..CA","230818-C03","J4S3408","0090","613101096",78118,"FURNISHING AND PLACING CONCRETE MATERIAL FOR FULL DEPTH PAVEMENT REPAIR","E042","",null,null,"","","","","","","",null,null,""]
[null,null,"1005FACCNS..CA","230818-F01","J6M0288","0520","703400996",78406,"CLASS B-1 CONCRETE (RETAINING WALLS)","E042","",null,null,"","","","","","","",null,null,""]
[null,null,"1005FACCNS..CA","230818-G01","J7S3491","0740","608600496",78571,"CONCRETE SIDEWALK, 4 IN.","E042","",null,null,"","","","","","","",null,null,""]
[null,null,"1005FACCNS..CA","230915-A03","JNW0005","0350","702132096",79775,"GALVANIZED CAST-IN-PLACE CONCRETE PILES (20 IN)","E042","",null,null,"","","","","","","",null,null,""]
[null,null,"1005FACCNS..CA","230915-A03","JNW0006","0860","703422696",79812,"SLAB ON CONCRETE ADJACENT BEAM","E042","",null,null,"","","","","","","",null,null,""]
[null,null,"1005FACCNS..CA","230915-B01","J2P3357","0980","701120896",79285,"ROCK SOCKETS (5 FT  0 IN. DIA.)","E042",{"$f":"IF(C5475=$C$162,D5475,\"\")","v":""},null,null,{"$f":"(IF(K5475=\"\",\"\",IF(OR(D5475=$J$33,D5475=$T$33, D5475=$O$33),D5475,\"\")))","v":""},{"$f":"IF(N5475=\"\",\"\",F5475)","v":""},{"$f":"IF(N5475=\"\", \"\", E5475)","v":""},{"$f":"IF(N5475=\"\", \"\", G5475)","v":""},"","","",null,null,""]
[null,null,"1005FACCNS..CA","230915-C01","J4S3349","0190","609101096",79352,"CONCRETE CURB (6 IN. HEIGHT AND UNDER) TYPE S","E042","",null,null,"","","","","","","",null,null,""]
[null,null,"1005FACCNS..CA","230915-D01","J5I3477","0110","613101096",79723,"FURNISHING AND PLACING CONCRETE MATERIAL FOR FULL DEPTH PAVEMENT REPAIR","E042","",null,null,"","","","","","","",null,null,""]
[null,null,"1005FACCNS..CA","230915-G03","J7P3470","0100","608101096",79655,"CONCRETE CURB RAMP","E042","",null,null,"","","","","","","",null,null,""]
[null,null,"1005FACCNS..CA","230915-G04","J7S3487","0140","608300896",79389,"8 IN. CONCRETE MEDIAN STRIP","E042","",null,null,"","","","","","","",null,null,""]
[null,null,"1005FACCNS..CA","230915-G04","J7S3487","0160","608990596",79453,"CONCRETE PAVEMENT (8 IN. NON-REINFORCED, TINTED)","E042","",null,null,"","","","","","","",null,null,""]
[null,null,"1005FACCNS..CA","230915-G05","J8S3157","0190","609106096",79468,"PAVED DITCH","E042","",null,null,"","","","","","","",null,null,""]
[null,null,"1005FACCNS..CA","231020-C02","J4P3465","0130","608300696",80542,"6 IN. CONCRETE MEDIAN STRIP","E042","",null,null,"","","","","","","",null,null,""]
[null,null,"1005FACCNS..CA","231020-C03","J4S3347","0050","502130996",80488,"CONCRETE PAVEMENT (9 IN. NON-REINFORCED 15 FT. JOINTS)","E042","",null,null,"","","","","","","",null,null,""]
[null,null,"1005FACCNS..CA","231020-D03","J5P3542","0490","703200396",81616,"CLASS B CONCRETE (SUBSTRUCTURE)","E042","",null,null,"","","","","","","",null,null,""]
[null,null,"1005FACCNS..CA","231020-F03","J6S3215","0400","613101096",81493,"FURNISHING AND PLACING CONCRETE MATERIAL FOR FULL DEPTH PAVEMENT REPAIR","E042","",null,null,"","","","","","","",null,null,""]
[null,null,"1005FACCNS..CA","231020-F03","J6S3592","1830","613101096",81363,"FURNISHING AND PLACING CONCRETE MATERIAL FOR FULL DEPTH PAVEMENT REPAIR","E042","",null,null,"","","","","","","",null,null,""]
[null,null,"1005FACCNS..CA","231117-A01","J1P3226","0440","613101096",82773,"FURNISHING AND PLACING CONCRETE MATERIAL FOR FULL DEPTH PAVEMENT REPAIR","E042","",null,null,"","","","","","","",null,null,""]
[null,null,"1005FACCNS..CA","231117-F01","J6S3280","0230","608300696",81838,"6 IN. CONCRETE MEDIAN STRIP","E042","",null,null,"","","","","","","",null,null,""]
[null,null,"1005FACCNS..CA","231117-F01","J6S3280","0250","608500796",81839,"PAVED APPROACH, 7 IN.","E042","",null,null,"","","","","","","",null,null,""]
[null,null,"1005FACCNS..CA","231117-F01","J6S3280","1650","703443096",81948,"SIDEWALK (BRIDGES)","E042","",null,null,"","","","","","","",null,null,""]
[null,null,"1005FACCNS..CA","231117-F02","J6S3351","0240","609104296",82181,"CONCRETE GUTTER TYPE B","E042","",null,null,"","","","","","","",null,null,""]
[null,null,"1005FACCNS..CA","231117-F02","J6S3351","0400","617310296",82194,"CONCRETE TRAFFIC BARRIER, TYPE D (RETAINING WALL)","E042","",null,null,"","","","","","","",null,null,""]
[null,null,"1005FACCNS..CA","231117-G05","J7P3521","0410","703460096",82232,"CURB BLOCKOUT","E042","",null,null,"","","","","","","",null,null,""]
[null,null,"1005FACCNS..CA","231201-G01","JSUM0050","0320","703421596",82285,"TYPE B BARRIER","E042","",null,null,"","","","","","","",null,null,""]
[null,null,"1005FACCNS..CB","210820-A02","J1I3242","0440","5031010A96",44780,"BRIDGE APPROACH SLAB (MAJOR)","E042","",null,null,"","","","","","","",null,null,""]
[null,null,"1005FACCNS..CB","211119-A09","J1S3215","0060","504100096",47793,"CONCRETE APPROACH PAVEMENT","E042","",null,null,"","","","","","","",null,null,""]
[null,null,"1005FACCNS..CB","211119-A09","J1S3215","0370","703421696",49966,"TYPE H BARRIER","E042","",null,null,"","","","","","","",null,null,""]
[null,null,"1005FACCNS..CB","220520-H06","J9P3621","0240","703404196",58507,"CLASS B-1 CONCRETE (CULVERTS)","E042","",null,null,"","","","","","","",null,null,""]
[null,null,"1005FACCNS..CB","221216-B01","J2P3197","0380","7034219A96",67876,"TYPE D BARRIER","E042","",null,null,"","","","","","","",null,null,""]
[null,null,"1005FACCNS..CB","230120-B01","J2S3322","0750","702131496",69955,"GALVANIZED CAST-IN-PLACE CONCRETE PILES (14 IN)","E042","",null,null,"","","","","","","",null,null,""]
[null,null,"1005FACCNS..CB","230421-B01","J2P3355","0080","502110896",74231,"CONCRETE PAVEMENT ( 8 IN. NON-REINF)","E042",{"$f":"IF(C5731=$C$162,D5731,\"\")","v":""},null,null,{"$f":"(IF(K5731=\"\",\"\",IF(OR(D5731=$J$33,D5731=$T$33, D5731=$O$33),D5731,\"\")))","v":""},{"$f":"IF(N5731=\"\",\"\",F5731)","v":""},{"$f":"IF(N5731=\"\", \"\", E5731)","v":""},{"$f":"IF(N5731=\"\", \"\", G5731)","v":""},"","","",null,null,""]
[null,null,"1005FACCNS..CB","230421-B01","J2P3355","0200","6099903",74274,"CURB AND GUTTER, TYPE B, SPECIAL","E042","",null,null,"","","","","","","",null,null,""]
[null,null,"1005FACCNS..CB","230818-A08","JNW0007","0310","702132096",78691,"GALVANIZED CAST-IN-PLACE CONCRETE PILES (20 IN)","E042","",null,null,"","","","","","","",null,null,""]
[null,null,"1005FACCNS..CC","230217-H01","J9S3731","0510","703404196",71384,"CLASS B-1 CONCRETE (CULVERTS)","E042","",null,null,"","","","","","","",null,null,""]
[null,null,"1005FACCNS..CC","230317-H01","J9P3683","0710","703422196",73080,"SLAB ON CONCRETE NU-GIRDER","E042","",null,null,"","","","","","","",null,null,""]
[null,null,"1005FACCNS..CC","230519-H06","J9S3734","0120","608500896",76734,"PAVED APPROACH, 8 IN.","E042","",null,null,"","","","","","","",null,null,""]
[null,null,"1005FACCNS..CC","230818-H01","J9P3614","0170","609105296",78008,"CURB AND GUTTER TYPE B","E042","",null,null,"","","","","","","",null,null,""]
[null,null,"1005GDCMLD","200117-H07","J9I3553","0640","703421496",21295,"CLASS B-2 CONCRETE","E042","",null,null,"","","","","","","",null,null,""]
[null,null,"1005GDCMLD","201218-C04","J4P3015","0880","703421396",34302,"SLAB ON CONCRETE I-GIRDER","E042","",null,null,"","","","","","","",null,null,""]
[null,null,"1005GDCMLD","201218-C04","J4P3015","1290","7034219A96",34334,"TYPE D BARRIER","E042","",null,null,"","","","","","","",null,null,""]
[null,null,"1005GDCMLD","210521-F01","J6S1718C","4480","608500796",43172,"PAVED APPROACH, 7 IN.","E042","",null,null,"","","","","","","",null,null,""]
[null,null,"1005GDCMLD","210820-A03","J1I3271","0570","703421296",44562,"SLAB ON STEEL","E042","",null,null,"","","","","","","",null,null,""]
[null,null,"1005GDCMLD","210820-A03","J1S3203","2040","703421296",44515,"SLAB ON STEEL","E042","",null,null,"","","","","","","",null,null,""]
[null,null,"1005GDCMLD","211119-A05","J1P3295","0070","504100096",49989,"CONCRETE APPROACH PAVEMENT","E042","",null,null,"","","","","","","",null,null,""]
[null,null,"1005GDCMLD","211119-A05","J1P3295","0680","703421496",48836,"CLASS B-2 CONCRETE","E042","",null,null,"","","","","","","",null,null,""]
[null,null,"1005GDCMLD","220520-A07","J1S3258","0660","701120596",58359,"ROCK SOCKETS (3 FT 6 IN. DIA.)","E042","",null,null,"","","","","","","",null,null,""]
[null,null,"1005GDCMLD","221118-A02","J1S3216","0320","703200396",66232,"CLASS B CONCRETE (SUBSTRUCTURE)","E042","",null,null,"","","","","","","",null,null,""]
[null,null,"1005GDCMLD","230120-A03","J1S3360","0460","5031011A96",68524,"BRIDGE APPROACH SLAB (MINOR ROAD)","E042","",null,null,"","","","","","","",null,null,""]
[null,null,"1005GDCMLD","230217-C04","J4I3024B","0730","502133396",71291,"CONCRETE PAVEMENT (9 1/2 IN. NON-REINFORCED, 15 FT. JOINTS)","E042","",null,null,"","","","","","","",null,null,""]
[null,null,"1005GDCMLD","230217-C04","J4I3024B","0920","617300096",71304,"CONCRETE TRAFFIC BARRIER, TYPE C","E042","",null,null,"","","","","","","",null,null,""]
[null,null,"1005GDCMLD","230519-C04","J4P3443","2000","703200396",75960,"CLASS B CONCRETE (SUBSTRUCTURE)","E042","",null,null,"","","","","","","",null,null,""]
[null,null,"1005GDCMLD","230915-A03","JNW0006","0800","702131496",79807,"GALVANIZED CAST-IN-PLACE CONCRETE PILES (14 IN)","E042","",null,null,"","","","","","","",null,null,""]
[null,null,"1005GECMLS","190206-G01","J7I3357","2562","704010496",10774,"HALF-SOLE REPAIR","E042","",null,null,"","","","","","","",null,null,""]
[null,null,"1005GECMLS","200117-H07","J9I3553","0430","704010496",21276,"HALF-SOLE REPAIR","E042","",null,null,"","","","","","","",null,null,""]
[null,null,"1005GECMLS","210219-A01","J1I3110","0550","703421496",38753,"CLASS B-2 CONCRETE","E042","",null,null,"","","","","","","",null,null,""]
[null,null,"1005GECMLS","210521-F01","J6S1718","2340","703422196",43157,"SLAB ON CONCRETE NU-GIRDER","E042","",null,null,"","","","","","","",null,null,""]
[null,null,"1005GECMLS","210521-F01","J6S1718C","4620","701110396",43176,"DRILLED SHAFTS (2 FT. 6 IN. DIA.)","E042","",null,null,"","","","","","","",null,null,""]
[null,null,"1005GECMLS","220218-F06","J6I3149","0830","704011296",54543,"DECK REPAIR WITH VOID TUBE REPLACEMENT","E042","",null,null,"","","","","","","",null,null,""]
[null,null,"1005GECMLS","220218-F06","J6I3149","1230","704010696",54564,"FULL DEPTH REPAIR","E042","",null,null,"","","","","","","",null,null,""]
[null,null,"1005GECMLS","220218-F06","J6I3149","2040","704010496",54368,"HALF-SOLE REPAIR","E042","",null,null,"","","","","","","",null,null,""]
[null,null,"1005GECMLS","220218-F06","J6I3149","2240","704010196",54379,"SUBSTRUCTURE REPAIR (FORMED)","E042","",null,null,"","","","","","","",null,null,""]
[null,null,"1005GECMLS","220218-F06","J6I3149","2700","704011296",54409,"DECK REPAIR WITH VOID TUBE REPLACEMENT","E042","",null,null,"","","","","","","",null,null,""]
[null,null,"1005GECMLS","220218-F06","J6I3149","6014","704010496",76715,"HALF-SOLE REPAIR","E042","",null,null,"","","","","","","",null,null,""]
[null,null,"1005GECMLS","220415-A03","J1P3275","1040","704010696",56448,"FULL DEPTH REPAIR","E042","",null,null,"","","","","","","",null,null,""]
[null,null,"1005GECMLS","220415-F01","J6I3489","0450","704010296",56635,"SUBSTRUCTURE REPAIR (UNFORMED)","E042","",null,null,"","","","","","","",null,null,""]
[null,null,"1005GECMLS","220715-F01","J6I3020C","2160","701110796",60290,"DRILLED SHAFTS (4 FT. 6 IN. DIA.)","E042","",null,null,"","","","","","","",null,null,""]
[null,null,"1005GECMLS","221118-D05","J5S3457","5001","704010196",80277,"SUBSTRUCTURE REPAIR (FORMED)","E042","",null,null,"","","","","","","",null,null,""]
[null,null,"1005GECMLS","230120-F02","J6I3490","2470","703990796",68881,"STEEL FIBER REINFORCED CONCRETE","E042","",null,null,"","","","","","","",null,null,""]
[null,null,"1005GECMLS","230317-C04","J4S3449","0300","7034219A96",73019,"TYPE D BARRIER","E042","",null,null,"","","","","","","",null,null,""]
[null,null,"1005GECMLSBD","210917-D07","J5P3409","1040","505000196",45170,"OPTIONAL CONCRETE WEARING SURFACE","E042","",null,null,"","","","","","","",null,null,""]
[null,null,"1005GECMLSBD","210917-D07","J5P3409","1110","505000196",45174,"OPTIONAL CONCRETE WEARING SURFACE","E042","",null,null,"","","","","","","",null,null,""]
[null,null,"1005GECMLSBD","220120-G01","J7I3420","1246","7049905",67983,"Monolithic Deck Repair","E042","",null,null,"","","","","","","",null,null,""]
[null,null,"1005GECMLSBD","220121-D06","J5I3482","1590","505000196",52473,"OPTIONAL CONCRETE WEARING SURFACE","E042","",null,null,"","","","","","","",null,null,""]
[null,null,"1005GECMLSBD","220218-F06","J6I3149","1770","5050004",54696,"SUPPLEMENTARY WEARING SURFACE MATERIAL","E042","",null,null,"","","","","","","",null,null,""]
[null,null,"1005GECMLSBD","220218-F06","J6I3187","4780","505200096",54607,"LATEX MODIFIED CONCRETE WEARING SURFACE","E042","",null,null,"","","","","","","",null,null,""]
[null,null,"1005GECMLSBD","221118-F01","J6I3326","0860","5050004",65317,"SUPPLEMENTARY WEARING SURFACE MATERIAL","E042","",null,null,"","","","","","","",null,null,""]
[null,null,"1005GECMLSBD","230421-F06","J6P3288","0870","505200096",74438,"LATEX MODIFIED CONCRETE WEARING SURFACE","E042","",null,null,"","","","","","","",null,null,""]
[null,null,"1005GECMLSBD","230421-F06","J6P3288","2130","505200096",74498,"LATEX MODIFIED CONCRETE WEARING SURFACE","E042","",null,null,"","","","","","","",null,null,""]
[null,null,"1005GECMLSBD","230421-F06","J6P3288","3500","5050004",74625,"SUPPLEMENTARY WEARING SURFACE MATERIAL","E042","",null,null,"","","","","","","",null,null,""]
[null,null,"1005GECMLSBD","230421-F06","J6P3288","3770","505200096",74571,"LATEX MODIFIED CONCRETE WEARING SURFACE","E042","",null,null,"","","","","","","",null,null,""]
[null,null,"1005GFCPLS","220819-A01","J1I3268","0120","401015096",60839,"TYPE A2 SHOULDER","E042","",null,null,"","","","","","","",null,null,""]
[null,null,"1005GFCPLS","230120-A07","JNWM0026","0600","608600496",70081,"CONCRETE SIDEWALK, 4 IN.","E042","",null,null,"","","","","","","",null,null,""]
[null,null,"1005GFCPLS","230120-A07","JNWM0026","0740","608600496",70090,"CONCRETE SIDEWALK, 4 IN.","E042","",null,null,"","","","","","","",null,null,""]
[null,null,"1005MSCCMS..CD","220520-G05","J7S3421","0310","608600496",57839,"CONCRETE SIDEWALK, 4 IN.","E042","",null,null,"","","","","","","",null,null,""]
[null,null,"1005MSCCMS..CD","220520-G05","J7S3421","0450","608600896",57850,"CONCRETE SIDEWALK, 8 IN.","E042","",null,null,"","","","","","","",null,null,""]
[null,null,"1005MSCCMS..CD","220916-G07","J8S3212","0310","608600496",64034,"CONCRETE SIDEWALK, 4 IN.","E042","",null,null,"","","","","","","",null,null,""]
[null,null,"1005MSCCMS..CD","230120-G07","J8S3138B","1960","608300896",69149,"8 IN. CONCRETE MEDIAN STRIP","E042","",null,null,"","","","","","","",null,null,""]
[null,null,"1005MSCCMS..CD","230217-G05","J7S3395","0110","608600896",70722,"CONCRETE SIDEWALK, 8 IN.","E042","",null,null,"","","","","","","",null,"",""]
[null,null,"1007..RCBT1T5","220121-F10","J6S3404","0040","304050696",51963,"TYPE 5 AGGREGATE FOR BASE (6 IN. THICK)","E042","",null,null,"","","","","","","",null,"",""]
[null,null,"1007T1ABLD..T5","191213-H01","J9I3125","0080","304050696",17451,"TYPE 5 AGGREGATE FOR BASE (6 IN. THICK)","E042","",null,null,"","","","","","","",null,"",""]
[null,null,"1007T1ABLD..T5","200117-H07","J9I3553","0030","310500296",21243,"GRAVEL (A) OR CRUSHED STONE (B)","E042","",null,null,"","","","","","","",null,"",""]
[null,null,"1007T1ABLD..T5","200821-A05","J1S3357","0650","310500296",28952,"GRAVEL (A) OR CRUSHED STONE (B)","E042","",null,null,"","","","","","","",null,"",""]
[null,null,"1007T1ABLD..T5","200821-A06","J1S3357B","0910","304014396",29192,"TYPE 1 AGGREGATE FOR BASE (4 IN. THICK)","E042","",null,null,"","","","","","","",null,"",""]
[null,null,"1007T1ABLD..T5","201016-G01","J7I3363","5005","2069905",62058,"Misc. 12\" Aggregate and Geotech","E042","",null,null,"","","","","","","",null,"",""]
[null,null,"1007T1ABLD..T5","201218-C04","J4P3015","0080","304050496",43844,"TYPE 5 AGGREGATE FOR BASE (4 IN. THICK)","E042","",null,null,"","","","","","","",null,"",""]
[null,null,"1007T1ABLD..T5","210521-F01","J6S1718B","2600","304050696",42930,"TYPE 5 AGGREGATE FOR BASE (6 IN. THICK)","E042","",null,null,"","","","","","","",null,"",""]
[null,null,"1007T1ABLD..T5","210521-F01","J6S1718C","4360","304050496",43164,"TYPE 5 AGGREGATE FOR BASE (4 IN. THICK)","E042","",null,null,"","","","","","","",null,"",""]
[null,null,"1007T1ABLD..T5","210521-G08","J8P0588H","2120","304014396",43561,"TYPE 1 AGGREGATE FOR BASE (4 IN. THICK)","E042","",null,null,"","","","","","","",null,"",""]
[null,null,"1007T1ABLD..T5","210820-A01","J1I3231","0110","310500296",44365,"GRAVEL (A) OR CRUSHED STONE (B)","E042","",null,null,"","","","","","","",null,null,""]
[null,null,"1007T1ABLD..T5","210820-A03","J1S3251","2170","304014396",44464,"TYPE 1 AGGREGATE FOR BASE (4 IN. THICK)","E042","",null,null,"","","","","","","",null,null,""]
[null,null,"1007T1ABLD..T5","211015-A01","J1P3255","0550","304014396",46842,"TYPE 1 AGGREGATE FOR BASE (4 IN. THICK)","E042","",null,null,"","","","","","","",null,null,""]
[null,null,"1007T1ABLD..T5","211119-A08","J1S3213","0060","304014396",49687,"TYPE 1 AGGREGATE FOR BASE (4 IN. THICK)","E042","",null,null,"","","","","","","",null,null,""]
[null,null,"1007T1ABLD..T5","211119-G02","J7P3210","0130","310700296",48980,"GRAVEL (A) OR CRUSHED STONE (B) OR CHAT (C)","E042","",null,null,"","","","",{"$f":"IF(N6436=\"\",\"\",I6436)","v":""},{"$f":"IF(N6436=\"\",\"\",J6436)","v":""},{"$f":"IF(N6436=\"\",\"\",H6436)","v":""},null,null,""]
[null,null,"1007T1ABLD..T5","211217-F04","J6S3272","5008","304050496",79015,"TYPE 5 AGGREGATE FOR BASE (4 IN. THICK)","E042","",null,null,"","","","","","","",null,null,""]
[null,null,"1007T1ABLD..T5","220120-G01","J7I3420","0070","304050496",55131,"TYPE 5 AGGREGATE FOR BASE (4 IN. THICK)","E042","",null,null,"","","","","","","",null,null,""]
[null,null,"1007T1ABLD..T5","220120-G01","J7I3420","3570","304050696",82884,"TYPE 5 AGGREGATE FOR BASE (6 IN. THICK)","E042","",null,null,"","","","","","","",null,null,""]
[null,null,"1007T1ABLD..T5","220121-C02","J4I2006","0140","304990596",52786,"TYPE 5 AGGREGATE FOR BASE (8 IN. THICK)","E042","",null,null,"","","","","","","",null,null,""]
[null,null,"1007T1ABLD..T5","220218-F01","J6P3373","0560","302131196",54140,"STABILIZED PERMEABLE BASE (4IN. THICK)","E042","",null,null,"","","","","","","",null,null,""]
[null,null,"1007T1ABLD..T5","220218-F06","J6I3149","1130","5031010A96",54558,"BRIDGE APPROACH SLAB (MAJOR)","E042","",null,null,"","","","","","","",null,null,""]
[null,null,"1007T1ABLD..T5","220218-F06","J6I3187","4300","5031010A96",54572,"BRIDGE APPROACH SLAB (MAJOR)","E042","",null,null,"","","","","","","",null,null,""]
[null,null,"1007T1ABLD..T5","220218-F06","J6I3187","4410","5031010A96",54580,"BRIDGE APPROACH SLAB (MAJOR)","E042","",null,null,"","","","","","","",null,null,""]
[null,null,"1007T1ABLD..T5","220218-G04","J7P3107F","0060","310500296",53518,"GRAVEL (A) OR CRUSHED STONE (B)","E042","",null,null,"","","","","","","",null,null,""]
[null,null,"1007T1ABLD..T5","220318-A02","J1S3208","0460","304014396",55966,"TYPE 1 AGGREGATE FOR BASE (4 IN. THICK)","E042","",null,null,"","","","","","","",null,null,""]
[null,null,"1007T1ABLD..T5","220415-B04","J2S3267","0050","304050496",56897,"TYPE 5 AGGREGATE FOR BASE (4 IN. THICK)","E042","",null,null,"","","","","","","",null,null,""]
[null,null,"1007T1ABLD..T5","220520-A07","J1S3258","0100","310500296",58321,"GRAVEL (A) OR CRUSHED STONE (B)","E042","",null,null,"","","","","","","",null,null,""]
[null,null,"1007T1ABLD..T5","220520-G05","J7S3421","0630","304014396",57863,"TYPE 1 AGGREGATE FOR BASE (4 IN. THICK)","E042","",null,null,"","","","","","","",null,null,""]
[null,null,"1007T1ABLD..T5","220520-G06","J8P3032C","0640","401015096",78913,"TYPE A2 SHOULDER","E042","",null,null,"","","","","","","",null,null,""]
[null,null,"1007T1ABLD..T5","220617-B01","J2P3090","0190","304050696",58671,"TYPE 5 AGGREGATE FOR BASE (6 IN. THICK)","E042","",null,null,"","","","","","","",null,null,""]
[null,null,"1007T1ABLD..T5","220715-H01","JSE0158","0070","304991096",60067,"PERMANENT AGGREGATE EDGE TREATMENT","E042","",null,null,"","","","","","","",null,null,""]
[null,null,"1007T1ABLD..T5","220715-H01","JSE0158","0170","304991096",60063,"PERMANENT AGGREGATE EDGE TREATMENT","E042","",null,null,"","","","","","","",null,null,""]
[null,null,"1007T1ABLD..T5","220819-H04","J9P3721","0030","310500296",61022,"GRAVEL (A) OR CRUSHED STONE (B)","E042","",null,null,"","","","","","","",null,null,""]
[null,null,"1007T1ABLD..T5","220916-G01","J7P3212","0010","304991096",61685,"Permanent Aggregate Edge Treatment","E042","",null,null,"","","","","","","",null,null,""]
[null,null,"1007T1ABLD..T5","220916-G01","J7P3450","0660","310500296",61654,"GRAVEL (A) OR CRUSHED STONE (B)","E042","",null,null,"","","","","","","",null,null,""]
[null,null,"1007T1ABLD..T5","220916-G07","J8S3221","0750","304014396",63983,"TYPE 1 AGGREGATE FOR BASE (4 IN. THICK)","E042","",null,null,"","","","","","","",null,null,""]
[null,null,"1007T1ABLD..T5","220916-H01","J9S3405","0030","304991096",61367,"PERMANENT AGGREGATE EDGE TREATMENT","E042","",null,null,"","","","","","","",null,null,""]
[null,null,"1007T1ABLD..T5","221021-B01","J2P3304","0360","310500296",62149,"GRAVEL (A) OR CRUSHED STONE (B)","E042","",null,null,"","","","","","","",null,null,""]
[null,null,"1007T1ABLD..T5","221021-D03","J5S3473","0560","310500296",63801,"GRAVEL (A) OR CRUSHED STONE (B)","E042","",null,null,"","","","","","","",null,null,""]
[null,null,"1007T1ABLD..T5","221021-F05","J6S3493","0250","613101396",63037,"TYPE 1 OR 5 AGGREGATE FOR BASE (4 IN. THICK)  (PAVEMENT REPAIR)","E042","",null,null,"","","","","","","",null,null,""]
[null,null,"1007T1ABLD..T5","221021-G04","J7S3454","0380","310500296",62551,"GRAVEL (A) OR CRUSHED STONE (B)","E042","",null,null,"","","","",{"$f":"IF(N6692=\"\",\"\",I6692)","v":""},{"$f":"IF(N6692=\"\",\"\",J6692)","v":""},{"$f":"IF(N6692=\"\",\"\",H6692)","v":""},null,null,""]
[null,null,"1007T1ABLD..T5","221021-H03","J9P3702","0310","304991096",63499,"PERMANENT AGGREGATE EDGE TREATMENT","E042","",null,null,"","","","","","","",null,null,""]
[null,null,"1007T1ABLD..T5","221021-H03","J9S3588","1180","304991096",63488,"PERMANENT AGGREGATE EDGE TREATMENT","E042","",null,null,"","","","","","","",null,null,""]
[null,null,"1007T1ABLD..T5","221118-A02","J1S3216","0050","310500296",66214,"GRAVEL (A) OR CRUSHED STONE (B)","E042","",null,null,"","","","","","","",null,null,""]
[null,null,"1007T1ABLD..T5","221118-C01","J4I3334","0160","613101396",65867,"TYPE 1 OR 5 AGGREGATE FOR BASE (4 IN. THICK)  (PAVEMENT REPAIR)","E042","",null,null,"","","","","","","",null,null,""]
[null,null,"1007T1ABLD..T5","221118-D01","J5P3044","0110","304991096",65552,"PERMANENT AGGREGATE EDGE TREATMENT","E042","",null,null,"","","","","","","",null,null,""]
[null,null,"1007T1ABLD..T5","221118-D08","J5S3512","0020","304014396",65344,"TYPE 1 AGGREGATE FOR BASE (4 IN. THICK)","E042","",null,null,"","","","","","","",null,null,""]
[null,null,"1007T1ABLD..T5","221118-F04","J6P3436","0230","613101396",65005,"TYPE 1 OR 5 AGGREGATE FOR BASE (4 IN. THICK)  (PAVEMENT REPAIR)","E042","",null,null,"","","","","","","",null,null,""]
[null,null,"1007T1ABLD..T5","221118-G01","J7I3385","0010","304991096",64730,"PERMANENT AGGREGATE EDGE TREATMENT","E042","",null,null,"","","","","","","",null,null,""]
[null,null,"1007T1ABLD..T5","221118-G06","J8S3160","1090","304014396",64528,"TYPE 1 AGGREGATE FOR BASE (4 IN. THICK)","E042","",null,null,"","","","","","","",null,null,""]
[null,null,"1007T1ABLD..T5","221118-H02","J9P3584","0100","304014396",64397,"TYPE 1 AGGREGATE FOR BASE (4 IN. THICK)","E042","",null,null,"","","","","","","",null,null,""]
[null,null,"1007T1ABLD..T5","221216-B03","J2P3278","0030","310500296",66500,"GRAVEL (A) OR CRUSHED STONE (B)","E042","",null,null,"","","","","","","",null,null,""]
[null,null,"1007T1ABLD..T5","221216-C02","J4I3288","0130","304991096",67106,"AGGREGATE EDGE TREATMENT","E042","",null,null,"","","","","","","",null,null,""]
[null,null,"1007T1ABLD..T5","221216-D03","J5S3468","0030","310500296",68005,"GRAVEL (A) OR CRUSHED STONE (B)","E042","",null,null,"","","","","","","",null,null,""]
[null,null,"1007T1ABLD..T5","221216-F03","J6I3576","5002","304050496",74918,"TYPE 5 AGGREGATE FOR BASE (4 IN. THICK)","E042","",null,null,"","","","","","","",null,null,""]
[null,null,"1007T1ABLD..T5","221216-H04","JSEM0023","0070","304990596",66619,"TYPE 1 AGGREGATE FOR BASE (2IN. THICK)","E042","",null,null,"","","","","","","",null,null,""]
[null,null,"1007T1ABLD..T5","230120-B01","J2S3449","0940","304014396",69968,"TYPE 1 AGGREGATE FOR BASE (4 IN. THICK)","E042","",null,null,"","","","","","","",null,null,""]
[null,null,"1007T1ABLD..T5","230120-C04","J3S3154","0630","304050496",68405,"TYPE 5 AGGREGATE FOR BASE (4 IN. THICK)","E042","",null,null,"","","","","","","",null,null,""]
[null,null,"1007T1ABLD..T5","230120-C08","J4P3460B","0580","613101396",69577,"TYPE 1 OR 5 AGGREGATE FOR BASE (4 IN. THICK)  (PAVEMENT REPAIR)","E042","",null,null,"","","","","","","",null,null,""]
[null,null,"1007T1ABLD..T5","230120-F02","J6P3548","3170","215300096",68958,"SHAPING SLOPES, CLASS III","E042","",null,null,"","","","","","","",null,null,""]
[null,null,"1007T1ABLD..T5","230120-G01","J7I3524","0040","304050496",69429,"TYPE 5 AGGREGATE FOR BASE (4 IN. THICK)","E042","",null,null,"","","","","","","",null,null,""]
[null,null,"1007T1ABLD..T5","230120-H01","J9P3392","0020","310500296",68224,"GRAVEL (A) OR CRUSHED STONE (B)","E042","",null,null,"","","","","","","",null,null,""]
[null,null,"1007T1ABLD..T5","230120-H01","J9P3644","0600","310500296",68271,"GRAVEL (A) OR CRUSHED STONE (B)","E042","",null,null,"","","","","","","",null,null,""]
[null,null,"1007T1ABLD..T5","230217-C07","J4S3444","0050","304050696",71884,"TYPE 5 AGGREGATE FOR BASE (6 IN. THICK)","E042","",null,null,"","","","","","","",null,null,""]
[null,null,"1007T1ABLD..T5","230217-F07","J6S3281","0340","613101396",71526,"TYPE 1 OR 5 AGGREGATE FOR BASE (4 IN. THICK)  (PAVEMENT REPAIR)","E042","",null,null,"","","","","","","",null,null,""]
[null,null,"1007T1ABLD..T5","230217-G05","J7S3395","0040","304050496",70717,"TYPE 5 AGGREGATE FOR BASE (4 IN. THICK)","E042","",null,null,"","","","","","","",null,null,""]
[null,null,"1007T1ABLD..T5","230217-H05","J9S3740","0570","304050696",71791,"TYPE 5 AGGREGATE FOR BASE (6 IN. THICK)","E042",{"$f":"IF(C6947=$C$162,D6947,\"\")","v":""},null,null,{"$f":"(IF(K6947=\"\",\"\",IF(OR(D6947=$J$33,D6947=$T$33, D6947=$O$33),D6947,\"\")))","v":""},{"$f":"IF(N6947=\"\",\"\",F6947)","v":""},{"$f":"IF(N6947=\"\", \"\", E6947)","v":""},{"$f":"IF(N6947=\"\", \"\", G6947)","v":""},"","","",null,null,""]
[null,null,"1007T1ABLD..T5","230317-D01","J5P3576","0060","304050696",72707,"TYPE 5 AGGREGATE FOR BASE (6 IN. THICK)","E042","",null,null,"","","","","","","",null,null,""]
[null,null,"1007T1ABLD..T5","230317-G01","J8S3200","0930","304050496",72638,"TYPE 5 AGGREGATE FOR BASE (4 IN. THICK)","E042","",null,null,"","","","","","","",null,null,""]
[null,null,"1007T1ABLD..T5","230317-H03","J9S3403","0430","304991096",73108,"PERMANENT AGGREGATE EDGE TREATMENT","E042","",null,null,"","","","","","","",null,null,""]
[null,null,"1007T1ABLD..T5","230421-A02","J1P3288","0050","304014396",74695,"TYPE 1 AGGREGATE FOR BASE (4 IN. THICK)","E042","",null,null,"","","","","","","",null,null,""]
[null,null,"1007T1ABLD..T5","230421-C07","JKU0133","0070","304050496",73895,"TYPE 5 AGGREGATE FOR BASE (4 IN. THICK)","E042","",null,null,"","","","","","","",null,null,""]
[null,null,"1007T1ABLD..T5","230421-G01","J7P3434","0870","304050696",73637,"TYPE 5 AGGREGATE FOR BASE (6 IN. THICK)","E042","",null,null,"","","","","","","",null,null,""]
[null,null,"1007T1ABLD..T5","230421-G03","J7S0510","0130","304018396",74169,"TYPE 1 AGGREGATE FOR BASE (8 IN. THICK)","E042","",null,null,"","","","","","","",null,null,""]
[null,null,"1007T1ABLD..T5","230421-G03","J7S3476","0670","304014396",74129,"TYPE 1 AGGREGATE FOR BASE (4 IN. THICK)","E042","",null,null,"","","","","","","",null,null,""]
[null,null,"1007T1ABLD..T5","230519-C05","J4S3410","0960","304050696",75641,"TYPE 5 AGGREGATE FOR BASE (6 IN. THICK)","E042","",null,null,"","","","","","","",null,null,""]
[null,null,"1007T1ABLD..T5","230519-C05","J4S3410","0980","310100296",75643,"GRAVEL (A)","E042","",null,null,"","","","","","","",null,null,""]
[null,null,"1007T1ABLD..T5","230519-D09","J5S3462","0120","304014396",76639,"TYPE 1 AGGREGATE FOR BASE (4 IN. THICK)","E042","",null,null,"","","","","","","",null,null,""]
[null,null,"1007T1ABLD..T5","230519-G04","J8S3194","0120","304050496",76451,"TYPE 5 AGGREGATE FOR BASE (4 IN. THICK)","E042","",null,null,"","","","","","","",null,null,""]
[null,null,"1007T1ABLD..T5","230616-G01","J8S3162","0840","304991096",77307,"PERMANENT AGGREGATE EDGE TREATMENT","E042","",null,null,"","","","","","","",null,null,""]
[null,null,"1007T1ABLD..T5","230616-G01","J8S3190","1750","304050496",77593,"TYPE 5 AGGREGATE FOR BASE (4 IN. THICK)","E042","",null,null,"","","","","","","",null,null,""]
[null,null,"1007T1ABLD..T5","230818-A01","J1P3267","0010","304991096",78364,"PERMANENT AGGREGATE EDGE TREATMENT","E042","",null,null,"","","","","","","",null,null,""]
[null,null,"1007T1ABLD..T5","230818-A05","J1S3324","0250","304991096",78291,"PERMANENT AGGREGATE EDGE TREATMENT","E042","",null,null,"","","","","","","",null,null,""]
[null,null,"1007T1ABLD..T5","230818-A06","J1S3325","0220","304991096",78227,"TYPE 1 AGGREGATE","E042","",null,null,"","","","","","","",null,null,""]
[null,null,"1007T1ABLD..T5","230818-A10","JNW0102","0050","304050696",78173,"TYPE 5 AGGREGATE FOR BASE (6 IN. THICK)","E042","",null,null,"","","","","","","",null,null,""]
[null,null,"1007T1ABLD..T5","230818-A11","JST0048","0280","304991096",78167,"PERMANENT AGGREGATE EDGE TREATMENT","E042","",null,null,"","","","","","","",null,null,""]
[null,null,"1007T1ABLD..T5","230818-B03","JST0052","0010","310500296",78026,"GRAVEL (A) OR CRUSHED STONE (B)","E042","",null,null,"","","","","","","",null,null,""]
[null,null,"1007T1ABLD..T5","230818-C01","JKR0141","0640","304991096",78085,"Permanent Aggregate Edge Treatment","E042","",null,null,"","","","","","","",null,null,""]
[null,null,"1007T1ABLD..T5","230818-D1B","JST0055","0150","310500296",78861,"GRAVEL (A) OR CRUSHED STONE (B)","E042","",null,null,"","","","","","","",null,null,""]
[null,null,"1007T1ABLD..T5","230818-G01","J7S3492","1010","215300096",78594,"SHAPING SLOPES, CLASS III","E042","",null,null,"","","","","","","",null,null,""]
[null,null,"1007T1ABLD..T5","230818-G02","JST0044","0180","304991096",78663,"PERMANENT AGGREGATE EDGE TREATMENT","E042","",null,null,"","","","","","","",null,null,""]
[null,null,"1007T1ABLD..T5","230818-H01","J9P3614","0105","304990796",78000,"TYPE 1 AGGREGATE","E042","",null,null,"","","","","","","",null,null,""]
[null,null,"1007T1ABLD..T5","230915-A03","JNW0005","0070","304014396",79754,"TYPE 1 AGGREGATE FOR BASE (4 IN. THICK)","E042","",null,null,"","","","","","","",null,null,""]
[null,null,"1007T1ABLD..T5","230915-A4B","JST0050","0100","304991096",79126,"PERMANENT AGGREGATE EDGE TREATMENT","E042","",null,null,"","","","","","","",null,null,""]
[null,null,"1007T1ABLD..T5","230915-A4B","JST0050","0160","304991096",79132,"PERMANENT AGGREGATE EDGE TREATMENT","E042","",null,null,"","","","","","","",null,null,""]
[null,null,"1007T1ABLD..T5","230915-B04","J2S3417","0260","310500296",79935,"GRAVEL (A) OR CRUSHED STONE (B)","E042","",null,null,"","","","","","","",null,null,""]
[null,null,"1007T1ABLD..T5","230915-D4A","J5P3530","0030","310700296",80238,"GRAVEL (A) OR CRUSHED STONE (B) OR CHAT (C)","E042","",null,null,"","","","","","","",null,null,""]
[null,null,"1007T1ABLD..T5","230915-D7A","JCD0078","0430","310700296",80204,"GRAVEL (A) OR CRUSHED STONE (B) OR CHAT (C)","E042","",null,null,"","","","","","","",null,null,""]
[null,null,"1007T1ABLD..T5","230915-G03","J7P3470","0090","304014396",79654,"TYPE 1 AGGREGATE FOR BASE (4 IN. THICK)","E042","",null,null,"","","","","","","",null,null,""]
[null,null,"1007T1ABLD..T5","230915-G08","JST0045","0150","304991096",79553,"PERMANENT AGGREGATE EDGE TREATMENT","E042","",null,null,"","","","","","","",null,null,""]
[null,null,"1007T1ABLD..T5","230915-G08","JST0045","0160","310500296",79554,"GRAVEL (A) OR CRUSHED STONE (B)","E042","",null,null,"","","","","","","",null,null,""]
[null,null,"1007T1ABLD..T5","230915-G09","JST0046","0170","304991096",78948,"Permanent Aggregate Edge Treatment","E042","",null,null,"","","","","","","",null,null,""]
[null,null,"1007T1ABLD..T5","230915-H01","JST0027","0020","310500296",79823,"GRAVEL (A) OR CRUSHED STONE (B)","E042","",null,null,"","","","","","","",null,null,""]
[null,null,"1007T1ABLD..T5","230915-H03","JST0034","0120","304991096",79040,"PERMANENT AGGREGATE EDGE TREATMENT","E042","",null,null,"","","","","","","",null,null,""]
[null,null,"1007T1ABLD..T5","231020-B01","J2S3333","0410","310500296",80724,"GRAVEL (A) OR CRUSHED STONE (B)","E042","",null,null,"","","","","","","",null,null,""]
[null,null,"1007T1ABLD..T5","231020-B05","JNE0018","0020","310500296",80647,"GRAVEL (A) OR CRUSHED STONE (B)","E042","",null,null,"","","","","","","",null,null,""]
[null,null,"1007T1ABLD..T5","231020-C06","JST0024","0570","304991096",81085,"PERMANENT AGGREGATE EDGE TREATMENT","E042","",null,null,"","","","","","","",null,null,""]
[null,null,"1007T1ABLD..T5","231020-F06","JSL0017","0030","304050496",81300,"TYPE 5 AGGREGATE FOR BASE (4 IN. THICK)","E042","",null,null,"","","","","","","",null,null,""]
[null,null,"1007T1ABLD..T5","231020-G06","JST0047","0230","304991096",80812,"PERMANENT AGGREGATE EDGE TREATMENT","E042","",null,null,"","","","","","","",null,null,""]
[null,null,"1007T1ABLD..T5","231020-G06","JST0047","0420","310500296",80828,"GRAVEL (A) OR CRUSHED STONE (B)","E042","",null,null,"","","","","","","",null,null,""]
[null,null,"1007T1ABLD..T5","231020-H07","JST0029","0010","304991096",80571,"PERMANENT AGGREGATE EDGE TREATMENT","E042","",null,null,"","","","","","","",null,null,""]
[null,null,"1007T1ABLD..T5","231117-A01","J1P3225","0040","304991096",82743,"PERMANENT AGGREGATE EDGE TREATMENT","E042","",null,null,"","","","","","","",null,null,""]
[null,null,"1007T1ABLD..T5","231117-A03","J1P3246","0010","310500296",82796,"GRAVEL (A) OR CRUSHED STONE (B)","E042","",null,null,"","","","","","","",null,null,""]
[null,null,"1007T1ABLD..T5","231117-D2B","JCD0114","1950","304014396",82624,"TYPE 1 AGGREGATE FOR BASE (4 IN. THICK)","E042","",null,null,"","","","","","","",null,null,""]
[null,null,"1007T1ABLD..T5","231117-F02","J6S3351","0110","304050496",82168,"TYPE 5 AGGREGATE FOR BASE (4 IN. THICK)","E042","",null,null,"","","","","","","",null,null,""]
[null,null,"1007T7ABRCP","210521-G08","J8P0588H","0140","304014396",43399,"TYPE 1 AGGREGATE FOR BASE (4 IN. THICK)","E042","",null,null,"","","","","","","",null,null,""]
[null,null,"1009G3DRLD","220218-H01","J9S3381","0060","206400096",53876,"POROUS BACKFILL","E042","",null,null,"","","","","","","",null,null,""]
[null,null,"1009G3DRLD","230120-G07","J8S3138","0820","7319902",69347,"MODIFIED TYPE C INLET (2 FT. X 20 FT.)","E042","",null,null,"","","","","","","",null,null,""]
[null,null,"1009G5DRLS","220121-C02","J4I2006","0200","6053030A96",52792,"PIPE AGGREGATE PAVEMENT EDGE DRAIN","E042","",null,null,"","","","","","","",null,null,""]
[null,null,"1009G5DRLS","230217-H04","J9S3557","5002","206400096",77752,"POROUS BACKFILL","E042","",null,null,"","","","","","","",null,null,""]
[null,null,"1009G5DRLS","230818-A03","J1P3318","0230","6051018A96",78742,"PIPE AGGREGATE PAVEMENT CROSS DRAIN","E042","",null,null,"","","","","","","",null,null,""]
[null,null,"1010SGBF","190206-G01","J7I3357","3540","720100096",11807,"Steel Arch","E042","",null,null,"","","","","","","",null,null,""]
[null,null,"1010SGBF","220520-F12","J6S3259","0820","7209904",60579,"SMALL BLOCK MODULAR WALL","E042","",null,null,"","","","","","","",null,null,""]
[null,null,"1010SGBF","221118-G04","J8P0683E","2470","720100096",64902,"MECHANICALLY STABILIZED EARTH WALL SYSTEMS","E042","",null,null,"","","","","","","",null,null,""]
[null,null,"1010SGBF","230217-F07","J6S3281","0650","7209904",71972,"SMALL BLOCK RETAINING WALL","E042","",null,null,"","","","","","","",null,null,""]
[null,null,null,null,null,null,null,null,null,null,0,null,null,0,0,0,0,0,0,0,null,null,""]
[null,null,null,null,null,null,null,null,null,null,0,null,null,0,0,0,0,0,0,0,null,null,""]
[null,null,null,null,null,null,null,null,null,null,0,null,null,0,0,0,0,0,0,0,null,null,""]
[null,null,null,null,null,null,null,null,null,null,0,null,null,0,0,0,0,0,0,0,null,null,""]
[null,null,null,null,null,null,null,null,null,null,0,null,null,0,0,0,0,0,0,0,null,null,""]
[null,null,null,null,null,null,null,null,null,null,0,null,null,0,0,0,0,0,0,0,null,null,""]
[null,null,null,null,null,null,null,null,null,null,0,null,null,0,0,0,0,0,0,0,null,null,""]
[null,null,null,null,null,null,null,null,null,null,0,null,null,0,0,0,0,0,0,0,null,null,""]
[null,null,null,null,null,null,null,null,null,null,{"$f":"IF(C7612=$C$162,D7612,\"\")","v":0},null,null,{"$f":"(IF(K7612=\"\",\"\",IF(OR(D7612=$J$33,D7612=$T$33, D7612=$O$33),D7612,\"\")))","v":0},{"$f":"IF(N7612=\"\",\"\",F7612)","v":0},{"$f":"IF(N7612=\"\", \"\", E7612)","v":0},{"$f":"IF(N7612=\"\", \"\", G7612)","v":0},{"$f":"IF(N7612=\"\",\"\",I7612)","v":0},{"$f":"IF(N7612=\"\",\"\",J7612)","v":0},{"$f":"IF(N7612=\"\",\"\",H7612)","v":0},null,null,""]
[null,null,null,null,null,null,null,null,null,null,0,null,null,0,0,0,0,0,0,0,null,null,""]
[null,null,null,null,null,null,null,null,null,null,0,null,null,0,0,0,0,0,0,0,null,null,""]
[null,null,null,null,null,null,null,null,null,null,0,null,null,0,0,0,0,0,0,0,null,null,""]
[null,null,null,null,null,null,null,null,null,null,0,null,null,0,0,0,0,0,0,0,null,null,""]
[null,null,null,null,null,null,null,null,null,null,0,null,null,0,0,0,0,0,0,0,null,null,""]
[null,null,null,null,null,null,null,null,null,null,0,null,null,0,0,0,0,0,0,0,null,null,""]
[null,null,null,null,null,null,null,null,null,null,0,null,null,0,0,0,0,0,0,0,null,null,""]
[null,null,null,null,null,null,null,null,null,null,0,null,null,0,0,0,0,0,0,0,null,null,""]
[null,null,null,null,null,null,null,null,null,null,0,null,null,0,0,0,0,0,0,0,null,null,""]
[null,null,null,null,null,null,null,null,null,null,0,null,null,0,0,0,0,0,0,0,null,null,""]
[null,null,null,null,null,null,null,null,null,null,0,null,null,0,0,0,0,0,0,0,null,null,""]
[null,null,null,null,null,null,null,null,null,null,0,null,null,0,0,0,0,0,0,0,null,null,""]
[null,null,null,null,null,null,null,null,null,null,0,null,null,0,0,0,0,0,0,0,null,null,""]
[null,null,null,null,null,null,null,null,null,null,0,null,null,0,0,0,0,0,0,0,null,null,""]
[null,null,null,null,null,null,null,null,null,null,0,null,null,0,0,0,0,0,0,0,null,null,""]
[null,null,null,null,null,null,null,null,null,null,0,null,null,0,0,0,0,0,0,0,null,null,""]
[null,null,null,null,null,null,null,null,null,null,0,null,null,0,0,0,0,0,0,0,null,null,""]
[null,null,null,null,null,null,null,null,null,null,0,null,null,0,0,0,0,0,0,0,null,null,""]
[null,null,null,null,null,null,null,null,null,null,0,null,null,0,0,0,0,0,0,0,null,null,""]
[null,null,null,null,null,null,null,null,null,null,0,null,null,0,0,0,0,0,0,0,null,null,""]
[null,null,null,null,null,null,null,null,null,null,0,null,null,0,0,0,0,0,0,0,null,null,""]
[null,null,null,null,null,null,null,null,null,null,0,null,null,0,0,0,0,0,0,0,null,null,""]
[null,null,null,null,null,null,null,null,null,null,0,null,null,0,0,0,0,0,0,0,null,null,""]
[null,null,null,null,null,null,null,null,null,null,0,null,null,0,0,0,0,0,0,0,null,null,""]
[null,null,null,null,null,null,null,null,null,null,0,null,null,0,0,0,0,0,0,0,null,null,""]
[null,null,null,null,null,null,null,null,null,null,0,null,null,0,0,0,0,0,0,0,null,null,""]
[null,null,null,null,null,null,null,null,null,null,0,null,null,0,0,0,0,0,0,0,null,null,""]
[null,null,null,null,null,null,null,null,null,null,0,null,null,0,0,0,0,0,0,0,null,null,""]
[null,null,null,null,null,null,null,null,null,null,0,null,null,0,0,0,0,0,0,0,null,null,""]
[null,null,null,null,null,null,null,null,null,null,0,null,null,0,0,0,0,0,0,0,null,null,""]
[null,null,null,null,null,null,null,null,null,null,0,null,null,0,0,0,0,0,0,0,null,null,""]
[null,null,null,null,null,null,null,null,null,null,0,null,null,0,0,0,0,0,0,0,null,null,""]
[null,null,null,null,null,null,null,null,null,null,0,null,null,0,0,0,0,0,0,0,null,null,""]
[null,null,null,null,null,null,null,null,null,null,0,null,null,0,0,0,0,0,0,0,null,null,""]
[null,null,null,null,null,null,null,null,null,null,0,null,null,0,0,0,0,0,0,0,null,null,""]
[null,null,null,null,null,null,null,null,null,null,0,null,null,0,0,0,0,0,0,0,null,null,""]
[null,null,null,null,null,null,null,null,null,null,0,null,null,0,0,0,0,0,0,0,null,null,""]
[null,null,null,null,null,null,null,null,null,null,0,null,null,0,0,0,0,0,0,0,null,null,""]
[null,null,null,null,null,null,null,null,null,null,0,null,null,0,0,0,0,0,0,0,null,null,""]
[null,null,null,null,null,null,null,null,null,null,0,null,null,0,0,0,0,0,0,0,null,null,""]
[null,null,null,null,null,null,null,null,null,null,0,null,null,0,0,0,0,0,0,0,null,null,""]
[null,null,null,null,null,null,null,null,null,null,0,null,null,0,0,0,0,0,0,0,null,null,""]
[null,null,null,null,null,null,null,null,null,null,0,null,null,0,0,0,0,0,0,0,null,null,""]
[null,null,null,null,null,null,null,null,null,null,0,null,null,0,0,0,0,0,0,0,null,null,""]
[null,null,null,null,null,null,null,null,null,null,0,null,null,0,0,0,0,0,0,0,null,null,""]
[null,null,null,null,null,null,null,null,null,null,0,null,null,0,0,0,0,0,0,0,null,null,""]
[null,null,null,null,null,null,null,null,null,null,0,null,null,0,0,0,0,0,0,0,null,null,""]
[null,null,null,null,null,null,null,null,null,null,0,null,null,0,0,0,0,0,0,0,null,null,""]
[null,null,null,null,null,null,null,null,null,null,0,null,null,0,0,0,0,0,0,0,null,null,""]
[null,null,null,null,null,null,null,null,null,null,0,null,null,0,0,0,0,0,0,0,null,null,""]
[null,null,null,null,null,null,null,null,null,null,0,null,null,0,0,0,0,0,0,0,null,null,""]
[null,null,null,null,null,null,null,null,null,null,0,null,null,0,0,0,0,0,0,0,null,null,""]
[null,null,null,null,null,null,null,null,null,null,0,null,null,0,0,0,0,0,0,0,null,null,""]
[null,null,null,null,null,null,null,null,null,null,0,null,null,0,0,0,0,0,0,0,null,null,""]
[null,null,null,null,null,null,null,null,null,null,0,null,null,0,0,0,0,0,0,0,null,null,""]
[null,null,null,null,null,null,null,null,null,null,0,null,null,0,0,0,0,0,0,0,null,null,""]
[null,null,null,null,null,null,null,null,null,null,0,null,null,0,0,0,0,0,0,0,null,null,""]
[null,null,null,null,null,null,null,null,null,null,0,null,null,0,0,0,0,0,0,0,null,null,""]
[null,null,null,null,null,null,null,null,null,null,0,null,null,0,0,0,0,0,0,0,null,null,""]
[null,null,null,null,null,null,null,null,null,null,0,null,null,0,0,0,0,0,0,0,null,null,""]
[null,null,null,null,null,null,null,null,null,null,0,null,null,0,0,0,0,0,0,0,null,null,""]
[null,null,null,null,null,null,null,null,null,null,0,null,null,0,0,0,0,0,0,0,null,null,""]
[null,null,null,null,null,null,null,null,null,null,0,null,null,0,0,0,0,0,0,0,null,null,""]
[null,null,null,null,null,null,null,null,null,null,0,null,null,0,0,0,0,0,0,0,null,null,""]
[null,null,null,null,null,null,null,null,null,null,0,null,null,0,0,0,0,0,0,0,null,null,""]
[null,null,null,null,null,null,null,null,null,null,0,null,null,0,0,0,0,0,0,0,null,null,""]
[null,null,null,null,null,null,null,null,null,null,0,null,null,0,0,0,0,0,0,0,null,null,""]
[null,null,null,null,null,null,null,null,null,null,0,null,null,0,0,0,0,0,0,0,null,null,""]
[null,null,null,null,null,null,null,null,null,null,0,null,null,0,0,0,0,0,0,0,null,null,""]
[null,null,null,null,null,null,null,null,null,null,0,null,null,0,0,0,0,0,0,0,null,null,""]
[null,null,null,null,null,null,null,null,null,null,0,null,null,0,0,0,0,0,0,0,null,null,""]
[null,null,null,null,null,null,null,null,null,null,{"$f":"IF(C8316=$C$162,D8316,\"\")","v":0},null,null,{"$f":"(IF(K8316=\"\",\"\",IF(OR(D8316=$J$33,D8316=$T$33, D8316=$O$33),D8316,\"\")))","v":0},{"$f":"IF(N8316=\"\",\"\",F8316)","v":0},{"$f":"IF(N8316=\"\", \"\", E8316)","v":0},{"$f":"IF(N8316=\"\", \"\", G8316)","v":0},{"$f":"IF(N8316=\"\",\"\",I8316)","v":0},{"$f":"IF(N8316=\"\",\"\",J8316)","v":0},{"$f":"IF(N8316=\"\",\"\",H8316)","v":0},null,null,""]
[null,null,null,null,null,null,null,null,null,null,0,null,null,0,0,0,0,0,0,0,null,null,""]
[null,null,null,null,null,null,null,null,null,null,0,null,null,0,0,0,0,0,0,0,null,null,""]
[null,null,null,null,null,null,null,null,null,null,0,null,null,0,0,0,0,0,0,0,null,null,""]
[null,null,null,null,null,null,null,null,null,null,0,null,null,0,0,0,0,0,0,0,null,null,""]
[null,null,null,null,null,null,null,null,null,null,0,null,null,0,0,0,0,0,0,0,null,null,""]
[null,null,null,null,null,null,null,null,null,null,0,null,null,0,0,0,0,0,0,0,null,null,""]
[null,null,null,null,null,null,null,null,null,null,0,null,null,0,0,0,0,0,0,0,null,null,""]
[null,null,null,null,null,null,null,null,null,null,0,null,null,0,0,0,0,0,0,0,null,null,""]
[null,null,null,null,null,null,null,null,null,null,0,null,null,0,0,0,0,0,0,0,null,null,""]
[null,null,null,null,null,null,null,null,null,null,0,null,null,0,0,0,0,0,0,0,null,null,""]
[null,null,null,null,null,null,null,null,null,null,0,null,null,0,0,0,0,0,0,0,null,null,""]
[null,null,null,null,null,null,null,null,null,null,0,null,null,0,0,0,0,0,0,0,null,null,""]
[null,null,null,null,null,null,null,null,null,null,0,null,null,0,0,0,0,0,0,0,null,null,""]
[null,null,null,null,null,null,null,null,null,null,0,null,null,0,0,0,0,0,0,0,null,null,""]
[null,null,null,null,null,null,null,null,null,null,0,null,null,0,0,0,0,0,0,0,null,null,""]
[null,null,null,null,null,null,null,null,null,null,0,null,null,0,0,0,0,0,0,0,null,null,""]
[null,null,null,null,null,null,null,null,null,null,0,null,null,0,0,0,0,0,0,0,null,null,""]
[null,null,null,null,null,null,null,null,null,null,0,null,null,0,0,0,0,0,0,0,null,null,""]
[null,null,null,null,null,null,null,null,null,null,0,null,null,0,0,0,0,0,0,0,null,null,""]
[null,null,null,null,null,null,null,null,null,null,0,null,null,0,0,0,0,0,0,0,null,null,""]
[null,null,null,null,null,null,null,null,null,null,0,null,null,0,0,0,0,0,0,0,null,null,""]
[null,null,null,null,null,null,null,null,null,null,0,null,null,0,0,0,0,0,0,0,null,null,""]
[null,null,null,null,null,null,null,null,null,null,0,null,null,0,0,0,0,0,0,0,null,null,""]
[null,null,null,null,null,null,null,null,null,null,0,null,null,0,0,0,0,0,0,0,null,null,""]
[null,null,null,null,null,null,null,null,null,null,0,null,null,0,0,0,0,0,0,0,null,null,""]
[null,null,null,null,null,null,null,null,null,null,0,null,null,0,0,0,0,0,0,0,null,null,""]
[null,null,null,null,null,null,null,null,null,null,0,null,null,0,0,0,0,0,0,0,null,null,""]
[null,null,null,null,null,null,null,null,null,null,0,null,null,0,0,0,0,0,0,0,null,null,""]
[null,null,null,null,null,null,null,null,null,null,0,null,null,0,0,0,0,0,0,0,null,null,""]
[null,null,null,null,null,null,null,null,null,null,0,null,null,0,0,0,0,0,0,0,null,null,""]
[null,null,null,null,null,null,null,null,null,null,0,null,null,0,0,0,0,0,0,0,null,null,""]
[null,null,null,null,null,null,null,null,null,null,0,null,null,0,0,0,0,0,0,0,null,null,""]
[null,null,null,null,null,null,null,null,null,null,0,null,null,0,0,0,0,0,0,0,null,null,""]
[null,null,null,null,null,null,null,null,null,null,0,null,null,0,0,0,0,0,0,0,null,null,""]
[null,null,null,null,null,null,null,null,null,null,0,null,null,0,0,0,0,0,0,0,null,null,""]
[null,null,null,null,null,null,null,null,null,null,0,null,null,0,0,0,0,0,0,0,null,null,""]
[null,null,null,null,null,null,null,null,null,null,0,null,null,0,0,0,0,0,0,0,null,null,""]
[null,null,null,null,null,null,null,null,null,null,0,null,null,0,0,0,0,0,0,0,null,null,""]
[null,null,null,null,null,null,null,null,null,null,0,null,null,0,0,0,0,0,0,0,null,null,""]
[null,null,null,null,null,null,null,null,null,null,0,null,null,0,0,0,0,0,0,0,null,null,""]
[null,null,null,null,null,null,null,null,null,null,0,null,null,0,0,0,0,0,0,0,null,null,""]
[null,null,null,null,null,null,null,null,null,null,0,null,null,0,0,0,0,0,0,0,null,null,""]
[null,null,null,null,null,null,null,null,null,null,0,null,null,0,0,0,0,0,0,0,null,null,""]
[null,null,null,null,null,null,null,null,null,null,0,null,null,0,0,0,0,0,0,0,null,null,""]
[null,null,null,null,null,null,null,null,null,null,0,null,null,0,0,0,0,0,0,0,null,null,""]
[null,null,null,null,null,null,null,null,null,null,0,null,null,0,0,0,0,0,0,0,null,null,""]
[null,null,null,null,null,null,null,null,null,null,0,null,null,0,0,0,0,0,0,0,null,null,""]
[null,null,null,null,null,null,null,null,null,null,0,null,null,0,0,0,0,0,0,0,null,null,""]
[null,null,null,null,null,null,null,null,null,null,0,null,null,0,0,0,0,0,0,0,null,null,""]
[null,null,null,null,null,null,null,null,null,null,0,null,null,0,0,0,0,0,0,0,null,null,""]
[null,null,null,null,null,null,null,null,null,null,0,null,null,0,0,0,0,0,0,0,null,null,""]
[null,null,null,null,null,null,null,null,null,null,0,null,null,0,0,0,0,0,0,0,null,null,""]
[null,null,null,null,null,null,null,null,null,null,0,null,null,0,0,0,0,0,0,0,null,null,""]
[null,null,null,null,null,null,null,null,null,null,0,null,null,0,0,0,0,0,0,0,null,null,""]
[null,null,null,null,null,null,null,null,null,null,0,null,null,0,0,0,0,0,0,0,null,null,""]
[null,null,null,null,null,null,null,null,null,null,0,null,null,0,0,0,0,0,0,0,null,null,""]
[null,null,null,null,null,null,null,null,null,null,0,null,null,0,0,0,0,0,0,0,null,null,""]
[null,null,null,null,null,null,null,null,null,null,0,null,null,0,0,0,0,0,0,0,null,null,""]
[null,null,null,null,null,null,null,null,null,null,0,null,null,0,0,0,0,0,0,0,null,null,""]
[null,null,null,null,null,null,null,null,null,null,0,null,null,0,0,0,0,0,0,0,null,null,""]
[null,null,null,null,null,null,null,null,null,null,0,null,null,0,0,0,0,0,0,0,null,null,""]
[null,null,null,null,null,null,null,null,null,null,0,null,null,0,0,0,0,0,0,0,null,null,""]
[null,null,null,null,null,null,null,null,null,null,0,null,null,0,0,0,0,0,0,0,null,null,""]
[null,null,null,null,null,null,null,null,null,null,0,null,null,0,0,0,0,0,0,0,null,null,""]
[null,null,null,null,null,null,null,null,null,null,0,null,null,0,0,0,0,0,0,0,null,null,""]
[null,null,null,null,null,null,null,null,null,null,0,null,null,0,0,0,0,0,0,0,null,null,""]
[null,null,null,null,null,null,null,null,null,null,0,null,null,0,0,0,0,0,0,0,null,null,""]
[null,null,null,null,null,null,null,null,null,null,0,null,null,0,0,0,0,0,0,0,null,null,""]
[null,null,null,null,null,null,null,null,null,null,0,null,null,0,0,0,0,0,0,0,null,null,""]
[null,null,null,null,null,null,null,null,null,null,0,null,null,0,0,0,0,0,0,0,null,null,""]
[null,null,null,null,null,null,null,null,null,null,0,null,null,0,0,0,0,0,0,0,null,null,""]
[null,null,null,null,null,null,null,null,null,null,0,null,null,0,0,0,0,0,0,0,null,null,""]
[null,null,null,null,null,null,null,null,null,null,0,null,null,0,0,0,0,0,0,0,null,null,""]
[null,null,null,null,null,null,null,null,null,null,0,null,null,0,0,0,0,0,0,0,null,null,""]
[null,null,null,null,null,null,null,null,null,null,0,null,null,0,0,0,0,0,0,0,null,null,""]
[null,null,null,null,null,null,null,null,null,null,0,null,null,0,0,0,0,0,0,0,null,null,""]
[null,null,null,null,null,null,null,null,null,null,0,null,null,0,0,0,0,0,0,0,null,null,""]
[null,null,null,null,null,null,null,null,null,null,0,null,null,0,0,0,0,0,0,0]
[null,null,null,null,null,null,null,null,null,null,0,null,null,0,0,0,0,0,0,0]
[null,null,null,null,null,null,null,null,null,null,0,null,null,0,0,0,0,0,0,0]
[null,null,null,null,null,null,null,null,null,null,0,null,null,0,0,0,0,0,0,0]
[null,null,null,null,null,null,null,null,null,null,0,null,null,0,0,0,0,0,0,0]
[null,null,null,null,null,null,null,null,null,null,0,null,null,0,0,0,0,0,0,0]
[null,null,null,null,null,null,null,null,null,null,0,null,null,0,0,0,0,0,0,0]
[null,null,null,null,null,null,null,null,null,null,{"$f":"IF(C9148=$C$162,D9148,\"\")","v":0},null,null,{"$f":"(IF(K9148=\"\",\"\",IF(OR(D9148=$J$33,D9148=$T$33, D9148=$O$33),D9148,\"\")))","v":0},{"$f":"IF(N9148=\"\",\"\",F9148)","v":0},{"$f":"IF(N9148=\"\", \"\", E9148)","v":0},{"$f":"IF(N9148=\"\", \"\", G9148)","v":0},{"$f":"IF(N9148=\"\",\"\",I9148)","v":0},{"$f":"IF(N9148=\"\",\"\",J9148)","v":0},{"$f":"IF(N9148=\"\",\"\",H9148)","v":0}]
[null,null,null,null,null,null,null,null,null,null,0,null,null,0,0,0,0,0,0,0]
[null,null,null,null,null,null,null,null,null,null,null,null,null,null,"","","",""]
[null,null,null,null,null,null,null,null,null,null,null,null,null,null,"","","",""]
[null,null,null,null,null,null,null,null,null,null,null,null,null,null,"","","",""]
[null,null,null,null,null,null,null,null,null,null,null,null,null,null,"","","",""]
[null,null,null,null,null,null,null,null,null,null,null,null,null,null,"","","",""]
[null,null,null,null,null,null,null,null,null,null,null,null,null,null,"","","",""]
[null,null,null,null,null,null,null,null,null,null,null,null,null,null,"","","",""]
[null,null,null,null,null,null,null,null,null,null,null,null,null,null,"","","",""]
[null,null,null,null,null,null,null,null,null,null,null,null,null,null,"","","",""]
[null,null,null,null,null,null,null,null,null,null,null,null,null,null,"","","",""]
[null,null,null,null,null,null,null,null,null,null,null,null,null,null,"","","",""]
[null,null,null,null,null,null,null,null,null,null,null,null,null,null,"","","",""]
[null,null,null,null,null,null,null,null,null,null,null,null,null,null,"","","",""]
[null,null,null,null,null,null,null,null,null,null,null,null,null,null,"","","",""]
[null,null,null,null,null,null,null,null,null,null,null,null,null,null,"","","",""]
[null,null,null,null,null,null,null,null,null,null,null,null,null,null,"","","",""]
[null,null,null,null,null,null,null,null,null,null,null,null,null,null,"","","",""]
[null,null,null,null,null,null,null,null,null,null,null,null,null,null,"","","",""]
[null,null,null,null,null,null,null,null,null,null,null,null,null,null,"","","",""]
[null,null,null,null,null,null,null,null,null,null,null,null,null,null,"","","",""]
[null,null,null,null,null,null,null,null,null,null,null,null,null,null,"","","",""]
[null,null,null,null,null,null,null,null,null,null,null,null,null,null,"","","",""]
[null,null,null,null,null,null,null,null,null,null,null,null,null,null,"","","",""]
[null,null,null,null,null,null,null,null,null,null,null,null,null,null,"","","",""]
[null,null,null,null,null,null,null,null,null,null,null,null,null,null,"","","",""]
[null,null,null,null,null,null,null,null,null,null,null,null,null,null,"","","",""]
[null,null,null,null,null,null,null,null,null,null,null,null,null,null,"","","",""]
[null,null,null,null,null,null,null,null,null,null,null,null,null,null,"","","",""]
[null,null,null,null,null,null,null,null,null,null,null,null,null,null,"","","",""]
[null,null,null,null,null,null,null,null,null,null,null,null,null,null,"","","",""]
[null,null,null,null,null,null,null,null,null,null,null,null,null,null,"","","",""]
[null,null,null,null,null,null,null,null,null,null,null,null,null,null,"","","",""]
[null,null,null,null,null,null,null,null,null,null,null,null,null,null,"","","",""]
[null,null,null,null,null,null,null,null,null,null,null,null,null,null,"","","",""]
[null,null,null,null,null,null,null,null,null,null,null,null,null,null,"","","",""]
[null,null,null,null,null,null,null,null,null,null,null,null,null,null,"","","",""]
[null,null,null,null,null,null,null,null,null,null,null,null,null,null,"","","",""]
[null,null,null,null,null,null,null,null,null,null,null,null,null,null,"","","",""]
[null,null,null,null,null,null,null,null,null,null,null,null,null,null,"","","",""]
[null,null,null,null,null,null,null,null,null,null,null,null,null,null,"","","",""]
[null,null,null,null,null,null,null,null,null,null,null,null,null,null,"","","",""]
[null,null,null,null,null,null,null,null,null,null,null,null,null,null,"","","",""]
[null,null,null,null,null,null,null,null,null,null,null,null,null,null,"","","",""]
[null,null,null,null,null,null,null,null,null,null,null,null,null,null,"","","",""]
[null,null,null,null,null,null,null,null,null,null,null,null,null,null,"","","",""]
[null,null,null,null,null,null,null,null,null,null,null,null,null,null,"","","",""]
[null,null,null,null,null,null,null,null,null,null,null,null,null,null,"","","",""]
[null,null,null,null,null,null,null,null,null,null,null,null,null,null,"","","",""]
[null,null,null,null,null,null,null,null,null,null,null,null,null,null,"","","",""]
[null,null,null,null,null,null,null,null,null,null,null,null,null,null,"","","",""]
[null,null,null,null,null,null,null,null,null,null,null,null,null,null,"","","",""]
[null,null,null,null,null,null,null,null,null,null,null,null,null,null,"","","",""]
[null,null,null,null,null,null,null,null,null,null,null,null,null,null,"","","",""]
[null,null,null,null,null,null,null,null,null,null,null,null,null,null,"","","",""]
[null,null,null,null,null,null,null,null,null,null,null,null,null,null,"","","",""]
[null,null,null,null,null,null,null,null,null,null,null,null,null,null,"","","",""]
[null,null,null,null,null,null,null,null,null,null,null,null,null,null,"","","",""]
[null,null,null,null,null,null,null,null,null,null,null,null,null,null,"","","",""]
[null,null,null,null,null,null,null,null,null,null,null,null,null,null,"","","",""]
[null,null,null,null,null,null,null,null,null,null,null,null,null,null,"","","",""]
[null,null,null,null,null,null,null,null,null,null,null,null,null,null,"","","",""]
[null,null,null,null,null,null,null,null,null,null,null,null,null,null,"","","",""]
[null,null,null,null,null,null,null,null,null,null,null,null,null,null,"","","",""]
[null,null,null,null,null,null,null,null,null,null,null,null,null,null,"","","",""]
[null,null,null,null,null,null,null,null,null,null,null,null,null,null,"","","",""]
[null,null,null,null,null,null,null,null,null,null,null,null,null,null,"","","",""]
[null,null,null,null,null,null,null,null,null,null,null,null,null,null,"","","",""]
[null,null,null,null,null,null,null,null,null,null,null,null,null,null,"","","",""]
[null,null,null,null,null,null,null,null,null,null,null,null,null,null,"","","",""]
[null,null,null,null,null,null,null,null,null,null,null,null,null,null,"","","",""]
[null,null,null,null,null,null,null,null,null,null,null,null,null,null,"","","",""]
[null,null,null,null,null,null,null,null,null,null,null,null,null,null,"","","",""]
[null,null,null,null,null,null,null,null,null,null,null,null,null,null,"","","",""]
[null,null,null,null,null,null,null,null,null,null,null,null,null,null,"","","",""]
[null,null,null,null,null,null,null,null,null,null,null,null,null,null,"","","",""]
[null,null,null,null,null,null,null,null,null,null,null,null,null,null,"","","",""]
[null,null,null,null,null,null,null,null,null,null,null,null,null,null,"","","",""]
[null,null,null,null,null,null,null,null,null,null,null,null,null,null,"","","",""]
[null,null,null,null,null,null,null,null,null,null,null,null,null,null,"","","",""]
[null,null,null,null,null,null,null,null,null,null,null,null,null,null,"","","",""]
[null,null,null,null,null,null,null,null,null,null,null,null,null,null,"","","",""]
[null,null,null,null,null,null,null,null,null,null,null,null,null,null,"","","",""]
[null,null,null,null,null,null,null,null,null,null,null,null,null,null,"","","",""]
[null,null,null,null,null,null,null,null,null,null,null,null,null,null,"","","",""]
[null,null,null,null,null,null,null,null,null,null,null,null,null,null,"","","",""]
[null,null,null,null,null,null,null,null,null,null,null,null,null,null,"","","",""]
[null,null,null,null,null,null,null,null,null,null,null,null,null,null,"","","",""]
[null,null,null,null,null,null,null,null,null,null,null,null,null,null,"","","",""]
[null,null,null,null,null,null,null,null,null,null,null,null,null,null,"","","",""]
[null,null,null,null,null,null,null,null,null,null,null,null,null,null,"","","",""]
[null,null,null,null,null,null,null,null,null,null,null,null,null,null,"","","",""]
[null,null,null,null,null,null,null,null,null,null,null,null,null,null,"","","",""]
[null,null,null,null,null,null,null,null,null,null,null,null,null,null,"","","",""]
[null,null,null,null,null,null,null,null,null,null,null,null,null,null,"","","",""]
[null,null,null,null,null,null,null,null,null,null,null,null,null,null,"","","",""]
[null,null,null,null,null,null,null,null,null,null,null,null,null,null,"","","",""]
[null,null,null,null,null,null,null,null,null,null,null,null,null,null,"","","",""]
[null,null,null,null,null,null,null,null,null,null,null,null,null,null,"","","",""]
[null,null,null,null,null,null,null,null,null,null,null,null,null,null,"","","",""]
[null,null,null,null,null,null,null,null,null,null,null,null,null,null,"","","",""]
[null,null,null,null,null,null,null,null,null,null,null,null,null,null,"","","",""]
[null,null,null,null,null,null,null,null,null,null,null,null,null,null,"","","",""]
[null,null,null,null,null,null,null,null,null,null,null,null,null,null,"","","",""]
[null,null,null,null,null,null,null,null,null,null,null,null,null,null,"","","",""]
[null,null,null,null,null,null,null,null,null,null,null,null,null,null,"","","",""]
[null,null,null,null,null,null,null,null,null,null,null,null,null,null,"","","",""]
[null,null,null,null,null,null,null,null,null,null,null,null,null,null,"","","",""]
[null,null,null,null,null,null,null,null,null,null,null,null,null,null,"","","",""]
[null,null,null,null,null,null,null,null,null,null,null,null,null,null,"","","",""]
[null,null,null,null,null,null,null,null,null,null,null,null,null,null,"","","",""]
[null,null,null,null,null,null,null,null,null,null,null,null,null,null,"","","",""]
[null,null,null,null,null,null,null,null,null,null,null,null,null,null,"","","",""]
[null,null,null,null,null,null,null,null,null,null,null,null,null,null,"","","",""]
[null,null,null,null,null,null,null,null,null,null,null,null,null,null,"","","",""]
[null,null,null,null,null,null,null,null,null,null,null,null,null,null,"","","",""]
[null,null,null,null,null,null,null,null,null,null,null,null,null,null,"","","",""]
[null,null,null,null,null,null,null,null,null,null,null,null,null,null,"","","",""]
[null,null,null,null,null,null,null,null,null,null,null,null,null,null,"","","",""]
[null,null,null,null,null,null,null,null,null,null,null,null,null,null,"","","",""]
[null,null,null,null,null,null,null,null,null,null,null,null,null,null,"","","",""]
[null,null,null,null,null,null,null,null,null,null,null,null,null,null,"","","",""]
[null,null,null,null,null,null,null,null,null,null,null,null,null,null,"","","",""]
[null,null,null,null,null,null,null,null,null,null,null,null,null,null,"","","",""]
[null,null,null,null,null,null,null,null,null,null,null,null,null,null,"","","",""]
[null,null,null,null,null,null,null,null,null,null,null,null,null,null,"","","",""]
[null,null,null,null,null,null,null,null,null,null,null,null,null,null,"","","",""]
[null,null,null,null,null,null,null,null,null,null,null,null,null,null,"","","",""]
[null,null,null,null,null,null,null,null,null,null,null,null,null,null,"","","",""]
[null,null,null,null,null,null,null,null,null,null,null,null,null,null,"","","",""]
[null,null,null,null,null,null,null,null,null,null,null,null,null,null,"","","",""]
[null,null,null,null,null,null,null,null,null,null,null,null,null,null,"","","",""]
[null,null,null,null,null,null,null,null,null,null,null,null,null,null,"","","",""]
[null,null,null,null,null,null,null,null,null,null,null,null,null,null,"","","",""]
[null,null,null,null,null,null,null,null,null,null,null,null,null,null,"","","",""]
[null,null,null,null,null,null,null,null,null,null,null,null,null,null,"","","",""]
[null,null,null,null,null,null,null,null,null,null,null,null,null,null,"","","",""]
[null,null,null,null,null,null,null,null,null,null,null,null,null,null,"","","",""]
[null,null,null,null,null,null,null,null,null,null,null,null,null,null,"","","",""]
[null,null,null,null,null,null,null,null,null,null,null,null,null,null,"","","",""]
[null,null,null,null,null,null,null,null,null,null,null,null,null,null,"","","",""]
[null,null,null,null,null,null,null,null,null,null,null,null,null,null,"","","",""]
[null,null,null,null,null,null,null,null,null,null,null,null,null,null,"","","",""]
[null,null,null,null,null,null,null,null,null,null,null,null,null,null,"","","",""]
[null,null,null,null,null,null,null,null,null,null,null,null,null,null,"","","",""]
[null,null,null,null,null,null,null,null,null,null,null,null,null,null,"","","",""]
[null,null,null,null,null,null,null,null,null,null,null,null,null,null,"","","",""]
[null,null,null,null,null,null,null,null,null,null,null,null,null,null,"","","",""]
[null,null,null,null,null,null,null,null,null,null,null,null,null,null,"","","",""]
[null,null,null,null,null,null,null,null,null,null,null,null,null,null,"","","",""]
[null,null,null,null,null,null,null,null,null,null,null,null,null,null,"","","",""]
[null,null,null,null,null,null,null,null,null,null,null,null,null,null,"","","",""]
[null,null,null,null,null,null,null,null,null,null,null,null,null,null,"","","",""]
[null,null,null,null,null,null,null,null,null,null,null,null,null,null,"","","",""]
[null,null,null,null,null,null,null,null,null,null,null,null,null,null,"","","",""]
[null,null,null,null,null,null,null,null,null,null,null,null,null,null,"","","",""]
[null,null,null,null,null,null,null,null,null,null,null,null,null,null,"","","",""]
[null,null,null,null,null,null,null,null,null,null,null,null,null,null,"","","",""]
[null,null,null,null,null,null,null,null,null,null,null,null,null,null,"","","",""]
[null,null,null,null,null,null,null,null,null,null,null,null,null,null,"","","",""]
[null,null,null,null,null,null,null,null,null,null,null,null,null,null,"","","",""]
[null,null,null,null,null,null,null,null,null,null,null,null,null,null,"","","",""]
[null,null,null,null,null,null,null,null,null,null,null,null,null,null,"","","",""]
[null,null,null,null,null,null,null,null,null,null,null,null,null,null,"","","",""]
[null,null,null,null,null,null,null,null,null,null,null,null,null,null,"","","",""]
[null,null,null,null,null,null,null,null,null,null,null,null,null,null,"","","",""]
[null,null,null,null,null,null,null,null,null,null,null,null,null,null,"","","",""]
[null,null,null,null,null,null,null,null,null,null,null,null,null,null,"","","",""]
[null,null,null,null,null,null,null,null,null,null,null,null,null,null,"","","",""]
[null,null,null,null,null,null,null,null,null,null,null,null,null,null,"","","",""]
[null,null,null,null,null,null,null,null,null,null,null,null,null,null,"","","",""]
[null,null,null,null,null,null,null,null,null,null,null,null,null,null,"","","",""]
[null,null,null,null,null,null,null,null,null,null,null,null,null,null,"","","",""]
[null,null,null,null,null,null,null,null,null,null,null,null,null,null,"","","",""]
[null,null,null,null,null,null,null,null,null,null,null,null,null,null,"","","",""]
[null,null,null,null,null,null,null,null,null,null,null,null,null,null,"","","",""]
[null,null,null,null,null,null,null,null,null,null,null,null,null,null,"","","",""]
[null,null,null,null,null,null,null,null,null,null,null,null,null,null,"","","",""]
[null,null,null,null,null,null,null,null,null,null,null,null,null,null,"","","",""]
[null,null,null,null,null,null,null,null,null,null,null,null,null,null,"","","",""]
[null,null,null,null,null,null,null,null,null,null,null,null,null,null,"","","",""]
[null,null,null,null,null,null,null,null,null,null,null,null,null,null,"","","",""]
[null,null,null,null,null,null,null,null,null,null,null,null,null,null,"","","",""]
[null,null,null,null,null,null,null,null,null,null,null,null,null,null,"","","",""]
[null,null,null,null,null,null,null,null,null,null,null,null,null,null,"","","",""]
[null,null,null,null,null,null,null,null,null,null,null,null,null,null,"","","",""]
[null,null,null,null,null,null,null,null,null,null,null,null,null,null,"","","",""]
[null,null,null,null,null,null,null,null,null,null,null,null,null,null,"","","",""]
[null,null,null,null,null,null,null,null,null,null,null,null,null,null,"","","",""]
[null,null,null,null,null,null,null,null,null,null,null,null,null,null,"","","",""]
[null,null,null,null,null,null,null,null,null,null,null,null,null,null,"","","",""]
[null,null,null,null,null,null,null,null,null,null,null,null,null,null,"","","",""]
[null,null,null,null,null,null,null,null,null,null,null,null,null,null,"","","",""]
[null,null,null,null,null,null,null,null,null,null,null,null,null,null,"","","",""]
[null,null,null,null,null,null,null,null,null,null,null,null,null,null,"","","",""]
[null,null,null,null,null,null,null,null,null,null,null,null,null,null,"","","",""]
[null,null,null,null,null,null,null,null,null,null,null,null,null,null,"","","",""]
[null,null,null,null,null,null,null,null,null,null,null,null,null,null,"","","",""]
[null,null,null,null,null,null,null,null,null,null,null,null,null,null,"","","",""]
[null,null,null,null,null,null,null,null,null,null,null,null,null,null,"","","",""]
[null,null,null,null,null,null,null,null,null,null,null,null,null,null,"","","",""]
[null,null,null,null,null,null,null,null,null,null,null,null,null,null,"","","",""]
[null,null,null,null,null,null,null,null,null,null,null,null,null,null,"","","",""]
[null,null,null,null,null,null,null,null,null,null,null,null,null,null,"","","",""]
[null,null,null,null,null,null,null,null,null,null,null,null,null,null,"","","",""]
[null,null,null,null,null,null,null,null,null,null,null,null,null,null,"","","",""]
[null,null,null,null,null,null,null,null,null,null,null,null,null,null,"","","",""]
[null,null,null,null,null,null,null,null,null,null,null,null,null,null,"","","",""]
[null,null,null,null,null,null,null,null,null,null,null,null,null,null,"","","",""]
[null,null,null,null,null,null,null,null,null,null,null,null,null,null,"","","",""]
[null,null,null,null,null,null,null,null,null,null,null,null,null,null,"","","",""]
[null,null,null,null,null,null,null,null,null,null,null,null,null,null,"","","",""]
[null,null,null,null,null,null,null,null,null,null,null,null,null,null,"","","",""]
[null,null,null,null,null,null,null,null,null,null,null,null,null,null,"","","",""]
[null,null,null,null,null,null,null,null,null,null,null,null,null,null,"","","",""]
[null,null,null,null,null,null,null,null,null,null,null,null,null,null,"","","",""]
[null,null,null,null,null,null,null,null,null,null,null,null,null,null,"","","",""]
[null,null,null,null,null,null,null,null,null,null,null,null,null,null,"","","",""]
[null,null,null,null,null,null,null,null,null,null,null,null,null,null,"","","",""]
[null,null,null,null,null,null,null,null,null,null,null,null,null,null,"","","",""]
[null,null,null,null,null,null,null,null,null,null,null,null,null,null,"","","",""]
[null,null,null,null,null,null,null,null,null,null,null,null,null,null,"","","",""]
[null,null,null,null,null,null,null,null,null,null,null,null,null,null,"","","",""]
[null,null,null,null,null,null,null,null,null,null,null,null,null,null,"","","",""]
[null,null,null,null,null,null,null,null,null,null,null,null,null,null,"","","",""]
[null,null,null,null,null,null,null,null,null,null,null,null,null,null,"","","",""]
[null,null,null,null,null,null,null,null,null,null,null,null,null,null,"","","",""]
[null,null,null,null,null,null,null,null,null,null,null,null,null,null,"","","",""]
[null,null,null,null,null,null,null,null,null,null,null,null,null,null,"","","",""]
[null,null,null,null,null,null,null,null,null,null,null,null,null,null,"","","",""]
[null,null,null,null,null,null,null,null,null,null,null,null,null,null,"","","",""]
[null,null,null,null,null,null,null,null,null,null,null,null,null,null,"","","",""]
[null,null,null,null,null,null,null,null,null,null,null,null,null,null,"","","",""]
[null,null,null,null,null,null,null,null,null,null,null,null,null,null,"","","",""]
[null,null,null,null,null,null,null,null,null,null,null,null,null,null,"","","",""]
[null,null,null,null,null,null,null,null,null,null,null,null,null,null,"","","",""]
[null,null,null,null,null,null,null,null,null,null,null,null,null,null,"","","",""]
[null,null,null,null,null,null,null,null,null,null,null,null,null,null,"","","",""]
[null,null,null,null,null,null,null,null,null,null,null,null,null,null,"","","",""]
[null,null,null,null,null,null,null,null,null,null,null,null,null,null,"","","",""]
[null,null,null,null,null,null,null,null,null,null,null,null,null,null,"","","",""]
[null,null,null,null,null,null,null,null,null,null,null,null,null,null,"","","",""]
[null,null,null,null,null,null,null,null,null,null,null,null,null,null,"","","",""]
[null,null,null,null,null,null,null,null,null,null,null,null,null,null,"","","",""]
[null,null,null,null,null,null,null,null,null,null,null,null,null,null,"","","",""]
[null,null,null,null,null,null,null,null,null,null,null,null,null,null,"","","",""]
[null,null,null,null,null,null,null,null,null,null,null,null,null,null,"","","",""]
[null,null,null,null,null,null,null,null,null,null,null,null,null,null,"","","",""]
[null,null,null,null,null,null,null,null,null,null,null,null,null,null,"","","",""]
[null,null,null,null,null,null,null,null,null,null,null,null,null,null,"","","",""]
[null,null,null,null,null,null,null,null,null,null,null,null,null,null,"","","",""]
[null,null,null,null,null,null,null,null,null,null,null,null,null,null,"","","",""]
[null,null,null,null,null,null,null,null,null,null,null,null,null,null,"","","",""]
[null,null,null,null,null,null,null,null,null,null,null,null,null,null,"","","",""]
[null,null,null,null,null,null,null,null,null,null,null,null,null,null,"","","",""]
[null,null,null,null,null,null,null,null,null,null,null,null,null,null,"","","",""]
[null,null,null,null,null,null,null,null,null,null,null,null,null,null,"","","",""]
[null,null,null,null,null,null,null,null,null,null,null,null,null,null,"","","",""]
[null,null,null,null,null,null,null,null,null,null,null,null,null,null,"","","",""]
[null,null,null,null,null,null,null,null,null,null,null,null,null,null,"","","",""]
[null,null,null,null,null,null,null,null,null,null,null,null,null,null,"","","",""]
[null,null,null,null,null,null,null,null,null,null,null,null,null,null,"","","",""]
[null,null,null,null,null,null,null,null,null,null,null,null,null,null,"","","",""]
[null,null,null,null,null,null,null,null,null,null,null,null,null,null,"","","",""]
[null,null,null,null,null,null,null,null,null,null,null,null,null,null,"","","",""]
[null,null,null,null,null,null,null,null,null,null,null,null,null,null,"","","",""]
[null,null,null,null,null,null,null,null,null,null,null,null,null,null,"","","",""]
[null,null,null,null,null,null,null,null,null,null,null,null,null,null,"","","",""]
[null,null,null,null,null,null,null,null,null,null,null,null,null,null,"","","",""]
[null,null,null,null,null,null,null,null,null,null,null,null,null,null,"","","",""]
[null,null,null,null,null,null,null,null,null,null,null,null,null,null,"","","",""]
[null,null,null,null,null,null,null,null,null,null,null,null,null,null,"","","",""]
[null,null,null,null,null,null,null,null,null,null,null,null,null,null,"","","",""]
[null,null,null,null,null,null,null,null,null,null,null,null,null,null,"","","",""]
[null,null,null,null,null,null,null,null,null,null,null,null,null,null,"","","",""]
[null,null,null,null,null,null,null,null,null,null,null,null,null,null,"","","",""]
[null,null,null,null,null,null,null,null,null,null,null,null,null,null,"","","",""]
[null,null,null,null,null,null,null,null,null,null,null,null,null,null,"","","",""]
[null,null,null,null,null,null,null,null,null,null,null,null,null,null,"","","",""]
[null,null,null,null,null,null,null,null,null,null,null,null,null,null,"","","",""]
[null,null,null,null,null,null,null,null,null,null,null,null,null,null,null,null,""]
[null,null,null,null,null,null,null,null,null,null,null,null,null,null,null,null,""]
[null,null,null,null,null,null,null,null,null,null,null,null,null,null,null,null,""]
[null,null,null,null,null,null,null,null,null,null,null,null,null,null,null,null,""]
[null,null,null,null,null,null,null,null,null,null,null,null,null,null,null,null,""]
[null,null,null,null,null,null,null,null,null,null,null,null,null,null,null,null,""]
[null,null,null,null,null,null,null,null,null,null,null,null,null,null,null,null,""]
[null,null,null,null,null,null,null,null,null,null,null,null,null,null,null,null,""]
[null,null,null,null,null,null,null,null,null,null,null,null,null,null,null,null,""]
[null,null,null,null,null,null,null,null,null,null,null,null,null,null,null,null,""]
[null,null,null,null,null,null,null,null,null,null,null,null,null,null,null,null,""]
[null,null,null,null,null,null,null,null,null,null,null,null,null,null,null,null,""]
[null,null,null,null,null,null,null,null,null,null,null,null,null,null,null,null,""]
[null,null,null,null,null,null,null,null,null,null,null,null,null,null,null,null,""]
[null,null,null,null,null,null,null,null,null,null,null,null,null,null,null,null,""]
[null,null,null,null,null,null,null,null,null,null,null,null,null,null,null,null,""]
[null,null,null,null,null,null,null,null,null,null,null,null,null,null,null,null,""]
[null,null,null,null,null,null,null,null,null,null,null,null,null,null,null,null,""]
[null,null,null,null,null,null,null,null,null,null,null,null,null,null,null,null,""]
[null,null,null,null,null,null,null,null,null,null,null,null,null,null,null,null,""]
[null,null,null,null,null,null,null,null,null,null,null,null,null,null,null,null,""]
[null,null,null,null,null,null,null,null,null,null,null,null,null,null,null,null,""]
[null,null,null,null,null,null,null,null,null,null,null,null,null,null,null,null,""]
[null,null,null,null,null,null,null,null,null,null,null,null,null,null,null,null,""]
[null,null,null,null,null,null,null,null,null,null,null,null,null,null,null,null,""]
[null,null,null,null,null,null,null,null,null,null,null,null,null,null,null,null,""]
[null,null,null,null,null,null,null,null,null,null,null,null,null,null,null,null,""]
[null,null,null,null,null,null,null,null,null,null,null,null,null,null,null,null,""]
[null,null,null,null,null,null,null,null,null,null,null,null,null,null,null,null,""]
[null,null,null,null,null,null,null,null,null,null,null,null,null,null,null,null,""]
[null,null,null,null,null,null,null,null,null,null,null,null,null,null,null,null,""]
[null,null,null,null,null,null,null,null,null,null,null,null,null,null,null,null,""]
[null,null,null,null,null,null,null,null,null,null,null,null,null,null,null,null,""]
[null,null,null,null,null,null,null,null,null,null,null,null,null,null,null,null,""]
[null,null,null,null,null,null,null,null,null,null,null,null,null,null,null,null,""]
[null,null,null,null,null,null,null,null,null,null,null,null,null,null,null,null,""]
[null,null,null,null,null,null,null,null,null,null,null,null,null,null,null,null,""]
[null,null,null,null,null,null,null,null,null,null,null,null,null,null,null,null,""]
[null,null,null,null,null,null,null,null,null,null,null,null,null,null,null,null,""]
[null,null,null,null,null,null,null,null,null,null,null,null,null,null,null,null,""]
[null,null,null,null,null,null,null,null,null,null,null,null,null,null,null,null,""]
[null,null,null,null,null,null,null,null,null,null,null,null,null,null,null,null,""]
[null,null,null,null,null,null,null,null,null,null,null,null,null,null,null,null,""]
[null,null,null,null,null,null,null,null,null,null,null,null,null,null,null,null,""]
[null,null,null,null,null,null,null,null,null,null,null,null,null,null,null,null,""]
[null,null,null,null,null,null,null,null,null,null,null,null,null,null,null,null,""]
[null,null,null,null,null,null,null,null,null,null,null,null,null,null,null,null,""]
[null,null,null,null,null,null,null,null,null,null,null,null,null,null,null,null,""]
[null,null,null,null,null,null,null,null,null,null,null,null,null,null,null,null,""]
[null,null,null,null,null,null,null,null,null,null,null,null,null,null,null,null,""]
[null,null,null,null,null,null,null,null,null,null,null,null,null,null,null,null,""]
[null,null,null,null,null,null,null,null,null,null,null,null,null,null,null,null,""]
[null,null,null,null,null,null,null,null,null,null,null,null,null,null,null,null,""]
[null,null,null,null,null,null,null,null,null,null,null,null,null,null,null,null,""]
[null,null,null,null,null,null,null,null,null,null,null,null,null,null,null,null,""]
[null,null,null,null,null,null,null,null,null,null,null,null,null,null,null,null,""]
[null,null,null,null,null,null,null,null,null,null,null,null,null,null,null,null,""]
[null,null,null,null,null,null,null,null,null,null,null,null,null,null,null,null,""]
[null,null,null,null,null,null,null,null,null,null,null,null,null,null,null,null,""]
[null,null,null,null,null,null,null,null,null,null,null,null,null,null,null,null,""]
[null,null,null,null,null,null,null,null,null,null,null,null,null,null,null,null,""]
[null,null,null,null,null,null,null,null,null,null,null,null,null,null,null,null,""]
[null,null,null,null,null,null,null,null,null,null,null,null,null,null,null,null,""]
[null,null,null,null,null,null,null,null,null,null,null,null,null,null,null,null,""]
[null,null,null,null,null,null,null,null,null,null,null,null,null,null,null,null,""]
[null,null,null,null,null,null,null,null,null,null,null,null,null,null,null,null,""]
[null,null,null,null,null,null,null,null,null,null,null,null,null,null,null,null,""]
[null,null,null,null,null,null,null,null,null,null,null,null,null,null,null,null,""]
[null,null,null,null,null,null,null,null,null,null,null,null,null,null,null,null,""]
[null,null,null,null,null,null,null,null,null,null,null,null,null,null,null,null,""]
[null,null,null,null,null,null,null,null,null,null,null,null,null,null,null,null,""]
[null,null,null,null,null,null,null,null,null,null,null,null,null,null,null,null,""]
[null,null,null,null,null,null,null,null,null,null,null,null,null,null,null,null,""]
[null,null,null,null,null,null,null,null,null,null,null,null,null,null,null,null,""]
[null,null,null,null,null,null,null,null,null,null,null,null,null,null,null,null,""]
[null,null,null,null,null,null,null,null,null,null,null,null,null,null,null,null,""]
[null,null,null,null,null,null,null,null,null,null,null,null,null,null,null,null,""]
[null,null,null,null,null,null,null,null,null,null,null,null,null,null,null,null,""]
[null,null,null,null,null,null,null,null,null,null,null,null,null,null,null,null,""]
[null,null,null,null,null,null,null,null,null,null,null,null,null,null,null,null,""]
[null,null,null,null,null,null,null,null,null,null,null,null,null,null,null,null,""]
[null,null,null,null,null,null,null,null,null,null,null,null,null,null,null,null,""]
[null,null,null,null,null,null,null,null,null,null,null,null,null,null,null,null,""]
[null,null,null,null,null,null,null,null,null,null,null,null,null,null,null,null,""]
[null,null,null,null,null,null,null,null,null,null,null,null,null,null,null,null,""]
[null,null,null,null,null,null,null,null,null,null,null,null,null,null,null,null,""]
[null,null,null,null,null,null,null,null,null,null,null,null,null,null,null,null,""]
[null,null,null,null,null,null,null,null,null,null,null,null,null,null,null,null,""]
[null,null,null,null,null,null,null,null,null,null,null,null,null,null,null,null,""]
[null,null,null,null,null,null,null,null,null,null,null,null,null,null,null,null,""]
[null,null,null,null,null,null,null,null,null,null,null,null,null,null,null,null,""]
[null,null,null,null,null,null,null,null,null,null,null,null,null,null,null,null,""]
[null,null,null,null,null,null,null,null,null,null,null,null,null,null,null,null,""]
[null,null,null,null,null,null,null,null,null,null,null,null,null,null,null,null,""]
[null,null,null,null,null,null,null,null,null,null,null,null,null,null,null,null,""]
[null,null,null,null,null,null,null,null,null,null,null,null,null,null,null,null,""]
[null,null,null,null,null,null,null,null,null,null,null,null,null,null,null,null,""]
[null,null,null,null,null,null,null,null,null,null,null,null,null,null,null,null,""]
[null,null,null,null,null,null,null,null,null,null,null,null,null,null,null,null,""]
[null,null,null,null,null,null,null,null,null,null,null,null,null,null,null,null,""]
[null,null,null,null,null,null,null,null,null,null,null,null,null,null,null,null,""]
[null,null,null,null,null,null,null,null,null,null,null,null,null,null,null,null,""]
[null,null,null,null,null,null,null,null,null,null,null,null,null,null,null,null,""]
[null,null,null,null,null,null,null,null,null,null,null,null,null,null,null,null,""]
[null,null,null,null,null,null,null,null,null,null,null,null,null,null,null,null,""]
[null,null,null,null,null,null,null,null,null,null,null,null,null,null,null,null,""]
[null,null,null,null,null,null,null,null,null,null,null,null,null,null,null,null,""]
[null,null,null,null,null,null,null,null,null,null,null,null,null,null,null,null,""]
[null,null,null,null,null,null,null,null,null,null,null,null,null,null,null,null,""]
[null,null,null,null,null,null,null,null,null,null,null,null,null,null,null,null,""]
[null,null,null,null,null,null,null,null,null,null,null,null,null,null,null,null,""]
[null,null,null,null,null,null,null,null,null,null,null,null,null,null,null,null,""]
[null,null,null,null,null,null,null,null,null,null,null,null,null,null,null,null,""]
[null,null,null,null,null,null,null,null,null,null,null,null,null,null,null,null,""]
[null,null,null,null,null,null,null,null,null,null,null,null,null,null,null,null,""]
[null,null,null,null,null,null,null,null,null,null,null,null,null,null,null,null,""]
[null,null,null,null,null,null,null,null,null,null,null,null,null,null,null,null,""]
[null,null,null,null,null,null,null,null,null,null,null,null,null,null,null,null,""]
[null,null,null,null,null,null,null,null,null,null,null,null,null,null,null,null,""]
[null,null,null,null,null,null,null,null,null,null,null,null,null,null,null,null,""]
[null,null,null,null,null,null,null,null,null,null,null,null,null,null,null,null,""]
[null,null,null,null,null,null,null,null,null,null,null,null,null,null,null,null,""]
[null,null,null,null,null,null,null,null,null,null,null,null,null,null,null,null,""]
[null,null,null,null,null,null,null,null,null,null,null,null,null,null,null,null,""]
[null,null,null,null,null,null,null,null,null,null,null,null,null,null,null,null,""]
[null,null,null,null,null,null,null,null,null,null,null,null,null,null,null,null,""]
[null,null,null,null,null,null,null,null,null,null,null,null,null,null,null,null,""]
[null,null,null,null,null,null,null,null,null,null,null,null,null,null,null,null,""]
[null,null,null,null,null,null,null,null,null,null,null,null,null,null,null,null,""]
[null,null,null,null,null,null,null,null,null,null,null,null,null,null,null,null,""]
[null,null,null,null,null,null,null,null,null,null,null,null,null,null,null,null,""]
[null,null,null,null,null,null,null,null,null,null,null,null,null,null,null,null,""]
[null,null,null,null,null,null,null,null,null,null,null,null,null,null,null,null,""]
[null,null,null,null,null,null,null,null,null,null,null,null,null,null,null,null,""]
[null,null,null,null,null,null,null,null,null,null,null,null,null,null,null,null,""]
[null,null,null,null,null,null,null,null,null,null,null,null,null,null,null,null,""]
[null,null,null,null,null,null,null,null,null,null,null,null,null,null,null,null,""]
[null,null,null,null,null,null,null,null,null,null,null,null,null,null,null,null,""]
[null,null,null,null,null,null,null,null,null,null,null,null,null,null,null,null,""]
[null,null,null,null,null,null,null,null,null,null,null,null,null,null,null,null,""]

{"sheet":"Free Form","index":2,"n_rows":56,"n_cols":29,"rows_kept":56,"cut":false,"hidden":false,"merged":[[40,1,41,24],[5,32,5,33],[8,32,8,33],[7,20,7,25],[5,19,6,21],[8,24,8,25],[8,18,8,19],[8,20,8,21],[2,22,3,24],[5,16,6,18],[9,1,9,23],[13,1,38,24],[5,7,6,9],[5,1,6,3],[11,1,11,23],[5,22,6,24],[0,4,1,19],[2,10,3,12],[2,13,3,15],[5,13,6,15],[5,10,6,12],[2,4,3,6],[2,7,3,9],[5,4,6,6],[2,16,3,18],[2,19,3,21]]}
[null,null,null,null,{"$f":"Main!E1","v":"AWP Contractor Reporting E2O - General Aggregates"}]
[null,null,null,null,null,null,null,null,null,null,null,null,null,null,null,null,null,null,null,null,null,null,null,null,null,{"$f":"Main!Z2","v":"v"},{"$f":"Main!AA2","v":"4.21"},null,"Timestamp function"]
[null,null,null,null," ",null,null,{"$f":"Main!H3","v":"Main"},null,null,{"$f":"Main!K3","v":"Quantity"},null,null,null,null,null,{"$f":"Main!Q3","v":"Send/Sync"},null,null,{"$f":"Main!T3","v":"Reports"},null,null,{"$f":"Main!W3","v":"Help"},null,null,null,null,null,{"$f":"TEXT(B12,\"mm/dd/yyyy\")","v":"2030 Characters Maximum  (spaces count)"}]
[null,null,null,null,null,null,null,null,null,null,null,null,null,null,null,null,null,null,null,null,null,null,null,null,null,null,null,null,{"$f":"TEXT(B13,\"HH:MM:SS \")","v":"00:00:00 "}]
[]
[null,{"$f":"Main!B6","v":"General"},null,null,{"$f":"Main!E6","v":"Free Form"},null,null,{"$f":"IF(Main!H6=\"\", \"\", Main!H6)","v":"Bases"},null,null,{"$f":"IF(Main!K6=\"\", \"\", Main!K6)","v":"1005/3/9"},null,null,{"$f":"IF(Main!N6=\"\", \"\", Main!N6)","v":"SEL BACKFILL"},null,null,{"$f":"IF(Main!Q6=\"\", \"\", Main!Q6)","v":"QC/QA Split"},null,null,{"$f":"IF(Main!T6=\"\", \"\", Main!T6)","v":""},null,null,{"$f":"IF(Main!W6=\"\", \"\", Main!W6)","v":""}]
[]
[]
[]
[null,"Use a \"Free Form\" to record general notes, test results, or related information for which there is no other field"]
[]
[null,"2030 Characters Maximum  (spaces count)"]
[]
[]
[]
[]
[]
[]
[]
[]
[]
[]
[]
[]
[]
[]
[]
[]
[]
[]
[]
[]
[]
[]
[]
[]
[]
[]
[]
[null,null,null,null,null,null,null,null,null,null,null,null,null,null,null,null,null,null,null,null,null,null,null,null,null,null,null,null,"Is any I info entered?"]
[null,"The Free Form is used for test results that do not fit elsewhere and as a remarks and statement area.",null,null,null,null,null,null,null,null,null,null,null,null,null,null,null,null,null,null,null,null,null,null,null,null,null,null,{"$f":"IF(LEN(B14)>5,1,0)","v":0}]
[]
[]
[]
[]
[]
[]
[null,null,"Seq","end",null,"Populate"]
[null,null,1,254,null,{"$f":"IF(G49=\"\", \"N\", \"Y\")","v":"N"},{"$f":"RIGHT(LEFT($B$14,D49),254)","v":""}]
[null,null,2,{"$f":"$D$49+D49","v":508},null,{"$f":"IF(G50=\"\", \"N\", \"Y\")","v":"N"},{"$f":"MID($B$14,(D50-253),254)","v":""}]
[null,null,3,{"$f":"$D$49+D50","v":762},null,"N",{"$f":"MID($B$14,(D51-253),254)","v":""}]
[null,null,4,1016,null,"N",""]
[null,null,5,1270,null,"N",""]
[null,null,6,1524,null,"N",""]
[null,null,7,1778,null,"N",""]
[null,null,8,2032,null,"N",""]

{"sheet":"Help","index":3,"n_rows":45,"n_cols":27,"rows_kept":45,"cut":false,"hidden":false,"merged":[[43,1,43,25],[44,1,47,25],[35,1,35,14],[34,1,34,25],[0,4,1,19],[5,1,6,3],[5,4,6,6],[5,7,6,9],[5,10,6,12],[5,13,6,15],[5,16,6,18],[5,19,6,21],[2,4,3,6],[2,7,3,9],[2,22,3,24],[2,10,3,12],[2,13,3,15],[2,16,3,18],[2,19,3,21],[5,22,6,24],[7,1,7,25],[30,1,33,25],[21,1,21,25],[15,1,15,25],[29,1,29,25],[12,1,12,25],[28,1,28,25],[26,1,26,25],[27,1,27,25],[25,1,25,25],[8,1,8,25],[14,1,14,25],[13,1,13,25],[9,1,11,25],[22,1,24,25],[16,1,19,25]]}
[null,null,null,null,{"$f":"Main!E1","v":"AWP Contractor Reporting E2O - General Aggregates"}]
[null,null,null,null,null,null,null,null,null,null,null,null,null,null,null,null,null,null,null,null,null,null,null,null,null,{"$f":"Main!Z2","v":"v"},{"$f":"Main!AA2","v":"4.21"}]
[null,null,null,null," ",null,null,{"$f":"Main!H3","v":"Main"},null,null,{"$f":"Main!K3","v":"Quantity"},null,null,null,null,null,{"$f":"Main!Q3","v":"Send/Sync"},null,null,{"$f":"Main!T3","v":"Reports"},null,null,{"$f":"Main!W3","v":"Help"}]
[]
[]
[null,{"$f":"Main!B6","v":"General"}]
[]
[]
[null,"Report Numbering"]
[null,"Each report must be uniquely numbered by the contractor making the report.  Every contracting company must devise a way to ensure that the various people submitting reports do not use the same numbers.   An easy way is to assign each person within your company a range of numbers.  "]
[]
[]
[null,"Numbers range from 0001-9999.          Lead zeros should be used to aid in sorting of reports.       The numbers reset every year."]
[]
[]
[null,"Security Word"]
[null,"Each contracting company is issued a four letter security word.   If the security word entered on the report does not match the contracting company, the report will not be processed.   The purpose of the security word is to prevent unathorized persons from submitting reports to represent a contracting company.   MoDOT may re-issue security words periodically.  MoDOT can also re-issue a companies security word upon request."]
[]
[]
[]
[]
[null,"Rejection by the Server"]
[null,"When a report is submitted, there is a chance the processing server will find a fault and reject the report.  Once rejected, the fault will need to be corrected and the report resubmitted.  The processing server will send out a rejection notice email with a basic reason for rejection to the contractor email address and MoDOT employee listed in the contact area."]
[]
[]
[]
[]
[]
[]
[null,"Allow Updating"]
[null,"The Excel2Oracle will not overwrite existing data in SiteManager by defualt.  This is to protect the existing data from acccidentlly being replaced.  Once clicked, the \"allow updating\" button will let Excel2Oracle to overwrite existing data in SiteManager.  Care should be taken when doing this to make sure the sample ID is correct."]
[]
[]
[]
[null,"Spreadsheet Versions"]
[null,"* Reports that are too out of date may no longer be processed."]
[null,"* The changes in the version number indicate how major or minor a change was."]
[null,null,"For Example:   Version    A.BC"]
[null,null,null,"\"A\" is the major version.   Major changes are rare and usually will require switching to the newest version"]
[null,null,null,"\"B\" is the minor version.   Minor changes will not usually require switching, but updating is reccomended."]
[null,null,null,"\"C\" is the errata version.  Errata fixes do not require switching."]
[null,null,null,"*  Note that some changes do not warrant a new version number.  Picklist updates fall in this category."]
[]
[null,"Latest News and Updates"]
[null,"Each time the Send/Sync tab is opened, the latest news informatin is fetched from the Internet.  This enables MoDOT to broadcast need information to all users"]

{"sheet":"Test 1","index":4,"n_rows":1561,"n_cols":35,"rows_kept":1561,"cut":false,"hidden":false,"merged":[[51,4,51,6],[51,8,51,10],[51,12,51,14],[52,12,52,14],[52,8,52,10],[52,4,52,6],[53,1,54,3],[53,4,53,6],[53,8,53,10],[53,12,53,14],[49,4,49,5],[49,8,49,9],[49,12,49,13],[50,4,50,6],[50,8,50,10],[50,12,50,14],[14,2,14,10],[15,2,15,4],[15,5,15,7],[45,0,46,2],[45,3,45,5],[45,7,45,9],[45,11,45,13],[43,1,43,3],[25,10,25,12],[26,10,26,12],[27,10,27,12],[30,10,30,12],[30,13,31,15],[15,0,16,0],[17,0,18,0],[19,0,20,0],[18,1,18,7],[18,8,18,23],[16,8,16,23],[17,2,17,4],[17,5,17,7],[17,9,17,10],[43,4,43,5],[43,8,43,9],[43,12,43,13],[41,2,41,22],[28,3,28,5],[28,7,28,9],[28,10,28,12],[25,7,25,9],[26,7,26,9],[27,7,27,9],[30,7,30,9],[34,12,34,13],[35,12,35,13],[25,20,25,22],[27,16,27,18],[20,1,20,7],[42,4,42,5],[42,8,42,9],[42,12,42,13],[23,7,23,9],[23,10,23,12],[25,23,25,25],[24,10,24,12],[23,20,23,22],[24,20,24,22],[24,23,24,25],[26,20,26,22],[26,23,26,25],[27,20,27,22],[24,16,24,18],[25,16,25,18],[26,16,26,18],[30,3,30,5],[24,7,24,9],[5,13,6,15],[5,16,6,18],[12,1,12,6],[29,3,29,5],[29,7,29,9],[29,10,29,12],[22,14,22,25],[22,1,22,12],[29,16,29,18],[29,20,29,22],[29,23,29,25],[23,23,23,25],[30,16,30,18],[27,23,27,25],[20,8,20,23],[30,20,30,22],[30,23,30,25],[23,16,23,18],[19,2,19,4],[19,5,19,7],[19,9,19,10],[16,1,16,7],[2,10,3,12],[2,13,3,15],[2,16,3,18],[0,4,1,22],[2,19,3,21],[2,22,3,24],[2,4,3,6],[2,7,3,9],[9,1,10,21],[59,0,59,2],[5,19,6,21],[5,22,6,24],[5,1,6,3],[5,4,6,6],[5,7,6,9],[5,10,6,12],[27,3,27,5],[25,3,25,5],[26,3,26,5],[24,3,24,5],[38,0,39,2],[38,7,38,9],[38,11,38,13],[34,0,36,3],[35,8,35,9],[38,3,38,5],[34,4,34,5],[35,4,35,5],[34,8,34,9],[23,3,23,5],[30,0,31,2],[15,9,15,10],[12,7,12,19]]}
[null,null,null,null,{"$f":"Main!E1","v":"AWP Contractor Reporting E2O - General Aggregates"}]
[null,null,null,null,null,null,null,null,null,null,null,null,null,null,null,null,null,null,null,null,null,null,null,null,null,{"$f":"Main!Z2","v":"v"},{"$f":"Main!AA2","v":"4.21"}]
[null,null,null,null," ",null,null,"Main",null,null,"Quantity",null,null,null,null,null,{"$f":"Main!Q3","v":"Send/Sync"},null,null,"Reports",null,null,"Help"]
[]
[]
[null,{"$f":"Main!B6","v":"General"},null,null,{"$f":"Main!E6","v":"Free Form"},null,null,{"$f":"IF(Main!H6=\"\",\"\",Main!H6)","v":"Bases"},null,null,{"$f":"IF(Main!K6=\"\",\"\",Main!K6)","v":"1005/3/9"},null,null,{"$f":"IF(Main!N6=\"\",\"\",Main!N6)","v":"SEL BACKFILL"},null,null,{"$f":"IF(Main!Q6=\"\",\"\",Main!Q6)","v":"QC/QA Split"},null,null,{"$f":"IF(Main!T6=\"\",\"\",Main!T6)","v":""},null,null,{"$f":"IF(Main!W6=\"\",\"\",Main!W6)","v":""}]
[null,null,null,null,null,null,null,null,null,null,null,null,null,null,null,null,null,null,null,null,null,null,null,null,null,null,null,null,"checks"]
[null,null,null,null,null,null,null,null,null,null,null,null,null,null,null,null,null,null,null,null,null,null,null,null,null,null,null,null,{"$f":"IF(AND(ISBLANK(H13),NOT(AE10=\"QCQA\")),IF(LEFT(AE11,4)=\"1007\",1,0),0)","v":0},"testor missing"]
[]
[null,"Type 1, Type 5, or Type 7 Aggregate Bases",null,null,null,null,null,null,null,null,null,null,null,null,null,null,null,null,null,null,null,null,null,null,null,null,null,null,null,"sample type",{"$f":"Main!U40","v":"QCC"}]
[null,null,null,null,null,null,null,null,null,null,null,null,null,null,null,null,null,null,null,null,null,null,null,null,null,null,null,null,null,"material",{"$f":"Main!F14","v":""},null,"If the material code is a T7 then T7 template is used.  Otherwise all 1007 codes get the T1/T5 template"]
[null,null,null,null,null,null,null,null,null,null,null,null,null,null,null,null,null,null,null,null,null,null,null,null,null,null,null,null,null,"Populate Type 7?",null,null,{"$f":"IF((OR(LEFT(AE11,6)=\"1007T7\",AE11=\"1007..RAP1\"))*AND(NOT(ISBLANK(Q28))),\"Y\",\"N\")","v":"N"},{"$f":"IF((OR(LEFT(AE11,6)=\"1007T7\",AE11=\"1007..RAP1\"))*AND(NOT(ISBLANK(U28))),\"Y\",\"N\")","v":"N"},{"$f":"IF((OR(LEFT(AE11,6)=\"1007T7\",AE11=\"1007..RAP1\"))*AND(NOT(ISBLANK(X28))),\"Y\",\"N\")","v":"N"}]
[null,"Test Performed by:",null,null,null,null,null,null,null,null,null,null,null,null,null,null,null,null,null,null,null,null,null,null,null,null,null,null,null,"Populate T1/T5?",null,null,{"$f":"IF(((LEFT(AE11,4)=\"1007\")*AND(AG12=\"N\")*AND((NOT(LEFT(AE11,6)=\"1007T7\"))))*AND(OR(NOT(ISBLANK(D28)),NOT(ISBLANK(D29)))),\"Y\",\"N\")","v":"N"},{"$f":"IF(((LEFT(AE11,4)=\"1007\")*AND(AH12=\"N\")*AND((NOT(LEFT(AE11,6)=\"1007T7\"))))*AND(OR(NOT(ISBLANK(H28)),NOT(ISBLANK(H29)))),\"Y\",\"N\")","v":"N"},{"$f":"IF(((LEFT(AE11,4)=\"1007\")*AND(AI12=\"N\")*AND((NOT(LEFT(AE11,6)=\"1007T7\"))))*AND(OR(NOT(ISBLANK(K28)),NOT(ISBLANK(K29)))),\"Y\",\"N\")","v":"N"}]
[]
[null,null,"Testing Locations  (Up to Three)"]
[1,null,"Station",null,null,null,null,null,"+"]
[null,"Location L/R of Centerline"]
[2,null,"Station",null,null,null,null,null,"+"]
[null,"Location L/R of Centerline"]
[3,null,"Station",null,null,null,null,null,"+"]
[null,"Location L/R of Centerline"]
[]
[null,"Gradation,  Type 1 and 5 :  (% Passing)",null,null,null,null,null,null,null,null,null,null,null,null,"Gradation, Type 7 :  (% Passing)"]
[null,null,null,"(1)",null,null,null,"(2)",null,null,"(3)",null,null,null,null,null,"(1)",null,null,null,"(2)",null,null,"(3)",null,null,null,null,null,"rounding:"]
[null,"1\"",null,null,null,null,"%",null,null,null,null,null,null,null,"1 1/2\"",null,null,null,null,"%",null,null,null,null,null,null,null,null,null,{"$f":"VALUE(FIXED(D25,1))","v":0},{"$f":"VALUE(FIXED(H25,1))","v":0},{"$f":"VALUE(FIXED(K25,1))","v":0},{"$f":"VALUE(FIXED(Q25,1))","v":0},{"$f":"VALUE(FIXED(U25,1))","v":0},{"$f":"VALUE(FIXED(X25,1))","v":0}]
[null,"1/2\"",null,null,null,null,"%",null,null,null,null,null,null,null,"1\"",null,null,null,null,"%",null,null,null,null,null,null,null,null,null,{"$f":"VALUE(FIXED(D26,1))","v":0},{"$f":"VALUE(FIXED(H26,1))","v":0},{"$f":"VALUE(FIXED(K26,1))","v":0},{"$f":"VALUE(FIXED(Q26,1))","v":0},{"$f":"VALUE(FIXED(U26,1))","v":0},{"$f":"VALUE(FIXED(X26,1))","v":0}]
[null,"#4",null,null,null,null,"%",null,null,null,null,null,null,null,"#8",null,null,null,null,"%",null,null,null,null,null,null,null,null,null,{"$f":"VALUE(FIXED(D27,1))","v":0},{"$f":"VALUE(FIXED(H27,1))","v":0},0,0,{"$f":"VALUE(FIXED(U27,1))","v":0},{"$f":"VALUE(FIXED(X27,1))","v":0}]
[null,"#30",null,null,null,null,"%",null,null,null,null,null,null,null,"#200",null,null,null,null,"%",null,null,null,null,null,null,null,null,null,{"$f":"VALUE(FIXED(D28,1))","v":0},{"$f":"VALUE(FIXED(H28,1))","v":0},0,0,{"$f":"VALUE(FIXED(U28,1))","v":0},0]
[null,"#200",null,null,null,null,"%",null,null,null,null,null,null,null,null,null,null,null,null,null,null,null,null,null,null,null,null,null,null,{"$f":"VALUE(FIXED(D29,1))","v":0},{"$f":"VALUE(FIXED(H29,1))","v":0},0]
[null,null,null,null,null,null,null,null,null,null,null,null,null,null,null,null,null,null,null,null,null,null,null,null,null,null,null,null,{"$f":"IF(ISBLANK(D29),0,(IF(ISBLANK(D31),1,0)))","v":0},null,"YES"]
["Within Spec Tolerance?",null,null,null,null,null,null,null,null,null,null,null,null,"Within Spec Tolerance?",null,null,null,null,null,null,null,null,null,null,null,null,null,null,{"$f":"IF(ISBLANK(H29),0,(IF(ISBLANK(H31),1,0)))","v":0},null,"NO"]
[null,null,null,null,null,null,null,null,null,null,null,null,null,null,null,null,null,null,null,null,null,null,null,null,null,null,null,null,{"$f":"IF(ISBLANK(K29),0,(IF(ISBLANK(K31),1,0)))","v":0},null,"NA"]
[null,null,null,null,null,null,null,null,null,null,null,null,null,null,null,null,null,null,null,null,null,null,null,null,null,null,null,null,{"$f":"IF(ISBLANK(Q28),0,(IF(ISBLANK(Q31),1,0)))","v":0}]
[null,null,"Quality,  Type 1, 5, 7",null,null,null,null,null,null,null,null,null,null,null,null,null,null,null,null,null,null,null,null,null,null,null,null,null,{"$f":"IF(ISBLANK(U28),0,(IF(ISBLANK(U31),1,0)))","v":0}]
["Deleterious Rock and Shale",null,null,null,"(1)",null,null,null,"(2)",null,null,null,"(3)",null,null,null,null,null,null,null,null,null,null,null,null,null,null,null,{"$f":"IF(ISBLANK(X28),0,(IF(ISBLANK(X31),1,0)))","v":0},"rounding:"]
[null,null,null,null,null,null,"%",null,null,null,"%",null,null,null,"%",null,null,null,null,null,null,null,null,null,null,null,null,null,null,{"$f":"VALUE(FIXED(E36,1))","v":0},{"$f":"VALUE(FIXED(I36,1))","v":0},{"$f":"VALUE(FIXED(M36,1))","v":0}]
[]
[null,null,null,null,null,null,null,null,null,null,null,null,null,null,null,null,null,null,null,null,null,null,null,null,null,null,null,null,{"$f":"IF(ISBLANK(E36),0,(IF(ISBLANK(D39),1,0)))","v":0},"Populate SA1000XX?",null,null,{"$f":"IF(OR(ISBLANK(E36),(NOT(LEFT(AE11,4)=\"1007\"))),\"N\",\"Y\")","v":"N"},{"$f":"IF(OR(ISBLANK(I36),(NOT(LEFT(AE11,4)=\"1007\"))),\"N\",\"Y\")","v":"N"},{"$f":"IF(OR(ISBLANK(M36),(NOT(LEFT(AE11,4)=\"1007\"))),\"N\",\"Y\")","v":"N"}]
["Within Spec Tolerance?",null,null,null,null,null,null,null,null,null,null,null,null,null,null,null,null,null,null,null,null,null,null,null,null,null,null,null,{"$f":"IF(ISBLANK(I36),0,(IF(ISBLANK(H39),1,0)))","v":0}]
[null,null,null,null,null,null,null,null,null,null,null,null,null,null,null,null,null,null,null,null,null,null,null,null,null,null,null,null,{"$f":"IF(ISBLANK(M36),0,(IF(ISBLANK(L39),1,0)))","v":0}]
[]
[null,null," Plasticity Index, Type 1 and 5 (* not required for Type 7 bases)"]
[null,null,null,null,"(1)",null,null,null,"(2)",null,null,null,"(3)"]
[null,"PI",null,null,null,null,null,null,null,null,null,null,null,null,null,null,"Note:  Enter \"NP\" for non plastic material",null,null,null,null,null,null,null,null,null,null,null,null,"Populate PI?",null,null,{"$f":"IF(OR(ISBLANK(E44),(NOT(LEFT(AE11,4)=\"1007\"))),\"N\",\"Y\")","v":"N"},{"$f":"IF(OR(ISBLANK(I44),(NOT(LEFT(AE11,4)=\"1007\"))),\"N\",\"Y\")","v":"N"},{"$f":"IF(OR(ISBLANK(M44),(NOT(LEFT(AE11,4)=\"1007\"))),\"N\",\"Y\")","v":"N"}]
[null,null,null,null,null,null,null,null,null,null,null,null,null,null,null,null,null,null,null,null,null,null,null,null,null,null,null,null,{"$f":"IF(ISBLANK(E44),0,(IF(ISBLANK(D46),1,0)))","v":0}]
["Within Spec Tolerance?",null,null,null,null,null,null,null,null,null,null,null,null,null,null,null,null,null,null,null,null,null,null,null,null,null,null,null,{"$f":"IF(ISBLANK(I44),0,(IF(ISBLANK(H46),1,0)))","v":0}]
[null,null,null,null,null,null,null,null,null,null,null,null,null,null,null,null,null,null,null,null,null,null,null,null,null,null,null,null,{"$f":"IF(ISBLANK(M44),0,(IF(ISBLANK(L46),1,0)))","v":0}]
[]
[null,null,"Moisture Content",null,null,null,null,null,null,null,null,null,null,null,null,null,null,null,null,null,null,null,null,null,null,null,null,null,{"$f":"IF(AND((LEFT(AE11,4)=\"1007\"),NOT(AE10=\"QCQA\"),(AND(ISERROR(MATCH(\"Y\",AG12:AI12,0)),ISERROR(MATCH(\"Y\",AG13:AI13,0)),ISERROR(MATCH(\"Y\",AG38:AI38,0)),ISERROR(MATCH(\"Y\",AG44:AI44,0))))),1,0)","v":0},"No test data for material selected on \"general\" tab"]
[null,null,null,null,"(1)",null,null,null,"(2)",null,null,null,"(3)",null,null,null,null,null,null,null,null,null,null,null,null,null,null,null,null,"Populate T255?",null,null,{"$f":"IF(OR(ISBLANK(E51),(NOT(LEFT(AE11,4)=\"1007\"))),\"N\",\"Y\")","v":"N"},{"$f":"IF(OR(ISBLANK(I51),(NOT(LEFT(AE11,4)=\"1007\"))),\"N\",\"Y\")","v":"N"},{"$f":"IF(OR(ISBLANK(M51),(NOT(LEFT(AE11,4)=\"1007\"))),\"N\",\"Y\")","v":"N"}]
[null,null,null,"Original Weight",null,null,null,"g",null,null,null,"g",null,null,null,"g",null,null,null,null,null,null,null,null,null,null,null,null,{"$f":"IF(ISBLANK(E52),0,(IF(ISBLANK(E54),1,0)))","v":0}]
[null,null,null,"Dry Sample Weight",null,null,null,"g",null,null,null,"g",null,null,null,"g",null,null,null,null,null,null,null,null,null,null,null,null,{"$f":"IF(ISBLANK(I52),0,(IF(ISBLANK(I54),1,0)))","v":0}]
[null,null,null,"% Total Moisture",{"$f":"IF(AND(E51>0,E52>0),IFERROR(ROUND((E51-E52)/E52*100,1),\"\"),\"\")","v":""},null,null,null,{"$f":"IF(AND(I51>0,I52>0),IFERROR(ROUND((I51-I52)/I52*100,1),\"\"),\"\")","v":""},null,null,null,{"$f":"IF(AND(M51>0,M52>0),IFERROR(ROUND((M51-M52)/M52*100,1),\"\"),\"\")","v":""},null,null,null,null,null,null,null,null,null,null,null,null,null,null,null,{"$f":"IF(ISBLANK(M52),0,(IF(ISBLANK(M54),1,0)))","v":0}]
[null,"Within Spec Tolerance?"]
[null,null,null,null,null,null,null,null,null,null,null,null,null,null,null,null,null,null,null,null,null,null,null,null,null,null,null,null,"Final error check total:"]
[null,null,null,null,null,null,null,null,null,null,null,null,null,null,null,null,null,null,null,null,null,null,null,null,null,null,null,null,{"$f":"SUM(AC8:AC9,AC30:AC35,AC38:AC42,AC45:AC48,AC49,AC51:AC53)","v":0}]
[]
[null,null,null,null,null,null,null,"Import of all active concrete mixes"]
["Code Lookup",null,null,null,null,null,null,"ma","ps","mixes",null,null,null,"Mixes sorted by code for pl"]
[{"$f":"VLOOKUP(H10,A65:B77,2,FALSE)","v":{"$error":"#N/A"}},null,null,null,null,null,null,{"$f":"Main!F14","v":""},{"$f":"Main!F17","v":{"$error":"#N/A"}}]
[]
[]
[null,null,null,null,null,null,null,"0401BPPMBP..2","3020400021     ","11SASBP01      ",null,null,null,{"$error":"#N/A"}]
["Code Value","Code Description",null,null,null,null,null,"0401BPPMBP..1","3176700025     ","11SASBP02      ",{"$f":"IF(H64=$H$60, IF(I64=$I$60, J64,\"\"),\"\")","v":""},null,null,{"$error":"#N/A"}]
["Certification and Testing","CETE",null,null,null,null,null,"0401BPPMBP..1","40314IAS30     ","11SASBP02      ",{"$f":"IF(H65=$H$60, IF(I65=$I$60, J65,\"\"),\"\")","v":""},null,null,{"$error":"#N/A"}]
["Accepted on PAL (HQ or MT P.O. use only)","APAL",null,null,null,null,null,"0401BPPMBB","3057100025     ","12SASBB01      ","",null,null,{"$error":"#N/A"}]
["Visual Inspection","VSUL",null,null,null,null,null,"0401BPPMBB","3048700023     ","12SASBB02      ","",null,null,{"$error":"#N/A"}]
["Testing","TEST",null,null,null,null,null,"0401BPPMBP..1","3176700025     ","12SASBP01      ","",null,null,{"$error":"#N/A"}]
["Pre-qualified or Brand Name","PQOB",null,null,null,null,null,"0401BPPMBB","3176700025     ","BB11-1         ","",null,null,{"$error":"#N/A"}]
["Sample and Test","SATE",null,null,null,null,null,"0401BPPMBB","3016400026     ","BB11-10        ","",null,null,{"$error":"#N/A"}]
["Prior Approval or Acceptance","PAOA",null,null,null,null,null,"0401BPPMBB","3016400026     ","BB11-11        ","",null,null,{"$error":"#N/A"}]
["Pre-qualification Sample","PQTS",null,null,null,null,null,"0401BPPMBB","3016400026     ","BB11-12        ","",null,null,{"$error":"#N/A"}]
["Pilot Concrete Plant Inspection Audit","CPIA",null,null,null,null,null,"0401BPPMBB","3016400026     ","BB11-12A       ","",null,null,{"$error":"#N/A"}]
["New Product Coordinator Direction ","NPCO",null,null,null,null,null,"0401BPPMBB","3016400026     ","BB11-13        ","",null,null,{"$error":"#N/A"}]
["Certification Review","CERT",null,null,null,null,null,"0401BPPMBB","3016400026     ","BB11-13A       ","",null,null,{"$error":"#N/A"}]
["Approved Producer QC/QA Plan","APQC",null,null,null,null,null,"0401BPPMBB","3020400121     ","BB11-14        ","",null,null,{"$error":"#N/A"}]
["Label Analysis","LBLA",null,null,null,null,null,"0401BPPMBB","3176700025     ","BB11-15        ","",null,null,{"$error":"#N/A"}]
[null,null,null,null,null,null,null,"0401BPPMBB","3176700025     ","BB11-16        ","",null,null,{"$error":"#N/A"}]
[null,null,null,null,null,null,null,"0401BPPMBB","3176700025     ","BB11-18        ","",null,null,{"$error":"#N/A"}]
[null,null,null,null,null,null,null,"0401BPPMBB","3016400026     ","BB11-19        ","",null,null,{"$error":"#N/A"}]
[null,null,null,null,null,null,null,"0401BPPMBB","3016400026     ","BB11-19A       ","",null,null,{"$error":"#N/A"}]
[null,null,null,null,null,null,null,"0401BPPMBB","3176700025     ","BB11-2         ","",null,null,{"$error":"#N/A"}]
[null,null,null,null,null,null,null,"0401BPPMBB","3016400026     ","BB11-20        ","",null,null,{"$error":"#N/A"}]
[null,null,null,null,null,null,null,"0401BPPMBB","3042400326     ","BB11-21        ","",null,null,{"$error":"#N/A"}]
[null,null,null,null,null,null,null,"0401BPPMBB","3035900026     ","BB11-23        ","",null,null,{"$error":"#N/A"}]
[null,null,null,null,null,null,null,"0401BPPMBB","3132800027     ","BB11-24        ","",null,null,{"$error":"#N/A"}]
[null,null,null,null,null,null,null,"0401BPPMBB","3132800027     ","BB11-24A       ","",null,null,{"$error":"#N/A"}]
[null,null,null,null,null,null,null,"0401BPPMBB","3176700025     ","BB11-25        ","",null,null,{"$error":"#N/A"}]
[null,null,null,null,null,null,null,"0401BPPMBB","3176700025     ","BB11-25A       ","",null,null,{"$error":"#N/A"}]
[null,null,null,null,null,null,null,"0401BPPMBB","3298500021     ","BB11-26        ","",null,null,{"$error":"#N/A"}]
[null,null,null,null,null,null,null,"0401BPPMBB","3176700025     ","BB11-28        ","",null,null,{"$error":"#N/A"}]
[null,null,null,null,null,null,null,"0401BPPMBB","3176700025     ","BB11-29        ","",null,null,{"$error":"#N/A"}]
[null,null,null,null,null,null,null,"0401BPPMBB","3020400021     ","BB11-3         ","",null,null,{"$error":"#N/A"}]
[null,null,null,null,null,null,null,"0401BPPMBB","3200700120     ","BB11-30        ","",null,null,{"$error":"#N/A"}]
[null,null,null,null,null,null,null,"0401BPPMBB","3200700120     ","BB11-30A       ","",null,null,{"$error":"#N/A"}]
[null,null,null,null,null,null,null,"0401BPPMBB","3132800027     ","BB11-31        ","",null,null,{"$error":"#N/A"}]
[null,null,null,null,null,null,null,"0401BPPMBB","3176700025     ","BB11-32        ","",null,null,{"$error":"#N/A"}]
[null,null,null,null,null,null,null,"0401BPPMBB","3176700025     ","BB11-33        ","",null,null,{"$error":"#N/A"}]
[null,null,null,null,null,null,null,"0401BPPMBB","3035900026     ","BB11-34        ","",null,null,{"$error":"#N/A"}]
[null,null,null,null,null,null,null,"0401BPPMBB","3020400021     ","BB11-36        ","",null,null,{"$error":"#N/A"}]
[null,null,null,null,null,null,null,"0401BPPMBB","3241300220     ","BB11-38        ","",null,null,{"$error":"#N/A"}]
[null,null,null,null,null,null,null,"0401BPPMBB","3176700025     ","BB11-39        ","",null,null,{"$error":"#N/A"}]
[null,null,null,null,null,null,null,"0401BPPMBB","3035900026     ","BB11-4         ","",null,null,{"$error":"#N/A"}]
[null,null,null,null,null,null,null,"0401BPPMBB","3176700025     ","BB11-40        ","",null,null,{"$error":"#N/A"}]
[null,null,null,null,null,null,null,"0401BPPMBB","3016400026     ","BB11-41        ","",null,null,{"$error":"#N/A"}]
[null,null,null,null,null,null,null,"0401BPPMBB","3016400026     ","BB11-42        ","",null,null,{"$error":"#N/A"}]
[null,null,null,null,null,null,null,"0401BPPMBB","3057100025     ","BB11-44        ","",null,null,{"$error":"#N/A"}]
[null,null,null,null,null,null,null,"0401BPPMBB","3176700025     ","BB11-45        ","",null,null,{"$error":"#N/A"}]
[null,null,null,null,null,null,null,"0401BPPMBB","3016400026     ","BB11-46        ","",null,null,{"$error":"#N/A"}]
[null,null,null,null,null,null,null,"0401BPPMBB","3016400026     ","BB11-46A       ","",null,null,{"$error":"#N/A"}]
[null,null,null,null,null,null,null,"0401BPPMBB","3016400026     ","BB11-47        ","",null,null,{"$error":"#N/A"}]
[null,null,null,null,null,null,null,"0401BPPMBB","3016400026     ","BB11-47A       ","",null,null,{"$error":"#N/A"}]
[null,null,null,null,null,null,null,"0401BPPMBB","3016400026     ","BB11-48        ",{"$f":"IF(H113=$H$60, IF(I113=$I$60, J113,\"\"),\"\")","v":""},null,null,{"$error":"#N/A"}]
[null,null,null,null,null,null,null,"0401BPPMBB","3016400026     ","BB11-48A       ","",null,null,{"$error":"#N/A"}]
[null,null,null,null,null,null,null,"0401BPPMBB","3176700025     ","BB11-49        ","",null,null,{"$error":"#N/A"}]
[null,null,null,null,null,null,null,"0401BPPMBB","3050100028     ","BB11-5         ","",null,null,{"$error":"#N/A"}]
[null,null,null,null,null,null,null,"0401BPPMBB","3056900024     ","BB11-50        ","",null,null,{"$error":"#N/A"}]
[null,null,null,null,null,null,null,"0401BPPMBB","3057100025     ","BB11-51        ","",null,null,{"$error":"#N/A"}]
[null,null,null,null,null,null,null,"0401BPPMBB","3042400326     ","BB11-52        ","",null,null,{"$error":"#N/A"}]
[null,null,null,null,null,null,null,"0401BPPMBB","3057100025     ","BB11-53        ","",null,null,{"$error":"#N/A"}]
[null,null,null,null,null,null,null,"0401BPPMBB","3050100028     ","BB11-5A        ","",null,null,{"$error":"#N/A"}]
[null,null,null,null,null,null,null,"0401BPPMBB","3035900026     ","BB11-6         ","",null,null,{"$error":"#N/A"}]
[null,null,null,null,null,null,null,"0401BPPMBB","3035900026     ","BB11-6A        ","",null,null,{"$error":"#N/A"}]
[null,null,null,null,null,null,null,"0401BPPMBB","3116900026     ","BB11-7         ","",null,null,{"$error":"#N/A"}]
[null,null,null,null,null,null,null,"0401BPPMBB","3029700023     ","BB11-8         ","",null,null,{"$error":"#N/A"}]
[null,null,null,null,null,null,null,"0401BPPMBB","3176700025     ","BB11-9         ","",null,null,{"$error":"#N/A"}]
[null,null,null,null,null,null,null,"0401BPPMBB","3035900026     ","BB12-1         ","",null,null,{"$error":"#N/A"}]
[null,null,null,null,null,null,null,"0401BPPMBB","3298500021     ","BB12-10        ","",null,null,{"$error":"#N/A"}]
[null,null,null,null,null,null,null,"0401BPPMBB","3016400026     ","BB12-11        ",{"$f":"IF(H129=$H$60, IF(I129=$I$60, J129,\"\"),\"\")","v":""},null,null,{"$error":"#N/A"}]
[null,null,null,null,null,null,null,"0401BPPMBB","3016400026     ","BB12-11A       ","",null,null,{"$error":"#N/A"}]
[null,null,null,null,null,null,null,"0401BPPMBB","3016400026     ","BB12-11B       ","",null,null,{"$error":"#N/A"}]
[null,null,null,null,null,null,null,"0401BPPMBB","3016400026     ","BB12-11C       ","",null,null,{"$error":"#N/A"}]
[null,null,null,null,null,null,null,"0401BPPMBB","3016400026     ","BB12-11D       ","",null,null,{"$error":"#N/A"}]
[null,null,null,null,null,null,null,"0401BPPMBB","3016400026     ","BB12-12        ","",null,null,{"$error":"#N/A"}]
[null,null,null,null,null,null,null,"0401BPPMBB","3016400026     ","BB12-12A       ","",null,null,{"$error":"#N/A"}]
[null,null,null,null,null,null,null,"0401BPPMBB","3016400026     ","BB12-12B       ","",null,null,{"$error":"#N/A"}]
[null,null,null,null,null,null,null,"0401BPPMBB","3016400026     ","BB12-13        ","",null,null,{"$error":"#N/A"}]
[null,null,null,null,null,null,null,"0401BPPMBB","3016400026     ","BB12-13A       ","",null,null,{"$error":"#N/A"}]
[null,null,null,null,null,null,null,"0401BPPMBB","3016400026     ","BB12-14        ","",null,null,{"$error":"#N/A"}]
[null,null,null,null,null,null,null,"0401BPPMBB","3016400026     ","BB12-14A       ","",null,null,{"$error":"#N/A"}]
[null,null,null,null,null,null,null,"0401BPPMBB","3035900026     ","BB12-15        ","",null,null,{"$error":"#N/A"}]
[null,null,null,null,null,null,null,"0401BPPMBB","3035900026     ","BB12-16        ","",null,null,{"$error":"#N/A"}]
[null,null,null,null,null,null,null,"0401BPPMBB","3176700025     ","BB12-17        ","",null,null,{"$error":"#N/A"}]
[null,null,null,null,null,null,null,"0401BPPMBB","3176700025     ","BB12-18        ","",null,null,{"$error":"#N/A"}]
[null,null,null,null,null,null,null,"0401BPPMBB","3035900026     ","BB12-19        ","",null,null,{"$error":"#N/A"}]
[null,null,null,null,null,null,null,"0401BPPMBB","3035900026     ","BB12-2         ","",null,null,{"$error":"#N/A"}]
[null,null,null,null,null,null,null,"0401BPPMBB","3035900026     ","BB12-20        ","",null,null,{"$error":"#N/A"}]
[null,null,null,null,null,null,null,"0401BPPMBB","3042400326     ","BB12-21        ","",null,null,{"$error":"#N/A"}]
[null,null,null,null,null,null,null,"0401BPPMBB","3016400026     ","BB12-22        ","",null,null,{"$error":"#N/A"}]
[null,null,null,null,null,null,null,"0401BPPMBB","3176700025     ","BB12-23        ","",null,null,{"$error":"#N/A"}]
[null,null,null,null,null,null,null,"0401BPPMBB","3057100025     ","BB12-24        ","",null,null,{"$error":"#N/A"}]
[null,null,null,null,null,null,null,"0401BPPMBB","3035900026     ","BB12-25        ","",null,null,{"$error":"#N/A"}]
[null,null,null,null,null,null,null,"0401BPPMBB","3016400026     ","BB12-26        ","",null,null,{"$error":"#N/A"}]
[null,null,null,null,null,null,null,"0401BPPMBB","3016400026     ","BB12-27        ","",null,null,{"$error":"#N/A"}]
[null,null,null,null,null,null,null,"0401BPPMBB","3016400026     ","BB12-28        ","",null,null,{"$error":"#N/A"}]
[null,null,null,null,null,null,null,"0401BPPMBB","3402400125     ","BB12-29        ","",null,null,{"$error":"#N/A"}]
[null,null,null,null,null,null,null,"0401BPPMBB","3402400125     ","BB12-29A       ","",null,null,{"$error":"#N/A"}]
[null,null,null,null,null,null,null,"0401BPPMBB","3298500021     ","BB12-3         ","",null,null,{"$error":"#N/A"}]
[null,null,null,null,null,null,null,"0401BPPMBB","3402400125     ","BB12-30        ","",null,null,{"$error":"#N/A"}]
[null,null,null,null,null,null,null,"0401BPPMBB","3056900024     ","BB12-31        ","",null,null,{"$error":"#N/A"}]
[null,null,null,null,null,null,null,"0401BPPMBB","3056900024     ","BB12-32        ","",null,null,{"$error":"#N/A"}]
[null,null,null,null,null,null,null,"0401BPPMBB","3176700025     ","BB12-33        ","",null,null,{"$error":"#N/A"}]
[null,null,null,null,null,null,null,"0401BPPMBB","3176700025     ","BB12-34        ","",null,null,{"$error":"#N/A"}]
[null,null,null,null,null,null,null,"0401BPPMBB","3200700120     ","BB12-35        ","",null,null,{"$error":"#N/A"}]
[null,null,null,null,null,null,null,"0401BPPMBB","3057100025     ","BB12-36        ","",null,null,{"$error":"#N/A"}]
[null,null,null,null,null,null,null,"0401BPPMBB","3027000020     ","BB12-37        ","",null,null,{"$error":"#N/A"}]
[null,null,null,null,null,null,null,"0401BPPMBB","3027000020     ","BB12-38        ","",null,null,{"$error":"#N/A"}]
[null,null,null,null,null,null,null,"0401BPPMBB","3020400021     ","BB12-39        ","",null,null,{"$error":"#N/A"}]
[null,null,null,null,null,null,null,"0401BPPMBB","3035900026     ","BB12-4         ","",null,null,{"$error":"#N/A"}]
[null,null,null,null,null,null,null,"0401BPPMBB","3057100025     ","BB12-40        ","",null,null,{"$error":"#N/A"}]
[null,null,null,null,null,null,null,"0401BPPMBB","3200700120     ","BB12-41        ","",null,null,{"$error":"#N/A"}]
[null,null,null,null,null,null,null,"0401BPPMBB","3116900026     ","BB12-42        ","",null,null,{"$error":"#N/A"}]
[null,null,null,null,null,null,null,"0401BPPMBB","3027000020     ","BB12-43        ","",null,null,{"$error":"#N/A"}]
[null,null,null,null,null,null,null,"0401BPPMBB","3027000020     ","BB12-43A       ","",null,null,{"$error":"#N/A"}]
[null,null,null,null,null,null,null,"0401BPPMBB","3027000020     ","BB12-44        ","",null,null,{"$error":"#N/A"}]
[null,null,null,null,null,null,null,"0401BPPMBB","3176700025     ","BB12-45        ","",null,null,{"$error":"#N/A"}]
[null,null,null,null,null,null,null,"0401BPPMBB","3176700025     ","BB12-45A       ","",null,null,{"$error":"#N/A"}]
[null,null,null,null,null,null,null,"0401BPPMBB","3176700025     ","BB12-46        ","",null,null,{"$error":"#N/A"}]
[null,null,null,null,null,null,null,"0401BPPMBB","3132800027     ","BB12-47        ","",null,null,{"$error":"#N/A"}]
[null,null,null,null,null,null,null,"0401BPPMBB","3056900024     ","BB12-48        ","",null,null,{"$error":"#N/A"}]
[null,null,null,null,null,null,null,"0401BPPMBB","3035900026     ","BB12-49        ","",null,null,{"$error":"#N/A"}]
[null,null,null,null,null,null,null,"0401BPPMBB","3016400026     ","BB12-5         ","",null,null,{"$error":"#N/A"}]
[null,null,null,null,null,null,null,"0401BPPMBB","3116901059     ","BB12-50        ","",null,null,{"$error":"#N/A"}]
[null,null,null,null,null,null,null,"0401BPPMBB","3116901059     ","BB12-50A       ","",null,null,{"$error":"#N/A"}]
[null,null,null,null,null,null,null,"0401BPPMBB","3116901059     ","BB12-50B       ","",null,null,{"$error":"#N/A"}]
[null,null,null,null,null,null,null,"0401BPPMBB","3116900026     ","BB12-51        ","",null,null,{"$error":"#N/A"}]
[null,null,null,null,null,null,null,"0401BPPMBB","3116900026     ","BB12-51A       ","",null,null,{"$error":"#N/A"}]
[null,null,null,null,null,null,null,"0401BPPMBB","3056900024     ","BB12-52        ","",null,null,{"$error":"#N/A"}]
[null,null,null,null,null,null,null,"0401BPPMBB","3132800027     ","BB12-53        ","",null,null,{"$error":"#N/A"}]
[null,null,null,null,null,null,null,"0401BPPMBB","3035900026     ","BB12-54        ","",null,null,{"$error":"#N/A"}]
[null,null,null,null,null,null,null,"0401BPPMBB","3035900026     ","BB12-54A       ","",null,null,{"$error":"#N/A"}]
[null,null,null,null,null,null,null,"0401BPPMBB","3200700120     ","BB12-55        ","",null,null,{"$error":"#N/A"}]
[null,null,null,null,null,null,null,"0401BPPMBB","3176700025     ","BB12-56        ",{"$f":"IF(H193=$H$60, IF(I193=$I$60, J193,\"\"),\"\")","v":""},null,null,{"$error":"#N/A"}]
[null,null,null,null,null,null,null,"0401BPPMBB","3200700120     ","BB12-57        ","",null,null,{"$error":"#N/A"}]
[null,null,null,null,null,null,null,"0401BPPMBB","3029700023     ","BB12-58        ","",null,null,{"$error":"#N/A"}]
[null,null,null,null,null,null,null,"0401BPPMBB","3029700023     ","BB12-59        ","",null,null,{"$error":"#N/A"}]
[null,null,null,null,null,null,null,"0401BPPMBB","3016400026     ","BB12-5A        ","",null,null,{"$error":"#N/A"}]
[null,null,null,null,null,null,null,"0401BPPMBB","3035900026     ","BB12-6         ","",null,null,{"$error":"#N/A"}]
[null,null,null,null,null,null,null,"0401BPPMBB","3116900026     ","BB12-60        ","",null,null,{"$error":"#N/A"}]
[null,null,null,null,null,null,null,"0401BPPMBB","3200700120     ","BB12-62        ","",null,null,{"$error":"#N/A"}]
[null,null,null,null,null,null,null,"0401BPPMBB","3057100025     ","BB12-63        ","",null,null,{"$error":"#N/A"}]
[null,null,null,null,null,null,null,"0401BPPMBB","3035900026     ","BB12-64        ","",null,null,{"$error":"#N/A"}]
[null,null,null,null,null,null,null,"0401BPPMBB","3035900026     ","BB12-7         ","",null,null,{"$error":"#N/A"}]
[null,null,null,null,null,null,null,"0401BPPMBB","3035900026     ","BB12-7A        ","",null,null,{"$error":"#N/A"}]
[null,null,null,null,null,null,null,"0401BPPMBB","3035900026     ","BB12-8         ","",null,null,{"$error":"#N/A"}]
[null,null,null,null,null,null,null,"0401BPPMBB","3035900026     ","BB12-9         ","",null,null,{"$error":"#N/A"}]
[null,null,null,null,null,null,null,"0401BPPMBB","3016400026     ","BB13-1         ","",null,null,{"$error":"#N/A"}]
[null,null,null,null,null,null,null,"0401BPPMBB","3035900026     ","BB13-10        ","",null,null,{"$error":"#N/A"}]
[null,null,null,null,null,null,null,"0401BPPMBB","3048700023     ","BB13-11        ","",null,null,{"$error":"#N/A"}]
[null,null,null,null,null,null,null,"0401BPPMBB","3035900026     ","BB13-12        ","",null,null,{"$error":"#N/A"}]
[null,null,null,null,null,null,null,"0401BPPMBB","3035900026     ","BB13-13        ","",null,null,{"$error":"#N/A"}]
[null,null,null,null,null,null,null,"0401BPPMBB","3035900026     ","BB13-13A       ","",null,null,{"$error":"#N/A"}]
[null,null,null,null,null,null,null,"0401BPPMBB","3016400026     ","BB13-15        ","",null,null,{"$error":"#N/A"}]
[null,null,null,null,null,null,null,"0401BPPMBB","3016400026     ","BB13-16        ","",null,null,{"$error":"#N/A"}]
[null,null,null,null,null,null,null,"0401BPPMBB","3029700023     ","BB13-17        ","",null,null,{"$error":"#N/A"}]
[null,null,null,null,null,null,null,"0401BPPMBB","3176700025     ","BB13-18        ","",null,null,{"$error":"#N/A"}]
[null,null,null,null,null,null,null,"0401BPPMBB","3176700025     ","BB13-19        ","",null,null,{"$error":"#N/A"}]
[null,null,null,null,null,null,null,"0401BPPMBB","3176700025     ","BB13-19A       ","",null,null,{"$error":"#N/A"}]
[null,null,null,null,null,null,null,"0401BPPMBB","3035900026     ","BB13-2         ","",null,null,{"$error":"#N/A"}]
[null,null,null,null,null,null,null,"0401BPPMBB","3200700120     ","BB13-20        ","",null,null,{"$error":"#N/A"}]
[null,null,null,null,null,null,null,"0401BPPMBB","3056900024     ","BB13-21        ","",null,null,{"$error":"#N/A"}]
[null,null,null,null,null,null,null,"0401BPPMBB","3056900024     ","BB13-21A       ","",null,null,{"$error":"#N/A"}]
[null,null,null,null,null,null,null,"0401BPPMBB","3298500021     ","BB13-22        ","",null,null,{"$error":"#N/A"}]
[null,null,null,null,null,null,null,"0401BPPMBB","3057100025     ","BB13-23        ","",null,null,{"$error":"#N/A"}]
[null,null,null,null,null,null,null,"0401BPPMBB","3029700023     ","BB13-24        ","",null,null,{"$error":"#N/A"}]
[null,null,null,null,null,null,null,"0401BPPMBB","3029700023     ","BB13-24A       ","",null,null,{"$error":"#N/A"}]
[null,null,null,null,null,null,null,"0401BPPMBB","3298500021     ","BB13-26        ",""]
[null,null,null,null,null,null,null,"0401BPPMBB","3029700023     ","BB13-27        ",""]
[null,null,null,null,null,null,null,"0401BPPMBB","3029700023     ","BB13-29        ",""]
[null,null,null,null,null,null,null,"0401BPPMBB","3035900026     ","BB13-3         ",""]
[null,null,null,null,null,null,null,"0401BPPMBB","3176700025     ","BB13-30        ",""]
[null,null,null,null,null,null,null,"0401BPPMBB","3050100028     ","BB13-31        ",""]
[null,null,null,null,null,null,null,"0401BPPMBB","3197300125     ","BB13-32        ",""]
[null,null,null,null,null,null,null,"0401BPPMBB","3056900024     ","BB13-33        ",""]
[null,null,null,null,null,null,null,"0401BPPMBB","3176700025     ","BB13-34        ",""]
[null,null,null,null,null,null,null,"0401BPPMBB","3176700025     ","BB13-34A       ",""]
[null,null,null,null,null,null,null,"0401BPPMBB","3176700025     ","BB13-35        ",""]
[null,null,null,null,null,null,null,"0401BPPMBB","3176700025     ","BB13-35A       ",""]
[null,null,null,null,null,null,null,"0401BPPMBB","3057100025     ","BB13-36        ",""]
[null,null,null,null,null,null,null,"0401BPPMBB","3176700025     ","BB13-37        ",""]
[null,null,null,null,null,null,null,"0401BPPMBB","3176700025     ","BB13-37A       ",""]
[null,null,null,null,null,null,null,"0401BPPMBB","3016400026     ","BB13-38        ",""]
[null,null,null,null,null,null,null,"0401BPPMBB","3016400026     ","BB13-39        ",""]
[null,null,null,null,null,null,null,"0401BPPMBB","3035900026     ","BB13-4         ",""]
[null,null,null,null,null,null,null,"0401BPPMBB","3008600023     ","BB13-40        ",""]
[null,null,null,null,null,null,null,"0401BPPMBB","3241300220     ","BB13-41        ",""]
[null,null,null,null,null,null,null,"0401BPPMBB","3029700023     ","BB13-42        ",""]
[null,null,null,null,null,null,null,"0401BPPMBB","3176700025     ","BB13-43        ",""]
[null,null,null,null,null,null,null,"0401BPPMBB","3176700025     ","BB13-43A       ",""]
[null,null,null,null,null,null,null,"0401BPPMBB","3281200026     ","BB13-44        ",""]
[null,null,null,null,null,null,null,"0401BPPMBB","3020400021     ","BB13-45        ",""]
[null,null,null,null,null,null,null,"0401BPPMBB","3029700023     ","BB13-46        ",""]
[null,null,null,null,null,null,null,"0401BPPMBB","3008600023     ","BB13-47        ",""]
[null,null,null,null,null,null,null,"0401BPPMBB","3048700023     ","BB13-49        ",""]
[null,null,null,null,null,null,null,"0401BPPMBB","3261500026     ","BB13-5         ",""]
[null,null,null,null,null,null,null,"0401BPPMBB","3008600023     ","BB13-50        ",""]
[null,null,null,null,null,null,null,"0401BPPMBB","3016400026     ","BB13-51        ",{"$f":"IF(H257=$H$60, IF(I257=$I$60, J257,\"\"),\"\")","v":""}]
[null,null,null,null,null,null,null,"0401BPPMBB","3176700025     ","BB13-6         ",""]
[null,null,null,null,null,null,null,"0401BPPMBB","3176700025     ","BB13-7         ",""]
[null,null,null,null,null,null,null,"0401BPPMBB","3176700025     ","BB13-7A        ",""]
[null,null,null,null,null,null,null,"0401BPPMBB","3029700023     ","BB13-8         ",""]
[null,null,null,null,null,null,null,"0401BPPMBB","3200700120     ","BB13-9         ",""]
[null,null,null,null,null,null,null,"0401BPPMBP..1","3176700025     ","BP1 14-1       ",""]
[null,null,null,null,null,null,null,"0401BPPMBP..1","3132800027     ","BP1 14-2       ",""]
[null,null,null,null,null,null,null,"0401BPPMBP..1","3200700120     ","BP11-1         ",""]
[null,null,null,null,null,null,null,"0401BPPMBP..1","3035900026     ","BP11-10        ",""]
[null,null,null,null,null,null,null,"0401BPPMBP..1","3176700025     ","BP11-100       ",""]
[null,null,null,null,null,null,null,"0401BPPMBP..1","3176700025     ","BP11-101       ",""]
[null,null,null,null,null,null,null,"0401BPPMBP..1","3176700025     ","BP11-102       ",""]
[null,null,null,null,null,null,null,"0401BPPMBP..1","3176700025     ","BP11-103       ",""]
[null,null,null,null,null,null,null,"0401BPPMBP..2","3176700025     ","BP11-104       ",""]
[null,null,null,null,null,null,null,"0401BPPMBP..1","3176700025     ","BP11-105       ",""]
[null,null,null,null,null,null,null,"0401BPPMBP..1","3016400026     ","BP11-106       ",""]
[null,null,null,null,null,null,null,"0401BPPMBP..1","3016400026     ","BP11-107       ",""]
[null,null,null,null,null,null,null,"0401BPPMBP..2","3016400026     ","BP11-108       ",""]
[null,null,null,null,null,null,null,"0401BPPMBP..2","3016400026     ","BP11-109       ",""]
[null,null,null,null,null,null,null,"0401BPPMBP..2","3035900026     ","BP11-11        ",""]
[null,null,null,null,null,null,null,"0401BPPMBP..2","3176700025     ","BP11-110       ",""]
[null,null,null,null,null,null,null,"0401BPPMBP..2","3176700025     ","BP11-110A      ",""]
[null,null,null,null,null,null,null,"0401BPPMBP..1","3176700025     ","BP11-112       ",""]
[null,null,null,null,null,null,null,"0401BPPMBP..1","3176700025     ","BP11-112A      ",""]
[null,null,null,null,null,null,null,"0401BPPMBP..1","3035900026     ","BP11-113       ",""]
[null,null,null,null,null,null,null,"0401BPPMBP..2","3020400021     ","BP11-114       ",""]
[null,null,null,null,null,null,null,"0401BPPMBP..1","3057100025     ","BP11-115       ",""]
[null,null,null,null,null,null,null,"0401BPPMBP..2","3008600023     ","BP11-116       ",""]
[null,null,null,null,null,null,null,"0401BPPMBP..1","3008600023     ","BP11-117       ",""]
[null,null,null,null,null,null,null,"0401BPPMBP..1","3176700025     ","BP11-118       ",""]
[null,null,null,null,null,null,null,"0401BPPMBP..2","3029700023     ","BP11-119       ",""]
[null,null,null,null,null,null,null,"0401BPPMBP..2","3116900026     ","BP11-12        ",""]
[null,null,null,null,null,null,null,"0401BPPMBP..1","3016400026     ","BP11-120       ",""]
[null,null,null,null,null,null,null,"0401BPPMBP..1","3016400026     ","BP11-120A      ",""]
[null,null,null,null,null,null,null,"0401BPPMBP..1","3016400026     ","BP11-121       ",""]
[null,null,null,null,null,null,null,"0401BPPMBP..1","3016400026     ","BP11-121A      ",""]
[null,null,null,null,null,null,null,"0401BPPMBP..2","3035900026     ","BP11-124       ",""]
[null,null,null,null,null,null,null,"0401BPPMBP..1","3027400028     ","BP11-125       ",""]
[null,null,null,null,null,null,null,"0401BPPMBP..1","3008600023     ","BP11-126       ",""]
[null,null,null,null,null,null,null,"0401BPPMBP..1","3008600023     ","BP11-126A      ",""]
[null,null,null,null,null,null,null,"0401BPPMBP..2","3008600023     ","BP11-127       ",""]
[null,null,null,null,null,null,null,"0401BPPMBP..2","3008600023     ","BP11-127A      ",""]
[null,null,null,null,null,null,null,"0401BPPMBP..1","3016400026     ","BP11-128       ",""]
[null,null,null,null,null,null,null,"0401BPPMBP..1","3016400026     ","BP11-128A      ",""]
[null,null,null,null,null,null,null,"0401BPPMBP..2","3016400026     ","BP11-129       ",""]
[null,null,null,null,null,null,null,"0401BPPMBP..2","3016400026     ","BP11-129A      ",""]
[null,null,null,null,null,null,null,"0401BPPMBP..1","3176700025     ","BP11-13        ",""]
[null,null,null,null,null,null,null,"0401BPPMBP..1","3029700023     ","BP11-130       ",""]
[null,null,null,null,null,null,null,"0401BPPMBP..1","3029700023     ","BP11-131       ",""]
[null,null,null,null,null,null,null,"0401BPPMBP..1","3056900024     ","BP11-132       ",""]
[null,null,null,null,null,null,null,"0401BPPMBP..2","3176700025     ","BP11-135       ",""]
[null,null,null,null,null,null,null,"0401BPPMBP..1","3035900026     ","BP11-136       ",""]
[null,null,null,null,null,null,null,"0401BPPMBP..2","3035900026     ","BP11-137       ",""]
[null,null,null,null,null,null,null,"0401BPPMBP..1","3027400028     ","BP11-138       ",""]
[null,null,null,null,null,null,null,"0401BPPMBP..1","3027400028     ","BP11-139       ",""]
[null,null,null,null,null,null,null,"0401BPPMBP..2","3029700023     ","BP11-14        ",""]
[null,null,null,null,null,null,null,"0401BPPMBP..1","3057100025     ","BP11-140       ",""]
[null,null,null,null,null,null,null,"0401BPPMBP..1","3008600023     ","BP11-141       ",""]
[null,null,null,null,null,null,null,"0401BPPMBP..2","3027000020     ","BP11-142       ",""]
[null,null,null,null,null,null,null,"0401BPPMBP..3","3008600023     ","BP11-143       ",""]
[null,null,null,null,null,null,null,"0401BPPMBP..2","3008600023     ","BP11-144       ",""]
[null,null,null,null,null,null,null,"0401BPPMBP..1","3008600023     ","BP11-145       ",""]
[null,null,null,null,null,null,null,"0401BPPMBP..1","3008600023     ","BP11-146       ",""]
[null,null,null,null,null,null,null,"0401BPPMBP..1","3057100025     ","BP11-147       ",{"$f":"IF(H321=$H$60, IF(I321=$I$60, J321,\"\"),\"\")","v":""}]
[null,null,null,null,null,null,null,"0401BPPMBP..1","3200700120     ","BP11-148       ",""]
[null,null,null,null,null,null,null,"0401BPPMBP..1","3200700120     ","BP11-148A      ",""]
[null,null,null,null,null,null,null,"0401BPPMBP..2","3200700120     ","BP11-149       ",""]
[null,null,null,null,null,null,null,"0401BPPMBP..2","3027400028     ","BP11-15        ",""]
[null,null,null,null,null,null,null,"0401BPPMBP..1","3027400028     ","BP11-150       ",""]
[null,null,null,null,null,null,null,"0401BPPMBP..3","3116900026     ","BP11-151       ",""]
[null,null,null,null,null,null,null,"0401BPPMBP..3","3008600023     ","BP11-152       ",""]
[null,null,null,null,null,null,null,"0401BPPMBP..1","3176700025     ","BP11-153       ",""]
[null,null,null,null,null,null,null,"0401BPPMBP..2","3035900026     ","BP11-154       ",""]
[null,null,null,null,null,null,null,"0401BPPMBP..1","3008600023     ","BP11-155       ",""]
[null,null,null,null,null,null,null,"0401BPPMBP..2","3008600023     ","BP11-156       ",""]
[null,null,null,null,null,null,null,"0401BPPMBP..2","3027000020     ","BP11-157       ",""]
[null,null,null,null,null,null,null,"0401BPPMBP..2","3035900026     ","BP11-158       ",""]
[null,null,null,null,null,null,null,"0401BPPMBP..1","3200700120     ","BP11-159       ",""]
[null,null,null,null,null,null,null,"0401BPPMBP..1","3027400028     ","BP11-16        ",""]
[null,null,null,null,null,null,null,"0401BPPMBP..2","3027400028     ","BP11-160       ",""]
[null,null,null,null,null,null,null,"0401BPPMBP..1","3008600023     ","BP11-161       ",""]
[null,null,null,null,null,null,null,"0401BPPMBP..1","3057100025     ","BP11-162       ",""]
[null,null,null,null,null,null,null,"0401BPPMBP..1","3008600023     ","BP11-163       ",""]
[null,null,null,null,null,null,null,"0401BPPMBP..1","3029700023     ","BP11-164       ",""]
[null,null,null,null,null,null,null,"0401BPPMBP..3","3116900026     ","BP11-165       ",""]
[null,null,null,null,null,null,null,"0401BPPMBP..2","3116900026     ","BP11-166       ",""]
[null,null,null,null,null,null,null,"0401BPPMBP..1","3027400028     ","BP11-167       ",""]
[null,null,null,null,null,null,null,"0401BPPMBP..1","3035900026     ","BP11-168       ",""]
[null,null,null,null,null,null,null,"0401BPPMBP..1","3008600023     ","BP11-169       ",""]
[null,null,null,null,null,null,null,"0401BPPMBP..1","3050100028     ","BP11-17        ",""]
[null,null,null,null,null,null,null,"0401BPPMBP..2","3176700025     ","BP11-170       ",""]
[null,null,null,null,null,null,null,"0401BPPMBP..2","3176700025     ","BP11-171       ",""]
[null,null,null,null,null,null,null,"0401BPPMBP..2","3176700025     ","BP11-172       ",""]
[null,null,null,null,null,null,null,"0401BPPMBP..1","3050100028     ","BP11-17A       ",""]
[null,null,null,null,null,null,null,"0401BPPMBP..1","3035900026     ","BP11-18        ",""]
[null,null,null,null,null,null,null,"0401BPPMBP..1","3035900026     ","BP11-18A       ",""]
[null,null,null,null,null,null,null,"0401BPPMBP..2","3035900026     ","BP11-19        ",""]
[null,null,null,null,null,null,null,"0401BPPMBP..1","3200700120     ","BP11-1A        ",""]
[null,null,null,null,null,null,null,"0401BPPMBP..1","3200700120     ","BP11-1B        ",""]
[null,null,null,null,null,null,null,"0401BPPMBP..2","3200700120     ","BP11-2         ",""]
[null,null,null,null,null,null,null,"0401BPPMBP..2","3116900026     ","BP11-20        ",""]
[null,null,null,null,null,null,null,"0401BPPMBP..2","3132800027     ","BP11-21        ",""]
[null,null,null,null,null,null,null,"0401BPPMBP..2","3132800027     ","BP11-22        ",""]
[null,null,null,null,null,null,null,"0401BPPMBP..1","3029700023     ","BP11-23        ",""]
[null,null,null,null,null,null,null,"0401BPPMBP..1","3016400026     ","BP11-25        ",""]
[null,null,null,null,null,null,null,"0401BPPMBP..2","3016400026     ","BP11-26        ",""]
[null,null,null,null,null,null,null,"0401BPPMBP..1","3016400026     ","BP11-27        ",""]
[null,null,null,null,null,null,null,"0401BPPMBP..2","3016400026     ","BP11-28        ",""]
[null,null,null,null,null,null,null,"0401BPPMBP..1","3035900026     ","BP11-29        ",""]
[null,null,null,null,null,null,null,"0401BPPMBP..1","3176700025     ","BP11-3         ",""]
[null,null,null,null,null,null,null,"0401BPPMBP..1","3176700025     ","BP11-31        ",""]
[null,null,null,null,null,null,null,"0401BPPMBP..1","3176700025     ","BP11-32        ",""]
[null,null,null,null,null,null,null,"0401BPPMBP..2","3176700025     ","BP11-33        ",""]
[null,null,null,null,null,null,null,"0401BPPMBP..2","3176700025     ","BP11-34        ",""]
[null,null,null,null,null,null,null,"0401BPPMBP..1","3020400021     ","BP11-35        ",""]
[null,null,null,null,null,null,null,"0401BPPMBP..2","3020400021     ","BP11-36        ",""]
[null,null,null,null,null,null,null,"0401BPPMBP..1","3176700025     ","BP11-37        ",""]
[null,null,null,null,null,null,null,"0401BPPMBP..1","3016400026     ","BP11-39        ",""]
[null,null,null,null,null,null,null,"0401BPPMBP..1","3016400026     ","BP11-39A       ",""]
[null,null,null,null,null,null,null,"0401BPPMBP..1","3176700025     ","BP11-4         ",""]
[null,null,null,null,null,null,null,"0401BPPMBP..1","3016400026     ","BP11-40        ",""]
[null,null,null,null,null,null,null,"0401BPPMBP..1","3016400026     ","BP11-40A       ",""]
[null,null,null,null,null,null,null,"0401BPPMBP..2","3016400026     ","BP11-41        ",""]
[null,null,null,null,null,null,null,"0401BPPMBP..2","3016400026     ","BP11-42        ",""]
[null,null,null,null,null,null,null,"0401BPPMBP..1","3016400026     ","BP11-43        ",""]
[null,null,null,null,null,null,null,"0401BPPMBP..1","3016400026     ","BP11-43A       ",""]
[null,null,null,null,null,null,null,"0401BPPMBP..1","3016400026     ","BP11-44        ",""]
[null,null,null,null,null,null,null,"0401BPPMBP..2","3016400026     ","BP11-45        ",{"$f":"IF(H385=$H$60, IF(I385=$I$60, J385,\"\"),\"\")","v":""}]
[null,null,null,null,null,null,null,"0401BPPMBP..2","3016400026     ","BP11-45A       ",""]
[null,null,null,null,null,null,null,"0401BPPMBP..2","3016400026     ","BP11-46        ",""]
[null,null,null,null,null,null,null,"0401BPPMBP..2","3016400026     ","BP11-46A       ",""]
[null,null,null,null,null,null,null,"0401BPPMBP..2","3200700120     ","BP11-48        ",""]
[null,null,null,null,null,null,null,"0401BPPMBP..1","3176700025     ","BP11-49        ",""]
[null,null,null,null,null,null,null,"0401BPPMBP..1","3176700025     ","BP11-49A       ",""]
[null,null,null,null,null,null,null,"0401BPPMBP..1","3116900026     ","BP11-5         ",""]
[null,null,null,null,null,null,null,"0401BPPMBP..1","3200700120     ","BP11-50        ",""]
[null,null,null,null,null,null,null,"0401BPPMBP..1","3200700120     ","BP11-50A       ",""]
[null,null,null,null,null,null,null,"0401BPPMBP..1","3116900026     ","BP11-54        ",""]
[null,null,null,null,null,null,null,"0401BPPMBP..1","40070IAS35     ","BP11-55        ",""]
[null,null,null,null,null,null,null,"0401BPPMBP..1","3176700025     ","BP11-55A       ",""]
[null,null,null,null,null,null,null,"0401BPPMBP..1","3008600023     ","BP11-57        ",""]
[null,null,null,null,null,null,null,"0401BPPMBP..1","3008600023     ","BP11-57A       ",""]
[null,null,null,null,null,null,null,"0401BPPMBP..1","3035900026     ","BP11-58        ",""]
[null,null,null,null,null,null,null,"0401BPPMBP..1","3035900026     ","BP11-58A       ",""]
[null,null,null,null,null,null,null,"0401BPPMBP..1","3035900026     ","BP11-58B       ",""]
[null,null,null,null,null,null,null,"0401BPPMBP..2","3020400021     ","BP11-59        ",""]
[null,null,null,null,null,null,null,"0401BPPMBP..1","3116900026     ","BP11-5A        ",""]
[null,null,null,null,null,null,null,"0401BPPMBP..1","3116900026     ","BP11-5B        ",""]
[null,null,null,null,null,null,null,"0401BPPMBP..1","3020400021     ","BP11-6         ",""]
[null,null,null,null,null,null,null,"0401BPPMBP..1","3176700025     ","BP11-60        ",""]
[null,null,null,null,null,null,null,"0401BPPMBP..1","3298500021     ","BP11-61        ",""]
[null,null,null,null,null,null,null,"0401BPPMBP..2","3176700025     ","BP11-62        ",""]
[null,null,null,null,null,null,null,"0401BPPMBP..2","3176700025     ","BP11-63        ",""]
[null,null,null,null,null,null,null,"0401BPPMBP..1","3176700025     ","BP11-64        ",""]
[null,null,null,null,null,null,null,"0401BPPMBP..3","3298500021     ","BP11-65        ",""]
[null,null,null,null,null,null,null,"0401BPPMBP..1","3116900026     ","BP11-66        ",""]
[null,null,null,null,null,null,null,"0401BPPMBP..1","3116900026     ","BP11-66A       ",""]
[null,null,null,null,null,null,null,"0401BPPMBP..2","3176700025     ","BP11-67        ",""]
[null,null,null,null,null,null,null,"0401BPPMBP..2","3176700025     ","BP11-67A       ",""]
[null,null,null,null,null,null,null,"0401BPPMBP..1","3008600023     ","BP11-68        ",""]
[null,null,null,null,null,null,null,"0401BPPMBP..1","3008600023     ","BP11-68A       ",""]
[null,null,null,null,null,null,null,"0401BPPMBP..2","3200700120     ","BP11-69        ",""]
[null,null,null,null,null,null,null,"0401BPPMBP..2","3200700120     ","BP11-69A       ",""]
[null,null,null,null,null,null,null,"0401BPPMBP..1","3020400021     ","BP11-7         ",""]
[null,null,null,null,null,null,null,"0401BPPMBP..1","3035900026     ","BP11-70        ",""]
[null,null,null,null,null,null,null,"0401BPPMBP..1","3035900026     ","BP11-70A       ",""]
[null,null,null,null,null,null,null,"0401BPPMBP..2","3035900026     ","BP11-71        ",""]
[null,null,null,null,null,null,null,"0401BPPMBP..2","3035900026     ","BP11-71A       ",""]
[null,null,null,null,null,null,null,"0401BPPMBP..3","3008600023     ","BP11-72        ",""]
[null,null,null,null,null,null,null,"0401BPPMBP..1","3176700025     ","BP11-73        ",""]
[null,null,null,null,null,null,null,"0401BPPMBP..2","3008600023     ","BP11-74        ",""]
[null,null,null,null,null,null,null,"0401BPPMBP..2","3008600023     ","BP11-74A       ",""]
[null,null,null,null,null,null,null,"0401BPPMBP..2","3027400028     ","BP11-75        ",""]
[null,null,null,null,null,null,null,"0401BPPMBP..1","3035900026     ","BP11-76        ",""]
[null,null,null,null,null,null,null,"0401BPPMBP..2","3035900026     ","BP11-77        ",""]
[null,null,null,null,null,null,null,"0401BPPMBP..2","3116900026     ","BP11-78        ",""]
[null,null,null,null,null,null,null,"0401BPPMBP..2","3116900026     ","BP11-78A       ",""]
[null,null,null,null,null,null,null,"0401BPPMBP..2","3050100028     ","BP11-79        ",""]
[null,null,null,null,null,null,null,"0401BPPMBP..2","3176700025     ","BP11-8         ",""]
[null,null,null,null,null,null,null,"0401BPPMBP..2","3029700023     ","BP11-80        ",""]
[null,null,null,null,null,null,null,"0401BPPMBP..2","3029700023     ","BP11-81        ",""]
[null,null,null,null,null,null,null,"0401BPPMBP..1","3176700025     ","BP11-82        ",""]
[null,null,null,null,null,null,null,"0401BPPMBP..2","3027000020     ","BP11-83        ",""]
[null,null,null,null,null,null,null,"0401BPPMBP..1","3176700025     ","BP11-84        ",""]
[null,null,null,null,null,null,null,"0401BPPMBP..1","3020400021     ","BP11-85        ",""]
[null,null,null,null,null,null,null,"0401BPPMBP..1","3176700025     ","BP11-86        ",""]
[null,null,null,null,null,null,null,"0401BPPMBP..2","3176700025     ","BP11-87        ",""]
[null,null,null,null,null,null,null,"0401BPPMBP..2","3176700025     ","BP11-87A       ",""]
[null,null,null,null,null,null,null,"0401BPPMBP..1","3241300220     ","BP11-88        ",""]
[null,null,null,null,null,null,null,"0401BPPMBP..2","3241300220     ","BP11-89        ",""]
[null,null,null,null,null,null,null,"0401BPPMBP..2","3176700025     ","BP11-9         ",""]
[null,null,null,null,null,null,null,"0401BPPMBP..2","3008600023     ","BP11-91        ",{"$f":"IF(H449=$H$60, IF(I449=$I$60, J449,\"\"),\"\")","v":""}]
[null,null,null,null,null,null,null,"0401BPPMBP..2","3200700120     ","BP11-92        ",""]
[null,null,null,null,null,null,null,"0401BPPMBP..1","3200700120     ","BP11-93        ",""]
[null,null,null,null,null,null,null,"0401BPPMBP..2","3027400028     ","BP11-94        ",""]
[null,null,null,null,null,null,null,"0401BPPMBP..1","3200700120     ","BP11-95        ",""]
[null,null,null,null,null,null,null,"0401BPPMBP..1","3200700120     ","BP11-95A       ",""]
[null,null,null,null,null,null,null,"0401BPPMBP..2","3035900026     ","BP11-96        ",""]
[null,null,null,null,null,null,null,"0401BPPMBP..2","3021500027     ","BP11-97        ",""]
[null,null,null,null,null,null,null,"0401BPPMBP..2","3021500027     ","BP11-97A       ",""]
[null,null,null,null,null,null,null,"0401BPPMBP..2","3021500027     ","BP11-97B       ",""]
[null,null,null,null,null,null,null,"0401BPPMBP..1","3176700025     ","BP11-98        ",""]
[null,null,null,null,null,null,null,"0401BPPMBP..1","3008600023     ","BP11-99        ",""]
[null,null,null,null,null,null,null,"0401BPPMBP..2","3035900026     ","BP12-1         ",""]
[null,null,null,null,null,null,null,"0401BPPMBP..2","3176700025     ","BP12-10        ",""]
[null,null,null,null,null,null,null,"0401BPPMBP..1","3027000020     ","BP12-100       ",""]
[null,null,null,null,null,null,null,"0401BPPMBP..1","3008600023     ","BP12-101       ",""]
[null,null,null,null,null,null,null,"0401BPPMBP..1","3057100025     ","BP12-102       ",""]
[null,null,null,null,null,null,null,"0401BPPMBP..3","3176700025     ","BP12-103       ",""]
[null,null,null,null,null,null,null,"0401BPPMBP..2","3116900026     ","BP12-104       ",""]
[null,null,null,null,null,null,null,"0401BPPMBP..2","3027400028     ","BP12-105       ",""]
[null,null,null,null,null,null,null,"0401BPPMBP..2","3116900026     ","BP12-106       ",""]
[null,null,null,null,null,null,null,"0401BPPMBP..2","3116900026     ","BP12-106A      ",""]
[null,null,null,null,null,null,null,"0401BPPMBP..1","3176700025     ","BP12-107       ",""]
[null,null,null,null,null,null,null,"0401BPPMBP..2","3176700025     ","BP12-108       ",""]
[null,null,null,null,null,null,null,"0401BPPMBP..1","3027000020     ","BP12-109       ",""]
[null,null,null,null,null,null,null,"0401BPPMBP..1","3176700025     ","BP12-11        ",""]
[null,null,null,null,null,null,null,"0401BPPMBP..2","3027000020     ","BP12-110       ",""]
[null,null,null,null,null,null,null,"0401BPPMBP..2","3027000020     ","BP12-111       ",""]
[null,null,null,null,null,null,null,"0401BPPMBP..1","3176700025     ","BP12-112       ",""]
[null,null,null,null,null,null,null,"0401BPPMBP..1","3176700025     ","BP12-112A      ",""]
[null,null,null,null,null,null,null,"0401BPPMBP..3","3062100021     ","BP12-113       ",""]
[null,null,null,null,null,null,null,"0401BPPMBP..1","3035900026     ","BP12-114       ",""]
[null,null,null,null,null,null,null,"0401BPPMBP..1","3062100021     ","BP12-115       ",""]
[null,null,null,null,null,null,null,"0401BPPMBP..1","3176700025     ","BP12-116       ",""]
[null,null,null,null,null,null,null,"0401BPPMBP..1","3176700025     ","BP12-116A      ",""]
[null,null,null,null,null,null,null,"0401BPPMBP..2","3132800027     ","BP12-117       ",""]
[null,null,null,null,null,null,null,"0401BPPMBP..2","3176700025     ","BP12-118       ",""]
[null,null,null,null,null,null,null,"0401BPPMBP..2","3027400028     ","BP12-119       ",""]
[null,null,null,null,null,null,null,"0401BPPMBP..1","3016400026     ","BP12-12        ",""]
[null,null,null,null,null,null,null,"0401BPPMBP..2","3035900026     ","BP12-120       ",""]
[null,null,null,null,null,null,null,"0401BPPMBP..2","3035900026     ","BP12-121       ",""]
[null,null,null,null,null,null,null,"0401BPPMBP..1","3029700023     ","BP12-122       ",""]
[null,null,null,null,null,null,null,"0401BPPMBP..2","3132800027     ","BP12-123       ",""]
[null,null,null,null,null,null,null,"0401BPPMBP..1","3056900024     ","BP12-124       ",""]
[null,null,null,null,null,null,null,"0401BPPMBP..2","3050100028     ","BP12-125       ",""]
[null,null,null,null,null,null,null,"0401BPPMBP..1","3176700025     ","BP12-126       ",""]
[null,null,null,null,null,null,null,"0401BPPMBP..2","3020400021     ","BP12-127       ",""]
[null,null,null,null,null,null,null,"0401BPPMBP..2","3008600023     ","BP12-128       ",""]
[null,null,null,null,null,null,null,"0401BPPMBP..1","3176700025     ","BP12-129       ",""]
[null,null,null,null,null,null,null,"0401BPPMBP..1","3016400026     ","BP12-12A       ",""]
[null,null,null,null,null,null,null,"0401BPPMBP..2","3016400026     ","BP12-13        ",""]
[null,null,null,null,null,null,null,"0401BPPMBP..2","3176700025     ","BP12-130       ",""]
[null,null,null,null,null,null,null,"0401BPPMBP..2","3176700025     ","BP12-131       ",""]
[null,null,null,null,null,null,null,"0401BPPMBP..1","3197300125     ","BP12-132       ",""]
[null,null,null,null,null,null,null,"0401BPPMBP..1","3056900024     ","BP12-133       ",""]
[null,null,null,null,null,null,null,"0401BPPMBP..2","3008600023     ","BP12-134       ",""]
[null,null,null,null,null,null,null,"0401BPPMBP..1","3008600023     ","BP12-135       ",""]
[null,null,null,null,null,null,null,"0401BPPMBP..2","3021500027     ","BP12-136       ",""]
[null,null,null,null,null,null,null,"0401BPPMBP..1","3132800027     ","BP12-137       ",""]
[null,null,null,null,null,null,null,"0401BPPMBP..2","3035900026     ","BP12-138       ",""]
[null,null,null,null,null,null,null,"0401BPPMBP..1","3008600023     ","BP12-139       ",""]
[null,null,null,null,null,null,null,"0401BPPMBP..2","3132800027     ","BP12-14        ",""]
[null,null,null,null,null,null,null,"0401BPPMBP..1","3176700025     ","BP12-140       ",""]
[null,null,null,null,null,null,null,"0401BPPMBP..1","3021500027     ","BP12-141       ",""]
[null,null,null,null,null,null,null,"0401BPPMBP..1","3200700120     ","BP12-142       ",{"$f":"IF(H513=$H$60, IF(I513=$I$60, J513,\"\"),\"\")","v":""}]
[null,null,null,null,null,null,null,"0401BPPMBP..3","3008600023     ","BP12-143       ",""]
[null,null,null,null,null,null,null,"0401BPPMBP..2","3176700025     ","BP12-144       ",""]
[null,null,null,null,null,null,null,"0401BPPMBP..1","3027400028     ","BP12-145       ",""]
[null,null,null,null,null,null,null,"0401BPPMBP..2","3027400028     ","BP12-146       ",""]
[null,null,null,null,null,null,null,"0401BPPMBP..2","3298500021     ","BP12-147       ",""]
[null,null,null,null,null,null,null,"0401BPPMBP..1","3048700023     ","BP12-148       ",""]
[null,null,null,null,null,null,null,"0401BPPMBP..1","3008600023     ","BP12-149       ",""]
[null,null,null,null,null,null,null,"0401BPPMBP..1","3035900026     ","BP12-15        ",""]
[null,null,null,null,null,null,null,"0401BPPMBP..2","3298500021     ","BP12-150       ",""]
[null,null,null,null,null,null,null,"0401BPPMBP..1","3035900026     ","BP12-151       ",""]
[null,null,null,null,null,null,null,"0401BPPMBP..1","3116900026     ","BP12-152       ",""]
[null,null,null,null,null,null,null,"0401BPPMBP..2","3008600023     ","BP12-153       ",""]
[null,null,null,null,null,null,null,"0401BPPMBP..2","3021500027     ","BP12-154       ",""]
[null,null,null,null,null,null,null,"0401BPPMBP..1","3057100025     ","BP12-155       ",""]
[null,null,null,null,null,null,null,"0401BPPMBP..2","3200700120     ","BP12-156       ",""]
[null,null,null,null,null,null,null,"0401BPPMBP..2","3200700120     ","BP12-157       ",""]
[null,null,null,null,null,null,null,"0401BPPMBP..2","3057100025     ","BP12-158       ",""]
[null,null,null,null,null,null,null,"0401BPPMBP..2","3056900024     ","BP12-159       ",""]
[null,null,null,null,null,null,null,"0401BPPMBP..2","3035900026     ","BP12-16        ",""]
[null,null,null,null,null,null,null,"0401BPPMBP..1","3176700025     ","BP12-160       ",""]
[null,null,null,null,null,null,null,"0401BPPMBP..1","3050100028     ","BP12-161       ",""]
[null,null,null,null,null,null,null,"0401BPPMBP..1","3035900026     ","BP12-17        ",""]
[null,null,null,null,null,null,null,"0401BPPMBP..2","3035900026     ","BP12-18        ",""]
[null,null,null,null,null,null,null,"0401BPPMBP..1","3035900026     ","BP12-19        ",""]
[null,null,null,null,null,null,null,"0401BPPMBP..1","3035900026     ","BP12-2         ",""]
[null,null,null,null,null,null,null,"0401BPPMBP..2","3035900026     ","BP12-20        ",""]
[null,null,null,null,null,null,null,"0401BPPMBP..1","3035900026     ","BP12-21        ",""]
[null,null,null,null,null,null,null,"0401BPPMBP..2","3035900026     ","BP12-22        ",""]
[null,null,null,null,null,null,null,"0401BPPMBP..2","3027400028     ","BP12-23        ",""]
[null,null,null,null,null,null,null,"0401BPPMBP..1","3016501056     ","BP12-24        ",""]
[null,null,null,null,null,null,null,"0401BPPMBP..1","3016501056     ","BP12-24A       ",""]
[null,null,null,null,null,null,null,"0401BPPMBP..1","3016501056     ","BP12-24C       ",""]
[null,null,null,null,null,null,null,"0401BPPMBP..1","3016501056     ","BP12-25        ",""]
[null,null,null,null,null,null,null,"0401BPPMBP..1","3016501056     ","BP12-25A       ",""]
[null,null,null,null,null,null,null,"0401BPPMBP..1","3016501056     ","BP12-25B       ",""]
[null,null,null,null,null,null,null,"0401BPPMBP..2","3016501056     ","BP12-26        ",""]
[null,null,null,null,null,null,null,"0401BPPMBP..2","3016501056     ","BP12-26A       ",""]
[null,null,null,null,null,null,null,"0401BPPMBP..2","3016501056     ","BP12-27        ",""]
[null,null,null,null,null,null,null,"0401BPPMBP..2","3016501056     ","BP12-27A       ",""]
[null,null,null,null,null,null,null,"0401BPPMBP..1","3016400026     ","BP12-28        ",""]
[null,null,null,null,null,null,null,"0401BPPMBP..1","3016400026     ","BP12-28A       ",""]
[null,null,null,null,null,null,null,"0401BPPMBP..1","3016400026     ","BP12-28B       ",""]
[null,null,null,null,null,null,null,"0401BPPMBP..1","3016400026     ","BP12-29        ",""]
[null,null,null,null,null,null,null,"0401BPPMBP..1","3016400026     ","BP12-29A       ",""]
[null,null,null,null,null,null,null,"0401BPPMBP..1","3016400026     ","BP12-29B       ",""]
[null,null,null,null,null,null,null,"0401BPPMBP..1","3035900026     ","BP12-3         ",""]
[null,null,null,null,null,null,null,"0401BPPMBP..2","3016400026     ","BP12-30        ",""]
[null,null,null,null,null,null,null,"0401BPPMBP..2","3016400026     ","BP12-31        ",""]
[null,null,null,null,null,null,null,"0401BPPMBP..2","3027400028     ","BP12-32        ",""]
[null,null,null,null,null,null,null,"0401BPPMBP..2","3176700025     ","BP12-33        ",""]
[null,null,null,null,null,null,null,"0401BPPMBP..1","3048700023     ","BP12-35        ",""]
[null,null,null,null,null,null,null,"0401BPPMBP..1","3048700023     ","BP12-35A       ",""]
[null,null,null,null,null,null,null,"0401BPPMBP..1","3035900026     ","BP12-36        ",""]
[null,null,null,null,null,null,null,"0401BPPMBP..2","3035900026     ","BP12-37        ",""]
[null,null,null,null,null,null,null,"0401BPPMBP..1","3035900026     ","BP12-38        ",""]
[null,null,null,null,null,null,null,"0401BPPMBP..2","3035900026     ","BP12-39        ",""]
[null,null,null,null,null,null,null,"0401BPPMBP..1","3298500021     ","BP12-4         ",""]
[null,null,null,null,null,null,null,"0401BPPMBP..2","3176700025     ","BP12-40        ",""]
[null,null,null,null,null,null,null,"0401BPPMBP..1","3042400316     ","BP12-41        ",""]
[null,null,null,null,null,null,null,"0401BPPMBP..1","3176700025     ","BP12-42        ",""]
[null,null,null,null,null,null,null,"0401BPPMBP..3","3048700023     ","BP12-43        ",""]
[null,null,null,null,null,null,null,"0401BPPMBP..3","3048700023     ","BP12-43A       ",""]
[null,null,null,null,null,null,null,"0401BPPMBP..1","3200700120     ","BP12-44        ",""]
[null,null,null,null,null,null,null,"0401BPPMBP..2","3200700120     ","BP12-45        ",{"$f":"IF(H577=$H$60, IF(I577=$I$60, J577,\"\"),\"\")","v":""}]
[null,null,null,null,null,null,null,"0401BPPMBP..1","3116901059     ","BP12-46        ",""]
[null,null,null,null,null,null,null,"0401BPPMBP..2","3176700025     ","BP12-47        ",""]
[null,null,null,null,null,null,null,"0401BPPMBP..1","3176700025     ","BP12-48        ",""]
[null,null,null,null,null,null,null,"0401BPPMBP..2","3176700025     ","BP12-49        ",""]
[null,null,null,null,null,null,null,"0401BPPMBP..2","3298500021     ","BP12-5         ",""]
[null,null,null,null,null,null,null,"0401BPPMBP..1","3176700025     ","BP12-50        ",""]
[null,null,null,null,null,null,null,"0401BPPMBP..1","3035900026     ","BP12-51        ",""]
[null,null,null,null,null,null,null,"0401BPPMBP..1","3035900026     ","BP12-52        ",""]
[null,null,null,null,null,null,null,"0401BPPMBP..2","3027400028     ","BP12-53        ",""]
[null,null,null,null,null,null,null,"0401BPPMBP..2","3132800027     ","BP12-54        ",""]
[null,null,null,null,null,null,null,"0401BPPMBP..2","3132800027     ","BP12-54A       ",""]
[null,null,null,null,null,null,null,"0401BPPMBP..1","3016501056     ","BP12-55        ",""]
[null,null,null,null,null,null,null,"0401BPPMBP..2","3016501056     ","BP12-56        ",""]
[null,null,null,null,null,null,null,"0401BPPMBP..2","3200700120     ","BP12-57        ",""]
[null,null,null,null,null,null,null,"0401BPPMBP..2","3176700025     ","BP12-58        ",""]
[null,null,null,null,null,null,null,"0401BPPMBP..2","3176700025     ","BP12-58A       ",""]
[null,null,null,null,null,null,null,"0401BPPMBP..2","3176700025     ","BP12-59        ",""]
[null,null,null,null,null,null,null,"0401BPPMBP..2","3176700025     ","BP12-59A       ",""]
[null,null,null,null,null,null,null,"0401BPPMBP..2","3176700025     ","BP12-59B       ",""]
[null,null,null,null,null,null,null,"0401BPPMBP..1","3035900026     ","BP12-6         ",""]
[null,null,null,null,null,null,null,"0401BPPMBP..2","3176704614     ","BP12-60        ",""]
[null,null,null,null,null,null,null,"0401BPPMBP..1","3008600023     ","BP12-61        ",""]
[null,null,null,null,null,null,null,"0401BPPMBP..1","3057100025     ","BP12-62        ",""]
[null,null,null,null,null,null,null,"0401BPPMBP..2","3029700023     ","BP12-63        ",""]
[null,null,null,null,null,null,null,"0401BPPMBP..2","3029700023     ","BP12-64        ",""]
[null,null,null,null,null,null,null,"0401BPPMBP..1","3116900026     ","BP12-65        ",""]
[null,null,null,null,null,null,null,"0401BPPMBP..1","3116900026     ","BP12-65A       ",""]
[null,null,null,null,null,null,null,"0401BPPMBP..1","3116900026     ","BP12-66        ",""]
[null,null,null,null,null,null,null,"0401BPPMBP..1","3016400026     ","BP12-67        ",""]
[null,null,null,null,null,null,null,"0401BPPMBP..2","3016400026     ","BP12-68        ",""]
[null,null,null,null,null,null,null,"0401BPPMBP..2","3116900026     ","BP12-69        ",""]
[null,null,null,null,null,null,null,"0401BPPMBP..2","3035900026     ","BP12-7         ",""]
[null,null,null,null,null,null,null,"0401BPPMBP..1","3016400026     ","BP12-70        ",""]
[null,null,null,null,null,null,null,"0401BPPMBP..1","3016400026     ","BP12-71        ",""]
[null,null,null,null,null,null,null,"0401BPPMBP..2","3016400026     ","BP12-72        ",""]
[null,null,null,null,null,null,null,"0401BPPMBP..2","3016400026     ","BP12-73        ",""]
[null,null,null,null,null,null,null,"0401BPPMBP..1","3402400125     ","BP12-74        ",""]
[null,null,null,null,null,null,null,"0401BPPMBP..1","3402400125     ","BP12-74A       ",""]
[null,null,null,null,null,null,null,"0401BPPMBP..2","3402400125     ","BP12-75        ",""]
[null,null,null,null,null,null,null,"0401BPPMBP..2","3200700120     ","BP12-76        ",""]
[null,null,null,null,null,null,null,"0401BPPMBP..1","3200700120     ","BP12-77        ",""]
[null,null,null,null,null,null,null,"0401BPPMBP..1","3020400021     ","BP12-78        ",""]
[null,null,null,null,null,null,null,"0401BPPMBP..1","3056900024     ","BP12-79        ",""]
[null,null,null,null,null,null,null,"0401BPPMBP..1","3056900024     ","BP12-79A       ",""]
[null,null,null,null,null,null,null,"0401BPPMBP..2","3298500021     ","BP12-8         ",""]
[null,null,null,null,null,null,null,"0401BPPMBP..1","3056900024     ","BP12-80        ",""]
[null,null,null,null,null,null,null,"0401BPPMBP..2","3176700025     ","BP12-81        ",""]
[null,null,null,null,null,null,null,"0401BPPMBP..2","3176700025     ","BP12-81A       ",""]
[null,null,null,null,null,null,null,"0401BPPMBP..3","3035900026     ","BP12-82        ",""]
[null,null,null,null,null,null,null,"0401BPPMBP..1","3035900026     ","BP12-83        ",""]
[null,null,null,null,null,null,null,"0401BPPMBP..2","3176700025     ","BP12-84        ",""]
[null,null,null,null,null,null,null,"0401BPPMBP..1","3402400125     ","BP12-85        ",""]
[null,null,null,null,null,null,null,"0401BPPMBP..2","3200700120     ","BP12-86        ",""]
[null,null,null,null,null,null,null,"0401BPPMBP..1","3008600023     ","BP12-87        ",""]
[null,null,null,null,null,null,null,"0401BPPMBP..1","3057100025     ","BP12-88        ",""]
[null,null,null,null,null,null,null,"0401BPPMBP..2","3200700120     ","BP12-89        ",""]
[null,null,null,null,null,null,null,"0401BPPMBP..2","3200700120     ","BP12-89A       ",""]
[null,null,null,null,null,null,null,"0401BPPMBP..2","3298500021     ","BP12-8A        ",""]
[null,null,null,null,null,null,null,"0401BPPMBP..1","3298500021     ","BP12-9         ",""]
[null,null,null,null,null,null,null,"0401BPPMBP..1","3200700120     ","BP12-90        ",""]
[null,null,null,null,null,null,null,"0401BPPMBP..2","3057100025     ","BP12-91        ",""]
[null,null,null,null,null,null,null,"0401BPPMBP..1","3057100025     ","BP12-92        ",""]
[null,null,null,null,null,null,null,"0401BPPMBP..1","3057100025     ","BP12-93        ",""]
[null,null,null,null,null,null,null,"0401BPPMBP..2","3057100025     ","BP12-94        ",{"$f":"IF(H641=$H$60, IF(I641=$I$60, J641,\"\"),\"\")","v":""}]
[null,null,null,null,null,null,null,"0401BPPMBP..1","3008600023     ","BP12-95        ",""]
[null,null,null,null,null,null,null,"0401BPPMBP..1","3176700025     ","BP12-96        ",""]
[null,null,null,null,null,null,null,"0401BPPMBP..1","3176700025     ","BP12-96A       ",""]
[null,null,null,null,null,null,null,"0401BPPMBP..1","3176700025     ","BP12-97        ",""]
[null,null,null,null,null,null,null,"0401BPPMBP..2","3176700025     ","BP12-98        ",""]
[null,null,null,null,null,null,null,"0401BPPMBP..1","3027000020     ","BP12-99        ",""]
[null,null,null,null,null,null,null,"0401BPPMBP..1","3027000020     ","BP12-99A       ",""]
[null,null,null,null,null,null,null,"0401BPPMBP..1","3035900026     ","BP13-1         ",""]
[null,null,null,null,null,null,null,"0401BPPMBP..1","3261500026     ","BP13-10        ",""]
[null,null,null,null,null,null,null,"0401BPPMBP..2","3241300220     ","BP13-100       ",""]
[null,null,null,null,null,null,null,"0401BPPMBP..1","3176700025     ","BP13-101       ",""]
[null,null,null,null,null,null,null,"0401BPPMBP..2","3197300125     ","BP13-102       ",""]
[null,null,null,null,null,null,null,"0401BPPMBP..2","3029700023     ","BP13-103       ",""]
[null,null,null,null,null,null,null,"0401BPPMBP..2","3029700023     ","BP13-103A      ",""]
[null,null,null,null,null,null,null,"0401BPPMBP..2","3008600023     ","BP13-104       ",""]
[null,null,null,null,null,null,null,"0401BPPMBP..2","3029700023     ","BP13-105       ",""]
[null,null,null,null,null,null,null,"0401BPPMBP..1","3048700023     ","BP13-106       ",""]
[null,null,null,null,null,null,null,"0401BPPMBP..1","3008600023     ","BP13-107       ",""]
[null,null,null,null,null,null,null,"0401BPPMBP..1","3008600023     ","BP13-108       ",""]
[null,null,null,null,null,null,null,"0401BPPMBP..2","3008600023     ","BP13-109       ",""]
[null,null,null,null,null,null,null,"0401BPPMBP..1","3035900026     ","BP13-11        ",""]
[null,null,null,null,null,null,null,"0401BPPMBP..1","3008600023     ","BP13-110       ",""]
[null,null,null,null,null,null,null,"0401BPPMBP..1","3008600023     ","BP13-110A      ",""]
[null,null,null,null,null,null,null,"0401BPPMBP..2","3008600023     ","BP13-111       ",""]
[null,null,null,null,null,null,null,"0401BPPMBP..1","3176700025     ","BP13-112       ",""]
[null,null,null,null,null,null,null,"0401BPPMBP..1","3035900026     ","BP13-113       ",""]
[null,null,null,null,null,null,null,"0401BPPMBP..2","3008600023     ","BP13-114       ",""]
[null,null,null,null,null,null,null,"0401BPPMBP..1","3048700023     ","BP13-115       ",""]
[null,null,null,null,null,null,null,"0401BPPMBP..1","3042400326     ","BP13-116       ",""]
[null,null,null,null,null,null,null,"0401BPPMBP..1","3027400028     ","BP13-117       ",""]
[null,null,null,null,null,null,null,"0401BPPMBP..1","3008600023     ","BP13-118       ",""]
[null,null,null,null,null,null,null,"0401BPPMBP..1","3027400028     ","BP13-119       ",""]
[null,null,null,null,null,null,null,"0401BPPMBP..1","3035900026     ","BP13-12        ",""]
[null,null,null,null,null,null,null,"0401BPPMBP..1","3008600023     ","BP13-120       ",""]
[null,null,null,null,null,null,null,"0401BPPMBP..2","3008600023     ","BP13-121       ",""]
[null,null,null,null,null,null,null,"0401BPPMBP..1","3057100025     ","BP13-122       ",""]
[null,null,null,null,null,null,null,"0401BPPMBP..1","3016400026     ","BP13-123       ",""]
[null,null,null,null,null,null,null,"0401BPPMBP..2","3035900026     ","BP13-13        ",""]
[null,null,null,null,null,null,null,"0401BPPMBP..2","3035900026     ","BP13-14        ",""]
[null,null,null,null,null,null,null,"0401BPPMBP..1","3176700025     ","BP13-15        ",""]
[null,null,null,null,null,null,null,"0401BPPMBP..2","3176700025     ","BP13-16        ",""]
[null,null,null,null,null,null,null,"0401BPPMBP..1","3008600023     ","BP13-17        ",""]
[null,null,null,null,null,null,null,"0401BPPMBP..1","3008600023     ","BP13-18        ",""]
[null,null,null,null,null,null,null,"0401BPPMBP..1","3200700120     ","BP13-19        ",""]
[null,null,null,null,null,null,null,"0401BPPMBP..1","3200700120     ","BP13-19A       ",""]
[null,null,null,null,null,null,null,"0401BPPMBP..1","3016400026     ","BP13-2         ",""]
[null,null,null,null,null,null,null,"0401BPPMBP..1","3176700025     ","BP13-20        ",""]
[null,null,null,null,null,null,null,"0401BPPMBP..2","3176700025     ","BP13-21        ",""]
[null,null,null,null,null,null,null,"0401BPPMBP..1","3176700025     ","BP13-22        ",""]
[null,null,null,null,null,null,null,"0401BPPMBP..2","3176700025     ","BP13-23        ",""]
[null,null,null,null,null,null,null,"0401BPPMBP..1","3029700023     ","BP13-24        ",""]
[null,null,null,null,null,null,null,"0401BPPMBP..2","3029700023     ","BP13-25        ",""]
[null,null,null,null,null,null,null,"0401BPPMBP..1","3035900026     ","BP13-26        ",""]
[null,null,null,null,null,null,null,"0401BPPMBP..2","3035900026     ","BP13-27        ",""]
[null,null,null,null,null,null,null,"0401BPPMBP..2","3008600023     ","BP13-28        ",""]
[null,null,null,null,null,null,null,"0401BPPMBP..1","3176700025     ","BP13-29        ",""]
[null,null,null,null,null,null,null,"0401BPPMBP..1","3016400026     ","BP13-2A        ",""]
[null,null,null,null,null,null,null,"0401BPPMBP..2","3016400026     ","BP13-3         ",""]
[null,null,null,null,null,null,null,"0401BPPMBP..3","3035900026     ","BP13-30        ",""]
[null,null,null,null,null,null,null,"0401BPPMBP..2","3176700025     ","BP13-31        ",""]
[null,null,null,null,null,null,null,"0401BPPMBP..2","3048700023     ","BP13-32        ",""]
[null,null,null,null,null,null,null,"0401BPPMBP..1","3008600023     ","BP13-33        ",""]
[null,null,null,null,null,null,null,"0401BPPMBP..1","3035900026     ","BP13-34        ",""]
[null,null,null,null,null,null,null,"0401BPPMBP..2","3035900026     ","BP13-35        ",{"$f":"IF(H705=$H$60, IF(I705=$I$60, J705,\"\"),\"\")","v":""}]
[null,null,null,null,null,null,null,"0401BPPMBP..1","3035900026     ","BP13-36        ",""]
[null,null,null,null,null,null,null,"0401BPPMBP..2","3035900026     ","BP13-37        ",""]
[null,null,null,null,null,null,null,"0401BPPMBP..1","3035900026     ","BP13-4         ",""]
[null,null,null,null,null,null,null,"0401BPPMBP..2","3029700023     ","BP13-40        ",""]
[null,null,null,null,null,null,null,"0401BPPMBP..2","3027400028     ","BP13-41        ",""]
[null,null,null,null,null,null,null,"0401BPPMBP..1","3016400026     ","BP13-42        ",""]
[null,null,null,null,null,null,null,"0401BPPMBP..2","3016400026     ","BP13-43        ",""]
[null,null,null,null,null,null,null,"0401BPPMBP..1","3016400026     ","BP13-44        ",""]
[null,null,null,null,null,null,null,"0401BPPMBP..2","3016400026     ","BP13-45        ",""]
[null,null,null,null,null,null,null,"0401BPPMBP..2","3008600023     ","BP13-46        ",""]
[null,null,null,null,null,null,null,"0401BPPMBP..1","3035900026     ","BP13-47        ",""]
[null,null,null,null,null,null,null,"0401BPPMBP..2","3200700120     ","BP13-48        ",""]
[null,null,null,null,null,null,null,"0401BPPMBP..2","3029700023     ","BP13-49        ",""]
[null,null,null,null,null,null,null,"0401BPPMBP..2","3035900026     ","BP13-5         ",""]
[null,null,null,null,null,null,null,"0401BPPMBP..1","3200700120     ","BP13-50        ",""]
[null,null,null,null,null,null,null,"0401BPPMBP..2","3200700120     ","BP13-51        ",""]
[null,null,null,null,null,null,null,"0401BPPMBP..1","3176700025     ","BP13-52        ",""]
[null,null,null,null,null,null,null,"0401BPPMBP..1","3056900024     ","BP13-53        ",""]
[null,null,null,null,null,null,null,"0401BPPMBP..1","3056900024     ","BP13-53A       ",""]
[null,null,null,null,null,null,null,"0401BPPMBP..2","3008600023     ","BP13-54        ",""]
[null,null,null,null,null,null,null,"0401BPPMBP..1","3298500021     ","BP13-55        ",""]
[null,null,null,null,null,null,null,"0401BPPMBP..1","3200700120     ","BP13-56        ",""]
[null,null,null,null,null,null,null,"0401BPPMBP..1","3200700120     ","BP13-56A       ",""]
[null,null,null,null,null,null,null,"0401BPPMBP..1","3298500021     ","BP13-57        ",""]
[null,null,null,null,null,null,null,"0401BPPMBP..2","3200700120     ","BP13-58        ",""]
[null,null,null,null,null,null,null,"0401BPPMBP..1","3008600023     ","BP13-59        ",""]
[null,null,null,null,null,null,null,"0401BPPMBP..1","3176700025     ","BP13-6         ",""]
[null,null,null,null,null,null,null,"0401BPPMBP..1","3057100025     ","BP13-60        ",""]
[null,null,null,null,null,null,null,"0401BPPMBP..3","3176700025     ","BP13-61        ",""]
[null,null,null,null,null,null,null,"0401BPPMBP..1","3020400021     ","BP13-62        ",""]
[null,null,null,null,null,null,null,"0401BPPMBP..2","3029700023     ","BP13-63        ",""]
[null,null,null,null,null,null,null,"0401BPPMBP..2","3029700023     ","BP13-63A       ",""]
[null,null,null,null,null,null,null,"0401BPPMBP..2","3261500026     ","BP13-65        ",""]
[null,null,null,null,null,null,null,"0401BPPMBP..1","3035900026     ","BP13-66        ",""]
[null,null,null,null,null,null,null,"0401BPPMBP..2","3029700023     ","BP13-67        ",""]
[null,null,null,null,null,null,null,"0401BPPMBP..2","3027400028     ","BP13-68        ",""]
[null,null,null,null,null,null,null,"0401BPPMBP..2","3298500021     ","BP13-69        ",""]
[null,null,null,null,null,null,null,"0401BPPMBP..1","3176700025     ","BP13-6A        ",""]
[null,null,null,null,null,null,null,"0401BPPMBP..2","3176700025     ","BP13-7         ",""]
[null,null,null,null,null,null,null,"0401BPPMBP..2","3298500021     ","BP13-70        ",""]
[null,null,null,null,null,null,null,"0401BPPMBP..1","3048700023     ","BP13-71        ",""]
[null,null,null,null,null,null,null,"0401BPPMBP..2","3048700023     ","BP13-72        ",""]
[null,null,null,null,null,null,null,"0401BPPMBP..2","3048700023     ","BP13-72A       ",""]
[null,null,null,null,null,null,null,"0401BPPMBP..2","3132800027     ","BP13-74        ",""]
[null,null,null,null,null,null,null,"0401BPPMBP..2","3132800027     ","BP13-74A       ",""]
[null,null,null,null,null,null,null,"0401BPPMBP..2","3029700023     ","BP13-75        ",""]
[null,null,null,null,null,null,null,"0401BPPMBP..2","3176700025     ","BP13-76        ",""]
[null,null,null,null,null,null,null,"0401BPPMBP..1","3176700025     ","BP13-77        ",""]
[null,null,null,null,null,null,null,"0401BPPMBP..1","3176700025     ","BP13-77A       ",""]
[null,null,null,null,null,null,null,"0401BPPMBP..1","3200700120     ","BP13-79        ",""]
[null,null,null,null,null,null,null,"0401BPPMBP..2","3176700025     ","BP13-7A        ",""]
[null,null,null,null,null,null,null,"0401BPPMBP..1","3176700025     ","BP13-8         ",""]
[null,null,null,null,null,null,null,"0401BPPMBP..1","3008600023     ","BP13-80        ",""]
[null,null,null,null,null,null,null,"0401BPPMBP..2","3008600023     ","BP13-81        ",""]
[null,null,null,null,null,null,null,"0401BPPMBP..1","3027400028     ","BP13-82        ",""]
[null,null,null,null,null,null,null,"0401BPPMBP..1","3035900026     ","BP13-83        ",""]
[null,null,null,null,null,null,null,"0401BPPMBP..2","3035900026     ","BP13-84        ",""]
[null,null,null,null,null,null,null,"0401BPPMBP..1","3197300125     ","BP13-85        ",""]
[null,null,null,null,null,null,null,"0401BPPMBP..2","3200700120     ","BP13-86        ",""]
[null,null,null,null,null,null,null,"0401BPPMBP..2","3200700120     ","BP13-86A       ",""]
[null,null,null,null,null,null,null,"0401BPPMBP..3","3016400026     ","BP13-87        ",""]
[null,null,null,null,null,null,null,"0401BPPMBP..1","3281200026     ","BP13-88        ",""]
[null,null,null,null,null,null,null,"0401BPPMBP..1","3056900024     ","BP13-89        ",""]
[null,null,null,null,null,null,null,"0401BPPMBP..1","3176700025     ","BP13-8A        ",{"$f":"IF(H769=$H$60, IF(I769=$I$60, J769,\"\"),\"\")","v":""}]
[null,null,null,null,null,null,null,"0401BPPMBP..2","3176700025     ","BP13-9         ",""]
[null,null,null,null,null,null,null,"0401BPPMBP..2","3176700025     ","BP13-90        ",""]
[null,null,null,null,null,null,null,"0401BPPMBP..2","3176700025     ","BP13-90A       ",""]
[null,null,null,null,null,null,null,"0401BPPMBP..2","3008600023     ","BP13-91        ",""]
[null,null,null,null,null,null,null,"0401BPPMBP..1","3008600023     ","BP13-92        ",""]
[null,null,null,null,null,null,null,"0401BPPMBP..1","3029700023     ","BP13-93        ",""]
[null,null,null,null,null,null,null,"0401BPPMBP..1","3008600023     ","BP13-94        ",""]
[null,null,null,null,null,null,null,"0401BPPMBP..1","3008600023     ","BP13-95        ",""]
[null,null,null,null,null,null,null,"0401BPPMBP..1","3016400026     ","BP13-96        ",""]
[null,null,null,null,null,null,null,"0401BPPMBP..2","3016400026     ","BP13-97        ",""]
[null,null,null,null,null,null,null,"0401BPPMBP..1","3016400026     ","BP13-98        ",""]
[null,null,null,null,null,null,null,"0401BPPMBP..2","3016400026     ","BP13-99        ",""]
[null,null,null,null,null,null,null,"0401BPPMBP..2","3176700025     ","BP13-9A        ",""]
[null,null,null,null,null,null,null,"0301SBCMBI","333350000X     ","COMMERCIAL 301 ",""]
[null,null,null,null,null,null,null,"0401BPCM","333350000X     ","COMMERCIAL 401 ",""]
[null,null,null,null,null,null,null,"0401BPPMBB","3016400026     ","MRMtest1       ",""]
[null,null,null,null,null,null,null,"0401BPPMBP..1","3016501056     ","PB12-25        ",""]
[null,null,null,null,null,null,null,"0401BPPMBP..1","3020400021     ","PB12-78        ",""]
[null,null,null,null,null,null,null,"0402SLPMSL","3176700025     ","SL11-1         ",""]
[null,null,null,null,null,null,null,"0402SLPMSL","3176700025     ","SL11-10        ",""]
[null,null,null,null,null,null,null,"0402SLPMSL","3176700025     ","SL11-10A       ",""]
[null,null,null,null,null,null,null,"0402SLPMSL","3176700025     ","SL11-12        ",""]
[null,null,null,null,null,null,null,"0402SLPMSL","3008600023     ","SL11-13        ",""]
[null,null,null,null,null,null,null,"0402SLPMSL","3020400021     ","SL11-14        ",""]
[null,null,null,null,null,null,null,"0402SLPMSL","3035900026     ","SL11-15        ",""]
[null,null,null,null,null,null,null,"0402SLPMSL","3035900026     ","SL11-16        ",""]
[null,null,null,null,null,null,null,"0402SLPMSL","3298500021     ","SL11-17        ",""]
[null,null,null,null,null,null,null,"0402SLPMSL","3062100021     ","SL11-18        ",""]
[null,null,null,null,null,null,null,"0402SLPMSL","3116900026     ","SL11-19        ",""]
[null,null,null,null,null,null,null,"0402SLPMSL","3116900026     ","SL11-19A       ",""]
[null,null,null,null,null,null,null,"0402SLPMSL","3176700025     ","SL11-1A        ",""]
[null,null,null,null,null,null,null,"0402SLPMSL","3176700025     ","SL11-2         ",""]
[null,null,null,null,null,null,null,"0402SLPMSL","3027400028     ","SL11-22        ",""]
[null,null,null,null,null,null,null,"0402SLPMSL","3176700025     ","SL11-23        ",""]
[null,null,null,null,null,null,null,"0402SLPMSL","3176700025     ","SL11-24        ",""]
[null,null,null,null,null,null,null,"0402SLPMSL","3176700025     ","SL11-25        ",""]
[null,null,null,null,null,null,null,"0402SLPMSL","3200700120     ","SL11-26        ",""]
[null,null,null,null,null,null,null,"0402SLPMSL","3298500021     ","SL11-27        ",""]
[null,null,null,null,null,null,null,"0402SLPMSL","3057100025     ","SL11-28        ",""]
[null,null,null,null,null,null,null,"0402SLPMSL","3176700025     ","SL11-29        ",""]
[null,null,null,null,null,null,null,"0402SLPMSL","3116900026     ","SL11-3         ",""]
[null,null,null,null,null,null,null,"0402SLPMSL","3200700120     ","SL11-30        ",""]
[null,null,null,null,null,null,null,"0402SLPMSL","3020400021     ","SL11-31        ",""]
[null,null,null,null,null,null,null,"0402SLPMSL","3027400028     ","SL11-32        ",""]
[null,null,null,null,null,null,null,"0402SLPMSL","3035900026     ","SL11-33        ",""]
[null,null,null,null,null,null,null,"0402SLPMSL","3176700025     ","SL11-34        ",""]
[null,null,null,null,null,null,null,"0402SLPMSL","3176700025     ","SL11-35        ",""]
[null,null,null,null,null,null,null,"0402SLPMSL","3176700025     ","SL11-35A       ",""]
[null,null,null,null,null,null,null,"0402SLPMSL","3176700025     ","SL11-36        ",""]
[null,null,null,null,null,null,null,"0402SLPMSL","3042400326     ","SL11-37        ",""]
[null,null,null,null,null,null,null,"0402SLPMSL","3027400028     ","SL11-38        ",""]
[null,null,null,null,null,null,null,"0402SLPMSL","3132800027     ","SL11-39        ",""]
[null,null,null,null,null,null,null,"0402SLPMSL","3008600023     ","SL11-40        ",""]
[null,null,null,null,null,null,null,"0402SLPMSL","3008600023     ","SL11-40A       ",""]
[null,null,null,null,null,null,null,"0402SLPMSL","3029700023     ","SL11-41        ",""]
[null,null,null,null,null,null,null,"0402SLPMSL","3035900026     ","SL11-43        ",""]
[null,null,null,null,null,null,null,"0402SLPMSL","3176700025     ","SL11-44        ",""]
[null,null,null,null,null,null,null,"0402SLPMSL","3035900026     ","SL11-45        ",""]
[null,null,null,null,null,null,null,"0402SLPMSL","3020400021     ","SL11-46        ",""]
[null,null,null,null,null,null,null,"0402SLPMSL","3029700023     ","SL11-47        ",""]
[null,null,null,null,null,null,null,"0402SLPMSL","3020400021     ","SL11-48        ",""]
[null,null,null,null,null,null,null,"0402SLPMSL","3027000020     ","SL11-49        ",""]
[null,null,null,null,null,null,null,"0402SLPMSL","3062100021     ","SL11-5         ",""]
[null,null,null,null,null,null,null,"0402SLPMSL","3029700023     ","SL11-50        ",{"$f":"IF(H833=$H$60, IF(I833=$I$60, J833,\"\"),\"\")","v":""}]
[null,null,null,null,null,null,null,"0402SLPMSL","3200700120     ","SL11-51        ",""]
[null,null,null,null,null,null,null,"0402SLPMSL","3200700120     ","SL11-51A       ",""]
[null,null,null,null,null,null,null,"0402SLPMSL","3021500027     ","SL11-52        ",""]
[null,null,null,null,null,null,null,"0402SLPMSL","3008600023     ","SL11-53        ",""]
[null,null,null,null,null,null,null,"0402SLPMSL","3176700025     ","SL11-54        ",""]
[null,null,null,null,null,null,null,"0402SLPMSL","3176700025     ","SL11-55        ",""]
[null,null,null,null,null,null,null,"0402SLPMSL","3176700025     ","SL11-6         ",""]
[null,null,null,null,null,null,null,"0402SLPMSL","3176700025     ","SL11-6A        ",""]
[null,null,null,null,null,null,null,"0402SLPMSL","3176700025     ","SL11-7         ",""]
[null,null,null,null,null,null,null,"0402SLPMSL","3176700025     ","SL11-7A        ",""]
[null,null,null,null,null,null,null,"0402SLPMSL","3176700025     ","SL11-7B        ",""]
[null,null,null,null,null,null,null,"0402SLPMSL","3020400021     ","SL11-8         ",""]
[null,null,null,null,null,null,null,"0402SLPMSL","3008600023     ","SL11-9         ",""]
[null,null,null,null,null,null,null,"0402SLPMSL","3176700025     ","SL12-1         ",""]
[null,null,null,null,null,null,null,"0402SLPMSL","3176700025     ","SL12-10        ",""]
[null,null,null,null,null,null,null,"0402SLPMSL","3057100025     ","SL12-11        ",""]
[null,null,null,null,null,null,null,"0402SLPMSL","3035900026     ","SL12-12        ",""]
[null,null,null,null,null,null,null,"0402SLPMSL","3035900026     ","SL12-13        ",""]
[null,null,null,null,null,null,null,"0402SLPMSL","3008600023     ","SL12-14        ",""]
[null,null,null,null,null,null,null,"0402SLPMSL","3056900024     ","SL12-15        ",""]
[null,null,null,null,null,null,null,"0402SLPMSL","3176700025     ","SL12-16        ",""]
[null,null,null,null,null,null,null,"0402SLPMSL","3035900026     ","SL12-17        ",""]
[null,null,null,null,null,null,null,"0402SLPMSL","3056900024     ","SL12-18        ",""]
[null,null,null,null,null,null,null,"0402SLPMSL","3176700025     ","SL12-19        ",""]
[null,null,null,null,null,null,null,"0402SLPMSL","3176700025     ","SL12-1A        ",""]
[null,null,null,null,null,null,null,"0402SLPMSL","3176700025     ","SL12-2         ",""]
[null,null,null,null,null,null,null,"0402SLPMSL","3020400021     ","SL12-20        ",""]
[null,null,null,null,null,null,null,"0402SLPMSL","3008600023     ","SL12-21        ",""]
[null,null,null,null,null,null,null,"0402SLPMSL","3020400021     ","SL12-22        ",""]
[null,null,null,null,null,null,null,"0402SLPMSL","3176700025     ","SL12-23        ",""]
[null,null,null,null,null,null,null,"0402SLPMSL","3176700025     ","SL12-24        ",""]
[null,null,null,null,null,null,null,"0402SLPMSL","3200700120     ","SL12-25        ",""]
[null,null,null,null,null,null,null,"0402SLPMSL","3200700120     ","SL12-26        ",""]
[null,null,null,null,null,null,null,"0402SLPMSL","3200700120     ","SL12-26A       ",""]
[null,null,null,null,null,null,null,"0402SLPMSL","3116900026     ","SL12-27        ",""]
[null,null,null,null,null,null,null,"0402SLPMSL","3116900026     ","SL12-27A       ",""]
[null,null,null,null,null,null,null,"0402SLPMSL","3050100028     ","SL12-28        ",""]
[null,null,null,null,null,null,null,"0402SLPMSL","3176700025     ","SL12-29        ",""]
[null,null,null,null,null,null,null,"0402SLPMSL","3176700025     ","SL12-2A        ",""]
[null,null,null,null,null,null,null,"0402SLPMSL","3176700025     ","SL12-3         ",""]
[null,null,null,null,null,null,null,"0402SLPMSL","3029700023     ","SL12-30        ",""]
[null,null,null,null,null,null,null,"0402SLPMSL","3020400021     ","SL12-31        ",""]
[null,null,null,null,null,null,null,"0402SLPMSL","3057100025     ","SL12-32        ",""]
[null,null,null,null,null,null,null,"0402SLPMSL","3048700023     ","SL12-33        ",""]
[null,null,null,null,null,null,null,"0402SLPMSL","3176700025     ","SL12-34        ",""]
[null,null,null,null,null,null,null,"0402SLPMSL","3116900026     ","SL12-35        ",""]
[null,null,null,null,null,null,null,"0402SLPMSL","3176700025     ","SL12-36        ",""]
[null,null,null,null,null,null,null,"0402SLPMSL","3176700025     ","SL12-38        ",""]
[null,null,null,null,null,null,null,"0402SLPMSL","3029700023     ","SL12-39        ",""]
[null,null,null,null,null,null,null,"0402SLPMSL","3035900026     ","SL12-4         ",""]
[null,null,null,null,null,null,null,"0402SLPMSL","3020400021     ","SL12-40        ",""]
[null,null,null,null,null,null,null,"0402SLPMSL","3021500027     ","SL12-41        ",""]
[null,null,null,null,null,null,null,"0402SLPMSL","3200700120     ","SL12-42        ",""]
[null,null,null,null,null,null,null,"0402SLPMSL","3200700120     ","SL12-43        ",""]
[null,null,null,null,null,null,null,"0402SLPMSL","3200700120     ","SL12-43A       ",""]
[null,null,null,null,null,null,null,"0402SLPMSL","3029700023     ","SL12-44        ",""]
[null,null,null,null,null,null,null,"0402SLPMSL","3035900026     ","SL12-45        ",""]
[null,null,null,null,null,null,null,"0402SLPMSL","3027400028     ","SL12-46        ",""]
[null,null,null,null,null,null,null,"0402SLPMSL","3176700025     ","SL12-47        ",""]
[null,null,null,null,null,null,null,"0402SLPMSL","3200700120     ","SL12-48        ",""]
[null,null,null,null,null,null,null,"0402SLPMSL","3029700023     ","SL12-49        ",""]
[null,null,null,null,null,null,null,"0402SLPMSL","3176700025     ","SL12-5         ",""]
[null,null,null,null,null,null,null,"0402SLPMSL","3200700120     ","SL12-50        ",""]
[null,null,null,null,null,null,null,"0402SLPMSL","3035900026     ","SL12-51        ",{"$f":"IF(H897=$H$60, IF(I897=$I$60, J897,\"\"),\"\")","v":""}]
[null,null,null,null,null,null,null,"0402SLPMSL","3176700025     ","SL12-6         ",""]
[null,null,null,null,null,null,null,"0402SLPMSL","3176700025     ","SL12-6A        ",""]
[null,null,null,null,null,null,null,"0402SLPMSL","3020400021     ","SL12-7         ",""]
[null,null,null,null,null,null,null,"0402SLPMSL","3020400021     ","SL12-7A        ",""]
[null,null,null,null,null,null,null,"0402SLPMSL","3176700025     ","SL12-8         ",""]
[null,null,null,null,null,null,null,"0402SLPMSL","3176700025     ","SL12-8A        ",""]
[null,null,null,null,null,null,null,"0402SLPMSL","3176700025     ","SL12-8B        ",""]
[null,null,null,null,null,null,null,"0402SLPMSL","3176700025     ","SL12-9         ",""]
[null,null,null,null,null,null,null,"0402SLPMSL","3176700025     ","SL12-9A        ",""]
[null,null,null,null,null,null,null,"0402SLPMSL","3176700025     ","SL12-9B        ",""]
[null,null,null,null,null,null,null,"0402SLPMSL","3035900026     ","SL12017        ",""]
[null,null,null,null,null,null,null,"0402SLPMSL","3176700025     ","SL13-1         ",""]
[null,null,null,null,null,null,null,"0402SLPMSL","3057100025     ","SL13-10        ",""]
[null,null,null,null,null,null,null,"0402SLPMSL","3062100021     ","SL13-11        ",""]
[null,null,null,null,null,null,null,"0402SLPMSL","3008600023     ","SL13-12        ",""]
[null,null,null,null,null,null,null,"0402SLPMSL","3035900026     ","SL13-13        ",""]
[null,null,null,null,null,null,null,"0402SLPMSL","3176700025     ","SL13-14        ",""]
[null,null,null,null,null,null,null,"0402SLPMSL","3176700025     ","SL13-15        ",""]
[null,null,null,null,null,null,null,"0402SLPMSL","3402400125     ","SL13-17        ",""]
[null,null,null,null,null,null,null,"0402SLPMSL","3008600023     ","SL13-18        ",""]
[null,null,null,null,null,null,null,"0402SLPMSL","3057100025     ","SL13-19        ",""]
[null,null,null,null,null,null,null,"0402SLPMSL","3035900026     ","SL13-2         ",""]
[null,null,null,null,null,null,null,"0402SLPMSL","3176700025     ","SL13-20        ",""]
[null,null,null,null,null,null,null,"0402SLPMSL","3176700025     ","SL13-20A       ",""]
[null,null,null,null,null,null,null,"0402SLPMSL","3176700025     ","SL13-21        ",""]
[null,null,null,null,null,null,null,"0402SLPMSL","3057100025     ","SL13-22        ",""]
[null,null,null,null,null,null,null,"0402SLPMSL","3200700120     ","SL13-23        ",""]
[null,null,null,null,null,null,null,"0402SLPMSL","3200700120     ","SL13-24        ",""]
[null,null,null,null,null,null,null,"0402SLPMSL","3200700120     ","SL13-24A       ",""]
[null,null,null,null,null,null,null,"0402SLPMSL","3176700025     ","SL13-25        ",""]
[null,null,null,null,null,null,null,"0402SLPMSL","3176700025     ","SL13-25A       ",""]
[null,null,null,null,null,null,null,"0402SLPMSL","3176700025     ","SL13-26        ",""]
[null,null,null,null,null,null,null,"0402SLPMSL","3176700025     ","SL13-27        ",""]
[null,null,null,null,null,null,null,"0402SLPMSL","3008600023     ","SL13-28        ",""]
[null,null,null,null,null,null,null,"0402SLPMSL","3008600023     ","SL13-29        ",""]
[null,null,null,null,null,null,null,"0402SLPMSL","3020400021     ","SL13-3         ",""]
[null,null,null,null,null,null,null,"0402SLPMSL","3035900026     ","SL13-4         ",""]
[null,null,null,null,null,null,null,"0402SLPMSL","3176700025     ","SL13-5         ",""]
[null,null,null,null,null,null,null,"0402SLPMSL","3176700025     ","SL13-7         ",""]
[null,null,null,null,null,null,null,"0402SLPMSL","3035900026     ","SL13-8         ",""]
[null,null,null,null,null,null,null,"0402SLPMSL","3176700025     ","SL13-9         ",""]
[null,null,null,null,null,null,null,"0402SLPMSL","3176700025     ","SL14-1         ",""]
[null,null,null,null,null,null,null,"0402SLPMSL","3035900026     ","SL14-2         ",""]
[null,null,null,null,null,null,null,"0403SP048F","3008600023     ","SP048 11-25    ",""]
[null,null,null,null,null,null,null,"0403SP048F","3008600023     ","SP048 11-25A   ",""]
[null,null,null,null,null,null,null,"0403SP048F","3008600023     ","SP048 11-25B   ",""]
[null,null,null,null,null,null,null,"0403SP048F","3008600023     ","SP048 11-78    ",""]
[null,null,null,null,null,null,null,"0403SP048F","3008600023     ","SP048 11-79    ",""]
[null,null,null,null,null,null,null,"0403SP048F","3035900026     ","SP048 12-37    ",""]
[null,null,null,null,null,null,null,"0403SP048F","3298500021     ","SP048 12-4     ",""]
[null,null,null,null,null,null,null,"0403SP048F","3020400021     ","SP048 12-54    ",""]
[null,null,null,null,null,null,null,"0403SP048F","3008600023     ","SP048 12-58    ",""]
[null,null,null,null,null,null,null,"0403SP048FLP","3035900026     ","SP048 13-23    ",""]
[null,null,null,null,null,null,null,"0403SP048F","3176700025     ","SP048 13-37    ",""]
[null,null,null,null,null,null,null,"0403SP048F","3008600023     ","SP048 13-74    ",""]
[null,null,null,null,null,null,null,"0403SP048F","3029700023     ","SP048 13-85    ",""]
[null,null,null,null,null,null,null,"0403SP048F","3029700023     ","SP048 13-85A   ",""]
[null,null,null,null,null,null,null,"0403SP095CLG","3116900026     ","SP095 10-44A   ",""]
[null,null,null,null,null,null,null,"0403SP095CLG","3027400028     ","SP095 11-1     ",""]
[null,null,null,null,null,null,null,"0403SP095CLG","3035900026     ","SP095 11-100   ",""]
[null,null,null,null,null,null,null,"0403SP095CLG","3008600023     ","SP095 11-106   ",""]
[null,null,null,null,null,null,null,"0403SP095CLG","3008600023     ","SP095 11-107   ",""]
[null,null,null,null,null,null,null,"0403SP095CLG","3056900024     ","SP095 11-108   ",""]
[null,null,null,null,null,null,null,"0403SP095CLG","3008600023     ","SP095 11-112   ",{"$f":"IF(H961=$H$60, IF(I961=$I$60, J961,\"\"),\"\")","v":""}]
[null,null,null,null,null,null,null,"0403SP095CLG","3298500021     ","SP095 11-19    ",""]
[null,null,null,null,null,null,null,"0403SP095CLG","3298500021     ","SP095 11-19A   ",""]
[null,null,null,null,null,null,null,"0403SP095CLG","3298500021     ","SP095 11-19B   ",""]
[null,null,null,null,null,null,null,"0403SP095CLG","3298500021     ","SP095 11-19C   ",""]
[null,null,null,null,null,null,null,"0403SP095CLG","3176700025     ","SP095 11-20    ",""]
[null,null,null,null,null,null,null,"0403SP095CLG","3035900026     ","SP095 11-23    ",""]
[null,null,null,null,null,null,null,"0403SP095CLG","3298500021     ","SP095 11-24    ",""]
[null,null,null,null,null,null,null,"0403SP095CLG","3298500021     ","SP095 11-24A   ",""]
[null,null,null,null,null,null,null,"0403SP095CLG","3056900024     ","SP095 11-29    ",""]
[null,null,null,null,null,null,null,"0403SP095CLG","3056900024     ","SP095 11-29A   ",""]
[null,null,null,null,null,null,null,"0403SP095CLG","3008600023     ","SP095 11-30A   ",""]
[null,null,null,null,null,null,null,"0403SP095CLG","3008600023     ","SP095 11-46    ",""]
[null,null,null,null,null,null,null,"0403SP095CLG","3027400028     ","SP095 11-59    ",""]
[null,null,null,null,null,null,null,"0403SP095CLG","3027400028     ","SP095 11-59A   ",""]
[null,null,null,null,null,null,null,"0403SP095CLG","3027400028     ","SP095 11-71    ",""]
[null,null,null,null,null,null,null,"0403SP095BSM","3008600023     ","SP095 11-82    ",""]
[null,null,null,null,null,null,null,"0403SP095BSM","3008600023     ","SP095 11-82A   ",""]
[null,null,null,null,null,null,null,"0403SP095CLG","3008600023     ","SP095 11-90    ",""]
[null,null,null,null,null,null,null,"0403SP095BSM","3027400028     ","SP095 11-94    ",""]
[null,null,null,null,null,null,null,"0403SP095CLG","3008600023     ","SP095 11-97    ",""]
[null,null,null,null,null,null,null,"0403SP095CLG","3176700025     ","SP095 12-1     ",""]
[null,null,null,null,null,null,null,"0403SP095CLG","3027400028     ","SP095 12-10    ",""]
[null,null,null,null,null,null,null,"0403SP095BSM","3176700025     ","SP095 12-16    ",""]
[null,null,null,null,null,null,null,"0403SP095BSM","3176700025     ","SP095 12-16A   ",""]
[null,null,null,null,null,null,null,"0403SP095B","3176700025     ","SP095 12-19    ",{"$f":"IF(H986=$H$60, IF(I986=$I$60, J986,\"\"),\"\")","v":""}]
[null,null,null,null,null,null,null,"0403SP095CLG","3176700025     ","SP095 12-1A    ",""]
[null,null,null,null,null,null,null,"0403SP095CLG","3035900026     ","SP095 12-27    ",""]
[null,null,null,null,null,null,null,"0403SP095CLGLP","3116900026     ","SP095 12-31    ",""]
[null,null,null,null,null,null,null,"0403SP095CLG","3029700023     ","SP095 12-35    ",""]
[null,null,null,null,null,null,null,"0403SP095BSM","3035900026     ","SP095 12-36    ",""]
[null,null,null,null,null,null,null,"0403SP095BSM","3020400021     ","SP095 12-38    ",""]
[null,null,null,null,null,null,null,"0403SP095CLG","3116900026     ","SP095 12-40    ",""]
[null,null,null,null,null,null,null,"0403SP095CLG","3176700025     ","SP095 12-46    ",""]
[null,null,null,null,null,null,null,"0403SP095BSM","3176700025     ","SP095 12-49    ",""]
[null,null,null,null,null,null,null,"0403SP095B","3298500021     ","SP095 12-5     ",""]
[null,null,null,null,null,null,null,"0403SP095BSM","3176700025     ","SP095 12-50    ",""]
[null,null,null,null,null,null,null,"0403SP095CLG","3027400028     ","SP095 12-51    ",""]
[null,null,null,null,null,null,null,"0403SP095C","3020400021     ","SP095 12-53    ",""]
[null,null,null,null,null,null,null,"0403SP095B","3132800027     ","SP095 12-56    ",""]
[null,null,null,null,null,null,null,"0403SP095B","3132800027     ","SP095 12-56A   ",""]
[null,null,null,null,null,null,null,"0403SP095BSM","3020400021     ","SP095 12-57    ",""]
[null,null,null,null,null,null,null,"0403SP095B","3298500021     ","SP095 12-5A    ",""]
[null,null,null,null,null,null,null,"0403SP095CLG","3027400028     ","SP095 12-62    ",""]
[null,null,null,null,null,null,null,"0403SP095BSMR","3008600023     ","SP095 12-67    ",""]
[null,null,null,null,null,null,null,"0403SP095BSMR","3008600023     ","SP095 12-67A   ",""]
[null,null,null,null,null,null,null,"0403SP095CLG","3035900026     ","SP095 12-68    ",""]
[null,null,null,null,null,null,null,"0403SP095BSM","3298500021     ","SP095 12-7     ",""]
[null,null,null,null,null,null,null,"0403SP095B","3008600023     ","SP095 12-73    ",""]
[null,null,null,null,null,null,null,"0403SP095CLG","3176700025     ","SP095 12-8     ",""]
[null,null,null,null,null,null,null,"0403SP095BSM","3298500021     ","SP095 12-80    ",""]
[null,null,null,null,null,null,null,"0403SP095CLG","3176700025     ","SP095 12-8A    ",""]
[null,null,null,null,null,null,null,"0403SP095CLG","3176700025     ","SP095 12-8B    ",""]
[null,null,null,null,null,null,null,"0403SP095CLG","3176700025     ","SP095 12-8C    ",""]
[null,null,null,null,null,null,null,"0403SP095BSMR","3008600023     ","SP095 13-107   ",""]
[null,null,null,null,null,null,null,"0403SP095BSMR","3008600023     ","SP095 13-110   ",""]
[null,null,null,null,null,null,null,"0403SP095BSM","3056900024     ","SP095 13-114   ",""]
[null,null,null,null,null,null,null,"0403SP095BSM","3056900024     ","SP095 13-115   ",""]
[null,null,null,null,null,null,null,"0403SP095BSM","3056900024     ","SP095 13-115A  ",""]
[null,null,null,null,null,null,null,"0403SP095BSM","3035900026     ","SP095 13-12    ",""]
[null,null,null,null,null,null,null,"0403SP125CLGLP","3035900026     ","SP095 13-13    ",""]
[null,null,null,null,null,null,null,"0403SP095CLG","3008600023     ","SP095 13-15    ",""]
[null,null,null,null,null,null,null,"0403SP095CLG","3298500021     ","SP095 13-50    ",""]
[null,null,null,null,null,null,null,"0403SP095CLG","3132800027     ","SP095 13-57    ",""]
[null,null,null,null,null,null,null,"0403SP095CLG","3132800027     ","SP095 13-57A   ",{"$f":"IF(H1025=$H$60, IF(I1025=$I$60, J1025,\"\"),\"\")","v":""}]
[null,null,null,null,null,null,null,"0403SP095CLG","3056900024     ","SP095 13-58    ",""]
[null,null,null,null,null,null,null,"0403SP095CLG","3298500021     ","SP095 13-62    ",""]
[null,null,null,null,null,null,null,"0403SP095BSM","3008600023     ","SP095 13-64    ",""]
[null,null,null,null,null,null,null,"0403SP095B","3176700025     ","SP095 13-66    ",""]
[null,null,null,null,null,null,null,"0403SP095BSM","3056900024     ","SP095 13-67    ",""]
[null,null,null,null,null,null,null,"0403SP095BSM","3056900024     ","SP095 13-67A   ",""]
[null,null,null,null,null,null,null,"0403SP095BSM","3008600023     ","SP095 13-69    ",""]
[null,null,null,null,null,null,null,"0403SP095BSM","3008600023     ","SP095 13-69A   ",""]
[null,null,null,null,null,null,null,"0403SP095BSM","3008600023     ","SP095 13-69B   ",""]
[null,null,null,null,null,null,null,"0403SP095CLG","3008600023     ","SP095 13-71    ",""]
[null,null,null,null,null,null,null,"0403SP095CLG","3176700025     ","SP095 13-73    ",""]
[null,null,null,null,null,null,null,"0403SP095CLGLP","3035900026     ","SP095 13-75    ",""]
[null,null,null,null,null,null,null,"0403SP095B","3176700025     ","SP095 13-78    ",""]
[null,null,null,null,null,null,null,"0403SP095CLG","3008600023     ","SP095 13-82    ",""]
[null,null,null,null,null,null,null,"0403SP095CLG","3035900026     ","SP095 13-97    ",""]
[null,null,null,null,null,null,null,"0403SP125CLP","3035900026     ","SP125 10-58A   ",""]
[null,null,null,null,null,null,null,"0403SP125CLG","3176700025     ","SP125 11-10    ",""]
[null,null,null,null,null,null,null,"0403SP125CLG","3027400028     ","SP125 11-101   ",""]
[null,null,null,null,null,null,null,"0403SP125CLG","3027400028     ","SP125 11-101A  ",""]
[null,null,null,null,null,null,null,"0403SP125CLG","3056900024     ","SP125 11-109   ",""]
[null,null,null,null,null,null,null,"0403SP125CLG","3176700025     ","SP125 11-11    ",""]
[null,null,null,null,null,null,null,"0403SP125CLG","3056900024     ","SP125 11-110   ",""]
[null,null,null,null,null,null,null,"0403SP125CLG","3176700025     ","SP125 11-11A   ",""]
[null,null,null,null,null,null,null,"0403SP125CLG","3176700025     ","SP125 11-11B   ",""]
[null,null,null,null,null,null,null,"0403SP125B","3027400028     ","SP125 11-13    ",""]
[null,null,null,null,null,null,null,"0403SP125CLGLP","3035900026     ","SP125 11-14    ",""]
[null,null,null,null,null,null,null,"0403SP125CLGLP","3035900026     ","SP125 11-14A   ",""]
[null,null,null,null,null,null,null,"0403SP125CLGLP","3035900026     ","SP125 11-14C   ",""]
[null,null,null,null,null,null,null,"0403SP125CLG","3029700023     ","SP125 11-16    ",""]
[null,null,null,null,null,null,null,"0403SP125CLG","3176700025     ","SP125 11-21    ",""]
[null,null,null,null,null,null,null,"0403SP125CLG","3176700025     ","SP125 11-21A   ",""]
[null,null,null,null,null,null,null,"0403SP125CLG","3008600023     ","SP125 11-22    ",""]
[null,null,null,null,null,null,null,"0403SP125BSMR","3027400028     ","SP125 11-27    ",""]
[null,null,null,null,null,null,null,"0403SP125BSMR","3027400028     ","SP125 11-27A   ",""]
[null,null,null,null,null,null,null,"0403SP125CLG","3176700025     ","SP125 11-34    ",""]
[null,null,null,null,null,null,null,"0403SP125BSMR","3027400028     ","SP125 11-36    ",""]
[null,null,null,null,null,null,null,"0403SP125CLG","3176700025     ","SP125 11-37    ",""]
[null,null,null,null,null,null,null,"0403SP125BSMR","3029700023     ","SP125 11-38    ",""]
[null,null,null,null,null,null,null,"0403SP125BSMR","3029700023     ","SP125 11-38A   ",""]
[null,null,null,null,null,null,null,"0403SP125B","3029700023     ","SP125 11-39    ",""]
[null,null,null,null,null,null,null,"0403SP125B","3029700023     ","SP125 11-39A   ",""]
[null,null,null,null,null,null,null,"0403SP125CLG","3029700023     ","SP125 11-4     ",""]
[null,null,null,null,null,null,null,"0403SP125CLG","3176700025     ","SP125 11-40    ",""]
[null,null,null,null,null,null,null,"0403SP125CLG","3056900024     ","SP125 11-42    ",""]
[null,null,null,null,null,null,null,"0403SP125CLG","3056900024     ","SP125 11-42A   ",""]
[null,null,null,null,null,null,null,"0403SP125CLG","3132800027     ","SP125 11-47    ",""]
[null,null,null,null,null,null,null,"0403SP125CLG","3132800027     ","SP125 11-47A   ",""]
[null,null,null,null,null,null,null,"0403SP125CLG","3132800027     ","SP125 11-47B   ",""]
[null,null,null,null,null,null,null,"0403SP125CLG","3132800027     ","SP125 11-47C   ",""]
[null,null,null,null,null,null,null,"0403SP125CLGLP","3035900026     ","SP125 11-48    ",""]
[null,null,null,null,null,null,null,"0403SP125CLG","3029700023     ","SP125 11-49    ",""]
[null,null,null,null,null,null,null,"0403SP125CLG","3029700023     ","SP125 11-49A   ",""]
[null,null,null,null,null,null,null,"0403SP125CLG","3029700023     ","SP125 11-49B   ",""]
[null,null,null,null,null,null,null,"0403SP125CLG","3176700025     ","SP125 11-50    ",""]
[null,null,null,null,null,null,null,"0403SP125CLG","3176700025     ","SP125 11-50A   ",""]
[null,null,null,null,null,null,null,"0403SP125CLG","3176700025     ","SP125 11-50B   ",""]
[null,null,null,null,null,null,null,"0403SP125CLG","3029700023     ","SP125 11-52    ",""]
[null,null,null,null,null,null,null,"0403SP125CLG","3008600023     ","SP125 11-55    ",""]
[null,null,null,null,null,null,null,"0403SP125BSM","3035900026     ","SP125 11-58    ",""]
[null,null,null,null,null,null,null,"0403SP125CLG","3035900026     ","SP125 11-6     ",""]
[null,null,null,null,null,null,null,"0403SP125CLG","3056900024     ","SP125 11-63    ",""]
[null,null,null,null,null,null,null,"0403SP125CLG","3056900024     ","SP125 11-63A   ",""]
[null,null,null,null,null,null,null,"0403SP125C","3035900026     ","SP125 11-64    ",""]
[null,null,null,null,null,null,null,"0403SP125C","3035900026     ","SP125 11-64A   ",{"$f":"IF(H1089=$H$60, IF(I1089=$I$60, J1089,\"\"),\"\")","v":""}]
[null,null,null,null,null,null,null,"0403SP125CLG","3008600023     ","SP125 11-65    ",""]
[null,null,null,null,null,null,null,"0403SP125BLP","3035900026     ","SP125 11-66    ",""]
[null,null,null,null,null,null,null,"0403SP125BLP","3035900026     ","SP125 11-66A   ",""]
[null,null,null,null,null,null,null,"0403SP125CLG","3008600023     ","SP125 11-69    ",""]
[null,null,null,null,null,null,null,"0403SP125CLG","3008600023     ","SP125 11-69A   ",""]
[null,null,null,null,null,null,null,"0403SP125B","3116900026     ","SP125 11-7     ",""]
[null,null,null,null,null,null,null,"0403SP125CLG","3027400028     ","SP125 11-73    ",""]
[null,null,null,null,null,null,null,"0403SP125CLG","3008600023     ","SP125 11-75    ",""]
[null,null,null,null,null,null,null,"0403SP125CLG","3008600023     ","SP125 11-75A   ",""]
[null,null,null,null,null,null,null,"0403SP125B","3176700025     ","SP125 11-8     ",""]
[null,null,null,null,null,null,null,"0403SP125BSM","3035900026     ","SP125 11-80    ",""]
[null,null,null,null,null,null,null,"0403SP125CLG","3035900026     ","SP125 11-81    ",""]
[null,null,null,null,null,null,null,"0403SP125CLG","3008600023     ","SP125 11-83    ",""]
[null,null,null,null,null,null,null,"0403SP125BSM","3008600023     ","SP125 11-84    ",""]
[null,null,null,null,null,null,null,"0403SP125CLG","3035900026     ","SP125 11-85    ",""]
[null,null,null,null,null,null,null,"0403SP125CLG","3027400028     ","SP125 11-89    ",""]
[null,null,null,null,null,null,null,"0403SP125CLG","3176700025     ","SP125 11-9     ",""]
[null,null,null,null,null,null,null,"0403SP125B","3298500021     ","SP125 11-91    ",""]
[null,null,null,null,null,null,null,"0403SP125CLG","3008600023     ","SP125 11-95    ",""]
[null,null,null,null,null,null,null,"0403SP125CLG","3008600023     ","SP125 11-95A   ",""]
[null,null,null,null,null,null,null,"0403SP125CLG","3176700025     ","SP125 11-9A    ",""]
[null,null,null,null,null,null,null,"0403SP125CLG","3176700025     ","SP125 11-9B    ",""]
[null,null,null,null,null,null,null,"0403SP125CLG","3176700025     ","SP125 11-9C    ",""]
[null,null,null,null,null,null,null,"0403SP125BSM","3035900026     ","SP125 12-11    ",""]
[null,null,null,null,null,null,null,"0403SP125BSM","3029700023     ","SP125 12-13    ",""]
[null,null,null,null,null,null,null,"0403SP125CLG","3027400028     ","SP125 12-15    ",""]
[null,null,null,null,null,null,null,"0403SP125B","3029700023     ","SP125 12-17    ",""]
[null,null,null,null,null,null,null,"0403SP125CLG","3057100025     ","SP125 12-20    ",""]
[null,null,null,null,null,null,null,"0403SP125CLG","3057100025     ","SP125 12-20A   ",""]
[null,null,null,null,null,null,null,"0403SP125CLG","3176700025     ","SP125 12-23    ",""]
[null,null,null,null,null,null,null,"0403SP125BSMR","3200700120     ","SP125 12-24    ",""]
[null,null,null,null,null,null,null,"0403SP125BSMR","3200700120     ","SP125 12-24A   ",""]
[null,null,null,null,null,null,null,"0403SP125BSM","3056900024     ","SP125 12-28    ",""]
[null,null,null,null,null,null,null,"0403SP125BSM","3056900024     ","SP125 12-28A   ",""]
[null,null,null,null,null,null,null,"0403SP125CLG","3008600023     ","SP125 12-30    ",""]
[null,null,null,null,null,null,null,"0403SP125CLG","3008600023     ","SP125 12-30A   ",""]
[null,null,null,null,null,null,null,"0403SP125CLG","3176700025     ","SP125 12-32    ",""]
[null,null,null,null,null,null,null,"0403SP125BLP","3035900026     ","SP125 12-33    ",""]
[null,null,null,null,null,null,null,"0403SP125BSMR","3008600023     ","SP125 12-39    ",""]
[null,null,null,null,null,null,null,"0403SP125CLG","3027400028     ","SP125 12-45    ",""]
[null,null,null,null,null,null,null,"0403SP125CLGLP","3029700023     ","SP125 12-47    ",""]
[null,null,null,null,null,null,null,"0403SP125CLG","3027400028     ","SP125 12-48    ",""]
[null,null,null,null,null,null,null,"0403SP125BSMR","3176700025     ","SP125 12-52    ",""]
[null,null,null,null,null,null,null,"0403SP125BSMR","3176700025     ","SP125 12-55    ",""]
[null,null,null,null,null,null,null,"0403SP125CLG","3176700025     ","SP125 12-59    ",""]
[null,null,null,null,null,null,null,"0403SP125B","3008600023     ","SP125 12-6     ",""]
[null,null,null,null,null,null,null,"0403SP125CLG","3035900026     ","SP125 12-60    ",""]
[null,null,null,null,null,null,null,"0403SP125BSM","3029700023     ","SP125 12-63    ",""]
[null,null,null,null,null,null,null,"0403SP125CLG","3008600023     ","SP125 12-71    ",""]
[null,null,null,null,null,null,null,"0403SP125CLG","3008600023     ","SP125 12-74    ",""]
[null,null,null,null,null,null,null,"0403SP125CLG","3008600023     ","SP125 12-75    ",""]
[null,null,null,null,null,null,null,"0403SP125CLG","3176700025     ","SP125 12-76    ",""]
[null,null,null,null,null,null,null,"0403SP125CLG","3132800027     ","SP125 12-77    ",""]
[null,null,null,null,null,null,null,"0403SP125CLG","3132800027     ","SP125 12-77A   ",""]
[null,null,null,null,null,null,null,"0403SP125CLG","3176700025     ","SP125 12-78    ",""]
[null,null,null,null,null,null,null,"0403SP125B","3056900024     ","SP125 12-81    ",""]
[null,null,null,null,null,null,null,"0403SP125CLG","3132800027     ","SP125 13-101   ",""]
[null,null,null,null,null,null,null,"0403SP125CLG","3132800027     ","SP125 13-101A  ",""]
[null,null,null,null,null,null,null,"0403SP125B","3116900026     ","SP125 13-104   ",""]
[null,null,null,null,null,null,null,"0403SP125BSMR","3008600023     ","SP125 13-105   ",""]
[null,null,null,null,null,null,null,"0403SP125B","3020400021     ","SP125 13-108   ",""]
[null,null,null,null,null,null,null,"0403SP125BSMR","3008600023     ","SP125 13-109   ",""]
[null,null,null,null,null,null,null,"0403SP125B","3056900024     ","SP125 13-111   ",""]
[null,null,null,null,null,null,null,"0403SP125CLG","3008600023     ","SP125 13-112   ",{"$f":"IF(H1153=$H$60, IF(I1153=$I$60, J1153,\"\"),\"\")","v":""}]
[null,null,null,null,null,null,null,"0403SP125CLG","3176700025     ","SP125 13-113   ",""]
[null,null,null,null,null,null,null,"0403SP125CLG","3008600023     ","SP125 13-14    ",""]
[null,null,null,null,null,null,null,"0403SP125C","3020400021     ","SP125 13-16    ",""]
[null,null,null,null,null,null,null,"0403SP125BSM","3016400026     ","SP125 13-18    ",""]
[null,null,null,null,null,null,null,"0403SP125C","3020400021     ","SP125 13-19    ",""]
[null,null,null,null,null,null,null,"0403SP125CLG","3029700023     ","SP125 13-20    ",""]
[null,null,null,null,null,null,null,"0403SP125CLG","3176700025     ","SP125 13-22    ",""]
[null,null,null,null,null,null,null,"0403SP125CLG","3176700025     ","SP125 13-22A   ",""]
[null,null,null,null,null,null,null,"0403SP125CLG","3029700023     ","SP125 13-26    ",""]
[null,null,null,null,null,null,null,"0403SP125CLP","3016400026     ","SP125 13-3     ",""]
[null,null,null,null,null,null,null,"0403SP125BSM","3035900026     ","SP125 13-30    ",""]
[null,null,null,null,null,null,null,"0403SP125CLG","3027400028     ","SP125 13-35    ",""]
[null,null,null,null,null,null,null,"0403SP125CLP","3116900026     ","SP125 13-36    ",""]
[null,null,null,null,null,null,null,"0403SP125CLG","3176700025     ","SP125 13-38    ",""]
[null,null,null,null,null,null,null,"0403SP125CLP","3016400026     ","SP125 13-4     ",""]
[null,null,null,null,null,null,null,"0403SP125CLG","3176700025     ","SP125 13-40    ",""]
[null,null,null,null,null,null,null,"0403SP125CLG","3176700025     ","SP125 13-40A   ",""]
[null,null,null,null,null,null,null,"0403SP125CLG","3132700027     ","SP125 13-42    ",""]
[null,null,null,null,null,null,null,"0403SP125CLG","3176700025     ","SP125 13-44    ",""]
[null,null,null,null,null,null,null,"0403SP125CLG","3176700025     ","SP125 13-45    ",""]
[null,null,null,null,null,null,null,"0403SP125CLG","3176700025     ","SP125 13-45A   ",""]
[null,null,null,null,null,null,null,"0403SP125CLG","3176700025     ","SP125 13-46    ",""]
[null,null,null,null,null,null,null,"0403SP125CLG","3176700025     ","SP125 13-5     ",""]
[null,null,null,null,null,null,null,"0403SP125CLG","3298500021     ","SP125 13-51    ",""]
[null,null,null,null,null,null,null,"0403SP125C","3200700120     ","SP125 13-53    ",""]
[null,null,null,null,null,null,null,"0403SP125C","3200700120     ","SP125 13-53A   ",""]
[null,null,null,null,null,null,null,"0403SP125BSM","3008600023     ","SP125 13-54    ",""]
[null,null,null,null,null,null,null,"0403SP125CLG","3008600023     ","SP125 13-56    ",""]
[null,null,null,null,null,null,null,"0403SP125CLG","3116900026     ","SP125 13-59    ",""]
[null,null,null,null,null,null,null,"0403SP125CLG","3176700025     ","SP125 13-5A    ",""]
[null,null,null,null,null,null,null,"0403SP125CLG","3176700025     ","SP125 13-5B    ",""]
[null,null,null,null,null,null,null,"0403SP125B","3176704614     ","SP125 13-65    ",""]
[null,null,null,null,null,null,null,"0403SP125C","3016400026     ","SP125 13-7     ",""]
[null,null,null,null,null,null,null,"0403SP125B","3176700025     ","SP125 13-70    ",""]
[null,null,null,null,null,null,null,"0403SP125B","3176700025     ","SP125 13-70A   ",""]
[null,null,null,null,null,null,null,"0403SP125CLG","3176700025     ","SP125 13-76    ",""]
[null,null,null,null,null,null,null,"0403SP125BSMR","3176700025     ","SP125 13-79    ",""]
[null,null,null,null,null,null,null,"0403SP125C","3016400026     ","SP125 13-8     ",""]
[null,null,null,null,null,null,null,"0403SP125B","3056900024     ","SP125 13-80    ",""]
[null,null,null,null,null,null,null,"0403SP125CLG","3176700025     ","SP125 13-81    ",""]
[null,null,null,null,null,null,null,"0403SP125CLG","3176700025     ","SP125 13-83    ",""]
[null,null,null,null,null,null,null,"0403SP125CLG","3029700023     ","SP125 13-84    ",""]
[null,null,null,null,null,null,null,"0403SP125CLG","3029700023     ","SP125 13-84A   ",""]
[null,null,null,null,null,null,null,"0403SP125CLG","3008600023     ","SP125 13-86    ",""]
[null,null,null,null,null,null,null,"0403SP125B","3008600023     ","SP125 13-89    ",""]
[null,null,null,null,null,null,null,"0403SP125CLGLP","3035900026     ","SP125 13-9     ",""]
[null,null,null,null,null,null,null,"0403SP125CLG","3176700025     ","SP125 13-91    ",""]
[null,null,null,null,null,null,null,"0403SP125CLG","3008600023     ","SP125 13-92    ",""]
[null,null,null,null,null,null,null,"0403SP125CLG","3008600023     ","SP125 13-92A   ",""]
[null,null,null,null,null,null,null,"0403SP125CLG","3008600023     ","SP125 13-92B   ",""]
[null,null,null,null,null,null,null,"0403SP125BSMR","3176700025     ","SP125 13-93    ",""]
[null,null,null,null,null,null,null,"0403SP125CLG","3176700025     ","SP125 13-95    ",""]
[null,null,null,null,null,null,null,"0403SP125CLG","3176700025     ","SP125 13-96    ",""]
[null,null,null,null,null,null,null,"0403SP125CLG","3035900026     ","SP125 13-99    ",""]
[null,null,null,null,null,null,null,"0403SP125CLGLP","3035900026     ","SP125 13-9A    ",""]
[null,null,null,null,null,null,null,"0403SP125CLGLP","3035900026     ","SP125 13-9B    ",""]
[null,null,null,null,null,null,null,"0403SP125CLG","3176700025     ","SP125 14-1     ",""]
[null,null,null,null,null,null,null,"0403SP125B","3020400021     ","SP125 14-3     ",""]
[null,null,null,null,null,null,null,"0403SP190C","3008600023     ","SP190 10-144B  ",""]
[null,null,null,null,null,null,null,"0403SP190CLG","3008600023     ","SP190 11-104   ",""]
[null,null,null,null,null,null,null,"0403SP190CLG","3008600023     ","SP190 11-104A  ",""]
[null,null,null,null,null,null,null,"0403SP190B","3298500021     ","SP190 11-105   ",""]
[null,null,null,null,null,null,null,"0403SP190B","3298500021     ","SP190 11-105A  ",""]
[null,null,null,null,null,null,null,"0403SP190CLG","3298500021     ","SP190 11-113   ",{"$f":"IF(H1217=$H$60, IF(I1217=$I$60, J1217,\"\"),\"\")","v":""}]
[null,null,null,null,null,null,null,"0403SP190CLG","3298500021     ","SP190 11-114   ",""]
[null,null,null,null,null,null,null,"0403SP190B","3035900026     ","SP190 11-12    ",""]
[null,null,null,null,null,null,null,"0403SP190B","3035900026     ","SP190 11-12A   ",""]
[null,null,null,null,null,null,null,"0403SP190B","3035900026     ","SP190 11-12C   ",""]
[null,null,null,null,null,null,null,"0403SP190CLG","3035900026     ","SP190 11-15    ",""]
[null,null,null,null,null,null,null,"0403SP190CLG","3035900026     ","SP190 11-15A   ",""]
[null,null,null,null,null,null,null,"0403SP190CLG","3029700023     ","SP190 11-17    ",""]
[null,null,null,null,null,null,null,"0403SP190B","3027400028     ","SP190 11-2     ",""]
[null,null,null,null,null,null,null,"0403SP190CLG","3176700025     ","SP190 11-32    ",""]
[null,null,null,null,null,null,null,"0403SP190CLG","3176700025     ","SP190 11-33    ",""]
[null,null,null,null,null,null,null,"0403SP190CLG","3008600023     ","SP190 11-35    ",""]
[null,null,null,null,null,null,null,"0403SP190B","3035900026     ","SP190 11-45    ",""]
[null,null,null,null,null,null,null,"0403SP190CLG","3176700025     ","SP190 11-5     ",""]
[null,null,null,null,null,null,null,"0403SP190B","3035900026     ","SP190 11-51    ",""]
[null,null,null,null,null,null,null,"0403SP190B","3035900026     ","SP190 11-51A   ",""]
[null,null,null,null,null,null,null,"0403SP190B","3035900026     ","SP190 11-51B   ",""]
[null,null,null,null,null,null,null,"0403SP190CLG","3029700023     ","SP190 11-53    ",""]
[null,null,null,null,null,null,null,"0403SP190CLG","3176700025     ","SP190 11-54    ",""]
[null,null,null,null,null,null,null,"0403SP190B","3035900026     ","SP190 11-56    ",""]
[null,null,null,null,null,null,null,"0403SP190B","3035900026     ","SP190 11-56A   ",""]
[null,null,null,null,null,null,null,"0403SP190B","3035900026     ","SP190 11-56B   ",""]
[null,null,null,null,null,null,null,"0403SP190B","3035900026     ","SP190 11-57    ",""]
[null,null,null,null,null,null,null,"0403SP190CLG","3176700025     ","SP190 11-5A    ",""]
[null,null,null,null,null,null,null,"0403SP190CLG","3176700025     ","SP190 11-5B    ",""]
[null,null,null,null,null,null,null,"0403SP190CLG","3176700025     ","SP190 11-5C    ",""]
[null,null,null,null,null,null,null,"0403SP190CLG","3027400028     ","SP190 11-60    ",""]
[null,null,null,null,null,null,null,"0403SP190CLG","3027400028     ","SP190 11-60A   ",""]
[null,null,null,null,null,null,null,"0403SP190CLG","3176700025     ","SP190 11-61    ",""]
[null,null,null,null,null,null,null,"0403SP190CLG","3176700025     ","SP190 11-61A   ",""]
[null,null,null,null,null,null,null,"0403SP190CLG","3176700025     ","SP190 11-61B   ",""]
[null,null,null,null,null,null,null,"0403SP190B","3176700025     ","SP190 11-62    ",""]
[null,null,null,null,null,null,null,"0403SP190B","3176700025     ","SP190 11-67    ",""]
[null,null,null,null,null,null,null,"0403SP190CLG","3176700025     ","SP190 11-68    ",""]
[null,null,null,null,null,null,null,"0403SP190B","3008600023     ","SP190 11-70    ",""]
[null,null,null,null,null,null,null,"0403SP190CLG","3027400028     ","SP190 11-72    ",""]
[null,null,null,null,null,null,null,"0403SP190CLG","3027400028     ","SP190 11-74    ",""]
[null,null,null,null,null,null,null,"0403SP190CLG","3008600023     ","SP190 11-76    ",""]
[null,null,null,null,null,null,null,"0403SP190CLG","3008600023     ","SP190 11-77    ",""]
[null,null,null,null,null,null,null,"0403SP190B","3298500021     ","SP190 11-86    ",""]
[null,null,null,null,null,null,null,"0403SP190CLG","3027400028     ","SP190 11-88    ",""]
[null,null,null,null,null,null,null,"0403SP190CLG","3298500021     ","SP190 11-92    ",""]
[null,null,null,null,null,null,null,"0403SP190CLG","3298500021     ","SP190 11-92A   ",""]
[null,null,null,null,null,null,null,"0403SP190CLG","3008600023     ","SP190 11-93    ",""]
[null,null,null,null,null,null,null,"0403SP190B","3056900024     ","SP190 11-99    ",""]
[null,null,null,null,null,null,null,"0403SP190B","3200700120     ","SP190 12-12    ",""]
[null,null,null,null,null,null,null,"0403SP190B","3200700120     ","SP190 12-12A   ",""]
[null,null,null,null,null,null,null,"0403SP190B","3200700120     ","SP190 12-14    ",""]
[null,null,null,null,null,null,null,"0403SP190B","3200700120     ","SP190 12-14A   ",""]
[null,null,null,null,null,null,null,"0403SP190B","3008600023     ","SP190 12-18    ",""]
[null,null,null,null,null,null,null,"0403SP190CLG","3057100025     ","SP190 12-21    ",""]
[null,null,null,null,null,null,null,"0403SP190CLG","3057100025     ","SP190 12-21A   ",""]
[null,null,null,null,null,null,null,"0403SP190CLG","3035900026     ","SP190 12-26    ",""]
[null,null,null,null,null,null,null,"0403SP190CLG","3029700023     ","SP190 12-34    ",""]
[null,null,null,null,null,null,null,"0403SP190CLG","3176700025     ","SP190 12-44    ",""]
[null,null,null,null,null,null,null,"0403SP190CLG","3176700025     ","SP190 12-44A   ",""]
[null,null,null,null,null,null,null,"0403SP190CLG","3176700025     ","SP190 12-61    ",""]
[null,null,null,null,null,null,null,"0403SP190CLG","3029700023     ","SP190 12-64    ",""]
[null,null,null,null,null,null,null,"0403SP190CLG","3029700023     ","SP190 12-64A   ",""]
[null,null,null,null,null,null,null,"0403SP190CLG","3029700023     ","SP190 12-64B   ",""]
[null,null,null,null,null,null,null,"0403SP190CLG","3056900024     ","SP190 12-66    ",""]
[null,null,null,null,null,null,null,"0403SP190CLG","3056900024     ","SP190 12-66A   ",""]
[null,null,null,null,null,null,null,"0403SP190CLG","3008600023     ","SP190 12-69    ",""]
[null,null,null,null,null,null,null,"0403SP190CLG","3176700025     ","SP190 12-79    ",""]
[null,null,null,null,null,null,null,"0403SP190C","3016400026     ","SP190 13-1     ",{"$f":"IF(H1281=$H$60, IF(I1281=$I$60, J1281,\"\"),\"\")","v":""}]
[null,null,null,null,null,null,null,"0403SP190CLG","3035900026     ","SP190 13-10    ",""]
[null,null,null,null,null,null,null,"0403SP190B","3008600023     ","SP190 13-100   ",""]
[null,null,null,null,null,null,null,"0403SP190B","3020400021     ","SP190 13-102   ",""]
[null,null,null,null,null,null,null,"0403SP190B","3020400021     ","SP190 13-106   ",""]
[null,null,null,null,null,null,null,"0403SP190CLG","3035900026     ","SP190 13-10A   ",""]
[null,null,null,null,null,null,null,"0403SP190CLG","3035900026     ","SP190 13-11    ",""]
[null,null,null,null,null,null,null,"0403SP190B","3016400026     ","SP190 13-17    ",""]
[null,null,null,null,null,null,null,"0403SP190C","3016400026     ","SP190 13-1A    ",""]
[null,null,null,null,null,null,null,"0403SP190C","3016400026     ","SP190 13-2     ",""]
[null,null,null,null,null,null,null,"0403SP190CLG","3027400028     ","SP190 13-21    ",""]
[null,null,null,null,null,null,null,"0403SP190B","3008600023     ","SP190 13-27    ",""]
[null,null,null,null,null,null,null,"0403SP190CLG","3008600023     ","SP190 13-28    ",""]
[null,null,null,null,null,null,null,"0403SP190CLG","3035900026     ","SP190 13-29    ",""]
[null,null,null,null,null,null,null,"0403SP190C","3016400026     ","SP190 13-2A    ",""]
[null,null,null,null,null,null,null,"0403SP190C","3020400021     ","SP190 13-31    ",""]
[null,null,null,null,null,null,null,"0403SP190C","3020400021     ","SP190 13-32    ",""]
[null,null,null,null,null,null,null,"0403SP190CLG","3176700025     ","SP190 13-33    ",""]
[null,null,null,null,null,null,null,"0403SP190CLG","3176700025     ","SP190 13-34    ",""]
[null,null,null,null,null,null,null,"0403SP190CLG","3176700025     ","SP190 13-47    ",""]
[null,null,null,null,null,null,null,"0403SP190B","3008600023     ","SP190 13-48    ",""]
[null,null,null,null,null,null,null,"0403SP190CLG","3298500021     ","SP190 13-49    ",""]
[null,null,null,null,null,null,null,"0403SP190CLG","3056900024     ","SP190 13-55    ",""]
[null,null,null,null,null,null,null,"0403SP190B","3016400026     ","SP190 13-6     ",""]
[null,null,null,null,null,null,null,"0403SP190B","3008600023     ","SP190 13-60    ",""]
[null,null,null,null,null,null,null,"0403SP190CLG","3176700025     ","SP190 13-61    ",""]
[null,null,null,null,null,null,null,"0403SP190CLG","3176700025     ","SP190 13-61A   ",""]
[null,null,null,null,null,null,null,"0403SP190CLG","3298500021     ","SP190 13-63    ",""]
[null,null,null,null,null,null,null,"0403SP190B","3016400026     ","SP190 13-6A    ",""]
[null,null,null,null,null,null,null,"0403SP190B","3176700025     ","SP190 13-72    ",""]
[null,null,null,null,null,null,null,"0403SP190CLG","3035900026     ","SP190 13-77    ",""]
[null,null,null,null,null,null,null,"0403SP190CLG","3176700025     ","SP190 13-90    ",""]
[null,null,null,null,null,null,null,"0403SP190CLG","3035900026     ","SP190 13-98    ",""]
[null,null,null,null,null,null,null,"0403SP190C","3020400021     ","SP190 14-5     ",""]
[null,null,null,null,null,null,null,"0403SP250HC","3176700025     ","SP250 01-283   ",""]
[null,null,null,null,null,null,null,"0403SP250CLG","3176700025     ","SP250 10-88C   ",""]
[null,null,null,null,null,null,null,"0403SP250CLG","3027400028     ","SP250 11-102   ",""]
[null,null,null,null,null,null,null,"0403SP250CLG","3027400028     ","SP250 11-103   ",""]
[null,null,null,null,null,null,null,"0403SP250CLG","3027400028     ","SP250 11-103A  ",""]
[null,null,null,null,null,null,null,"0403SP250CLG","3176700025     ","SP250 11-18    ",""]
[null,null,null,null,null,null,null,"0403SP250CLG","3176700025     ","SP250 11-18A   ",""]
[null,null,null,null,null,null,null,"0403SP250CLG","3027400028     ","SP250 11-26    ",""]
[null,null,null,null,null,null,null,"0403SP250B","3027400028     ","SP250 11-28    ",""]
[null,null,null,null,null,null,null,"0403SP250B","3050100028     ","SP250 11-3     ",""]
[null,null,null,null,null,null,null,"0403SP250B","3027400028     ","SP250 11-31    ",""]
[null,null,null,null,null,null,null,"0403SP250B","3027400028     ","SP250 11-31A   ",""]
[null,null,null,null,null,null,null,"0403SP250B","3050100028     ","SP250 11-3A    ",""]
[null,null,null,null,null,null,null,"0403SP250B","3050100028     ","SP250 11-3B    ",""]
[null,null,null,null,null,null,null,"0403SP250CLG","3176700025     ","SP250 11-41    ",""]
[null,null,null,null,null,null,null,"0403SP250CLG","3027400028     ","SP250 11-87    ",""]
[null,null,null,null,null,null,null,"0403SP250CLG","3176700025     ","SP250 12-2     ",""]
[null,null,null,null,null,null,null,"0403SP250CLG","3176700025     ","SP250 12-29    ",""]
[null,null,null,null,null,null,null,"0403SP250CLG","3176700025     ","SP250 12-2A    ",""]
[null,null,null,null,null,null,null,"0403SP250CLG","3176700025     ","SP250 12-3     ",""]
[null,null,null,null,null,null,null,"0403SP250CLG","3027400028     ","SP250 12-42    ",""]
[null,null,null,null,null,null,null,"0403SP250CLG","3027400028     ","SP250 12-43    ",""]
[null,null,null,null,null,null,null,"0403SP250CLG","3027400028     ","SP250 12-43A   ",""]
[null,null,null,null,null,null,null,"0403SP250CLG","3176700025     ","SP250 12-70    ",""]
[null,null,null,null,null,null,null,"0403SP250CLG","3176700025     ","SP250 12-70A   ",""]
[null,null,null,null,null,null,null,"0403SP250B","3132800027     ","SP250 12-72    ",""]
[null,null,null,null,null,null,null,"0403SP250B","3132800027     ","SP250 12-72A   ",""]
[null,null,null,null,null,null,null,"0403SP250C","3132800027     ","SP250 12-9     ",""]
[null,null,null,null,null,null,null,"0403SP250C","3132800027     ","SP250 12-9A    ",""]
[null,null,null,null,null,null,null,"0403SP250C","3132800027     ","SP250 12-9B    ",""]
[null,null,null,null,null,null,null,"0403SP250CLG","3027400028     ","SP250 13-24    ",{"$f":"IF(H1345=$H$60, IF(I1345=$I$60, J1345,\"\"),\"\")","v":""}]
[null,null,null,null,null,null,null,"0403SP250CLG","3027400028     ","SP250 13-25    ",""]
[null,null,null,null,null,null,null,"0403SP250CLG","3176700025     ","SP250 13-39    ",""]
[null,null,null,null,null,null,null,"0403SP250CLG","3176700025     ","SP250 13-41    ",""]
[null,null,null,null,null,null,null,"0403SP250CLG","3132700027     ","SP250 13-43    ",""]
[null,null,null,null,null,null,null,"0403SP250CLG","3298500021     ","SP250 13-52    ",""]
[null,null,null,null,null,null,null,"0302PBAS","3050100028     ","SPB11-1        ",""]
[null,null,null,null,null,null,null,"0302PBAS","3176700025     ","SPB11-5        ",""]
[null,null,null,null,null,null,null,"0302PBAS","3176700025     ","SPB11-8        ",""]
[null,null,null,null,null,null,null,"0302PBAS","3035900026     ","SPB12-10       ",""]
[null,null,null,null,null,null,null,"0413UBWSACTB","3176700025     ","UBAWS 11-10    ",""]
[null,null,null,null,null,null,null,"0413UBWSACTB","3176700025     ","UBAWS 11-10A   ",""]
[null,null,null,null,null,null,null,"0413UBWSACTB","3176700025     ","UBAWS 11-10B   ",""]
[null,null,null,null,null,null,null,"0413UBWSACTC","3035900026     ","UBAWS 11-11    ",""]
[null,null,null,null,null,null,null,"0413UBWSACTC","3035900026     ","UBAWS 11-11A   ",""]
[null,null,null,null,null,null,null,"0413UBWSACTB","3056900024     ","UBAWS 11-12    ",""]
[null,null,null,null,null,null,null,"0413UBWSACTA","3016400026     ","UBAWS 11-13    ",""]
[null,null,null,null,null,null,null,"0413UBWSACTB","3056900024     ","UBAWS 11-14    ",""]
[null,null,null,null,null,null,null,"0413UBWSACTC","3176700025     ","UBAWS 11-15    ",""]
[null,null,null,null,null,null,null,"0413UBWSACTA","3035900026     ","UBAWS 11-16    ",""]
[null,null,null,null,null,null,null,"0413UBWSACTA","3035900026     ","UBAWS 11-16A   ",""]
[null,null,null,null,null,null,null,"0413UBWSACTA","3035900026     ","UBAWS 11-17    ",""]
[null,null,null,null,null,null,null,"0413UBWSACTC","3020400021     ","UBAWS 11-18    ",""]
[null,null,null,null,null,null,null,"0413UBWSACTC","3020400021     ","UBAWS 11-2     ",{"$f":"IF(H1368=$H$60, IF(I1368=$I$60, J1368,\"\"),\"\")","v":""}]
[null,null,null,null,null,null,null,"0413UBWSACTC","3029700023     ","UBAWS 11-20    ",""]
[null,null,null,null,null,null,null,"0413UBWSACTA","3020400021     ","UBAWS 11-3     ",""]
[null,null,null,null,null,null,null,"0413UBWSACTC","3016400026     ","UBAWS 11-4     ",""]
[null,null,null,null,null,null,null,"0413UBWSACTA","3176700025     ","UBAWS 11-6     ",""]
[null,null,null,null,null,null,null,"0413UBWSACTA","3176700025     ","UBAWS 11-7     ",""]
[null,null,null,null,null,null,null,"0413UBWSACTC","3176700025     ","UBAWS 11-9     ",""]
[null,null,null,null,null,null,null,"0413UBWSACTC","3176700025     ","UBAWS 11-9A    ",""]
[null,null,null,null,null,null,null,"0413UBWSACTB","3132800027     ","UBAWS 12-1     ",""]
[null,null,null,null,null,null,null,"0413UBWSACTC","3176700025     ","UBAWS 12-11    ",""]
[null,null,null,null,null,null,null,"0413UBWSACTC","3176700025     ","UBAWS 12-11A   ",""]
[null,null,null,null,null,null,null,"0413UBWSACTC","3027400028     ","UBAWS 12-12    ",""]
[null,null,null,null,null,null,null,"0413UBWSACTB","3027400028     ","UBAWS 12-13    ",""]
[null,null,null,null,null,null,null,"0413UBWSACTC","3008600023     ","UBAWS 12-14    ",""]
[null,null,null,null,null,null,null,"0413UBWSACTC","3176700025     ","UBAWS 12-15    ",""]
[null,null,null,null,null,null,null,"0413UBWSACTC","3176700025     ","UBAWS 12-15A   ",""]
[null,null,null,null,null,null,null,"0413UBWSACTC","3008600023     ","UBAWS 12-16    ",""]
[null,null,null,null,null,null,null,"0413UBWSACTC","3176700025     ","UBAWS 12-17    ",""]
[null,null,null,null,null,null,null,"0413UBWSACTC","3116901059     ","UBAWS 12-18    ",""]
[null,null,null,null,null,null,null,"0413UBWSACTA","3016400026     ","UBAWS 12-2     ",""]
[null,null,null,null,null,null,null,"0413UBWSACTC","3029700023     ","UBAWS 12-3     ",""]
[null,null,null,null,null,null,null,"0413UBWSACTA","3016400026     ","UBAWS 12-5     ",""]
[null,null,null,null,null,null,null,"0413UBWSACTC","3016400026     ","UBAWS 12-6     ",""]
[null,null,null,null,null,null,null,"0413UBWSACTC","3116901059     ","UBAWS 12-7     ",""]
[null,null,null,null,null,null,null,"0413UBWSACTC","3008600023     ","UBAWS 12-8     ",""]
[null,null,null,null,null,null,null,"0413UBWSACTB","3056900024     ","UBAWS 12-9     ",""]
[null,null,null,null,null,null,null,"0413UBWSACTC","3035900026     ","UBAWS 13-1     ",""]
[null,null,null,null,null,null,null,"0413UBWSACTC","3008600023     ","UBAWS 13-10    ",""]
[null,null,null,null,null,null,null,"0413UBWSACTC","3020400021     ","UBAWS 13-11    ",""]
[null,null,null,null,null,null,null,"0413UBWSACTC","3176700025     ","UBAWS 13-12    ",""]
[null,null,null,null,null,null,null,"0413UBWSACTC","3016400026     ","UBAWS 13-2     ",""]
[null,null,null,null,null,null,null,"0413UBWSACTC","3056900024     ","UBAWS 13-3     ",""]
[null,null,null,null,null,null,null,"0413UBWSACTB","3056900024     ","UBAWS 13-4     ",""]
[null,null,null,null,null,null,null,"0413UBWSACTC","3176700025     ","UBAWS 13-5     ",""]
[null,null,null,null,null,null,null,"0413UBWSACTC","3035900026     ","UBAWS 13-6     ",""]
[null,null,null,null,null,null,null,"0413UBWSACTC","3176700025     ","UBAWS 13-7     ",""]
[null,null,null,null,null,null,null,"0413UBWSACTC","3029700023     ","UBAWS 13-8     ",""]
[null,null,null,null,null,null,null,"0413UBWSACTC","3008600023     ","UBAWS 13-9     ",""]
[null,null,null,null,null,null,null,"0413UBWSACTC","3116900026     ","UBX 11-19      ",""]
[null,null,null,null,null,null,null,null,null,null,{"$error":"#N/A"}]
[null,null,null,null,null,null,null,null,null,null,{"$error":"#N/A"}]
[null,null,null,null,null,null,null,null,null,null,{"$f":"IF(H1409=$H$60, IF(I1409=$I$60, J1409,\"\"),\"\")","v":{"$error":"#N/A"}}]
[null,null,null,null,null,null,null,null,null,null,{"$error":"#N/A"}]
[null,null,null,null,null,null,null,null,null,null,{"$error":"#N/A"}]
[null,null,null,null,null,null,null,null,null,null,{"$error":"#N/A"}]
[null,null,null,null,null,null,null,null,null,null,{"$error":"#N/A"}]
[null,null,null,null,null,null,null,null,null,null,{"$error":"#N/A"}]
[null,null,null,null,null,null,null,null,null,null,{"$error":"#N/A"}]
[null,null,null,null,null,null,null,null,null,null,{"$error":"#N/A"}]
[null,null,null,null,null,null,null,null,null,null,{"$error":"#N/A"}]
[null,null,null,null,null,null,null,null,null,null,{"$error":"#N/A"}]
[null,null,null,null,null,null,null,null,null,null,{"$error":"#N/A"}]
[null,null,null,null,null,null,null,null,null,null,{"$error":"#N/A"}]
[null,null,null,null,null,null,null,null,null,null,{"$error":"#N/A"}]
[null,null,null,null,null,null,null,null,null,null,{"$error":"#N/A"}]
[null,null,null,null,null,null,null,null,null,null,{"$error":"#N/A"}]
[null,null,null,null,null,null,null,null,null,null,{"$error":"#N/A"}]
[null,null,null,null,null,null,null,null,null,null,{"$error":"#N/A"}]
[null,null,null,null,null,null,null,null,null,null,{"$error":"#N/A"}]
[null,null,null,null,null,null,null,null,null,null,{"$error":"#N/A"}]
[null,null,null,null,null,null,null,null,null,null,{"$error":"#N/A"}]
[null,null,null,null,null,null,null,null,null,null,{"$error":"#N/A"}]
[null,null,null,null,null,null,null,null,null,null,{"$error":"#N/A"}]
[null,null,null,null,null,null,null,null,null,null,{"$error":"#N/A"}]
[null,null,null,null,null,null,null,null,null,null,{"$error":"#N/A"}]
[null,null,null,null,null,null,null,null,null,null,{"$error":"#N/A"}]
[null,null,null,null,null,null,null,null,null,null,{"$error":"#N/A"}]
[null,null,null,null,null,null,null,null,null,null,{"$error":"#N/A"}]
[null,null,null,null,null,null,null,null,null,null,{"$error":"#N/A"}]
[null,null,null,null,null,null,null,null,null,null,{"$error":"#N/A"}]
[null,null,null,null,null,null,null,null,null,null,{"$error":"#N/A"}]
[null,null,null,null,null,null,null,null,null,null,{"$error":"#N/A"}]
[null,null,null,null,null,null,null,null,null,null,{"$error":"#N/A"}]
[null,null,null,null,null,null,null,null,null,null,{"$error":"#N/A"}]
[null,null,null,null,null,null,null,null,null,null,{"$error":"#N/A"}]
[null,null,null,null,null,null,null,null,null,null,{"$error":"#N/A"}]
[null,null,null,null,null,null,null,null,null,null,{"$error":"#N/A"}]
[null,null,null,null,null,null,null,null,null,null,{"$error":"#N/A"}]
[null,null,null,null,null,null,null,null,null,null,{"$error":"#N/A"}]
[null,null,null,null,null,null,null,null,null,null,{"$error":"#N/A"}]
[null,null,null,null,null,null,null,null,null,null,{"$error":"#N/A"}]
[null,null,null,null,null,null,null,null,null,null,{"$error":"#N/A"}]
[null,null,null,null,null,null,null,null,null,null,{"$error":"#N/A"}]
[null,null,null,null,null,null,null,null,null,null,{"$error":"#N/A"}]
[null,null,null,null,null,null,null,null,null,null,{"$error":"#N/A"}]
[null,null,null,null,null,null,null,null,null,null,{"$error":"#N/A"}]
[null,null,null,null,null,null,null,null,null,null,{"$error":"#N/A"}]
[null,null,null,null,null,null,null,null,null,null,{"$error":"#N/A"}]
[null,null,null,null,null,null,null,null,null,null,{"$error":"#N/A"}]
[null,null,null,null,null,null,null,null,null,null,{"$error":"#N/A"}]
[null,null,null,null,null,null,null,null,null,null,{"$error":"#N/A"}]
[null,null,null,null,null,null,null,null,null,null,{"$error":"#N/A"}]
[null,null,null,null,null,null,null,null,null,null,{"$error":"#N/A"}]
[null,null,null,null,null,null,null,null,null,null,{"$error":"#N/A"}]
[null,null,null,null,null,null,null,null,null,null,{"$error":"#N/A"}]
[null,null,null,null,null,null,null,null,null,null,{"$error":"#N/A"}]
[null,null,null,null,null,null,null,null,null,null,{"$error":"#N/A"}]
[null,null,null,null,null,null,null,null,null,null,{"$error":"#N/A"}]
[null,null,null,null,null,null,null,null,null,null,{"$error":"#N/A"}]
[null,null,null,null,null,null,null,null,null,null,{"$error":"#N/A"}]
[null,null,null,null,null,null,null,null,null,null,{"$error":"#N/A"}]
[null,null,null,null,null,null,null,null,null,null,{"$error":"#N/A"}]
[null,null,null,null,null,null,null,null,null,null,{"$error":"#N/A"}]
[null,null,null,null,null,null,null,null,null,null,{"$error":"#N/A"}]
[null,null,null,null,null,null,null,null,null,null,{"$error":"#N/A"}]
[null,null,null,null,null,null,null,null,null,null,{"$f":"IF(H1473=$H$60, IF(I1473=$I$60, J1473,\"\"),\"\")","v":{"$error":"#N/A"}}]
[null,null,null,null,null,null,null,null,null,null,{"$error":"#N/A"}]
[null,null,null,null,null,null,null,null,null,null,{"$error":"#N/A"}]
[null,null,null,null,null,null,null,null,null,null,{"$error":"#N/A"}]
[null,null,null,null,null,null,null,null,null,null,{"$error":"#N/A"}]
[null,null,null,null,null,null,null,null,null,null,{"$error":"#N/A"}]
[null,null,null,null,null,null,null,null,null,null,{"$error":"#N/A"}]
[null,null,null,null,null,null,null,null,null,null,{"$error":"#N/A"}]
[null,null,null,null,null,null,null,null,null,null,{"$error":"#N/A"}]
[null,null,null,null,null,null,null,null,null,null,{"$error":"#N/A"}]
[null,null,null,null,null,null,null,null,null,null,{"$error":"#N/A"}]
[null,null,null,null,null,null,null,null,null,null,{"$error":"#N/A"}]
[null,null,null,null,null,null,null,null,null,null,{"$error":"#N/A"}]
[null,null,null,null,null,null,null,null,null,null,{"$error":"#N/A"}]
[null,null,null,null,null,null,null,null,null,null,{"$error":"#N/A"}]
[null,null,null,null,null,null,null,null,null,null,{"$error":"#N/A"}]
[null,null,null,null,null,null,null,null,null,null,{"$error":"#N/A"}]
[null,null,null,null,null,null,null,null,null,null,{"$error":"#N/A"}]
[null,null,null,null,null,null,null,null,null,null,{"$error":"#N/A"}]
[null,null,null,null,null,null,null,null,null,null,{"$error":"#N/A"}]
[null,null,null,null,null,null,null,null,null,null,{"$error":"#N/A"}]
[null,null,null,null,null,null,null,null,null,null,{"$error":"#N/A"}]
[null,null,null,null,null,null,null,null,null,null,{"$error":"#N/A"}]
[null,null,null,null,null,null,null,null,null,null,{"$error":"#N/A"}]
[null,null,null,null,null,null,null,null,null,null,{"$error":"#N/A"}]
[null,null,null,null,null,null,null,null,null,null,{"$error":"#N/A"}]
[null,null,null,null,null,null,null,null,null,null,{"$error":"#N/A"}]
[null,null,null,null,null,null,null,null,null,null,{"$error":"#N/A"}]
[null,null,null,null,null,null,null,null,null,null,{"$error":"#N/A"}]
[null,null,null,null,null,null,null,null,null,null,{"$error":"#N/A"}]
[null,null,null,null,null,null,null,null,null,null,{"$error":"#N/A"}]
[null,null,null,null,null,null,null,null,null,null,{"$error":"#N/A"}]
[null,null,null,null,null,null,null,null,null,null,{"$error":"#N/A"}]
[null,null,null,null,null,null,null,null,null,null,{"$error":"#N/A"}]
[null,null,null,null,null,null,null,null,null,null,{"$error":"#N/A"}]
[null,null,null,null,null,null,null,null,null,null,{"$error":"#N/A"}]
[null,null,null,null,null,null,null,null,null,null,{"$error":"#N/A"}]
[null,null,null,null,null,null,null,null,null,null,{"$error":"#N/A"}]
[null,null,null,null,null,null,null,null,null,null,{"$error":"#N/A"}]
[null,null,null,null,null,null,null,null,null,null,{"$error":"#N/A"}]
[null,null,null,null,null,null,null,null,null,null,{"$error":"#N/A"}]
[null,null,null,null,null,null,null,null,null,null,{"$error":"#N/A"}]
[null,null,null,null,null,null,null,null,null,null,{"$error":"#N/A"}]
[null,null,null,null,null,null,null,null,null,null,{"$error":"#N/A"}]
[null,null,null,null,null,null,null,null,null,null,{"$error":"#N/A"}]
[null,null,null,null,null,null,null,null,null,null,{"$error":"#N/A"}]
[null,null,null,null,null,null,null,null,null,null,{"$error":"#N/A"}]
[null,null,null,null,null,null,null,null,null,null,{"$error":"#N/A"}]
[null,null,null,null,null,null,null,null,null,null,{"$error":"#N/A"}]
[null,null,null,null,null,null,null,null,null,null,{"$error":"#N/A"}]
[null,null,null,null,null,null,null,null,null,null,{"$error":"#N/A"}]
[null,null,null,null,null,null,null,null,null,null,{"$error":"#N/A"}]
[null,null,null,null,null,null,null,null,null,null,{"$error":"#N/A"}]
[null,null,null,null,null,null,null,null,null,null,{"$error":"#N/A"}]
[null,null,null,null,null,null,null,null,null,null,{"$error":"#N/A"}]
[null,null,null,null,null,null,null,null,null,null,{"$error":"#N/A"}]
[null,null,null,null,null,null,null,null,null,null,{"$error":"#N/A"}]
[null,null,null,null,null,null,null,null,null,null,{"$error":"#N/A"}]
[null,null,null,null,null,null,null,null,null,null,{"$error":"#N/A"}]
[null,null,null,null,null,null,null,null,null,null,{"$error":"#N/A"}]
[null,null,null,null,null,null,null,null,null,null,{"$error":"#N/A"}]
[null,null,null,null,null,null,null,null,null,null,{"$error":"#N/A"}]
[null,null,null,null,null,null,null,null,null,null,{"$error":"#N/A"}]
[null,null,null,null,null,null,null,null,null,null,{"$error":"#N/A"}]
[null,null,null,null,null,null,null,null,null,null,{"$f":"IF(H1537=$H$60, IF(I1537=$I$60, J1537,\"\"),\"\")","v":{"$error":"#N/A"}}]
[null,null,null,null,null,null,null,null,null,null,{"$error":"#N/A"}]
[null,null,null,null,null,null,null,null,null,null,{"$error":"#N/A"}]
[null,null,null,null,null,null,null,null,null,null,{"$error":"#N/A"}]
[null,null,null,null,null,null,null,null,null,null,{"$error":"#N/A"}]
[null,null,null,null,null,null,null,null,null,null,{"$error":"#N/A"}]
[null,null,null,null,null,null,null,null,null,null,{"$error":"#N/A"}]
[null,null,null,null,null,null,null,null,null,null,{"$error":"#N/A"}]
[null,null,null,null,null,null,null,null,null,null,{"$error":"#N/A"}]
[null,null,null,null,null,null,null,null,null,null,{"$error":"#N/A"}]
[null,null,null,null,null,null,null,null,null,null,{"$error":"#N/A"}]
[null,null,null,null,null,null,null,null,null,null,{"$error":"#N/A"}]
[null,null,null,null,null,null,null,null,null,null,{"$error":"#N/A"}]
[null,null,null,null,null,null,null,null,null,null,{"$error":"#N/A"}]
[null,null,null,null,null,null,null,null,null,null,{"$error":"#N/A"}]
[null,null,null,null,null,null,null,null,null,null,{"$error":"#N/A"}]
[null,null,null,null,null,null,null,null,null,null,{"$error":"#N/A"}]
[null,null,null,null,null,null,null,null,null,null,{"$error":"#N/A"}]
[null,null,null,null,null,null,null,null,null,null,{"$error":"#N/A"}]
[null,null,null,null,null,null,null,null,null,null,{"$error":"#N/A"}]
[null,null,null,null,null,null,null,null,null,null,{"$error":"#N/A"}]
[null,null,null,null,null,null,null,null,null,null,{"$error":"#N/A"}]
[null,null,null,null,null,null,null,null,null,null,{"$error":"#N/A"}]
[null,null,null,null,null,null,null,null,null,null,{"$error":"#N/A"}]
[null,null,null,null,null,null,null,null,null,null,{"$error":"#N/A"}]

{"sheet":"Test 2","index":5,"n_rows":76,"n_cols":46,"rows_kept":76,"cut":false,"hidden":false,"merged":[[21,3,21,5],[21,7,21,9],[21,11,21,13],[21,15,21,17],[21,19,21,21],[68,22,68,24],[69,6,69,8],[69,10,69,12],[69,14,69,16],[69,18,69,20],[69,22,69,24],[22,7,22,9],[22,11,22,13],[22,15,22,17],[22,19,22,21],[23,11,23,13],[23,15,23,17],[23,19,23,21],[35,3,35,5],[35,7,35,9],[35,11,35,13],[35,15,35,17],[35,19,35,21],[25,7,25,9],[11,2,11,7],[11,8,11,20],[15,11,15,13],[15,15,15,17],[15,19,15,21],[19,3,19,5],[19,7,19,9],[19,11,19,13],[19,15,19,17],[19,19,19,21],[18,3,18,5],[18,7,18,9],[18,11,18,13],[18,15,18,17],[18,19,18,21],[0,4,1,22],[2,4,3,6],[2,7,3,9],[2,10,3,12],[2,13,3,15],[2,16,3,18],[2,19,3,21],[5,19,6,21],[5,22,6,24],[5,1,6,3],[5,4,6,6],[5,7,6,9],[5,10,6,12],[5,13,6,15],[5,16,6,18],[2,22,3,24],[17,3,17,5],[17,7,17,9],[17,11,17,13],[17,15,17,17],[17,19,17,21],[14,19,14,21],[16,3,16,5],[16,7,16,9],[16,11,16,13],[16,15,16,17],[16,19,16,21],[14,3,14,5],[14,7,14,9],[14,11,14,13],[14,15,14,17],[15,3,15,5],[15,7,15,9],[20,3,20,5],[20,7,20,9],[20,11,20,13],[20,15,20,17],[20,19,20,21],[22,3,22,5],[28,3,28,5],[28,7,28,9],[28,11,28,13],[28,15,28,17],[28,19,28,21],[27,3,27,5],[27,7,27,9],[27,11,27,13],[27,15,27,17],[27,19,27,21],[26,3,26,5],[26,7,26,9],[26,11,26,13],[26,15,26,17],[26,19,26,21],[25,3,25,5],[23,3,23,5],[23,7,23,9],[31,0,32,2],[31,3,31,5],[31,7,31,9],[31,11,31,13],[31,15,31,17],[31,19,31,21],[29,3,29,5],[29,7,29,9],[29,11,29,13],[29,15,29,17],[29,19,29,21],[25,11,25,13],[25,15,25,17],[25,19,25,21],[24,3,24,5],[24,7,24,9],[24,11,24,13],[24,15,24,17],[24,19,24,21],[36,3,36,5],[36,7,36,9],[36,11,36,13],[36,15,36,17],[36,19,36,21],[42,3,42,5],[42,7,42,9],[42,11,42,13],[42,15,42,17],[42,19,42,21],[38,0,39,2],[38,3,38,5],[38,7,38,9],[38,11,38,13],[38,15,38,17],[38,19,38,21],[44,3,44,5],[44,7,44,9],[44,11,44,13],[44,15,44,17],[44,19,44,21],[43,3,43,5],[43,7,43,9],[43,11,43,13],[43,15,43,17],[43,19,43,21],[46,3,46,5],[46,7,46,9],[46,11,46,13],[46,15,46,17],[46,19,46,21],[45,3,45,5],[45,7,45,9],[45,11,45,13],[45,15,45,17],[45,19,45,21],[49,19,49,21],[48,3,48,5],[48,7,48,9],[48,11,48,13],[48,15,48,17],[48,19,48,21],[47,3,47,5],[47,7,47,9],[47,11,47,13],[47,15,47,17],[47,19,47,21],[51,0,52,2],[51,3,51,5],[51,7,51,9],[51,11,51,13],[51,15,51,17],[49,3,49,5],[49,7,49,9],[49,11,49,13],[49,15,49,17],[56,3,56,5],[56,7,56,9],[56,11,56,13],[56,15,56,17],[56,19,56,21],[51,19,51,21],[55,3,55,5],[55,7,55,9],[55,11,55,13],[55,15,55,17],[55,19,55,21],[57,3,57,5],[57,7,57,9],[57,11,57,13],[57,15,57,17],[57,19,57,21],[58,7,58,9],[58,11,58,13],[58,15,58,17],[58,19,58,21],[66,6,66,8],[66,10,66,12],[66,14,66,16],[68,14,68,16],[74,0,74,2],[72,3,73,5],[72,6,72,8],[60,19,60,21],[58,3,58,5],[60,0,61,2],[60,3,60,5],[60,7,60,9],[60,11,60,13],[60,15,60,17],[64,6,64,8],[64,10,64,12],[64,14,64,16],[64,18,64,20],[66,18,66,20],[68,18,68,20],[8,3,9,21],[72,10,72,12],[72,14,72,16],[72,18,72,20],[72,22,72,24],[66,22,66,24],[67,6,67,8],[67,10,67,12],[67,14,67,16],[67,18,67,20],[67,22,67,24],[70,6,70,8],[70,10,70,12],[70,14,70,16],[70,18,70,20],[70,22,70,24],[68,6,68,8],[68,10,68,12],[64,22,64,24],[65,6,65,8],[65,10,65,12],[65,14,65,16],[65,18,65,20],[65,22,65,24]]}
[null,null,null,null,{"$f":"Main!E1","v":"AWP Contractor Reporting E2O - General Aggregates"}]
[null,null,null,null,null,null,null,null,null,null,null,null,null,null,null,null,null,null,null,null,null,null,null,null,null,"v",{"$f":"Main!AA2","v":"4.21"}]
[null,null,null,null," ",null,null,"Main",null,null,"Quantity",null,null,null,null,null,{"$f":"Main!Q3","v":"Send/Sync"},null,null,"Reports",null,null,"Help"]
[]
[]
[null,{"$f":"Main!B6","v":"General"},null,null,{"$f":"Main!E6","v":"Free Form"},null,null,{"$f":"IF(Main!H6=\"\",\"\",Main!H6)","v":"Bases"},null,null,{"$f":"IF(Main!K6=\"\",\"\",Main!K6)","v":"1005/3/9"},null,null,{"$f":"IF(Main!N6=\"\",\"\",Main!N6)","v":"SEL BACKFILL"},null,null,{"$f":"IF(Main!Q6=\"\",\"\",Main!Q6)","v":"QC/QA Split"},null,null,{"$f":"IF(Main!T6=\"\",\"\",Main!T6)","v":""},null,null,{"$f":"IF(Main!W6=\"\",\"\",Main!W6)","v":""}]
[]
[null,null,null,null,null,null,null,null,null,null,null,null,null,null,null,null,null,null,null,null,null,null,null,null,null,null,null,null,"checks"]
[null,null,null,"Concrete Aggregate or Section 1003 Aggregate for Seal Coats or Section 1009 Aggregate for Drainage",null,null,null,null,null,null,null,null,null,null,null,null,null,null,null,null,null,null,null,null,null,null,null,null,{"$f":"IF(AND(ISBLANK(I12),NOT(AD13=\"QCQA\")),IF(OR(LEFT(AD14,4)=\"1005\",LEFT(AD14,4)=\"1003\"),1,0),0)","v":0},"testor missing"]
[]
[]
[null,null,"Test Performed by:",null,null,null,null,null,null,null,null,null,null,null,null,null,null,null,null,null,null,null,null,null,null,null,null,null,null,{"$f":"NOT(AD13=\"QCQA\")","v":true}]
[null,null,null,null,null,null,null,null,null,null,null,null,null,null,null,null,null,null,null,null,null,null,null,null,null,null,null,null,null,{"$f":"Main!U40","v":"QCC"},null,"Populate 1003/1009 Grad?",{"$f":"IF(OR(ISBLANK(D30),AND(NOT((LEFT(AD14,4)=\"1003\")),NOT((LEFT(AD14,4)=\"1009\")))),IF(AND(OR(LEFT(AD14,4)=\"1003\",LEFT(AD14,4)=\"1009\"),COUNTA(D16:D30)>2),\"Y\",\"N\"),\"Y\")","v":"N"},{"$f":"IF(OR(ISBLANK(H30),AND(NOT((LEFT(AD14,4)=\"1003\")),NOT((LEFT(AD14,4)=\"1009\")))),IF(AND(OR(LEFT(AD14,4)=\"1003\",LEFT(AD14,4)=\"1009\"),COUNTA(H16:H30)>2),\"Y\",\"N\"),\"Y\")","v":"N"},{"$f":"IF(OR(ISBLANK(L30),AND(NOT((LEFT(AD14,4)=\"1003\")),NOT((LEFT(AD14,4)=\"1009\")))),IF(AND(OR(LEFT(AD14,4)=\"1003\",LEFT(AD14,4)=\"1009\"),COUNTA(L16:L30)>2),\"Y\",\"N\"),\"Y\")","v":"N"},{"$f":"IF(OR(ISBLANK(P30),AND(NOT((LEFT(AD14,4)=\"1003\")),NOT((LEFT(AD14,4)=\"1009\")))),IF(AND(OR(LEFT(AD14,4)=\"1003\",LEFT(AD14,4)=\"1009\"),COUNTA(P16:P30)>2),\"Y\",\"N\"),\"Y\")","v":"N"},{"$f":"IF(OR(ISBLANK(T30),AND(NOT((LEFT(AD14,4)=\"1003\")),NOT((LEFT(AD14,4)=\"1009\")))),IF(AND(OR(LEFT(AD14,4)=\"1003\",LEFT(AD14,4)=\"1009\"),COUNTA(T16:T30)>2),\"Y\",\"N\"),\"Y\")","v":"N"}]
[null,"Aggregate Component Gradations  (Percent Passing Only)",null,null,null,null,null,null,null,null,null,null,null,null,null,null,null,null,null,null,null,null,null,null,null,null,null,null,null,{"$f":"Main!F14","v":""},"Populate Gradation?",null,{"$f":"IF(OR(ISBLANK(D30),NOT((LEFT(AD14,4)=\"1005\"))),IF(AND(LEFT(AD14,4)=\"1005\",COUNTA(D16:D30)>2),\"Y\",\"N\"),\"Y\")","v":"N"},{"$f":"IF(OR(ISBLANK(H30),NOT((LEFT(AD14,4)=\"1005\"))),IF(AND(LEFT(AD14,4)=\"1005\",COUNTA(H16:H30)>2),\"Y\",\"N\"),\"Y\")","v":"N"},{"$f":"IF(OR(ISBLANK(L30),NOT((LEFT(AD14,4)=\"1005\"))),IF(AND(LEFT(AD14,4)=\"1005\",COUNTA(L16:L30)>2),\"Y\",\"N\"),\"Y\")","v":"N"},{"$f":"IF(OR(ISBLANK(P30),NOT((LEFT(AD14,4)=\"1005\"))),IF(AND(LEFT(AD14,4)=\"1005\",COUNTA(P16:P30)>2),\"Y\",\"N\"),\"Y\")","v":"N"},{"$f":"IF(OR(ISBLANK(T30),NOT((LEFT(AD14,4)=\"1005\"))),IF(AND(LEFT(AD14,4)=\"1005\",COUNTA(T16:T30)>2),\"Y\",\"N\"),\"Y\")","v":"N"}]
[null,null,null,"(1)",null,null,null,"(2)",null,null,null,"(3)",null,null,null,"(4)",null,null,null,"(5)",null,null,null,null,null,null,null,null,null,"rounding:"]
[null,"2\"",null,null,null,null,"%",null,null,null,"%",null,null,null,"%",null,null,null,"%",null,null,null,"%",null,null,null,null,null,null,{"$f":"VALUE(FIXED(D16,1))","v":0},{"$f":"VALUE(FIXED(H16,1))","v":0},{"$f":"VALUE(FIXED(L16,1))","v":0},{"$f":"VALUE(FIXED(P16,1))","v":0},{"$f":"VALUE(FIXED(T16,1))","v":0}]
[null,"1 1/2\"",null,null,null,null,"%",null,null,null,"%",null,null,null,"%",null,null,null,"%",null,null,null,"%",null,null,null,null,null,null,0,0,0,0,0]
[null,"1\"",null,null,null,null,"%",null,null,null,"%",null,null,null,"%",null,null,null,"%",null,null,null,"%",null,null,null,null,null,null,0,0,0,0,0]
[null,"3/4\"",null,null,null,null,"%",null,null,null,"%",null,null,null,"%",null,null,null,"%",null,null,null,"%",null,null,null,null,null,null,0,0,0,0,0]
[null,"1/2\"",null,null,null,null,"%",null,null,null,"%",null,null,null,"%",null,null,null,"%",null,null,null,"%",null,null,null,null,null,null,0,0,0,0,0]
[null,"3/8\"",null,null,null,null,"%",null,null,null,"%",null,null,null,"%",null,null,null,"%",null,null,null,"%",null,null,null,null,null,null,0,0,0,0,0]
[null,"1/4\"",null,null,null,null,"%",null,null,null,"%",null,null,null,"%",null,null,null,"%",null,null,null,"%",null,null,null,null,null,null,0,0,0,0,0]
[null,"#4",null,null,null,null,"%",null,null,null,"%",null,null,null,"%",null,null,null,"%",null,null,null,"%",null,null,null,null,null,null,{"$f":"VALUE(FIXED(D23,1))","v":0},{"$f":"VALUE(FIXED(H23,1))","v":0},{"$f":"VALUE(FIXED(L23,1))","v":0},{"$f":"VALUE(FIXED(P23,1))","v":0},{"$f":"VALUE(FIXED(T23,1))","v":0}]
[null,"#8",null,null,null,null,"%",null,null,null,"%",null,null,null,"%",null,null,null,"%",null,null,null,"%",null,null,null,null,null,null,{"$f":"VALUE(FIXED(D24,1))","v":0},0,0,0,0]
[null,"#16",null,null,null,null,"%",null,null,null,"%",null,null,null,"%",null,null,null,"%",null,null,null,"%",null,null,null,null,null,null,0,0,0,0,0]
[null,"#30",null,null,null,null,"%",null,null,null,"%",null,null,null,"%",null,null,null,"%",null,null,null,"%",null,null,null,null,null,null,0,0,0,0,0]
[null,"#40",null,null,null,null,"%",null,null,null,"%",null,null,null,"%",null,null,null,"%",null,null,null,"%",null,null,null,null,null,null,{"$f":"VALUE(FIXED(D27,1))","v":0},{"$f":"VALUE(FIXED(H27,1))","v":0},{"$f":"VALUE(FIXED(L27,1))","v":0},{"$f":"VALUE(FIXED(P27,1))","v":0},{"$f":"VALUE(FIXED(T27,1))","v":0}]
[null,"#50",null,null,null,null,"%",null,null,null,"%",null,null,null,"%",null,null,null,"%",null,null,null,"%",null,null,null,null,null,{"$f":"IF(AG14=\"N\",IF(AG13=\"Y\",(IF(ISBLANK(D32),1,0)),0),(IF(ISBLANK(D32),1,0)))","v":0},0,0,0,0,0]
[null,"#100",null,null,null,null,"%",null,null,null,"%",null,null,null,"%",null,null,null,"%",null,null,null,"%",null,null,null,null,null,{"$f":"IF(AH14=\"N\",IF(AH13=\"Y\",(IF(ISBLANK(H32),1,0)),0),(IF(ISBLANK(H32),1,0)))","v":0},0,0,0,0,0]
[null,"#200",null,null,null,null,"%",null,null,null,"%",null,null,null,"%",null,null,null,"%",null,null,null,"%",null,null,null,null,null,{"$f":"IF(AI14=\"N\",IF(AI13=\"Y\",(IF(ISBLANK(L32),1,0)),0),(IF(ISBLANK(L32),1,0)))","v":0},0,0,0,0,0]
[null,null,null,null,null,null,null,null,null,null,null,null,null,null,null,null,null,null,null,null,null,null,null,null,null,null,null,null,{"$f":"IF(AJ14=\"N\",IF(AJ13=\"Y\",(IF(ISBLANK(P32),1,0)),0),(IF(ISBLANK(P32),1,0)))","v":0},null,"YES"]
["Within Spec Tolerance?",null,null,null,null,null,null,null,null,null,null,null,null,null,null,null,null,null,null,null,null,null,null,null,null,null,null,null,{"$f":"IF(AK14=\"N\",IF(AK13=\"Y\",(IF(ISBLANK(T32),1,0)),0),(IF(ISBLANK(T32),1,0)))","v":0},null,"NO"]
[null,null,null,null,null,null,null,null,null,null,null,null,null,null,null,null,null,null,null,null,null,null,null,null,null,null,null,null,null,null,"NA"]
[]
[null,"Plasticity Index (*masonry aggregates only)",null,null,null,null,null,null,null,null,null,null,"Note:  Enter \"NP\" for non plastic material",null,null,null,null,null,null,null,null,null,null,null,null,null,null,null,{"$f":"IF(ISBLANK(D37),0,(IF(ISBLANK(D39),1,0)))","v":0}]
[null,null,null,"(1)",null,null,null,"(2)",null,null,null,"(3)",null,null,null,"(4)",null,null,null,"(5)",null,null,null,null,null,null,null,null,{"$f":"IF(ISBLANK(H37),0,(IF(ISBLANK(H39),1,0)))","v":0}]
[null,"PI",null,null,null,null,"%",null,null,null,"%",null,null,null,"%",null,null,null,"%",null,null,null,"%",null,null,null,null,null,{"$f":"IF(ISBLANK(L37),0,(IF(ISBLANK(L39),1,0)))","v":0},null,"Populate PI?",null,{"$f":"IF(OR(NOT(LEFT(AD14,4)=\"1005\"),ISBLANK(D37)),\"N\",\"Y\")","v":"N"},{"$f":"IF(OR(NOT(LEFT(AD14,4)=\"1005\"),ISBLANK(H37)),\"N\",\"Y\")","v":"N"},{"$f":"IF(OR(NOT(LEFT(AD14,4)=\"1005\"),ISBLANK(L37)),\"N\",\"Y\")","v":"N"},{"$f":"IF(OR(NOT(LEFT(AD14,4)=\"1005\"),ISBLANK(P37)),\"N\",\"Y\")","v":"N"},{"$f":"IF(OR(NOT(LEFT(AD14,4)=\"1005\"),ISBLANK(T37)),\"N\",\"Y\")","v":"N"}]
[null,null,null,null,null,null,null,null,null,null,null,null,null,null,null,null,null,null,null,null,null,null,null,null,null,null,null,null,{"$f":"IF(ISBLANK(P37),0,(IF(ISBLANK(P39),1,0)))","v":0}]
["Within Spec Tolerance?",null,null,null,null,null,null,null,null,null,null,null,null,null,null,null,null,null,null,null,null,null,null,null,null,null,null,null,{"$f":"IF(ISBLANK(T37),0,(IF(ISBLANK(T39),1,0)))","v":0}]
[null,null,null,null,null,null,null,null,null,null,null,null,null,null,null,null,null,null,null,null,null,null,null,null,null,null,null,null,null,null,"Populate thin & elongated?",null,{"$f":"IF(OR(NOT(LEFT(AD14,4)=\"1005\"),ISBLANK(D49),LEFT(AD14,6)=\"1005FA\",LEFT(AD14,6)=\"1005MS\"),\"N\",\"Y\")","v":"N"},{"$f":"IF(OR(NOT(LEFT(AD14,4)=\"1005\"),ISBLANK(H49),LEFT(AD14,6)=\"1005FA\",LEFT(AD14,6)=\"1005MS\"),\"N\",\"Y\")","v":"N"},{"$f":"IF(OR(NOT(LEFT(AD14,4)=\"1005\"),ISBLANK(L49),LEFT(AD14,6)=\"1005FA\",LEFT(AD14,6)=\"1005MS\"),\"N\",\"Y\")","v":"N"},{"$f":"IF(OR(NOT(LEFT(AD14,4)=\"1005\"),ISBLANK(P49),LEFT(AD14,6)=\"1005FA\",LEFT(AD14,6)=\"1005MS\"),\"N\",\"Y\")","v":"N"},{"$f":"IF(OR(NOT(LEFT(AD14,4)=\"1005\"),ISBLANK(T49),LEFT(AD14,6)=\"1005FA\",LEFT(AD14,6)=\"1005MS\"),\"N\",\"Y\")","v":"N"}]
[null,null,null,null,null,null,null,null,null,null,null,null,null,null,null,null,null,null,null,null,null,null,null,null,null,null,null,null,null,null,null,"Populate 1003/1009 Grad?",{"$f":"IF(OR(NOT(OR(LEFT(AD14,4)=\"1003\",LEFT(AD14,4)=\"1009\")),COUNTA(D44:F48)=0),\"N\",\"Y\")","v":"N"},{"$f":"IF(OR(NOT(OR(LEFT(AD14,4)=\"1003\",LEFT(AD14,4)=\"1009\")),COUNTA(H44:J48)=0),\"N\",\"Y\")","v":"N"},{"$f":"IF(OR(NOT(OR(LEFT(AD14,4)=\"1003\",LEFT(AD14,4)=\"1009\")),COUNTA(L44:N48)=0),\"N\",\"Y\")","v":"N"},{"$f":"IF(OR(NOT(OR(LEFT(AD14,4)=\"1003\",LEFT(AD14,4)=\"1009\")),COUNTA(P44:R48)=0),\"N\",\"Y\")","v":"N"},{"$f":"IF(OR(NOT(OR(LEFT(AD14,4)=\"1003\",LEFT(AD14,4)=\"1009\")),COUNTA(T44:V48)=0),\"N\",\"Y\")","v":"N"}]
[null,"Deleterious (Coarse Aggregate)",null,null,null,null,null,null,null,null,null,null,null,null,null,null,null,null,null,null,null,null,null,null,null,null,null,null,null,null,"Populate Coarse del?",null,{"$f":"IF(OR(NOT(LEFT(AD14,4)=\"1005\"),COUNTA(D44:F48)=0,LEFT($AD$14,6)=\"1005FA\",LEFT($AD$14,6)=\"1005MS\"),\"N\",\"Y\")","v":"N"},{"$f":"IF(OR(NOT(LEFT(AD14,4)=\"1005\"),COUNTA(H44:J48)=0,LEFT($AD$14,6)=\"1005FA\",LEFT($AD$14,6)=\"1005MS\"),\"N\",\"Y\")","v":"N"},{"$f":"IF(OR(NOT(LEFT(AD14,4)=\"1005\"),COUNTA(L44:N48)=0,LEFT($AD$14,6)=\"1005FA\",LEFT($AD$14,6)=\"1005MS\"),\"N\",\"Y\")","v":"N"},{"$f":"IF(OR(NOT(LEFT(AD14,4)=\"1005\"),COUNTA(P44:R48)=0,LEFT($AD$14,6)=\"1005FA\",LEFT($AD$14,6)=\"1005MS\"),\"N\",\"Y\")","v":"N"},{"$f":"IF(OR(NOT(LEFT(AD14,4)=\"1005\"),COUNTA(T44:V48)=0,LEFT($AD$14,6)=\"1005FA\",LEFT($AD$14,6)=\"1005MS\"),\"N\",\"Y\")","v":"N"}]
[null,null,null,"(1)",null,null,null,"(2)",null,null,null,"(3)",null,null,null,"(4)",null,null,null,"(5)",null,null,null,null,null,null,null,null,null,"rounding:","Populate Fine del?",null,{"$f":"IF(OR(NOT(OR(LEFT($AD$14,6)=\"1005FA\",LEFT($AD$14,6)=\"1005MS\")),COUNTA(G66:I71)=0),\"N\",\"Y\")","v":"N"},{"$f":"IF(OR(NOT(OR(LEFT($AD$14,6)=\"1005FA\",LEFT($AD$14,6)=\"1005MS\")),COUNTA(K66:M71)=0),\"N\",\"Y\")","v":"N"},{"$f":"IF(OR(NOT(OR(LEFT($AD$14,6)=\"1005FA\",LEFT($AD$14,6)=\"1005MS\")),COUNTA(O66:Q71)=0),\"N\",\"Y\")","v":"N"},{"$f":"IF(OR(NOT(OR(LEFT($AD$14,6)=\"1005FA\",LEFT($AD$14,6)=\"1005MS\")),COUNTA(S66:U71)=0),\"N\",\"Y\")","v":"N"},{"$f":"IF(OR(NOT(OR(LEFT($AD$14,6)=\"1005FA\",LEFT($AD$14,6)=\"1005MS\")),COUNTA(W66:Y71)=0),\"N\",\"Y\")","v":"N"}]
[null,"Del Rock",null,null,null,null,"%",null,null,null,"%",null,null,null,"%",null,null,null,"%",null,null,null,"%",null,null,null,null,null,null,{"$f":"IF(OR(LEFT($AD$14,6)=\"1005FA\",LEFT($AD$14,6)=\"1005MS\"),\"\",VALUE(FIXED(D44,1)))","v":0},{"$f":"IF(OR(LEFT($AD$14,6)=\"1005FA\",LEFT($AD$14,6)=\"1005MS\"),\"\",VALUE(FIXED(H44,1)))","v":0},{"$f":"IF(OR(LEFT($AD$14,6)=\"1005FA\",LEFT($AD$14,6)=\"1005MS\"),\"\",VALUE(FIXED(L44,1)))","v":0},{"$f":"IF(OR(LEFT($AD$14,6)=\"1005FA\",LEFT($AD$14,6)=\"1005MS\"),\"\",VALUE(FIXED(P44,1)))","v":0},{"$f":"IF(OR(LEFT($AD$14,6)=\"1005FA\",LEFT($AD$14,6)=\"1005MS\"),\"\",VALUE(FIXED(T44,1)))","v":0}]
[null,"Shale",null,null,null,null,"%",null,null,null,"%",null,null,null,"%",null,null,null,"%",null,null,null,"%",null,null,null,null,null,null,{"$f":"IF(OR(LEFT($AD$14,6)=\"1005FA\",LEFT($AD$14,6)=\"1005MS\"),\"\",VALUE(FIXED(D45,1)))","v":0},{"$f":"IF(OR(LEFT($AD$14,6)=\"1005FA\",LEFT($AD$14,6)=\"1005MS\"),\"\",VALUE(FIXED(H45,1)))","v":0},{"$f":"IF(OR(LEFT($AD$14,6)=\"1005FA\",LEFT($AD$14,6)=\"1005MS\"),\"\",VALUE(FIXED(L45,1)))","v":0},{"$f":"IF(OR(LEFT($AD$14,6)=\"1005FA\",LEFT($AD$14,6)=\"1005MS\"),\"\",VALUE(FIXED(P45,1)))","v":0},{"$f":"IF(OR(LEFT($AD$14,6)=\"1005FA\",LEFT($AD$14,6)=\"1005MS\"),\"\",VALUE(FIXED(T45,1)))","v":0}]
[null,"Chert in LS",null,null,null,null,"%",null,null,null,"%",null,null,null,"%",null,null,null,"%",null,null,null,"%",null,null,null,null,null,null,{"$f":"IF(OR(LEFT($AD$14,6)=\"1005FA\",LEFT($AD$14,6)=\"1005MS\"),\"\",VALUE(FIXED(D46,1)))","v":0},{"$f":"IF(OR(LEFT($AD$14,6)=\"1005FA\",LEFT($AD$14,6)=\"1005MS\"),\"\",VALUE(FIXED(H46,1)))","v":0},{"$f":"IF(OR(LEFT($AD$14,6)=\"1005FA\",LEFT($AD$14,6)=\"1005MS\"),\"\",VALUE(FIXED(L46,1)))","v":0},{"$f":"IF(OR(LEFT($AD$14,6)=\"1005FA\",LEFT($AD$14,6)=\"1005MS\"),\"\",VALUE(FIXED(P46,1)))","v":0},{"$f":"IF(OR(LEFT($AD$14,6)=\"1005FA\",LEFT($AD$14,6)=\"1005MS\"),\"\",VALUE(FIXED(T46,1)))","v":0}]
[null,"Other Foreign",null,null,null,null,"%",null,null,null,"%",null,null,null,"%",null,null,null,"%",null,null,null,"%",null,null,null,null,null,null,{"$f":"IF(OR(LEFT($AD$14,6)=\"1005FA\",LEFT($AD$14,6)=\"1005MS\"),\"\",VALUE(FIXED(D47,1)))","v":0},{"$f":"IF(OR(LEFT($AD$14,6)=\"1005FA\",LEFT($AD$14,6)=\"1005MS\"),\"\",VALUE(FIXED(H47,1)))","v":0},{"$f":"IF(OR(LEFT($AD$14,6)=\"1005FA\",LEFT($AD$14,6)=\"1005MS\"),\"\",VALUE(FIXED(L47,1)))","v":0},{"$f":"IF(OR(LEFT($AD$14,6)=\"1005FA\",LEFT($AD$14,6)=\"1005MS\"),\"\",VALUE(FIXED(P47,1)))","v":0},{"$f":"IF(OR(LEFT($AD$14,6)=\"1005FA\",LEFT($AD$14,6)=\"1005MS\"),\"\",VALUE(FIXED(T47,1)))","v":0}]
[null,"- #200",null,null,null,null,"%",null,null,null,"%",null,null,null,"%",null,null,null,"%",null,null,null,"%",null,null,null,null,null,{"$f":"IF(COUNTA(D44:D48)=0,(IF(COUNTA(G66:G71)=0,0,(IF(ISBLANK(G73),1,0)))),(IF(ISBLANK(D52),1,(IF(ISBLANK(D52),1,0)))))","v":0},{"$f":"IF(OR(LEFT($AD$14,6)=\"1005FA\",LEFT($AD$14,6)=\"1005MS\"),\"\",VALUE(FIXED(D48,1)))","v":0},{"$f":"IF(OR(LEFT($AD$14,6)=\"1005FA\",LEFT($AD$14,6)=\"1005MS\"),\"\",VALUE(FIXED(H48,1)))","v":0},{"$f":"IF(OR(LEFT($AD$14,6)=\"1005FA\",LEFT($AD$14,6)=\"1005MS\"),\"\",VALUE(FIXED(L48,1)))","v":0},{"$f":"IF(OR(LEFT($AD$14,6)=\"1005FA\",LEFT($AD$14,6)=\"1005MS\"),\"\",VALUE(FIXED(P48,1)))","v":0},{"$f":"IF(OR(LEFT($AD$14,6)=\"1005FA\",LEFT($AD$14,6)=\"1005MS\"),\"\",VALUE(FIXED(T48,1)))","v":0}]
[null,"Thin or Elong",null,null,null,null,"%",null,null,null,"%",null,null,null,"%",null,null,null,"%",null,null,null,"%",null,null,null,null,null,{"$f":"IF(COUNTA(H44:H48)=0,(IF(COUNTA(K66:K71)=0,0,(IF(ISBLANK(K73),1,0)))),(IF(ISBLANK(H52),1,(IF(ISBLANK(H52),1,0)))))","v":0},{"$f":"VALUE(FIXED(D49,0))","v":0},{"$f":"VALUE(FIXED(H49,0))","v":0},{"$f":"VALUE(FIXED(L49,0))","v":0},{"$f":"VALUE(FIXED(P49,0))","v":0},{"$f":"VALUE(FIXED(T49,0))","v":0}]
[null,"Total",null,{"$f":"IF(OR(LEFT($AD$14,6)=\"1005FA\",LEFT($AD$14,6)=\"1005MS\"),\"\",ROUND(SUM(D44:F47),1))","v":0},null,null,null,{"$f":"IF(OR(LEFT($AD$14,6)=\"1005FA\",LEFT($AD$14,6)=\"1005MS\"),\"\",ROUND(SUM(H44:J47),1))","v":0},null,null,null,{"$f":"IF(OR(LEFT($AD$14,6)=\"1005FA\",LEFT($AD$14,6)=\"1005MS\"),\"\",ROUND(SUM(L44:N47),1))","v":0},null,null,null,{"$f":"IF(OR(LEFT($AD$14,6)=\"1005FA\",LEFT($AD$14,6)=\"1005MS\"),\"\",ROUND(SUM(P44:R47),1))","v":0},null,null,null,{"$f":"IF(OR(LEFT($AD$14,6)=\"1005FA\",LEFT($AD$14,6)=\"1005MS\"),\"\",ROUND(SUM(T44:V47),1))","v":0},null,null,null,null,null,null,null,null,{"$f":"IF(COUNTA(L44:L48)=0,(IF(COUNTA(O66:O71)=0,0,(IF(ISBLANK(O73),1,0)))),(IF(ISBLANK(L52),1,(IF(ISBLANK(L52),1,0)))))","v":0}]
[null,null,null,null,null,null,null,null,null,null,null,null,null,null,null,null,null,null,null,null,null,null,null,null,null,null,null,null,{"$f":"IF(COUNTA(P44:P48)=0,(IF(COUNTA(S66:S71)=0,0,(IF(ISBLANK(S73),1,0)))),(IF(ISBLANK(P52),1,(IF(ISBLANK(P52),1,0)))))","v":0}]
["Within Spec Tolerance?",null,null,null,null,null,null,null,null,null,null,null,null,null,null,null,null,null,null,null,null,null,null,null,null,null,null,null,{"$f":"IF(COUNTA(T44:T48)=0,(IF(COUNTA(W66:W71)=0,0,(IF(ISBLANK(W73),1,0)))),(IF(ISBLANK(T52),1,(IF(ISBLANK(T52),1,0)))))","v":0},null,{"$f":"IF(SUM(G66:G71)=0,0,(IF(ISBLANK(G73),1,0)))","v":0},{"$f":"IF(SUM(K66:K71)=0,0,(IF(ISBLANK(K73),1,0)))","v":0},{"$f":"IF(SUM(O66:O71)=0,0,(IF(ISBLANK(O73),1,0)))","v":0},{"$f":"IF(SUM(S66:S71)=0,0,(IF(ISBLANK(S73),1,0)))","v":0},{"$f":"IF(SUM(W66:W71)=0,0,(IF(ISBLANK(W73),1,0)))","v":0}]
[]
[]
[null,"AASHTO T85 Absorption",null,null,null,null,null,null,null,null,null,null,null,null,null,null,null,null,null,null,null,null,null,null,null,null,null,null,null,null,"Populate Abs?",null,{"$f":"IF(OR(NOT(LEFT(AD14,4)=\"1005\"),ISBLANK(D57),LEFT(AD14,6)=\"1005FA\",LEFT(AD14,6)=\"1005MS\"),\"N\",\"Y\")","v":"N"},{"$f":"IF(OR(NOT(LEFT(AD14,4)=\"1005\"),ISBLANK(H57),LEFT(AD14,6)=\"1005FA\",LEFT(AD14,6)=\"1005MS\"),\"N\",\"Y\")","v":"N"},{"$f":"IF(OR(NOT(LEFT(AD14,4)=\"1005\"),ISBLANK(L57),LEFT(AD14,6)=\"1005FA\",LEFT(AD14,6)=\"1005MS\"),\"N\",\"Y\")","v":"N"},{"$f":"IF(OR(NOT(LEFT(AD14,4)=\"1005\"),ISBLANK(P57),LEFT(AD14,6)=\"1005FA\",LEFT(AD14,6)=\"1005MS\"),\"N\",\"Y\")","v":"N"},{"$f":"IF(OR(NOT(LEFT(AD14,4)=\"1005\"),ISBLANK(T57),LEFT(AD14,6)=\"1005FA\",LEFT(AD14,6)=\"1005MS\"),\"N\",\"Y\")","v":"N"}]
[null,null,null,"(1)",null,null,null,"(2)",null,null,null,"(3)",null,null,null,"(4)",null,null,null,"(5)",null,null,null,null,null,null,null,null,null,"rounding:"]
[null,"SSD Weight",null,null,null,null,"g",null,null,null,"g",null,null,null,"g",null,null,null,"g",null,null,null,"g",null,null,null,null,null,{"$f":"IF(SUM(D57:F58)=0,0,(IF(OR(ISBLANK(D61),ISERROR(D59),D59<0),1,0)))","v":0},{"$f":"VALUE(FIXED(D57,1))","v":0},{"$f":"VALUE(FIXED(H57,1))","v":0},{"$f":"VALUE(FIXED(L57,1))","v":0},{"$f":"VALUE(FIXED(P57,1))","v":0},{"$f":"VALUE(FIXED(T57,1))","v":0}]
[null,"Dry Weight",null,null,null,null,"g",null,null,null,"g",null,null,null,"g",null,null,null,"g",null,null,null,"g",null,null,null,null,null,{"$f":"IF(SUM(H57:J58)=0,0,(IF(OR(ISBLANK(H61),ISERROR(H59),H59<0),1,0)))","v":0},{"$f":"VALUE(FIXED(D58,1))","v":0},{"$f":"VALUE(FIXED(H58,1))","v":0},{"$f":"VALUE(FIXED(L58,1))","v":0},{"$f":"VALUE(FIXED(P58,1))","v":0},{"$f":"VALUE(FIXED(T58,1))","v":0}]
[null,null,null,{"$f":"IFERROR(ROUND((D57-D58)/D58*100,1),\"\")","v":""},null,null,"%",{"$f":"IFERROR(ROUND((H57-H58)/H58*100,1),\"\")","v":""},null,null,"%",{"$f":"IFERROR(ROUND((L57-L58)/L58*100,1),\"\")","v":""},null,null,"%",{"$f":"IFERROR(ROUND((P57-P58)/P58*100,1),\"\")","v":""},null,null,"%",{"$f":"IFERROR(ROUND((T57-T58)/T58*100,1),\"\")","v":""},null,null,"%",null,null,null,null,null,{"$f":"IF(SUM(L57:N58)=0,0,(IF(OR(ISBLANK(L61),ISERROR(L59),L59<0),1,0)))","v":0}]
[null,null,null,null,null,null,null,null,null,null,null,null,null,null,null,null,null,null,null,null,null,null,null,null,null,null,null,null,{"$f":"IF(SUM(P57:R58)=0,0,(IF(OR(ISBLANK(P61),ISERROR(P59),P59<0),1,0)))","v":0}]
["Within Spec Tolerance?",null,null,null,null,null,null,null,null,null,null,null,null,null,null,null,null,null,null,null,null,null,null,null,null,null,null,null,{"$f":"IF(SUM(T57:V58)=0,0,(IF(OR(ISBLANK(T61),ISERROR(T59),T59<0),1,0)))","v":0}]
[]
[]
[null,"Deleterious (Fine Aggregate)"]
[null,null,null,null,null,null,"(1)",null,null,null,"(2)",null,null,null,"(3)",null,null,null,"(4)",null,null,null,"(5)"]
[null,null,"Clay Lumps and Shale",null,null,null,null,null,null,"%",null,null,null,"%",null,null,null,"%",null,null,null,"%",null,null,null,"%",null,null,null,null,null,null,null,null,null,null,null,null,null,null,null,{"$f":"IF(OR(LEFT($AD$14,6)=\"1005FA\",LEFT($AD$14,6)=\"1005MS\"),VALUE(FIXED(AE66,2)),\"\")","v":""},null,null,{"$f":"IF(OR(LEFT($AD$14,6)=\"1005FA\",LEFT($AD$14,6)=\"1005MS\"),VALUE(FIXED(AE66,2)),\"\")","v":""},""]
[null,null,"Coal and Lignite",null,null,null,null,null,null,"%",null,null,null,"%",null,null,null,"%",null,null,null,"%",null,null,null,"%",null,null,null,null,null,null,null,null,null,null,null,null,null,null,null,{"$f":"IF(OR(LEFT($AD$14,6)=\"1005FA\",LEFT($AD$14,6)=\"1005MS\"),VALUE(FIXED(AE67,2)),\"\")","v":""},null,null,"",""]
[null,null,"Other Deleterious",null,null,null,null,null,null,"%",null,null,null,"%",null,null,null,"%",null,null,null,"%",null,null,null,"%",null,null,null,null,null,null,null,null,null,null,null,null,null,null,null,{"$f":"IF(OR(LEFT($AD$14,6)=\"1005FA\",LEFT($AD$14,6)=\"1005MS\"),VALUE(FIXED(AE68,2)),\"\")","v":""},null,null,"",""]
["Total Lightweight Particles",null,null,null,null,null,null,null,null,"%",null,null,null,"%",null,null,null,"%",null,null,null,"%",null,null,null,"%",null,null,null,null,null,null,null,null,null,null,null,null,null,null,null,{"$f":"IF(OR(LEFT($AD$14,6)=\"1005FA\",LEFT($AD$14,6)=\"1005MS\"),VALUE(FIXED(AE69,2)),\"\")","v":""},null,null,"",""]
[null,null,"- #200 (natural sand)",null,null,null,null,null,null,"%",null,null,null,"%",null,null,null,"%",null,null,null,"%",null,null,null,"%",null,null,null,null,null,null,null,null,null,null,null,null,null,null,null,{"$f":"IF(OR(LEFT($AD$14,6)=\"1005FA\",LEFT($AD$14,6)=\"1005MS\"),VALUE(FIXED(AE70,1)),\"\")","v":""},null,null,{"$f":"IF(OR(LEFT($AD$14,6)=\"1005FA\",LEFT($AD$14,6)=\"1005MS\"),VALUE(FIXED(AE70,1)),\"\")","v":""},{"$f":"IF(OR(LEFT($AD$14,6)=\"1005FA\",LEFT($AD$14,6)=\"1005MS\"),VALUE(FIXED(AF70,1)),\"\")","v":""}]
[null,null,"- #200 (man. sand)",null,null,null,null,null,null,"%",null,null,null,"%",null,null,null,"%",null,null,null,"%",null,null,null,"%",null,null,null,null,null,null,null,null,null,null,null,null,null,null,null,{"$f":"IF(OR(LEFT($AD$14,6)=\"1005FA\",LEFT($AD$14,6)=\"1005MS\"),VALUE(FIXED(AE71,1)),\"\")","v":""},null,null,{"$f":"IF(OR(LEFT($AD$14,6)=\"1005FA\",LEFT($AD$14,6)=\"1005MS\"),VALUE(FIXED(AE71,1)),\"\")","v":""},{"$f":"IF(OR(LEFT($AD$14,6)=\"1005FA\",LEFT($AD$14,6)=\"1005MS\"),VALUE(FIXED(AF71,1)),\"\")","v":""}]
[]
[null,null,null,"Within Spec Tolerance?",null,null,null,null,null,null,null,null,null,null,null,null,null,null,null,null,null,null,null,null,null,null,null,null,{"$f":"IF(AND((LEFT(AD14,4)=\"1005\"),NOT(AD13=\"QCQA\"),(AND(ISERROR(MATCH(\"Y\",AG14:AK14,0)),ISERROR(MATCH(\"Y\",AG37:AK37,0)),ISERROR(MATCH(\"Y\",AG40:AK40,0)),ISERROR(MATCH(\"Y\",AG42:AK42,0)),ISERROR(MATCH(\"Y\",AG55:AK55,0))))),1,IF(AND((LEFT(AD14,4)=\"1003\"),(AND(ISERROR(MATCH(\"Y\",AG13:AK13,0)),ISERROR(MATCH(\"Y\",AG41:AK41,0)),ISERROR(MATCH(\"Y\",AG42:AK42,0))))),1,0))","v":0},"No test data for material selected on \"general\" tab"]
[]
[null,null,null,null,null,null,null,null,null,null,null,null,null,null,null,null,null,null,null,null,null,null,null,null,null,null,null,null,"Final error check total:"]
[null,null,null,null,null,null,null,null,null,null,null,null,null,null,null,null,null,null,null,null,null,null,null,null,null,null,null,null,{"$f":"SUM(AC28:AC32,AC35:AC39,AC48:AC52,AC57:AC61,AC73,AC9)","v":0}]

{"sheet":"Test 3","index":6,"n_rows":38,"n_cols":35,"rows_kept":38,"cut":false,"hidden":false,"merged":[[26,20,26,22],[27,16,27,18],[27,20,27,22],[12,20,12,22],[12,4,12,6],[22,20,22,22],[16,20,16,22],[17,16,17,18],[17,20,17,22],[21,16,21,18],[21,20,21,22],[18,4,18,6],[19,4,19,6],[21,4,21,6],[15,4,15,6],[16,4,16,6],[12,16,12,18],[26,16,26,18],[17,4,17,6],[13,4,13,6],[14,4,14,6],[25,7,25,9],[26,7,26,9],[25,4,25,6],[26,4,26,6],[16,16,16,18],[22,16,22,18],[23,7,23,9],[24,7,24,9],[21,7,21,9],[22,7,22,9],[28,1,29,3],[28,4,28,6],[12,7,12,9],[13,7,13,9],[14,7,14,9],[15,7,15,9],[16,7,16,9],[17,7,17,9],[18,7,18,9],[19,7,19,9],[22,4,22,6],[23,4,23,6],[24,4,24,6],[20,4,20,6],[28,7,28,9],[20,7,20,9],[2,22,3,24],[0,4,1,22],[2,4,3,6],[2,7,3,9],[2,10,3,12],[2,13,3,15],[2,16,3,18],[2,19,3,21],[5,19,6,21],[5,22,6,24],[5,16,6,18],[11,4,11,6],[11,7,11,9],[11,20,11,22],[7,2,7,22],[5,1,6,3],[5,4,6,6],[5,7,6,9],[5,10,6,12],[5,13,6,15],[11,16,11,18]]}
[null,null,null,null,{"$f":"Main!E1","v":"AWP Contractor Reporting E2O - General Aggregates"}]
[null,null,null,null,null,null,null,null,null,null,null,null,null,null,null,null,null,null,null,null,null,null,null,null,null,"v",{"$f":"Main!AA2","v":"4.21"}]
[null,null,null,null," ",null,null,"Main",null,null,"Quantity",null,null,null,null,null,{"$f":"Main!Q3","v":"Send/Sync"},null,null,"Reports",null,null,"Help"]
[]
[]
[null,{"$f":"Main!B6","v":"General"},null,null,{"$f":"Main!E6","v":"Free Form"},null,null,{"$f":"IF(Main!H6=\"\",\"\",Main!H6)","v":"Bases"},null,null,{"$f":"IF(Main!K6=\"\",\"\",Main!K6)","v":"1005/3/9"},null,null,{"$f":"IF(Main!N6=\"\",\"\",Main!N6)","v":"SEL BACKFILL"},null,null,{"$f":"IF(Main!Q6=\"\",\"\",Main!Q6)","v":"QC/QA Split"},null,null,{"$f":"IF(Main!T6=\"\",\"\",Main!T6)","v":""},null,null,{"$f":"IF(Main!W6=\"\",\"\",Main!W6)","v":""}]
[]
[]
[null,null,"This tab is for Select Granular Backfill.  Spec 1010 material used only for MSE wall backfills.  ",null,null,null,null,null,null,null,null,null,null,null,null,null,null,null,null,null,null,null,null,null,null,null,null,null,null,null,{"$f":"Main!F14","v":""},"Gradation Populate",null,{"$f":"IF(OR(NOT(LEFT(AE9,4)=\"1010\"),ISBLANK(E27)),\"N\",\"Y\")","v":"N"},{"$f":"IF(OR(NOT(LEFT(AE9,4)=\"1010\"),ISBLANK(H27)),\"N\",\"Y\")","v":"N"}]
[]
[null,null,null,"Gradation  (Percent Passing)",null,null,null,null,null,null,null,null,null,null,"Plasticity Index",null,null,null,null,null,null,null,null,null,null,null,null,null,null,null,"rounding:",null,"Populate PI?",{"$f":"IF(OR(NOT(LEFT(AE9,4)=\"1010\"),ISBLANK(Q13)),\"N\",\"Y\")","v":"N"},{"$f":"IF(OR(NOT(LEFT(AE9,4)=\"1010\"),ISBLANK(U13)),\"N\",\"Y\")","v":"N"}]
[null,null,null,null,"(1)",null,null,"(2)",null,null,null,null,null,null,null,null,"(1)",null,null,null,"(2)",null,null,null,null,null,null,null,null,null,{"$f":"VALUE(FIXED(E13,1))","v":0},{"$f":"VALUE(FIXED(H13,1))","v":0},null,{"$f":"VALUE(FIXED(Q13,1))","v":0},{"$f":"VALUE(FIXED(U13,1))","v":0}]
[null,null,"4\"",null,null,null,null,null,null,null,"%",null,null,null,"PI",null,null,null,null,"%",null,null,null,"%",null,null,null,null,null,null,{"$f":"VALUE(FIXED(E14,1))","v":0},{"$f":"VALUE(FIXED(H14,1))","v":0}]
[null,null,"1 1/2\"",null,null,null,null,null,null,null,"%",null,null,null,null,"Note:  Enter \"NP\" for non plastic material",null,null,null,null,null,null,null,null,null,null,null,null,null,null,0,0]
[null,null,"1\"",null,null,null,null,null,null,null,"%",null,null,null,null,null,null,null,null,null,null,null,null,null,null,null,null,null,null,null,0,0]
[null,null,"3/4\"",null,null,null,null,null,null,null,"%",null,null,null,"Angle of Internal Friction",null,null,null,null,null,null,null,null,null,null,null,null,null,null,null,0,0]
[null,null,"1/2\"",null,null,null,null,null,null,null,"%",null,null,null,null,null,"(1)",null,null,null,"(2)",null,null,null,null,null,null,null,null,null,0,0]
[null,null,"3/8\"",null,null,null,null,null,null,null,"%",null,null,null,"Φ",null,null,null,null,"%",null,null,null,"%",null,null,null,null,null,null,0,0,null,{"$f":"VALUE(FIXED(Q18,1))","v":0},{"$f":"VALUE(FIXED(U18,1))","v":0}]
[null,null,"#4",null,null,null,null,null,null,null,"%",null,null,null,null,null,null,null,null,null,null,null,null,null,null,null,null,null,null,null,0,0]
[null,null,"#8",null,null,null,null,null,null,null,"%",null,null,null,null,null,null,null,null,null,null,null,null,null,null,null,null,null,null,null,0,0]
[null,null,"#10",null,null,null,null,null,null,null,"%",null,null,null,"Organic Content",null,null,null,null,null,null,null,null,null,null,null,null,null,null,"YES",0,0]
[null,null,"#16",null,null,null,null,null,null,null,"%",null,null,null,null,null,"(1)",null,null,null,"(2)",null,null,null,null,null,null,null,null,"NO",0,0]
[null,null,"#30",null,null,null,null,null,null,null,"%",null,null,null,null,null,null,null,null,"%",null,null,null,"%",null,null,null,null,null,"NA",0,0]
[null,null,"#40",null,null,null,null,null,null,null,"%",null,null,null,null,null,null,null,null,null,null,null,null,null,null,null,null,null,null,null,0,0,null,{"$f":"VALUE(FIXED(Q23,1))","v":0},{"$f":"VALUE(FIXED(U23,1))","v":0}]
[null,null,"#50",null,null,null,null,null,null,null,"%",null,null,null,null,null,null,null,null,null,null,null,null,null,null,null,null,null,null,null,0,0]
[null,null,"#100",null,null,null,null,null,null,null,"%",null,null,null,"Resistivity",null,null,null,null,null,null,null,null,null,null,null,null,null,null,null,{"$f":"VALUE(FIXED(E27,1))","v":0},{"$f":"VALUE(FIXED(H27,1))","v":0}]
[null,null,"#200",null,null,null,null,null,null,null,"%",null,null,null,null,null,"(1)",null,null,null,"(2)"]
[null,null,null,null,null,null,null,null,null,null,null,null,null,null,"ohm-cm",null,null,null,null,null,null,null,null,null,null,null,null,null,null,null,null,null,"populate Resistivity?",{"$f":"IF(OR(NOT(LEFT(AE9,4)=\"1010\"),ISBLANK(Q28)),\"N\",\"Y\")","v":"N"},{"$f":"IF(OR(NOT(LEFT(AE9,4)=\"1010\"),ISBLANK(U28)),\"N\",\"Y\")","v":"N"}]
[null,"Within Spec Tolerance?",null,null,null,null,null,null,null,null,null,null,null,null,null,null,null,null,null,null,null,null,null,null,null,null,null,null,{"$f":"IF(ISBLANK(E27),0,(IF(ISBLANK(E29),1,0)))","v":0}]
[null,null,null,null,null,null,null,null,null,null,null,null,null,null,null,null,null,null,null,null,null,null,null,null,null,null,null,null,{"$f":"IF(ISBLANK(H27),0,(IF(ISBLANK(H29),1,0)))","v":0}]
[]
[]
[]
[]
[null,null,null,null,null,null,null,null,null,null,null,null,null,null,null,null,null,null,null,null,null,null,null,null,null,null,null,null,{"$f":"IF(AND((LEFT(AE9,4)=\"1010\"),ISERROR(MATCH(\"Y\",AH9:AI9,0))),1,0)","v":0},"No test data for material selected on \"general\" tab"]
[]
[null,null,null,null,null,null,null,null,null,null,null,null,null,null,null,null,null,null,null,null,null,null,null,null,null,null,null,null,"Final error check total:"]
[null,null,null,null,null,null,null,null,null,null,null,null,null,null,null,null,null,null,null,null,null,null,null,null,null,null,null,null,{"$f":"SUM(AC9:AC36)","v":0}]

{"sheet":"Test 4","index":7,"n_rows":70,"n_cols":36,"rows_kept":70,"cut":false,"hidden":false,"merged":[[63,0,64,3],[63,4,63,5],[63,8,63,9],[63,14,63,15],[63,18,63,19],[56,20,56,23],[62,4,62,5],[62,8,62,9],[62,11,62,12],[62,14,62,15],[62,18,62,19],[62,21,62,22],[56,4,56,5],[56,8,56,9],[56,10,56,13],[56,14,56,15],[56,18,56,19],[45,21,45,22],[50,0,51,3],[50,4,50,5],[50,8,50,9],[50,11,50,12],[50,14,50,15],[50,18,50,19],[50,21,50,22],[44,4,44,5],[44,8,44,9],[44,14,44,15],[44,18,44,19],[45,4,45,5],[45,8,45,9],[45,11,45,12],[45,14,45,15],[45,18,45,19],[38,21,38,22],[43,4,43,5],[43,8,43,9],[43,14,43,15],[43,18,43,19],[38,4,38,5],[38,8,38,9],[38,11,38,12],[38,14,38,15],[38,18,38,19],[36,21,36,22],[37,4,37,5],[37,8,37,9],[37,11,37,12],[37,14,37,15],[37,18,37,19],[37,21,37,22],[36,4,36,5],[36,8,36,9],[36,11,36,12],[36,14,36,15],[36,18,36,19],[34,21,34,22],[35,4,35,5],[35,8,35,9],[35,11,35,12],[35,14,35,15],[35,18,35,19],[35,21,35,22],[34,4,34,5],[34,8,34,9],[34,11,34,12],[34,14,34,15],[34,18,34,19],[32,21,32,22],[33,4,33,5],[33,8,33,9],[33,11,33,12],[33,14,33,15],[33,18,33,19],[33,21,33,22],[32,4,32,5],[32,8,32,9],[32,11,32,12],[32,14,32,15],[32,18,32,19],[26,21,26,22],[27,4,27,5],[27,8,27,9],[27,11,27,12],[27,14,27,15],[27,18,27,19],[27,21,27,22],[26,4,26,5],[26,8,26,9],[26,11,26,12],[26,14,26,15],[26,18,26,19],[24,21,24,22],[25,4,25,5],[25,8,25,9],[25,11,25,12],[25,14,25,15],[25,18,25,19],[25,21,25,22],[24,4,24,5],[24,8,24,9],[24,11,24,12],[24,14,24,15],[24,18,24,19],[22,21,22,22],[23,4,23,5],[23,8,23,9],[23,11,23,12],[23,14,23,15],[23,18,23,19],[23,21,23,22],[22,4,22,5],[22,8,22,9],[22,11,22,12],[22,14,22,15],[22,18,22,19],[20,21,20,22],[21,4,21,5],[21,8,21,9],[21,11,21,12],[21,14,21,15],[21,18,21,19],[21,21,21,22],[20,4,20,5],[20,8,20,9],[20,11,20,12],[20,14,20,15],[20,18,20,19],[18,21,18,22],[19,4,19,5],[19,8,19,9],[19,11,19,12],[19,14,19,15],[19,18,19,19],[19,21,19,22],[18,4,18,5],[18,8,18,9],[18,11,18,12],[18,14,18,15],[18,18,18,19],[16,21,16,22],[17,4,17,5],[17,8,17,9],[17,11,17,12],[17,14,17,15],[17,18,17,19],[17,21,17,22],[16,4,16,5],[16,8,16,9],[16,11,16,12],[16,14,16,15],[16,18,16,19],[14,21,14,22],[15,4,15,5],[15,8,15,9],[15,11,15,12],[15,14,15,15],[15,18,15,19],[15,21,15,22],[14,4,14,5],[14,8,14,9],[14,11,14,12],[14,14,14,15],[14,18,14,19],[12,21,12,22],[13,4,13,5],[13,8,13,9],[13,11,13,12],[13,14,13,15],[13,18,13,19],[13,21,13,22],[8,2,8,7],[8,8,8,20],[12,4,12,5],[12,8,12,9],[12,11,12,12],[12,14,12,15],[12,18,12,19],[5,1,6,3],[5,4,6,6],[5,7,6,9],[5,10,6,12],[5,13,6,15],[5,16,6,18],[2,22,3,24],[0,4,1,22],[2,4,3,6],[2,7,3,9],[2,10,3,12],[2,13,3,15],[2,16,3,18],[2,19,3,21],[5,19,6,21],[5,22,6,24]]}
[null,null,null,null,{"$f":"Main!E1","v":"AWP Contractor Reporting E2O - General Aggregates"}]
[null,null,null,null,null,null,null,null,null,null,null,null,null,null,null,null,null,null,null,null,null,null,null,null,null,"v",{"$f":"Main!AA2","v":"4.21"}]
[null,null,null,null," ",null,null,"Main",null,null,"Quantity",null,null,null,null,null,{"$f":"Main!Q3","v":"Send/Sync"},null,null,"Reports",null,null,"Help"]
[]
[]
[null,{"$f":"Main!B6","v":"General"},null,null,{"$f":"Main!E6","v":"Free Form"},null,null,{"$f":"IF(Main!H6=\"\",\"\",Main!H6)","v":"Bases"},null,null,{"$f":"IF(Main!K6=\"\",\"\",Main!K6)","v":"1005/3/9"},null,null,{"$f":"IF(Main!N6=\"\",\"\",Main!N6)","v":"SEL BACKFILL"},null,null,{"$f":"IF(Main!Q6=\"\",\"\",Main!Q6)","v":"QC/QA Split"},null,null,{"$f":"IF(Main!T6=\"\",\"\",Main!T6)","v":""},null,null,{"$f":"IF(Main!W6=\"\",\"\",Main!W6)","v":""}]
[null,null,null,null,null,null,null,null,null,null,null,null,null,null,null,null,null,null,null,null,null,null,null,null,null,null,null,null,null,{"$f":"Main!U40","v":"QCC"},"sample type"]
[null,null,null,null,null,null,null,null,null,null,null,null,null,null,null,null,null,null,null,null,null,null,"Sample type must be ",null,null,null,null,null,null,{"$f":"Main!F14","v":""},"material",null,null,"conditional formatting - hide fields for 1005 and 1007 and vice versa"]
[null,null," QA Test Performed by:",null,null,null,null,null,null,null,null,null,null,null,null,null,null,null,null,null,null,null,"QC/QA on the General Tab"]
[null,null,null,null,null,null,null,null,null,null,null,null,null,null,null,null,null,null,null,null,null,null,"for this tab to work",null,null,null,null,null,null,null,"Populate TM71 Split QCQA?",null,null,"Populate Base T1T5 Agg QCQA?"]
["Percent Passing Only - 1005 Quality or 1007 Quality",null,null,null,null,null,null,null,null,null,null,null,null,null,null,null,null,null,null,null,null,null,null,null,null,null,null,null,null,null,{"$f":"IF(AND(NOT(I28=\"\"),NOT(E28=\"\"),LEFT(AD8,4)=\"1005\",AD7=\"QCQA\"),1,0)","v":0},{"$f":"IF(AND(NOT(O28=\"\"),NOT(S28=\"\"),LEFT(AD8,4)=\"1005\",AD7=\"QCQA\"),1,0)","v":0},null,{"$f":"IF(AND(OR(AND(NOT(I24=\"\"),NOT(E24=\"\")),AND(NOT(I28=\"\"),NOT(E28=\"\")),AND(NOT(ISBLANK(E57)),NOT(ISBLANK(I57)))),LEFT(AD8,4)=\"1007\",AD7=\"QCQA\"),1,0)","v":0},{"$f":"IF(AND(OR(AND(NOT(O24=\"\"),NOT(S24=\"\")),AND(NOT(O28=\"\"),NOT(S28=\"\")),AND(NOT(ISBLANK(O57)),NOT(ISBLANK(S57)))),LEFT(AD8,4)=\"1007\",AD7=\"QCQA\"),1,0)","v":0},"entering #30 or  #200 or PI QC and QA results"]
[null,null,null,null,"QA (1)",null,null,null,"QC (1)",null,null,"Difference",null,null,"QA (2)",null,null,null,"QC (2)",null,null,"Difference",null,null,null,null,null,null,null,null,"Rounding",null,null,null,null," will get the QCQA base results into AWP"]
[null,null,"2\"",null,null,null,"%",null,null,null,"%",{"$f":"IFERROR(IF(OR(E13=\"\",I13=\"\"),\"\",IF(LEFT($AD$8,4)=\"1007\",ROUND(I13-E13,1),ROUND(E13-I13,1))),\"\")","v":""},null,null,null,null,"%",null,null,null,"%",{"$f":"IFERROR(IF(OR(O13=\"\",S13=\"\"),\"\",IF(LEFT($AD$8,4)=\"1007\",ROUND(S13-O13,1),ROUND(O13-S13,1))),\"\")","v":""},null,null,null,null,null,null,null,"2\""]
[null,null,"1 1/2\"",null,null,null,"%",null,null,null,"%",{"$f":"IFERROR(IF(OR(E14=\"\",I14=\"\"),\"\",IF(LEFT($AD$8,4)=\"1007\",ROUND(I14-E14,1),ROUND(E14-I14,1))),\"\")","v":""},null,null,null,null,"%",null,null,null,"%",{"$f":"IFERROR(IF(OR(O14=\"\",S14=\"\"),\"\",IF(LEFT($AD$8,4)=\"1007\",ROUND(S14-O14,1),ROUND(O14-S14,1))),\"\")","v":""},null,null,null,null,null,null,null,"1 1/2\"",{"$f":"IF(E14=\"\",\"\",ROUND(E14,1))","v":""},{"$f":"IF(I14=\"\",\"\",ROUND(I14,1))","v":""},{"$f":"IF(O14=\"\",\"\",ROUND(O14,1))","v":""},{"$f":"IF(S14=\"\",\"\",ROUND(S14,1))","v":""},"base"]
[null,null,"1\"",null,null,null,"%",null,null,null,"%","",null,null,null,null,"%",null,null,null,"%","",null,null,null,null,null,null,null,"1\"","","","","","base"]
[null,null,"3/4\"",null,null,null,"%",null,null,null,"%","",null,null,null,null,"%",null,null,null,"%","",null,null,null,null,null,null,null,"3/4\"","","","","","base"]
[null,null,"1/2\"",null,null,null,"%",null,null,null,"%","",null,null,null,null,"%",null,null,null,"%","",null,null,null,null,null,null,null,"1/2\"","","","","","base"]
[null,null,"3/8\"",null,null,null,"%",null,null,null,"%","",null,null,null,null,"%",null,null,null,"%","",null,null,null,null,null,null,null,"3/8\"","","","",""]
[null,null,"#4",null,null,null,"%",null,null,null,"%","",null,null,null,null,"%",null,null,null,"%","",null,null,null,null,null,null,null,"#4","","","","","base"]
[null,null,"#8",null,null,null,"%",null,null,null,"%","",null,null,null,null,"%",null,null,null,"%","",null,null,null,null,null,null,null,"#8","","","","","base"]
[null,null,"#10",null,null,null,"%",null,null,null,"%","",null,null,null,null,"%",null,null,null,"%","",null,null,null,null,null,null,null,"#10","","","","","base"]
[null,null,"#16",null,null,null,"%",null,null,null,"%","",null,null,null,null,"%",null,null,null,"%","",null,null,null,null,null,null,null,"#16","","","",""]
[null,null,"#20",null,null,null,"%",null,null,null,"%","",null,null,null,null,"%",null,null,null,"%","",null,null,null,null,null,null,null,"#20","","","",""]
[null,null,"#30",null,null,null,"%",null,null,null,"%","",null,null,null,null,"%",null,null,null,"%","",null,null,null,null,null,null,null,"#30","","","","","base"]
[null,null,"#40",null,null,null,"%",null,null,null,"%","",null,null,null,null,"%",null,null,null,"%","",null,null,null,null,null,null,null,"#40","","","","","base"]
[null,null,"#50",null,null,null,"%",null,null,null,"%","",null,null,null,null,"%",null,null,null,"%","",null,null,null,null,null,null,null,"#50","","","",""]
[null,null,"#100",null,null,null,"%",null,null,null,"%","",null,null,null,null,"%",null,null,null,"%","",null,null,null,null,null,null,null,"#100","","","","","base"]
[null,null,"#200",null,null,null,"%",null,null,null,"%","",null,null,null,null,"%",null,null,null,"%","",null,null,null,null,null,null,null,"#200","","","","","base"]
[null,null,null,null,null,null,null,null,null,null,null,null,null,null,null,null,null,null,null,null,null,null,null,null,null,null,null,null,null,null,"Populate Split Del?"]
[null,null,null,null,null,null,null,null,null,null,null,null,null,null,null,null,null,null,null,null,null,null,null,null,null,null,null,null,null,null,{"$f":"IF(AND(COUNTIF(AE33:AE39,\">=0\")>0,COUNTIF(AF33:AF39,\">=0\")>0),IF(AND(LEFT(AD8,4)=\"1005\",AD7=\"QCQA\"),1,0),0)","v":0},{"$f":"IF(AND(COUNTIF(AG33:AG39,\">=0\")>0,COUNTIF(AH33:AH39,\">=0\")>0),IF(AND(LEFT(AD8,4)=\"1005\",AD7=\"QCQA\"),1,0),0)","v":0}]
["Deleterious 1005 Quality"]
["Coarse Aggregate:",null,null,null,"QA (1)",null,null,null,"QC (1)",null,null,"Difference",null,null,"QA (2)",null,null,null,"QC (2)",null,null,"Difference",null,null,null,null,null,null,null,null,"Rounding"]
[null,"Del Rock",null,null,null,null,"%",null,null,null,"%",{"$f":"IFERROR(IF(OR(E33=\"\",I33=\"\"),\"\",ROUND(E33-I33,1)),\"\")","v":""},null,null,null,null,"%",null,null,null,"%",{"$f":"IFERROR(IF(OR(O33=\"\",S33=\"\"),\"\",ROUND(O33-S33,1)),\"\")","v":""},null,null,null,null,null,null,null,"Del Rock",{"$f":"IF(E33=\"\",\"\",ROUND(E33,1))","v":""},{"$f":"IF(I33=\"\",\"\",ROUND(I33,1))","v":""},{"$f":"IF(O33=\"\",\"\",ROUND(O33,1))","v":""},{"$f":"IF(S33=\"\",\"\",ROUND(S33,1))","v":""}]
[null,"Shale",null,null,null,null,"%",null,null,null,"%","",null,null,null,null,"%",null,null,null,"%","",null,null,null,null,null,null,null,"Shale","","","",""]
[null,"Chert in LS",null,null,null,null,"%",null,null,null,"%","",null,null,null,null,"%",null,null,null,"%","",null,null,null,null,null,null,null,"Chert in LS","","","",""]
[null,"Other Foreign",null,null,null,null,"%",null,null,null,"%","",null,null,null,null,"%",null,null,null,"%","",null,null,null,null,null,null,null,"Other Foreign","","","",""]
[null,"- #200",null,null,null,null,"%",null,null,null,"%","",null,null,null,null,"%",null,null,null,"%","",null,null,null,null,null,null,null,"- #200","","","",""]
[null,"Thin or Elong",null,null,null,null,"%",null,null,null,"%","",null,null,null,null,"%",null,null,null,"%","",null,null,null,null,null,null,null,"Thin or Elong","","","",""]
[null,"Total",null,null,{"$f":"IF(E33=\"\",\"\",ROUND(SUM(E33:F36),1))","v":""},null,"%",null,{"$f":"IF(I33=\"\",\"\",ROUND(SUM(I33:J36),1))","v":""},null,"%","",null,null,{"$f":"IF(O33=\"\",\"\",ROUND(SUM(O33:P36),1))","v":""},null,"%",null,{"$f":"IF(S33=\"\",\"\",ROUND(SUM(S33:T36),1))","v":""},null,"%",""]
[]
[null,null,null,null,null,null,null,null,null,null,null,null,null,null,null,null,null,null,null,null,null,null,null,null,null,null,null,null,null,null,"Populate Split T85?"]
["Absorption 1005 Quality",null,null,null,null,null,null,null,null,null,null,null,null,null,null,null,null,null,null,null,null,null,null,null,null,null,null,null,null,null,{"$f":"IF(OR(ISBLANK(I44),ISBLANK(E44)),0,IF(AND(LEFT(AD8,4)=\"1005\",AD7=\"QCQA\"),1,0))","v":0},{"$f":"IF(OR(ISBLANK(O44),ISBLANK(S44)),0,IF(AND(LEFT(AD8,4)=\"1005\",AD7=\"QCQA\"),1,0))","v":0}]
["Coarse Aggregate:",null,null,null,"QA (1)",null,null,null,"QC (1)",null,null,"Difference",null,null,"QA (2)",null,null,null,"QC (2)",null,null,"Difference",null,null,null,null,null,null,null,null,"Rounding"]
[null,"SSD Weight",null,null,null,null,"g",null,null,null,"g",null,null,null,null,null,"g",null,null,null,"g",null,null,null,null,null,null,null,null,"SSD wt",{"$f":"IF(E44=\"\",\"\",ROUND(E44,0))","v":""},{"$f":"IF(I44=\"\",\"\",ROUND(I44,0))","v":""},{"$f":"IF(O44=\"\",\"\",ROUND(O44,0))","v":""},{"$f":"IF(S44=\"\",\"\",ROUND(S44,0))","v":""}]
[null,"Dry Weight",null,null,null,null,"g",null,null,null,"g",null,null,null,null,null,"g",null,null,null,"g",null,null,null,null,null,null,null,null,"dry wt",{"$f":"IF(E45=\"\",\"\",ROUND(E45,0))","v":""},{"$f":"IF(I45=\"\",\"\",ROUND(I45,0))","v":""},{"$f":"IF(O45=\"\",\"\",ROUND(O45,0))","v":""},{"$f":"IF(S45=\"\",\"\",ROUND(S45,0))","v":""}]
[null,"Absorption",null,null,{"$f":"IFERROR(ROUND((E44-E45)/E45*100,1),\"\")","v":""},null,"%",null,{"$f":"IFERROR(ROUND((I44-I45)/I45*100,1),\"\")","v":""},null,"%",{"$f":"IFERROR(IF(OR(E46=\"\",I46=\"\"),\"\",ROUND(I46-E46,1)),\"\")","v":""},null,null,{"$f":"IFERROR(ROUND((O44-O45)/O45*100,1),\"\")","v":""},null,"%",null,{"$f":"IFERROR(ROUND((S44-S45)/S45*100,1),\"\")","v":""},null,"%",{"$f":"IFERROR(IF(OR(O46=\"\",S46=\"\"),\"\",ROUND(S46-O46,1)),\"\")","v":""}]
[]
[]
["Deleterious 1007 Quality - Base"]
["Coarse Aggregate:",null,null,null,"QA (1)",null,null,null,"QC (1)",null,null,"Difference",null,null,"QA (2)",null,null,null,"QC (2)",null,null,"Difference",null,null,null,null,null,null,null,null,"Rounding"]
["Deleterious Rock and Shale",null,null,null,null,null,"%",null,null,null,"%",{"$f":"IFERROR(IF(OR(E51=\"\",I51=\"\"),\"\",ROUND(I51-E51,1)),\"\")","v":""},null,null,null,null,"%",null,null,null,"%",{"$f":"IFERROR(IF(OR(O51=\"\",S51=\"\"),\"\",ROUND(S51-O51,1)),\"\")","v":""},null,null,null,null,null,null,null,"Del Rock",{"$f":"IF(E51=\"\",\"\",ROUND(E51,1))","v":""},{"$f":"IF(I51=\"\",\"\",ROUND(I51,1))","v":""},{"$f":"IF(O51=\"\",\"\",ROUND(O51,1))","v":""},{"$f":"IF(S51=\"\",\"\",ROUND(S51,1))","v":""}]
[]
[]
[]
[" Plasticity Index 1007 Quality - Base",null,null,null,null,null,null,null,null,null,null,"Note:  Enter \"NP\" for non plastic material"]
[null,null,null,null,"QA (1)",null,null,null,"QC (1)",null,null,"Difference",null,null,"QA (2)",null,null,null,"QC (2)",null,null,"Difference"]
[null,null,"PI",null,null,null,null,null,null,null,{"$f":"IFERROR(IF(OR(E57=\"\",I57=\"\"),\"\",IF(AND(E57=\"NP\",I57=\"NP\"),\"Compares Favorably\",IF(OR(E57=\"NP\",I57=\"NP\"),\"Does not Compare\",ROUND(I57-E57,0)))),\"\")","v":""},null,null,null,null,null,null,null,null,null,{"$f":"IFERROR(IF(OR(O57=\"\",S57=\"\"),\"\",IF(AND(O57=\"NP\",S57=\"NP\"),\"Compares Favorably\",IF(OR(O57=\"NP\",S57=\"NP\"),\"Does not Compare\",ROUND(S57-O57,0)))),\"\")","v":""}]
[]
[]
["Compaction Standard 1007 Quality - base"]
[]
[null,null,null,null,"QA (1)",null,null,null,"QC (1)",null,null,"Difference",null,null,"QA (2)",null,null,null,"QC (2)",null,null,"Difference",null,null,null,null,null,null,null,null,"Rounding"]
[null,null,null,"Optimum Density",null,null,"lb/cf",null,null,null,"lb/cf",{"$f":"IFERROR(IF(OR(E63=\"\",I63=\"\"),\"\",ROUND(I63-E63,1)),\"\")","v":""},null,null,null,null,"lb/cf",null,null,null,"lb/cf",{"$f":"IFERROR(IF(OR(O63=\"\",S63=\"\"),\"\",ROUND(S63-O63,1)),\"\")","v":""},null,null,null,null,null,null,null,"Density",{"$f":"IF(E63=\"\",\"\",ROUND(E63,1))","v":""},{"$f":"IF(I63=\"\",\"\",ROUND(I63,1))","v":""},{"$f":"IF(O63=\"\",\"\",ROUND(O63,1))","v":""},{"$f":"IF(S63=\"\",\"\",ROUND(S63,1))","v":""}]
["Optimum Moisture Content",null,null,null,null,null,"%",null,null,null,"%",null,null,null,null,null,"%",null,null,null,"%",null,null,null,null,null,null,null,null,"Moisture","","","",""]
[]
[null,null,null,null,null,null,null,null,null,null,null,null,null,null,null,null,null,null,null,null,null,null,null,null,null,null,null,null,{"$f":"IF(AND((LEFT(AD8,4)=\"1005\"),AD7=\"QCQA\"),IF(SUM(AE30:AF30,AE42:AF42,AE11:AF11)=0,1,0),0)","v":0},"QCQA sample type and 1005 material code selected but no test results entered"]
[null,null,null,null,null,null,null,null,null,null,null,null,null,null,null,null,null,null,null,null,null,null,null,null,null,null,null,null,{"$f":"IF(AND((LEFT(AD8,4)=\"1007\"),AD7=\"QCQA\"),IF(SUM(AH11:AI11)=0,1,0),0)","v":0},"QCQA sample type and 1007 material code selected but no test results entered"]
[]
[null,null,null,null,null,null,null,null,null,null,null,null,null,null,null,null,null,null,null,null,null,null,null,null,null,null,null,null,"Final error check total:"]
[null,null,null,null,null,null,null,null,null,null,null,null,null,null,null,null,null,null,null,null,null,null,null,null,null,null,null,null,{"$f":"SUM(AC22:AC67)","v":0}]

{"sheet":"Test 5","index":8,"n_rows":11,"n_cols":27,"rows_kept":11,"cut":false,"hidden":false,"merged":[[2,22,3,24],[0,4,1,22],[5,19,6,21],[5,22,6,24],[5,16,6,18],[2,4,3,6],[2,7,3,9],[2,10,3,12],[2,13,3,15],[2,16,3,18],[2,19,3,21],[5,1,6,3],[5,4,6,6],[5,7,6,9],[5,10,6,12],[5,13,6,15]]}
[null,null,null,null,{"$f":"Main!E1","v":"AWP Contractor Reporting E2O - General Aggregates"}]
[null,null,null,null,null,null,null,null,null,null,null,null,null,null,null,null,null,null,null,null,null,null,null,null,null,"v",{"$f":"Main!AA2","v":"4.21"}]
[null,null,null,null," ",null,null,{"$f":"Main!H3","v":"Main"},null,null,{"$f":"Main!K3","v":"Quantity"},null,null,null,null,null,{"$f":"Main!Q3","v":"Send/Sync"},null,null,{"$f":"Main!T3","v":"Reports"},null,null,{"$f":"Main!W3","v":"Help"}]
[]
[]
[null,{"$f":"Main!B6","v":"General"},null,null,{"$f":"Main!E6","v":"Free Form"},null,null,{"$f":"IF(Main!H6=\"\",\"\",Main!H6)","v":"Bases"},null,null,{"$f":"IF(Main!K6=\"\",\"\",Main!K6)","v":"1005/3/9"},null,null,{"$f":"IF(Main!N6=\"\",\"\",Main!N6)","v":"SEL BACKFILL"},null,null,{"$f":"IF(Main!Q6=\"\",\"\",Main!Q6)","v":"QC/QA Split"},null,null,{"$f":"IF(Main!T6=\"\",\"\",Main!T6)","v":""},null,null,{"$f":"IF(Main!W6=\"\",\"\",Main!W6)","v":""}]
[]
[]
[]
[]
[null,null,null,null,null,null,"NA"]

{"sheet":"Test 6","index":9,"n_rows":12,"n_cols":27,"rows_kept":12,"cut":false,"hidden":false,"merged":[[2,22,3,24],[0,4,1,22],[5,19,6,21],[5,22,6,24],[5,16,6,18],[2,4,3,6],[2,7,3,9],[2,10,3,12],[2,13,3,15],[2,16,3,18],[2,19,3,21],[5,1,6,3],[5,4,6,6],[5,7,6,9],[5,10,6,12],[5,13,6,15]]}
[null,null,null,null,{"$f":"Main!E1","v":"AWP Contractor Reporting E2O - General Aggregates"}]
[null,null,null,null,null,null,null,null,null,null,null,null,null,null,null,null,null,null,null,null,null,null,null,null,null,"v",{"$f":"Main!AA2","v":"4.21"}]
[null,null,null,null," ",null,null,{"$f":"Main!H3","v":"Main"},null,null,{"$f":"Main!K3","v":"Quantity"},null,null,null,null,null,{"$f":"Main!Q3","v":"Send/Sync"},null,null,{"$f":"Main!T3","v":"Reports"},null,null,{"$f":"Main!W3","v":"Help"}]
[]
[]
[null,{"$f":"Main!B6","v":"General"},null,null,{"$f":"Main!E6","v":"Free Form"},null,null,{"$f":"IF(Main!H6=\"\",\"\",Main!H6)","v":"Bases"},null,null,{"$f":"IF(Main!K6=\"\",\"\",Main!K6)","v":"1005/3/9"},null,null,{"$f":"IF(Main!N6=\"\",\"\",Main!N6)","v":"SEL BACKFILL"},null,null,{"$f":"IF(Main!Q6=\"\",\"\",Main!Q6)","v":"QC/QA Split"},null,null,{"$f":"IF(Main!T6=\"\",\"\",Main!T6)","v":""},null,null,{"$f":"IF(Main!W6=\"\",\"\",Main!W6)","v":""}]
[]
[]
[]
[]
[]
[null,null,null,null,null,"NA"]

{"sheet":"Functional","index":10,"n_rows":290,"n_cols":9,"rows_kept":290,"cut":false,"hidden":false,"merged":[[13,0,13,3]]}
[]
[]
[null,null,null,null,null,"Valid Other Tab","Valid Sky Types","Wind"]
[null,null,null,null,null,null,"Clear","Calm"]
[null,null,null,null,null,null,"Hazy","Slight"]
[null,null,null,null,null,null,"Partly Cloudy","Medium"]
[null,null,null,null,null,null,"Mostly Cloudy","Strong"]
[null,null,null,null,null,null,"Cloudy"]
[]
[]
[]
[]
[]
["PWL Determination Tables"]
[null,"QC/QA Paving Thickness","QC/QA Paving Compressive Strength"]
["N=",{"$f":"COUNT(#REF!)","v":0},{"$f":"COUNT(#REF!)","v":0},{"$f":"COUNT(#REF!)","v":0},{"$f":"COUNT(#REF!)","v":0}]
["QU"]
["QI",{"$f":"#REF!","v":{"$error":"#REF!"}},{"$f":"#REF!","v":{"$error":"#REF!"}},{"$f":"#REF!","v":{"$error":"#REF!"}},{"$f":"#REF!","v":{"$error":"#REF!"}}]
["PWLu=",{"$f":"IF(B17>2.65,100,IF(B17<=-2.65,0,IF(B17<=0,(100-VLOOKUP(ABS(B17),$A$12:$I$277,((B16)-1))),VLOOKUP(B17,$A$12:$I$277,(B16-1)))))","v":{"$error":"#VALUE!"}},{"$error":"#VALUE!"},{"$error":"#VALUE!"},{"$error":"#VALUE!"},{"$error":"#VALUE!"},{"$error":"#VALUE!"},{"$error":"#VALUE!"},0.2]
["PWLl",{"$f":"IF(B18>2.65,100,IF(B18<=-2.65,0,IF(B18<=0,(100-VLOOKUP(ABS(B18),$A$24:$I$290,((B16)-1))),VLOOKUP(B18,$A$24:$I$290,(B16-1)))))","v":{"$error":"#REF!"}},{"$f":"IF(C18>2.65,100,IF(C18<=-2.65,0,IF(C18<=0,(100-VLOOKUP(ABS(C18),$A$25:$I$290,((C16)-1))),VLOOKUP(C18,$A$25:$I$290,(C16-1)))))","v":{"$error":"#REF!"}},{"$f":"IF(D18>2.65,100,IF(D18<=-2.65,0,IF(D18<=0,(100-VLOOKUP(ABS(D18),$A$12:$I$277,((D16)-1))),VLOOKUP(D18,$A$12:$I$277,(D16-1)))))","v":{"$error":"#REF!"}},{"$f":"IF(E18>2.65,100,IF(E18<=-2.65,0,IF(E18<=0,(100-VLOOKUP(ABS(E18),$A$12:$I$277,((E16)-1))),VLOOKUP(E18,$A$12:$I$277,(E16-1)))))","v":{"$error":"#REF!"}},{"$f":"IF(F18>2.65,100,IF(F18<=-2.65,0,IF(F18<=0,(100-VLOOKUP(ABS(F18),$A$12:$I$277,((F16)-1))),VLOOKUP(F18,$A$12:$I$277,(F16-1)))))","v":{"$error":"#VALUE!"}},{"$f":"IF(G18>2.65,100,IF(G18<=-2.65,0,IF(G18<=0,(100-VLOOKUP(ABS(G18),$A$12:$I$277,((G16)-1))),VLOOKUP(G18,$A$12:$I$277,(G16-1)))))","v":{"$error":"#VALUE!"}},{"$f":"IF(H18>2.65,100,IF(H18<=-2.65,0,IF(H18<=0,(100-VLOOKUP(ABS(H18),$A$12:$I$277,(A(H16)-1))),VLOOKUP(H18,$A$12:$I$277,(H16-1)))))","v":{"$error":"#NAME?"}},0.4]
["QUALITY",null,null,null,null,null,null,null,0.6]
["INDEX",null,null,null,null,null,null,null,0.8]
["(QU OR QL)"]
["Q",3,4,5,6,7,8,9,10]
[0,50,50,50,50,50,50,50,50]
[0.01,{"$f":"$I19*(B$30-B$25)+B$25","v":50.276000000000003},50.334000000000003,50.356000000000002,50.368000000000002,50.374000000000002,50.378,50.381999999999998,50.384]
[0.02,{"$f":"$I20*(B$30-B$25)+B$25","v":50.552},50.667999999999999,{"$f":"$I20*(D$30-D$25)+D$25","v":50.712000000000003},50.736000000000004,50.747999999999998,50.756,50.763999999999996,50.768000000000001]
[0.03,50.828000000000003,51.002000000000002,51.067999999999998,51.103999999999999,51.122,51.134,51.146000000000001,51.152000000000001]
[0.04,51.103999999999999,51.335999999999999,51.423999999999999,51.472000000000001,51.495999999999995,51.512,51.527999999999999,51.536000000000001]
[0.05,51.38,51.67,51.78,51.84,51.87,51.89,51.91,51.92]
[0.06,{"$f":"$I19*(B$35-B$30)+B$30","v":51.655999999999999},{"$f":"$I19*(C$35-C$30)+C$30","v":52.002000000000002},52.136000000000003,52.206000000000003,52.244,52.268000000000001,52.291999999999994,52.304000000000002]
[7.0000000000000007E-2,{"$f":"$I20*(B$35-B$30)+B$30","v":51.932000000000002},52.334000000000003,52.492000000000004,52.572000000000003,52.618000000000002,52.646000000000001,52.673999999999999,52.688000000000002]
[0.08,52.207999999999998,52.665999999999997,52.847999999999999,52.938000000000002,52.991999999999997,53.024000000000001,53.055999999999997,53.072000000000003]
[0.09,52.484000000000002,52.997999999999998,53.204000000000001,53.304000000000002,53.366,53.402000000000001,53.438000000000002,53.456000000000003]
[0.1,52.76,53.33,53.56,53.67,53.74,53.78,53.82,53.84]
[0.11,{"$f":"$I19*(B$40-B$35)+B$35","v":53.037999999999997},{"$f":"$I19*(C$40-C$35)+C$35","v":53.664000000000001},53.914000000000001,54.036000000000001,54.112000000000002,54.158000000000001,54.198,54.222000000000001]
[0.12,{"$f":"$I20*(B$40-B$35)+B$35","v":53.315999999999995},53.997999999999998,54.268000000000001,54.402000000000001,54.484000000000002,54.536000000000001,54.576000000000001,54.603999999999999]
[0.13,53.594000000000001,54.332000000000001,54.622,54.768000000000001,54.856000000000002,54.914000000000001,54.954000000000001,54.986000000000004]
[0.14000000000000001,53.872,54.665999999999997,54.975999999999999,55.134,55.228000000000002,55.292000000000002,55.332000000000001,55.368000000000002]
[0.15,54.15,55,55.33,55.5,55.6,55.67,55.71,55.75]
[0.16,{"$f":"$I19*(B$45-B$40)+B$40","v":54.427999999999997},{"$f":"$I19*(C$45-C$40)+C$40","v":55.334000000000003},55.683999999999997,55.863999999999997,55.972000000000001,56.044000000000004,56.088000000000001,56.13]
[0.17,{"$f":"$I20*(B$45-B$40)+B$40","v":54.705999999999996},55.667999999999999,56.037999999999997,56.228000000000002,56.344000000000001,56.417999999999999,56.466000000000001,56.51]
[0.18,54.984000000000002,56.002000000000002,56.392000000000003,56.591999999999999,56.716000000000001,56.792000000000002,56.844000000000001,56.89]
[0.19,55.262,56.335999999999999,56.746000000000002,56.956000000000003,57.088000000000001,57.165999999999997,57.222000000000001,57.269999999999996]
[0.2,55.54,56.67,57.1,57.32,57.46,57.54,57.6,57.65]
[0.21,{"$f":"$I19*(B$50-B$45)+B$45","v":55.822000000000003},{"$f":"$I19*(C$50-C$45)+C$45","v":57.002000000000002},57.454000000000001,57.683999999999997,57.828000000000003,57.914000000000001,57.975999999999999,58.025999999999996]
[0.22,{"$f":"$I20*(B$50-B$45)+B$45","v":56.103999999999999},57.334000000000003,57.808,58.048000000000002,58.195999999999998,58.287999999999997,58.351999999999997,58.402000000000001]
[0.23,56.386000000000003,57.665999999999997,58.161999999999999,58.411999999999999,58.564,58.661999999999999,58.728000000000002,58.777999999999999]
[0.24,56.667999999999999,57.997999999999998,58.515999999999998,58.776000000000003,58.931999999999995,59.035999999999994,59.103999999999999,59.154000000000003]
[0.25,56.95,58.33,58.87,59.14,59.3,59.41,59.48,59.53]
[0.26,{"$f":"$I19*(B$55-B$50)+B$50","v":57.234000000000002},{"$f":"$I19*(C$55-C$50)+C$50","v":58.664000000000001},59.222000000000001,59.5,59.665999999999997,59.777999999999999,59.851999999999997,59.904000000000003]
[0.27,{"$f":"$I20*(B$55-B$50)+B$50","v":57.518000000000001},58.997999999999998,59.573999999999998,59.86,60.031999999999996,60.146000000000001,60.223999999999997,60.277999999999999]
[0.28000000000000003,57.802,59.332000000000001,59.926000000000002,60.22,60.398000000000003,60.513999999999996,60.596000000000004,60.652000000000001]
[0.28999999999999998,58.085999999999999,59.665999999999997,60.277999999999999,60.58,60.764000000000003,60.881999999999998,60.968000000000004,61.025999999999996]
[0.3,58.37,60,60.63,60.94,61.13,61.25,61.34,61.4]
[0.31,{"$f":"$I19*(B$60-B$55)+B$55","v":58.655999999999999},{"$f":"$I19*(C$60-C$55)+C$55","v":60.334000000000003},60.980000000000004,61.297999999999995,61.492000000000004,61.616,61.708000000000006,61.769999999999996]
[0.32,{"$f":"$I20*(B$60-B$55)+B$55","v":58.942},60.667999999999999,61.330000000000005,61.655999999999999,61.853999999999999,61.981999999999999,62.076000000000001,62.14]
[0.33,59.227999999999994,61.002000000000002,61.68,62.013999999999996,62.216000000000001,62.347999999999999,62.444000000000003,62.51]
[0.34,59.513999999999996,61.335999999999999,62.03,62.372,62.577999999999996,62.713999999999999,62.811999999999998,62.88]
[0.35,59.8,61.67,62.38,62.73,62.94,63.08,63.18,63.25]
[0.36,{"$f":"$I19*(B$65-B$60)+B$60","v":60.091999999999999},{"$f":"$I19*(C$65-C$60)+C$60","v":62.002000000000002},62.728000000000002,63.085999999999999,63.3,63.442,63.543999999999997,63.613999999999997]
[0.37,{"$f":"$I20*(B$65-B$60)+B$60","v":60.384},62.334000000000003,63.076000000000001,63.442,63.66,63.804000000000002,63.908000000000001,63.977999999999994]
[0.38,60.675999999999995,62.665999999999997,63.424000000000007,63.798000000000002,64.02,64.165999999999997,64.272000000000006,64.341999999999999]
[0.39,60.967999999999996,62.997999999999998,63.772000000000006,64.153999999999996,64.38,64.528000000000006,64.635999999999996,64.705999999999989]
[0.4,61.26,63.33,64.12,64.510000000000005,64.739999999999995,64.89,65,65.069999999999993]
[0.41,{"$f":"$I19*(B$70-B$65)+B$65","v":61.555999999999997},{"$f":"$I19*(C$70-C$65)+C$65","v":63.664000000000001},64.463999999999999,64.862000000000009,65.093999999999994,65.245999999999995,65.358000000000004,65.429999999999993]
[0.42,{"$f":"$I20*(B$70-B$65)+B$65","v":61.851999999999997},63.997999999999998,64.808000000000007,65.213999999999999,65.447999999999993,65.602000000000004,65.716000000000008,65.789999999999992]
[0.43,62.148000000000003,64.331999999999994,65.152000000000001,65.566000000000003,65.802000000000007,65.957999999999998,66.073999999999998,66.150000000000006]
[0.44,62.444000000000003,64.665999999999997,65.496000000000009,65.917999999999992,66.156000000000006,66.314000000000007,66.432000000000002,66.510000000000005]
[0.45,62.74,65,65.84,66.27,66.510000000000005,66.67,66.790000000000006,66.87]
[0.46,{"$f":"$I19*(B$75-B$70)+B$70","v":63.042000000000002},{"$f":"$I19*(C$75-C$70)+C$70","v":65.334000000000003},66.183999999999997,66.616,66.86,67.022000000000006,67.14200000000001,67.222000000000008]
[0.47,{"$f":"$I20*(B$75-B$70)+B$70","v":63.344000000000001},65.668000000000006,66.528000000000006,66.962000000000003,67.210000000000008,67.374000000000009,67.494,67.573999999999998]
[0.48,63.646000000000001,66.001999999999995,66.872,67.307999999999993,67.56,67.725999999999999,67.846000000000004,67.926000000000002]
[0.49,63.948,66.335999999999999,67.216000000000008,67.653999999999996,67.910000000000011,68.078000000000003,68.197999999999993,68.277999999999992]
[0.5,64.25,66.67,67.56,68,68.260000000000005,68.430000000000007,68.55,68.63]
[0.51,{"$f":"$I19*(B$80-B$75)+B$75","v":64.56},{"$f":"$I19*(C$80-C$75)+C$75","v":67.001999999999995},67.900000000000006,68.343999999999994,68.606000000000009,68.77600000000001,68.896000000000001,68.975999999999999]
[0.52,{"$f":"$I20*(B$80-B$75)+B$75","v":64.87},67.334000000000003,68.240000000000009,68.688000000000002,68.951999999999998,69.122,69.242000000000004,69.322000000000003]
[0.53,65.179999999999993,67.665999999999997,68.58,69.031999999999996,69.298000000000002,69.468000000000004,69.587999999999994,69.667999999999992]
[0.54,65.489999999999995,67.998000000000005,68.92,69.376000000000005,69.643999999999991,69.813999999999993,69.933999999999997,70.013999999999996]
[0.55000000000000004,65.8,68.33,69.260000000000005,69.72,69.989999999999995,70.16,70.28,70.36]
[0.56000000000000005,{"$f":"$I19*(B$85-B$80)+B$80","v":66.117999999999995},{"$f":"$I19*(C$85-C$80)+C$80","v":68.664000000000001},69.597999999999999,70.057999999999993,70.328000000000003,70.49799999999999,70.617999999999995,{"$f":"$I19*(I$72-I$67)+I$67","v":66.146799999999999}]
[0.56999999999999995,{"$f":"$I20*(B$85-B$80)+B$80","v":66.435999999999993},68.998000000000005,69.936000000000007,70.396000000000001,70.665999999999997,70.835999999999999,70.956000000000003,{"$f":"$I20*(I$72-I$67)+I$67","v":66.503599999999992}]
[0.57999999999999996,66.754000000000005,69.331999999999994,70.274000000000001,70.733999999999995,71.004000000000005,71.173999999999992,71.293999999999997,{"$f":"$I21*(I$72-I$67)+I$67","v":66.860399999999998}]
[0.59,67.072000000000003,69.665999999999997,70.612000000000009,71.072000000000003,71.341999999999999,71.512,71.632000000000005,{"$f":"$I22*(I$72-I$67)+I$67","v":67.217199999999991}]
[0.6,67.39,70,70.95,71.41,71.680000000000007,71.849999999999994,71.97,72.06]
[0.61,{"$f":"$I19*(B$90-B$85)+B$85","v":67.718000000000004},{"$f":"$I19*(C$90-C$85)+C$85","v":70.334000000000003},71.281999999999996,71.744,72.012,72.11,72.301999999999992,72.391999999999996]
[0.62,{"$f":"$I20*(B$90-B$85)+B$85","v":68.046000000000006},70.668000000000006,71.614000000000004,72.078000000000003,72.344000000000008,72.37,72.634,72.724000000000004]
[0.63,68.373999999999995,71.001999999999995,71.945999999999998,72.411999999999992,72.676000000000002,72.63,72.965999999999994,73.055999999999997]
[0.64,68.701999999999998,71.335999999999999,72.278000000000006,72.745999999999995,73.00800000000001,72.89,73.298000000000002,73.388000000000005]
[0.65,69.03,71.67,72.61,73.08,73.34,73.150000000000006,73.63,73.72]
[0.66,{"$f":"$I19*(B$95-B$90)+B$90","v":69.37},{"$f":"$I19*(C$95-C$90)+C$90","v":72.001999999999995},72.94,73.405999999999992,73.665999999999997,73.550000000000011,73.953999999999994,74.042000000000002]
[0.67,{"$f":"$I20*(B$95-B$90)+B$90","v":69.710000000000008},72.334000000000003,73.27,73.731999999999999,73.992000000000004,73.95,74.277999999999992,74.364000000000004]
[0.68,70.05,72.665999999999997,73.600000000000009,74.057999999999993,74.317999999999998,74.350000000000009,74.602000000000004,74.685999999999993]
[0.69,70.39,72.998000000000005,73.930000000000007,74.384,74.644000000000005,74.75,74.926000000000002,75.007999999999996]
[0.7,70.73,73.33,74.260000000000005,74.709999999999994,74.97,75.150000000000006,75.25,75.33]
[0.71,{"$f":"$I19*(B$100-B$95)+B$95","v":71.084000000000003},{"$f":"$I19*(C$100-C$95)+C$95","v":73.664000000000001},74.585999999999999,75.031999999999996,75.287999999999997,75.463999999999999,75.566000000000003,75.644000000000005]
[0.72,{"$f":"$I20*(B$100-B$95)+B$95","v":71.438000000000002},73.998000000000005,74.912000000000006,75.353999999999999,75.605999999999995,75.778000000000006,75.882000000000005,75.957999999999998]
[0.73,71.792000000000002,74.331999999999994,75.238,75.675999999999988,75.924000000000007,76.091999999999999,76.197999999999993,76.272000000000006]
[0.74,72.146000000000001,74.665999999999997,75.564000000000007,75.99799999999999,76.242000000000004,76.406000000000006,76.513999999999996,76.585999999999999]
[0.75,72.5,75,75.89,76.319999999999993,76.56,76.72,76.83,76.900000000000006]
[0.76,{"$f":"$I19*(B$105-B$100)+B$100","v":72.872},{"$f":"$I19*(C$105-C$100)+C$100","v":75.334000000000003},76.209999999999994,76.634,76.872,77.028000000000006,77.135999999999996,77.206000000000003]
[0.77,{"$f":"$I20*(B$105-B$100)+B$100","v":73.244},75.668000000000006,76.53,76.947999999999993,77.183999999999997,77.335999999999999,77.441999999999993,77.512]
[0.78,73.616,76.001999999999995,76.849999999999994,77.262,77.496000000000009,77.644000000000005,77.748000000000005,77.818000000000012]
[0.79,73.988,76.335999999999999,77.17,77.575999999999993,77.808000000000007,77.951999999999998,78.054000000000002,78.124000000000009]
[0.8,74.36,76.67,77.489999999999995,77.89,78.12,78.260000000000005,78.36,78.430000000000007]
[0.81,{"$f":"$I19*(B$110-B$105)+B$105","v":74.754000000000005},{"$f":"$I19*(C$110-C$105)+C$105","v":77.001999999999995},77.805999999999997,78.198000000000008,78.421999999999997,78.56,78.656000000000006,78.724000000000004]
[0.82,{"$f":"$I20*(B$110-B$105)+B$105","v":75.147999999999996},77.334000000000003,78.122,78.506,78.724000000000004,78.86,78.951999999999998,79.018000000000001]
[0.83,75.542000000000002,77.665999999999997,78.437999999999988,78.814000000000007,79.025999999999996,79.160000000000011,79.248000000000005,79.312000000000012]
[0.84,75.935999999999993,77.998000000000005,78.753999999999991,79.122,79.328000000000003,79.460000000000008,79.543999999999997,79.606000000000009]
[0.85,76.33,78.33,79.069999999999993,79.430000000000007,79.63,79.760000000000005,79.84,79.900000000000006]
[0.86,{"$f":"$I19*(B$115-B$110)+B$110","v":76.754000000000005},{"$f":"$I19*(C$115-C$110)+C$110","v":78.664000000000001},79.38,79.73,79.923999999999992,80.05,80.128,80.186000000000007]
[0.87,{"$f":"$I20*(B$115-B$110)+B$110","v":77.177999999999997},78.998000000000005,79.69,80.03,80.217999999999989,80.34,80.415999999999997,80.472000000000008]
[0.88,77.602000000000004,79.331999999999994,80,80.330000000000013,80.512,80.63,80.704000000000008,80.757999999999996]
[0.89,78.025999999999996,79.665999999999997,80.31,80.63000000000001,80.805999999999997,80.92,80.992000000000004,81.043999999999997]
[0.9,78.45,80,80.62,80.930000000000007,81.099999999999994,81.209999999999994,81.28,81.33]
[0.91,{"$f":"$I19*(B$120-B$115)+B$115","v":78.91},{"$f":"$I19*(C$120-C$115)+C$115","v":80.334000000000003},80.924000000000007,81.222000000000008,81.384,81.489999999999995,81.558000000000007,81.605999999999995]
[0.92,{"$f":"$I20*(B$120-B$115)+B$115","v":79.37},80.668000000000006,81.228000000000009,81.51400000000001,81.667999999999992,81.77,81.835999999999999,81.881999999999991]
[0.93,79.83,81.001999999999995,81.531999999999996,81.805999999999997,81.951999999999998,82.05,82.114000000000004,82.158000000000001]
[0.94,80.290000000000006,81.335999999999999,81.835999999999999,82.097999999999999,82.23599999999999,82.33,82.391999999999996,82.433999999999997]
[0.95,80.75,81.67,82.14,82.39,82.52,82.61,82.67,82.71]
[0.96,{"$f":"$I19*(B$125-B$120)+B$120","v":81.266000000000005},{"$f":"$I19*(C$125-C$120)+C$120","v":82.001999999999995},82.44,82.671999999999997,82.795999999999992,82.88,82.936000000000007,82.97399999999999]
[0.97,{"$f":"$I20*(B$125-B$120)+B$120","v":81.781999999999996},82.334000000000003,82.74,82.953999999999994,83.072000000000003,83.149999999999991,83.201999999999998,83.238]
[0.98,82.298000000000002,82.665999999999997,83.04,83.236000000000004,83.347999999999999,83.42,83.468000000000004,83.501999999999995]
[0.99,82.813999999999993,82.998000000000005,83.34,83.518000000000001,83.624000000000009,83.69,83.733999999999995,83.766000000000005]
[1,83.33,83.33,83.64,83.8,83.9,83.96,84,84.03]
[1.01,{"$f":"$I19*(B$130-B$125)+B$125","v":83.932000000000002},{"$f":"$I19*(C$130-C$125)+C$125","v":83.664000000000001},83.93,84.075999999999993,84.166000000000011,84.22,84.256,84.281999999999996]
[1.02,{"$f":"$I20*(B$130-B$125)+B$125","v":84.534000000000006},83.998000000000005,84.22,84.352000000000004,84.432000000000002,84.48,84.512,84.534000000000006]
[1.03,85.135999999999996,84.331999999999994,84.51,84.628,84.698000000000008,84.74,84.768000000000001,84.786000000000001]
[1.04,85.738,84.665999999999997,84.8,84.904000000000011,84.963999999999999,85,85.024000000000001,85.038000000000011]
[1.05,86.34,85,85.09,85.18,85.23,85.26,85.28,85.29]
[1.06,{"$f":"$I19*(B$135-B$130)+B$130","v":87.103999999999999},{"$f":"$I19*(C$135-C$130)+C$130","v":85.334000000000003},85.376000000000005,85.444000000000003,85.486000000000004,85.51,85.525999999999996,85.532000000000011]
[1.07,{"$f":"$I20*(B$135-B$130)+B$130","v":87.867999999999995},85.668000000000006,85.662000000000006,85.707999999999998,85.742000000000004,85.76,85.772000000000006,85.774000000000001]
[1.08,88.632000000000005,86.001999999999995,85.947999999999993,85.972000000000008,85.998000000000005,86.01,86.018000000000001,86.016000000000005]
[1.0900000000000001,89.396000000000001,86.335999999999999,86.233999999999995,86.236000000000004,86.254000000000005,86.26,86.26400000000001,86.257999999999996]
[1.1000000000000001,90.16,86.67,86.52,86.5,86.51,86.51,86.51,86.5]
[1.1100000000000001,{"$f":"$I19*(B$140-B$135)+B$135","v":91.554000000000002},{"$f":"$I19*(C$140-C$135)+C$135","v":87.001999999999995},86.795999999999992,86.756,86.754000000000005,86.748000000000005,86.744,86.731999999999999]
[1.1200000000000001,{"$f":"$I20*(B$140-B$135)+B$135","v":92.947999999999993},87.334000000000003,87.072000000000003,87.012,86.998000000000005,86.986000000000004,86.978000000000009,86.963999999999999]
[1.1299999999999999,94.341999999999999,87.665999999999997,87.347999999999999,87.268000000000001,87.242000000000004,87.224000000000004,87.212000000000003,87.195999999999998]
[1.1399999999999999,95.73599999999999,87.998000000000005,87.624000000000009,87.524000000000001,87.486000000000004,87.462000000000003,87.446000000000012,87.427999999999997]
[1.1499999999999999,97.13,88.33,87.9,87.78,87.73,87.7,87.68,87.66]
[1.1599999999999999,100,{"$f":"$I19*(C$145-C$140)+C$140","v":88.664000000000001},{"$f":"$I19*(D$145-D$140)+D$140","v":88.168000000000006},88.025999999999996,87.963999999999999,87.926000000000002,87.902000000000001,87.88]
[1.17,100,{"$f":"$I20*(C$145-C$140)+C$140","v":88.998000000000005},88.436000000000007,88.272000000000006,88.198000000000008,88.152000000000001,88.124000000000009,88.1]
[1.18,100,89.331999999999994,88.703999999999994,88.518000000000001,88.432000000000002,88.378,88.346000000000004,88.320000000000007]
[1.19,100,89.665999999999997,88.971999999999994,88.76400000000001,88.666000000000011,88.603999999999999,88.568000000000012,88.54]
[1.2,100,90,89.24,89.01,88.9,88.83,88.79,88.76]
[1.21,100,{"$f":"$I19*(C$150-C$145)+C$145","v":90.334000000000003},{"$f":"$I19*(D$150-D$145)+D$145","v":89.5},89.246000000000009,89.124000000000009,89.045999999999992,89.00200000000001,88.966000000000008]
[1.22,100,{"$f":"$I20*(C$150-C$145)+C$145","v":90.668000000000006},89.76,89.481999999999999,89.347999999999999,89.262,89.213999999999999,89.172000000000011]
[1.23,100,91.001999999999995,90.02,89.718000000000004,89.572000000000003,89.477999999999994,89.426000000000002,89.378]
[1.24,100,91.335999999999999,90.28,89.953999999999994,89.795999999999992,89.694000000000003,89.637999999999991,89.584000000000003]
[1.25,100,91.67,90.54,90.19,90.02,89.91,89.85,89.79]
[1.26,100,{"$f":"$I19*(C$155-C$150)+C$150","v":92.001999999999995},{"$f":"$I19*(D$155-D$150)+D$150","v":90.79},90.414000000000001,90.22999999999999,90.116,90.048000000000002,89.988]
[1.27,100,{"$f":"$I20*(C$155-C$150)+C$150","v":92.334000000000003},91.04,90.638000000000005,90.44,90.322000000000003,90.245999999999995,90.186000000000007]
[1.28,100,92.665999999999997,91.29,90.861999999999995,90.649999999999991,90.527999999999992,90.444000000000003,90.384]
[1.29,100,92.998000000000005,91.54,91.085999999999999,90.86,90.733999999999995,90.641999999999996,90.582000000000008]
[1.3,100,93.33,91.79,91.31,91.07,90.94,90.84,90.78]
[1.31,100,{"$f":"$I19*(C$160-C$155)+C$155","v":93.664000000000001},{"$f":"$I19*(D$160-D$155)+D$155","v":92.028000000000006},91.522000000000006,91.271999999999991,91.132000000000005,91.028000000000006,90.963999999999999]
[1.32,100,{"$f":"$I20*(C$160-C$155)+C$155","v":93.998000000000005},92.266000000000005,91.734000000000009,91.47399999999999,91.323999999999998,91.216000000000008,91.147999999999996]
[1.33,100,94.331999999999994,92.504000000000005,91.945999999999998,91.676000000000002,91.516000000000005,91.403999999999996,91.332000000000008]
[1.34,100,94.665999999999997,92.742000000000004,92.158000000000001,91.878,91.707999999999998,91.591999999999999,91.516000000000005]
[1.35,100,95,92.98,92.37,92.08,91.9,91.78,91.7]
[1.36,100,{"$f":"$I19*(C$165-C$160)+C$160","v":95.334000000000003},{"$f":"$I19*(D$165-D$160)+D$160","v":93.207999999999998},92.570000000000007,92.268000000000001,92.082000000000008,91.957999999999998,91.872]
[1.37,100,{"$f":"$I20*(C$165-C$160)+C$160","v":95.668000000000006},93.436000000000007,92.77000000000001,92.456000000000003,92.26400000000001,92.135999999999996,92.043999999999997]
[1.38,100,96.001999999999995,93.664000000000001,92.97,92.643999999999991,92.445999999999998,92.314000000000007,92.216000000000008]
[1.39,100,96.335999999999999,93.89200000000001,93.17,92.831999999999994,92.628,92.492000000000004,92.388000000000005]
[1.4,100,96.67,94.12,93.37,93.02,92.81,92.67,92.56]
[1.41,100,{"$f":"$I19*(C$170-C$165)+C$165","v":97.001999999999995},{"$f":"$I19*(D$170-D$165)+D$165","v":94.334000000000003},93.56,93.195999999999998,92.978000000000009,92.834000000000003,92.722000000000008]
[1.42,100,{"$f":"$I20*(C$170-C$165)+C$165","v":97.334000000000003},94.548000000000002,93.75,93.372,93.146000000000001,92.998000000000005,92.884]
[1.43,100,97.665999999999997,94.762,93.94,93.548000000000002,93.314000000000007,93.161999999999992,93.046000000000006]
[1.44,100,97.998000000000005,94.975999999999999,94.13,93.724000000000004,93.481999999999999,93.325999999999993,93.207999999999998]
[1.45,100,98.33,95.19,94.32,93.9,93.65,93.49,93.37]
[1.46,100,{"$f":"$I19*(C$175-C$170)+C$170","v":98.664000000000001},{"$f":"$I19*(D$175-D$170)+D$170","v":95.391999999999996},94.494,94.064000000000007,93.808000000000007,93.643999999999991,93.522000000000006]
[1.47,100,{"$f":"$I20*(C$175-C$170)+C$170","v":98.998000000000005},95.593999999999994,94.667999999999992,94.228000000000009,93.966000000000008,93.798000000000002,93.674000000000007]
[1.48,100,99.331999999999994,95.796000000000006,94.841999999999999,94.391999999999996,94.123999999999995,93.951999999999998,93.825999999999993]
[1.49,100,99.665999999999997,95.998000000000005,95.015999999999991,94.555999999999997,94.281999999999996,94.106000000000009,93.977999999999994]
[1.5,100,100,96.2,95.19,94.72,94.44,94.26,94.13]
[1.51,100,100,{"$f":"$I19*(D$180-D$175)+D$175","v":96.385999999999996},95.352000000000004,94.872,94.585999999999999,94.402000000000001,94.268000000000001]
[1.52,100,100,{"$f":"$I20*(D$180-D$175)+D$175","v":96.572000000000003},95.513999999999996,95.024000000000001,94.731999999999999,94.543999999999997,94.405999999999992]
[1.53,100,100,96.757999999999996,95.676000000000002,95.176000000000002,94.878,94.686000000000007,94.543999999999997]
[1.54,100,100,96.944000000000003,95.837999999999994,95.328000000000003,95.024000000000001,94.828000000000003,94.681999999999988]
[1.55,100,100,97.13,96,95.48,95.17,94.97,94.82]
[1.56,100,100,{"$f":"$I19*(D$185-D$180)+D$180","v":97.298000000000002},96.15,95.618000000000009,95.304000000000002,95.1,94.947999999999993]
[1.57,100,100,{"$f":"$I20*(D$185-D$180)+D$180","v":97.465999999999994},96.3,95.756,95.438000000000002,95.23,95.075999999999993]
[1.58,100,100,97.634,96.45,95.894000000000005,95.572000000000003,95.36,95.203999999999994]
[1.59,100,100,97.801999999999992,96.6,96.031999999999996,95.706000000000003,95.490000000000009,95.331999999999994]
[1.6,100,100,97.97,96.75,96.17,95.84,95.62,95.46]
[1.61,100,100,{"$f":"$I19*(D$190-D$185)+D$185","v":98.12},96.884,96.298000000000002,95.962000000000003,95.740000000000009,95.577999999999989]
[1.62,100,100,{"$f":"$I20*(D$190-D$185)+D$185","v":98.27},97.018000000000001,96.426000000000002,96.084000000000003,95.86,95.695999999999998]
[1.63,100,100,98.42,97.152000000000001,96.554000000000002,96.206000000000003,95.98,95.813999999999993]
[1.64,100,100,98.57,97.286000000000001,96.682000000000002,96.328000000000003,96.1,95.932000000000002]
[1.65,100,100,98.72,97.42,96.81,96.45,96.22,96.05]
[1.66,100,100,{"$f":"$I19*(D$195-D$190)+D$190","v":98.843999999999994},97.54,96.924000000000007,96.561999999999998,96.328000000000003,96.158000000000001]
[1.67,100,100,{"$f":"$I20*(D$195-D$190)+D$190","v":98.968000000000004},97.66,97.037999999999997,96.674000000000007,96.436000000000007,96.266000000000005]
[1.68,100,100,99.091999999999999,97.78,97.152000000000001,96.786000000000001,96.543999999999997,96.373999999999995]
[1.69,100,100,99.216000000000008,97.899999999999991,97.265999999999991,96.89800000000001,96.652000000000001,96.481999999999999]
[1.7,100,100,99.34,98.02,97.38,97.01,96.76,96.59]
[1.71,100,100,{"$f":"$I19*(D$200-D$195)+D$195","v":99.433999999999997},98.125999999999991,97.481999999999999,97.11,96.858000000000004,96.686000000000007]
[1.72,100,100,{"$f":"$I20*(D$200-D$195)+D$195","v":99.528000000000006},98.231999999999999,97.584000000000003,97.210000000000008,96.956000000000003,96.781999999999996]
[1.73,100,100,99.622,98.337999999999994,97.685999999999993,97.31,97.054000000000002,96.878]
[1.74,100,100,99.716000000000008,98.444000000000003,97.787999999999997,97.410000000000011,97.152000000000001,96.97399999999999]
[1.75,100,100,99.81,98.55,97.89,97.51,97.25,97.07]
[1.76,100,100,{"$f":"0.25*(D$204-D$200)+D$200","v":99.857500000000002},{"$f":"$I19*(E$205-E$200)+E$200","v":98.637999999999991},97.981999999999999,97.600000000000009,97.34,97.158000000000001]
[1.77,100,100,{"$f":"0.5*(D$204-D$200)+D$200","v":99.905000000000001},98.725999999999999,98.073999999999998,97.69,97.43,97.245999999999995]
[1.78,100,100,{"$f":"0.75*(D$204-D$200)+D$200","v":99.952500000000001},98.813999999999993,98.165999999999997,97.78,97.52,97.334000000000003]
[1.79,100,100,100,98.902000000000001,98.257999999999996,97.86999999999999,97.61,97.421999999999997]
[1.8,100,100,100,98.99,98.35,97.96,97.7,97.51]
[1.81,100,100,100,{"$f":"$I19*(E$210-E$205)+E$205","v":99.063999999999993},98.427999999999997,98.037999999999997,97.778000000000006,97.59]
[1.82,100,100,100,99.137999999999991,98.506,98.116,97.856000000000009,97.67]
[1.83,100,100,100,99.212000000000003,98.583999999999989,98.193999999999988,97.933999999999997,97.75]
[1.84,100,100,100,99.286000000000001,98.661999999999992,98.271999999999991,98.012,97.83]
[1.85,100,100,100,99.36,98.74,98.35,98.09,97.91]
[1.86,100,100,100,{"$f":"$I19*(E$215-E$210)+E$210","v":99.418000000000006},{"$f":"$I19*(F$215-F$210)+F$210","v":98.805999999999997},{"$f":"$I19*(G$215-G$210)+G$210","v":98.417999999999992},{"$f":"$I19*(H$215-H$210)+H$210","v":98.16},{"$f":"$I19*(I$215-I$210)+I$210","v":97.977999999999994}]
[1.87,100,100,100,{"$f":"$I20*(E$215-E$210)+E$210","v":99.475999999999999},98.872,98.48599999999999,98.23,98.045999999999992]
[1.88,100,100,100,99.534000000000006,98.937999999999988,98.554000000000002,98.3,98.114000000000004]
[1.89,100,100,100,99.591999999999999,99.003999999999991,98.622,98.37,98.182000000000002]
[1.9,100,100,100,99.65,99.07,98.69,98.44,98.25]
[1.91,100,100,100,{"$f":"$I19*(E$220-E$215)+E$215","v":99.69},{"$f":"$I19*(F$220-F$215)+F$215","v":99.125999999999991},{"$f":"$I19*(G$220-G$215)+G$215","v":98.75},{"$f":"$I19*(H$220-H$215)+H$215","v":98.5},{"$f":"$I19*(I$220-I$215)+I$215","v":98.311999999999998}]
[1.92,100,100,100,{"$f":"$I20*(E$220-E$215)+E$215","v":99.73},99.181999999999988,98.81,98.56,98.373999999999995]
[1.93,100,100,100,99.77,99.238,98.86999999999999,98.61999999999999,98.436000000000007]
[1.94,100,100,100,99.81,99.293999999999997,98.929999999999993,98.679999999999993,98.498000000000005]
[1.95,100,100,100,99.85,99.35,98.99,98.74,98.56]
[1.96,100,100,100,{"$f":"$I19*(E$225-E$220)+E$220","v":99.873999999999995},{"$f":"$I19*(F$225-F$220)+F$220","v":99.393999999999991},{"$f":"$I19*(G$225-G$220)+G$220","v":99.039999999999992},{"$f":"$I19*(H$225-H$220)+H$220","v":98.792000000000002},{"$f":"$I19*(I$225-I$220)+I$220","v":98.614000000000004}]
[1.97,100,100,100,{"$f":"$I20*(E$225-E$220)+E$220","v":99.897999999999996},99.437999999999988,99.089999999999989,98.843999999999994,98.668000000000006]
[1.98,100,100,100,99.921999999999997,99.481999999999999,99.14,98.896000000000001,98.721999999999994]
[1.99,100,100,100,99.945999999999998,99.525999999999996,99.19,98.947999999999993,98.775999999999996]
[2,100,100,100,99.97,99.57,99.24,99,98.83]
[2.0099999999999998,100,100,100,{"$f":"$I19*(E$230-E$225)+E$225","v":99.975999999999999},{"$f":"$I19*(F$230-F$225)+F$225","v":99.603999999999999},{"$f":"$I19*(G$230-G$225)+G$225","v":99.281999999999996},{"$f":"$I19*(H$230-H$225)+H$225","v":99.046000000000006},{"$f":"$I19*(I$230-I$225)+I$225","v":98.876000000000005}]
[2.02,100,100,100,{"$f":"$I20*(E$230-E$225)+E$225","v":99.981999999999999},99.637999999999991,99.323999999999998,99.091999999999999,98.921999999999997]
[2.0299999999999998,100,100,100,99.988,99.671999999999997,99.366,99.138000000000005,98.968000000000004]
[2.04,100,100,100,99.994,99.705999999999989,99.408000000000001,99.183999999999997,99.013999999999996]
[2.0499999999999998,100,100,100,100,99.74,99.45,99.23,99.06]
[2.06,100,100,100,100,{"$f":"$I19*(F$235-F$230)+F$230","v":99.763999999999996},{"$f":"$I19*(G$235-G$230)+G$230","v":99.481999999999999},{"$f":"$I19*(H$235-H$230)+H$230","v":99.266000000000005},{"$f":"$I19*(I$235-I$230)+I$230","v":99.100000000000009}]
[2.0699999999999998,100,100,100,100,{"$f":"$I20*(F$235-F$230)+F$230","v":99.787999999999997},99.513999999999996,99.302000000000007,99.14]
[2.08,100,100,100,100,99.811999999999998,99.546000000000006,99.337999999999994,99.18]
[2.09,100,100,100,100,99.835999999999999,99.578000000000003,99.373999999999995,99.22]
[2.1,100,100,100,100,99.86,99.61,99.41,99.26]
[2.11,100,100,100,100,{"$f":"$I19*(F$240-F$235)+F$235","v":99.876000000000005},{"$f":"$I19*(G$240-G$235)+G$235","v":99.635999999999996},{"$f":"$I19*(H$240-H$235)+H$235","v":99.441999999999993},{"$f":"$I19*(I$240-I$235)+I$235","v":99.292000000000002}]
[2.12,100,100,100,100,{"$f":"$I20*(F$240-F$235)+F$235","v":99.891999999999996},99.661999999999992,99.47399999999999,99.323999999999998]
[2.13,100,100,100,100,99.908000000000001,99.688000000000002,99.506,99.356000000000009]
[2.14,100,100,100,100,99.923999999999992,99.713999999999999,99.537999999999997,99.388000000000005]
[2.15,100,100,100,100,99.94,99.74,99.57,99.42]
[2.16,100,100,100,100,{"$f":"$I19*(F$245-F$240)+F$240","v":99.95},{"$f":"$I19*(G$245-G$240)+G$240","v":99.759999999999991},{"$f":"$I19*(H$245-H$240)+H$240","v":99.593999999999994},{"$f":"$I19*(I$245-I$240)+I$240","v":99.448000000000008}]
[2.17,100,100,100,100,{"$f":"$I20*(F$245-F$240)+F$240","v":99.96},99.78,99.617999999999995,99.475999999999999]
[2.1800000000000002,100,100,100,100,99.97,99.8,99.641999999999996,99.504000000000005]
[2.19,100,100,100,100,99.97999999999999,99.820000000000007,99.665999999999997,99.531999999999996]
[2.2000000000000002,100,100,100,100,99.99,99.84,99.69,99.56]
[2.21,100,100,100,100,{"$f":"$I19*(F$250-F$245)+F$245","v":99.99199999999999},{"$f":"$I19*(G$250-G$245)+G$245","v":99.853999999999999},{"$f":"$I19*(H$250-H$245)+H$245","v":99.71},{"$f":"$I19*(I$250-I$245)+I$245","v":99.584000000000003}]
[2.2200000000000002,100,100,100,100,{"$f":"$I20*(F$250-F$245)+F$245","v":99.994},99.867999999999995,99.73,99.608000000000004]
[2.23,100,100,100,100,99.995999999999995,99.882000000000005,99.75,99.632000000000005]
[2.2400000000000002,100,100,100,100,99.998000000000005,99.896000000000001,99.77000000000001,99.656000000000006]
[2.25,100,100,100,100,100,99.91,99.79,99.68]
[2.2599999999999998,100,100,100,100,100,{"$f":"$I19*(G$255-G$250)+G$250","v":99.92},{"$f":"$I19*(H$255-H$250)+H$250","v":99.804000000000002},{"$f":"$I19*(I$255-I$250)+I$250","v":99.698000000000008}]
[2.27,100,100,100,100,100,{"$f":"$I20*(G$255-G$250)+G$250","v":99.929999999999993},99.817999999999998,99.716000000000008]
[2.2799999999999998,100,100,100,100,100,99.94,99.832000000000008,99.733999999999995]
[2.29,100,100,100,100,100,99.949999999999989,99.846000000000004,99.751999999999995]
[2.2999999999999998,100,100,100,100,100,99.96,99.86,99.77]
[2.31,100,100,100,100,100,{"$f":"$I19*(G$260-G$255)+G$255","v":99.963999999999999},{"$f":"$I19*(H$260-H$255)+H$255","v":99.872},{"$f":"$I19*(I$260-I$255)+I$255","v":99.783999999999992}]
[2.3199999999999998,100,100,100,100,100,{"$f":"$I20*(G$260-G$255)+G$255","v":99.968000000000004},99.884,99.798000000000002]
[2.33,100,100,100,100,100,99.971999999999994,99.896000000000001,99.811999999999998]
[2.34,100,100,100,100,100,99.975999999999999,99.908000000000001,99.826000000000008]
[2.35,100,100,100,100,100,99.98,99.92,99.84]
[2.36,100,100,100,100,100,{"$f":"$I19*(G$265-G$260)+G$260","v":99.984000000000009},99.926000000000002,99.850000000000009]
[2.37,100,100,100,100,100,99.988,99.932000000000002,99.86]
[2.38,100,100,100,100,100,99.992000000000004,99.938000000000002,99.87]
[2.39,100,100,100,100,100,99.995999999999995,99.944000000000003,99.88]
[2.4,100,100,100,100,100,100,99.95,99.89]
[2.41,100,100,100,100,100,100,{"$f":"$I19*(H$270-H$265)+H$265","v":99.956000000000003},{"$f":"$I19*(I$270-I$265)+I$265","v":99.897999999999996}]
[2.42,100,100,100,100,100,100,{"$f":"$I20*(H$270-H$265)+H$265","v":99.962000000000003},99.906000000000006]
[2.4300000000000002,100,100,100,100,100,100,99.968000000000004,99.914000000000001]
[2.44,100,100,100,100,100,100,99.974000000000004,99.922000000000011]
[2.4500000000000002,100,100,100,100,100,100,99.98,99.93]
[2.46,100,100,100,100,100,100,{"$f":"$I19*(H$275-H$270)+H$270","v":99.981999999999999},{"$f":"$I19*(I$275-I$270)+I$270","v":99.936000000000007}]
[2.4700000000000002,100,100,100,100,100,100,{"$f":"$I20*(H$275-H$270)+H$270","v":99.983999999999995},99.942000000000007]
[2.48,100,100,100,100,100,100,99.986000000000004,99.947999999999993]
[2.4900000000000002,100,100,100,100,100,100,99.988,99.953999999999994]
[2.5,100,100,100,100,100,100,99.99,99.96]
[2.5099999999999998,100,100,100,100,100,100,{"$f":"$I19*(H$280-H$275)+H$275","v":99.99199999999999},{"$f":"$I19*(I$280-I$275)+I$275","v":99.963999999999999}]
[2.52,100,100,100,100,100,100,{"$f":"$I20*(H$280-H$275)+H$275","v":99.994},99.968000000000004]
[2.5299999999999998,100,100,100,100,100,100,99.995999999999995,99.971999999999994]
[2.54,100,100,100,100,100,100,99.998000000000005,99.975999999999999]
[2.5499999999999998,100,100,100,100,100,100,100,99.98]
[2.56,100,100,100,100,100,100,100,{"$f":"$I19*(I$285-I$280)+I$280","v":99.981999999999999}]
[2.57,100,100,100,100,100,100,100,{"$f":"$I20*(I$285-I$280)+I$280","v":99.983999999999995}]
[2.58,100,100,100,100,100,100,100,{"$f":"$I21*(I$285-I$280)+I$280","v":99.986000000000004}]
[2.59,100,100,100,100,100,100,100,{"$f":"$I22*(I$285-I$280)+I$280","v":99.988}]
[2.6,100,100,100,100,100,100,100,99.99]
[2.61,100,100,100,100,100,100,100,{"$f":"$I19*(I$290-I$285)+I$285","v":99.99199999999999}]
[2.62,100,100,100,100,100,100,100,{"$f":"$I20*(I$290-I$285)+I$285","v":99.994}]
[2.63,100,100,100,100,100,100,100,{"$f":"$I21*(I$290-I$285)+I$285","v":99.995999999999995}]
[2.64,100,100,100,100,100,100,100,{"$f":"$I22*(I$290-I$285)+I$285","v":99.998000000000005}]
[2.65,100,100,100,100,100,100,100,100]

{"sheet":"ReportS","index":11,"n_rows":8,"n_cols":3,"rows_kept":8,"cut":false,"hidden":false,"merged":[[47,26,47,31],[41,26,41,31],[42,26,42,31],[43,26,43,31],[44,26,44,31],[45,26,45,31],[46,26,46,31],[42,20,43,23],[40,13,40,14],[19,13,19,14],[21,13,21,14],[25,13,25,14],[35,13,35,14],[38,13,38,14],[36,13,36,14],[37,13,37,14],[41,13,41,14],[47,13,47,14],[44,13,44,14],[45,13,45,14],[42,13,42,14],[43,13,43,14],[46,13,46,14],[27,13,27,14],[28,13,28,14],[22,13,22,14],[31,13,31,14],[38,17,39,23],[36,17,37,23],[34,17,35,23],[33,18,33,21],[30,20,30,21],[33,8,34,9],[35,8,36,9],[37,8,38,9],[31,20,31,21],[32,18,32,21],[31,17,31,18],[25,0,26,1],[27,0,28,1],[29,0,30,1],[25,2,26,3],[27,2,28,3],[29,2,30,3],[39,0,40,1],[39,2,40,3],[39,4,40,7],[33,4,34,7],[37,4,38,7],[33,0,34,1],[35,0,36,1],[25,4,26,7],[31,0,32,1],[44,0,45,2],[44,3,45,9],[41,2,42,3],[41,8,42,9],[41,0,42,1],[41,4,42,7],[26,18,26,20],[25,18,25,20],[37,0,38,1],[35,2,36,3],[37,2,38,3],[27,4,28,7],[29,4,30,7],[29,13,29,14],[31,2,32,3],[33,2,34,3],[35,4,36,7],[31,4,32,7],[31,8,32,9],[39,8,40,9],[30,17,30,18],[27,8,28,9],[29,8,30,9],[39,13,39,14],[27,18,27,20],[27,21,27,22],[26,13,26,14],[25,8,26,9],[44,33,45,35],[39,33,41,36],[23,34,23,35],[42,33,43,36],[29,17,29,18],[29,20,29,21],[33,22,33,23],[23,26,23,27],[42,17,43,19],[32,22,32,23],[40,26,40,32],[39,26,39,32],[23,28,24,28],[23,32,23,33],[23,29,24,29],[26,21,26,22],[25,21,25,22],[30,13,30,14],[34,13,34,14],[33,16,34,16],[1,2,2,2],[20,5,21,6],[18,2,19,4],[20,2,21,4],[15,0,15,9],[22,25,22,26],[16,18,17,23],[18,5,19,6],[18,7,19,9],[18,13,18,14],[16,25,17,30],[17,16,18,16],[16,0,17,1],[16,2,17,4],[18,0,19,1],[16,5,17,6],[16,7,17,9],[21,25,21,26],[20,7,21,9],[22,0,24,9],[20,0,21,1],[24,13,24,14],[20,13,20,14],[23,13,23,14],[21,27,21,30],[20,32,21,35],[18,32,19,35],[21,31,24,31],[19,25,19,26],[20,25,20,26],[19,27,19,30],[20,27,20,30],[22,27,22,30],[22,32,22,36]]}
[]
[null,null,"Main"]
[]
[]
[]
[]
[]
[null,null,"TBD"]

{"sheet":"Send Sync","index":12,"n_rows":728,"n_cols":52,"rows_kept":728,"cut":false,"hidden":false,"merged":[[16,11,16,22],[2,4,3,6],[2,7,3,9],[2,10,3,12],[2,13,3,15],[16,1,16,10],[7,7,7,19],[8,15,8,19],[8,21,8,25],[9,2,10,24],[34,20,34,23],[33,2,33,15],[18,4,18,10],[18,11,18,13],[40,1,40,3],[40,4,40,24],[39,4,39,24],[36,4,36,24],[34,17,34,19],[39,1,39,3],[41,1,41,3],[41,4,41,24],[0,4,1,22],[29,1,30,14],[32,17,32,22],[14,1,14,10],[14,11,14,16],[14,18,14,21],[15,1,15,10],[15,11,15,22],[22,17,23,22],[17,2,17,22],[32,1,32,14],[24,2,24,25],[33,17,33,19],[33,20,33,23],[160,10,160,11],[46,4,46,24],[42,1,42,3],[42,4,42,24],[43,1,43,3],[43,4,43,24],[44,1,44,3],[44,4,44,24],[46,1,46,3],[53,29,54,29],[2,19,3,21],[2,22,3,24],[4,22,5,24],[2,16,3,18],[29,17,29,22],[11,2,12,24],[45,1,45,3],[45,4,45,24],[36,1,36,3],[37,1,37,3],[37,4,37,24],[38,1,38,3],[38,4,38,24],[4,1,5,3],[4,4,5,21]]}
[null,null,null,null,{"$f":"Main!E1","v":"AWP Contractor Reporting E2O - General Aggregates"}]
[null,null,null,null,null,null,null,null,null,null,null,null,null,null,null,null,null,null,null,null,null,null,null,null,null,"v",{"$f":"Main!AA2","v":"4.21"},null,"Temp File",null,{"$f":"CONCATENATE(AE8,AE4)","v":"C:\\Users\\varnej1\\AppData\\Local\\Temp\\AGGR.xls"},{"$f":"CONCATENATE(AE8,AF4)","v":"C:\\Users\\varnej1\\AppData\\Local\\Temp\\AGGR.xlsm"}]
[null,null,null,null," ",null,null,{"$f":"Main!H3","v":"Main"},null,null,{"$f":"Main!K3","v":"Quantity"},null,null,null,null,null,{"$f":"Main!Q3","v":"Send/Sync"},null,null,{"$f":"Main!T3","v":"Reports"},null,null,{"$f":"Main!W3","v":"Help"},null,null,null,null,null,"Launched File",null,"V:\\Excel2Oracle\\ContractorReportingAWP\\AWP_Aggregates.xlsm"]
[null,null,null,null,null,null,null,null,null,null,null,null,null,null,null,null,null,null,null,null,null,null,null,null,null,null,null,null,"Mandatory filename",null,{"$f":"CONCATENATE(\"AGGR\",Main!V12,\".xls\")","v":"AGGR.xls"},{"$f":"CONCATENATE(\"AGGR\",Main!V12,\".xlsm\")","v":"AGGR.xlsm"}]
[null,null,null,null,"!  ACTIONS ON THIS TAB REQUIRE AN INTERNET CONNECTION  !",null,null,null,null,null,null,null,null,null,null,null,null,null,null,null,null,null,null,null,null,null,null,null,"future local fullname"]
[null,null,null,null,null,null,null,null,null,null,null,null,null,null,null,null,null,null,null,null,null,null,null,null,null,null,null,null,"User MyDocuments",null,"C:\\Users\\varnej1\\my documents\\"]
[null,null,null,null,null,null,null,null,null,null,null,null,null,null,null,null,null,null,null,null,null,null,null,null,null,null,null,null,"Userid",null,"Jonathan C. Varner","Jonathan C. Varner","Jonathan C. Varner","Jonathan C. Varner","Jonathan C. Varner","Jonathan C. Varner","varnej1","varnej1","varnej1","varnej1","varnej1","varnej1","varnej1","Jared M. McElmeel","varnej1","varnej1","varnej1","varnej1","varnej1","varnej1","varnej1","varnej1"]
["SEND DATA TO MODOT:",null,null,null,null,null,null,{"$f":"IF(AC20>0, \"NOT YET COMPLETE!\", \"\")","v":"NOT YET COMPLETE!"},null,null,null,null,null,null,null,null,null,null,null,null,null,null,null,null,null,null,null,null,"Temp",null,"C:\\Users\\varnej1\\AppData\\Local\\Temp\\"]
[null,"Once completed, this report must be emailed back to MoDOT:      ",null,null,null,null,null,null,null,null,null,null,null,null,null,"awpcre2o@modot.mo.gov",null,null,null,null,"or","Outlook Client Upload",null,null,null,null,null,null,"OS",null,"Windows (32-bit) NT 6.01"]
[null,null,"* If you have an MS Outlook client installed, the button will automate the send…  otherwise please use the email address and ensure the sample ID is included in the file name.",null,null,null,null,null,null,null,null,null,null,null,null,null,null,null,null,null,null,null,null,null,null,null,null,null,"Excel Defualt File Path",null,"j:\\meyerm3\\"]
[null,null,null,null,null,null,null,null,null,null,null,null,null,null,null,null,null,null,null,null,null,null,null,null,null,null,null,null,"User Indicated File",null,"C:\\Users\\meyerm3\\Desktop\\AS1 14QMIDK234.xls"]
[null,null,"* If an error is found during processing, the email will contain a basic indication of the issue.  You are responsible for persuing the solution… work with your RE office to help.",null,null,null,null,null,null,null,null,null,null,null,null,null,null,null,null,null,null,null,null,null,null,null,null,null,"From Interent Y/N",null,"N","Use Email for Send? Y/N",null,null,"N"]
[null,null,null,null,null,null,null,null,null,null,null,null,null,null,null,null,null,null,null,null,null,null,null,null,null,null,null,null,"Temp shell file",null,{"$f":"CONCATENATE(AE8,\"MoDOTFTP.txt\")","v":"C:\\Users\\varnej1\\AppData\\Local\\Temp\\MoDOTFTP.txt"}]
[null,null,null,null,null,null,null,"Contact information for notifications related to this record.",null,null,null,null,null,null,null,null,null,null,null,null,null,null,null,null,null,null,null,null,{"$f":"IF(ISBLANK(L15),1,0)","v":1},"inspector "]
[null," MoDOT Inspector",null,null,null,null,null,null,null,null,null,null,null,null,null,null,null,null,{"$f":"IF(ISERROR(C55),\"\",C55)","v":""},null,null,null,null,null,null,null,null,null,{"$f":"IF(ISBLANK(L16), 1,0)","v":1},"contractor email"]
[null,"Your (Contractor) E-Mail Address.",null,null,null,null,null,null,null,null,null,null,null,null,null,null,null,null,null,null,null,null,null,null,null,null,null,null,{"$f":"IF((IFERROR(SEARCH(\"@\",L16),0))>0, 0,1)","v":1},"Email contains an @"]
[null,"Optiohnal Second E-Mail Address.",null,null,null,null,null,null,null,null,null,null,null,null,null,null,null,null,null,null,null,null,null,null,null,null,null,null,{"$f":"IF(ISBLANK(L17),0,IF((IFERROR(SEARCH(\"@\",L17),0))>0,0,1))","v":0},"Optional Email contains an @"]
[null,null,null,null,null,null,null,null,null,null,null,null,null,null,null,null,null,null,null,null,null,null,null,null,null,null,null,null,{"$f":"IF(L19=\"\", 1,0)","v":1},"security word entered"]
[null,null,null,null,"Contractor Security Word",null,null,null,null,null,null,null,null,null,null,null,null,null,null,null,null,null,null,null,null,null,null,null,{"$f":"IF(LEN(L19)=4,0,1)","v":1},"four characters"]
[null,null,null,null,null,null,null,null,null,null,null,null,null,null,null,null,null,null,null,null,null,null,null,null,null,null,null,null,{"$f":"SUM('Contract and Quantities'!AC146,'Test 1'!AC56,Main!AC32,'Test 2'!AC76,'Test 3'!AC38,'Test 4'!AC70)","v":13},"Total from other used tabs!  If greater than zero it is not ok to send"]
[null,null,null,null,null,null,null,null,null,null,null,null,null,null,null,null,null,null,null,null,null,null,null,null,null,null,null,null,{"$f":"IF(SUM(AC14:AC20)=0,\"YES\",\"NO\")","v":"NO"},"Ok to send"]
[]
[null,"I need to update an existing report I have previously submitted:       ",null,null,null,null,null,null,null,null,null,null,null,null,null,null,null,{"$f":"AE26","v":"Click Here To Allow Updating"},null,null,null,null,null,null,null,null,null,null,"NO","Updating allowed"]
[null,null,null,null,null,null,null,null,null,null,null,null,null,null,null,null,null,null,null,null,null,null,null,null,null,null,null,null,null,"option 1","Click Here To Allow Updating"]
[null,null,"* Note this can overwrite existing reports.  Make absoultely sure this is what you intend to do before proceeding.",null,null,null,null,null,null,null,null,null,null,null,null,null,null,null,null,null,null,null,null,null,null,null,null,null,null,"option 2","Updating Enabled"]
[null,null,null,null,null,null,null,null,null,null,null,null,null,null,null,null,null,null,null,null,null,null,null,null,null,null,null,null,null,"displayed","Click Here To Allow Updating"]
[]
["RETRIEVE DATA FROM MODOT:"]
[]
[null,"Update the picklists on this sheet to retrieve new choices that MoDOT has added to its database:",null,null,null,null,null,null,null,null,null,null,null,null,null,null,null,"Update Picklists",null,null,null,null,null,null,null,null,null,null,"Date of last news update.  This is used to limit the number of news updates to once per day.  "]
[null,null,null,null,null,null,null,null,null,null,null,null,null,null,null,null,null,null,null,null,null,null,null,null,null,null,null,null,"2024-01-05"]
[null,null,null,null,null,null,null,null,null,null,null,null,null,null,null,null,null,null,null,null,null,null,null,null,null,null,null,null,"Todays Date for comparison"]
[null,"Check to see if this worksheet is the latest version and for news.",null,null,null,null,null,null,null,null,null,null,null,null,null,null,null,"Version and News Check",null,null,null,null,null,null,null,null,null,null,"2024-01-05"]
[null,null,"Note:  this is automatically done for you once a day.",null,null,null,null,null,null,null,null,null,null,null,null,null,null,"This Sheet :",null,null,{"$f":"AA2","v":"4.21"},null,null,null,null,null,null,null,"Skip news download:"]
[null,null,null,null,null,null,null,null,null,null,null,null,null,null,null,null,null,"Newest :",null,null,"4.20"]
[null,"Latest News and Updates"]
[null,{"$f":"P70","v":"Aggs"},null,null,{"$f":"Q70","v":"AWP Earthworks sheets updated to include option to select 6\" proctor method for T99 results"}]
[null,{"$f":"P71","v":"Aggs"},null,null,{"$f":"Q71","v":"QA and QC Earthwork released to allow \"too rocky to test\" as a reportable option for proctor density results"}]
[null,"ALL",null,null,{"$f":"Q72","v":"All CRE2O sheets updated, updating picklists function wasn't working for some users"}]
[null,"ALL",null,null,{"$f":"Q73","v":"New QA sheet versions to give more flexibility in assigning sample IDs"}]
[null,"Aggs",null,null,{"$f":"Q74","v":"AWP Earthwork 4.01 released to fix error with T99 results sometimes not populating into AWP"}]
[null,"Aggs",null,null,{"$f":"Q75","v":"AWP Aggregates 4.11 released, Type 1 base now populates gradation results without requiring value for No 200 sieve"}]
[null,"Aggs",null,null,"AWP Aggregates 4.10 released to add QC/QA reporting for consultants"]
[null,"ALL",null,null,"IMPORTANT: New QA E2O sheets released, Old versions will break after July 9th weekend when AWP is upgraded, please switch to the latest sheets accordingly"]
[null,"ALL",null,null,"IMPORTANT: New QC CRE2O sheets released, Old versions will break after July 9th weekend when AWP is upgraded, please switch to the latest sheets accordingly"]
[null,"Aggs",null,null,"QA Aggs, Selected do not resize for buttons"]
[null,"Aggs",null,null,"QA Earthworks, updated to make QA default for test template in Oracle code"]
[null,null,null,null,null,null,null,null,null,null,null,null,null,null,null,null,null,null,null,null,null,null,null,null,null,null,null,null,null,null,"6 indicates yes"]
[null,null,null,null,null,null,null,null,null,null,null,null,null,null,null,null,null,null,null,null,null,null,null,null,null,null,null,null,null,"All"]
[null,null,null,null,null,null,null,null,null,null,null,null,null,null,null,null,null,null,null,null,null,null,null,null,null,null,null,null,null,"PS Mat"]
[null,null,null,null,null,null,null,null,null,null,null,null,null,null,null,null,null,null,null,null,null,null,null,null,null,null,null,null,null,"Branded"]
[null,null,null,null,null,null,null,null,null,null,null,null,null,null,null,null,null,null,null,null,null,null,null,null,null,null,null,null,null,"Aspahlt Mixes"]
[null,null,"User ID from Name",null,null,null,null,null,null,null,null,null,null,null,null,null,null,null,null,null,null,null,null,null,null,null,null,null,null,"Material"]
[null,null,{"$f":"L15","v":0},null,null,null,null,null,null,null,null,null,null,null,null,null,null,null,null,null,null,null,null,null,null,null,null,null,null,"Contractors and Inspectors"]
[null,null,{"$f":"VLOOKUP(C54,C57:D1100,2,FALSE)","v":{"$error":"#N/A"}},{"$f":"VLOOKUP(C54,C57:E1100,3,FALSE)","v":{"$error":"#N/A"}},null,null,null,null,"Descr.MaterialTest (Table)","MaterialTest Id.MaterialTest (Table)","AgencyEntity Nm.AgencyEntity (Table)","AgencyEntity Id.AVControl (Table)","Test Type","RefSampleStatus Id.RefSampleStatus (Table)","RefSampleStatus Nm.RefSampleStatus (Table)","Lab Nm.LAB","Lab Id.LAB","DestinationLab Id.DestinationLab (Table)","Lab Nm.LAB","LabUnit Id.LabUnit (Table)","Lab Id.LAB","Type.RemarkModelMapping (Table)","RemarkModelMapping Id.RemarkModelMapping (Table)","RefTestResultValue Nm.RefTestResultValue (Table)","Descr.RefTestResultValue (Table)","RefTestResultValue Id.RefTestResultValue (Table)","Entity.Nm","Entity.Id"]
[null,null,"Name","PersonInfo Nm.PERSONINFO","PersonInfo Id.PERSONINFO",null,null,null,"AASHTO T255 Total Moisture Content of Aggregate by Drying",1042,"CM_T255_MoistureCont",217,"QC",6,"Pending Authorization","Field",142,5,"NA",147,182,"General",53,"Fail","Fail",1,"DestinationLab",204,null,"Contract Info"]
[null,null,"Abbott, Eric L","abbote1",2515,null,null,null,"AASHTO T27 Sieve Analysis (QC)",936,"CM_T27_Detail",150,"QC",9,"Approved",null,null,null,null,null,null,null,null,"Pass","Pass",2]
[null,null,"Ackert, Timothy C","ackert1",1740,null,null,null,"AASHTO T27 Sieve Analysis (QC)",936,"CM_T27_List",151,"QC",16,"FAIL - Fail/Rejected"]
[null,null,"Adams, Shane M","adamss4",2594,null,null,null,"AASHTO T288 Soil Resistivity Field",1152,"CM_Field_Resistivity",300,"QC",20,"FAIU - Failed- Matl used as is w-w/o deduct"]
[null,null,"Alfred, Aden R","alfrea1",9048,null,null,null,"AASHTO T85 Absorption for Concrete Aggregate (QC)",949,"CM_T85Abs",169,"QC"]
[null,null,"Allred, Daniel D","allred1",1441,null,null,null,"AASHTO T90 Aggregate PI (QC)",955,"CM_PI_Field",298,"QC"]
[null,null,"Amburn, Stephen M","amburs1",2567,null,null,null,"ASTM D4791 Flat and Elongated Field (QC)",967,"CM_D4791_Flat_Elong",110,"QC"]
[null,null,"Anderson, Katherine B","anderk",1860,null,null,null,"Base Type 1&5 Sieve Analysis (QC)",950,"CM_Base_Grad_T1T5",232,"QC"]
[null,null,"Anderson, Lynn M","anderl1",1518,null,null,null,"Base Type 7 Sieve Analysis (QC)",1138,"CM_Base_Grad_T7",185,"QC"]
[null,null,"Arnold, Adam M","arnola1",9006,null,null,null,"Free Form Test",1183,"CM_FreeForm",74,"QC"]
[null,null,"Arnold, Daniel T","arnold1",1808,null,null,null,"MoDOT TM71 Generic Deleterious Template (QC)",926,"CM_Del",26,"QC"]
[null,null,"Arradaza, Briel R","arradb1",7762,null,null,null,"AASHTO T27 Sieve Analysis (QA)",968,"CM_T27_Detail",150,"QA"]
[null,null,"Ashek, Akhand M","asheka1",8974,null,null,null,"AASHTO T27 Sieve Analysis (QA)",968,"CM_T27_List",151,"QA"]
[null,null,"Ashton, Andrew R","ashtoa1",9443,null,null,null,"AASHTO T85 Absorption for Concrete Aggregate (QA)",980,"CM_T85Abs",169,"QA"]
[null,null,"Aubuchon, Jason G","aubucj",1913,null,null,null,"AASHTO T90 Aggregate PI (QA)",970,"CM_PI_Field",298,"QA",null,null,"Aggs","AWP Earthworks sheets updated to include option to select 6\" proctor method for T99 results"]
[null,null,"Axtell, Eric C","axtele",2143,null,null,null,"ASTM D4791 Flat and Elongated Field (QA)",972,"CM_D4791_Flat_Elong",110,"QA",null,null,"Aggs","QA and QC Earthwork released to allow \"too rocky to test\" as a reportable option for proctor density results"]
[null,null,"Baban, Vivianna D","babanv1",582,null,null,null,"Base Type 1&5 Sieve Analysis (QA)",977,"CM_Base_Grad_T1T5",232,"QA",null,null,"ALL","All CRE2O sheets updated, updating picklists function wasn't working for some users"]
[null,null,"Baiamonte, Frank A","baiamf1",7847,null,null,null,"Base Type 7 Sieve Analysis (QA)",1182,"CM_Base_Grad_T7",185,"QA",null,null,"ALL","New QA sheet versions to give more flexibility in assigning sample IDs"]
[null,null,"Baker, Clinton E","bakerc8",7844,null,null,null,"MoDOT TM71 Generic Deleterious Template (QA)",931,"CM_Del",26,"QA",null,null,"Aggs","AWP Earthwork 4.01 released to fix error with T99 results sometimes not populating into AWP"]
[null,null,"Baldwin, Brandi J","baldwb3",1589,null,null,null,"AASHTO T27 Aggregate Gradation QA Retained Split (QCQA)",995,"CM_QARetainedCompar",102,"QCQA",null,null,"Aggs","AWP Aggregates 4.11 released, Type 1 base now populates gradation results without requiring value for No 200 sieve"]
[null,null,"Baldwin, Chad E","baldwc2",1458,null,null,null,"MoDOT TM71 Deleterious QA Retained Split (QCQA)",1019,"CM_QARetainedDel",55,"QCQA",null,null,"Aggs","AWP Aggregates 4.10 released to add QC/QA reporting for consultants"]
[null,null,"Barker, Christopher J","barkec1",9395,null,null,null,"AASHTO T85 Absorption for Concrete Aggregate (QCQA)",1040,"CM_QCQA_AbsComp",57,"QCQA",null,null,"ALL","IMPORTANT: New QA E2O sheets released, Old versions will break after July 9th weekend when AWP is upgraded, please switch to the latest sheets accordingly"]
[null,null,"Barnes, Garth R","barneg2",8069,null,null,null,"Base T1&T5 Aggregate Retained Comparison (QCQA)",1092,"CM_QCQABaseCompData",56,"QCQA",null,null,"ALL","IMPORTANT: New QC CRE2O sheets released, Old versions will break after July 9th weekend when AWP is upgraded, please switch to the latest sheets accordingly"]
[null,null,"Barnfield, Chris W","barnfc1",2062,null,null,null,null,null,null,null,null,null,null,"Aggs","QA Aggs, Selected do not resize for buttons"]
[null,null,"Bartley, Earl L","bartle1",8943,null,null,null,null,null,null,null,null,null,null,"Aggs","QA Earthworks, updated to make QA default for test template in Oracle code"]
[null,null,"Bashore, Adam R","bashoa1",2508]
[null,null,"Bass, Michael J","bassm1",7839]
[null,null,"Bauer, Chris A","bauerc1",734]
[null,null,"Bauer, David R","bauerd1",1804]
[null,null,"Bax, Carson J","baxc1",1283]
[null,null,"Baxter, Michael E","baxtem1",3223]
[null,null,"Becerra, James P","becerj",3261]
[null,null,"Beck, Connor J","beckc2",2502]
[null,null,"Becker, Christopher R","beckec1",1326]
[null,null,"Beckerle, Benjamin D","beckeb1",680]
[null,null,"Bedard, Loraine B","bedarl2",8815]
[null,null,"Behnam, Maliheh .","behnam1",9444]
[null,null,"Beilsmith, Troy D","beilst1",9208]
[null,null,"Bennett, Alan L","bennea2",7816]
[null,null,"Bennett, Todd L","Bennet",2197]
[null,null,"Bensing, Peter M","bensinp1",8967]
[null,null,"Berry, Chad F","berryc3",8816]
[null,null,"Bertels, Andrew S","bertea1",558]
[null,null,"Bichsel, Clayton P","bichsc1",9038]
[null,null,"Bier, Adam M","biera1",8645]
[null,null,"Blackburn, Shane A","blacks",2164]
[null,null,"Blalock R9B, Randy G","blalor2",711]
[null,null,"Blann, Katie .","blannk1",9057]
[null,null,"Blomberg, Jason M","blombj",2201]
[null,null,"Bollinger, Seth Z","bollis1",3347]
[null,null,"Borgard, Michael G","borgam2",9218]
[null,null,"Bowman, Andrew J","bowmaa1",2592]
[null,null,"Bowman, Michael A","bowmam2",1787]
[null,null,"Boyd, Adam C","boyda1",8422]
[null,null,"Bozarth, Jared S","bozarj1",8424]
[null,null,"Brake-Lemongelli, Patricia ","brakep1",8613]
[null,null,"Breeding, Scott W","breeds",2172]
[null,null,"Brefo, Stephen 3","brefos1",8268]
[null,null,"Brink, Roger A","brinkr1",1826]
[null,null,"Brobst, Ryan D","brobsr1",2096]
[null,null,"Brooks, Larry R","brookl",574]
[null,null,"Brooks, Scott D","brooks3",2738]
[null,null,"Brophy, Matthew J","brophm1",8189]
[null,null,"Brown, David A","brownd7",1442]
[null,null,"Brown, Justin L","brownjg",7764]
[null,null,"Brown, Sarah L","browns9",8398]
[null,null,"Brownell, Lydia B","brownl1",1273]
[null,null,"Brownell, Sidney C","browns1",1572]
[null,null,"Bruss, Eric G","brusse2",8466]
[null,null,"Buck, John S","buckj1",9389]
[null,null,"Burlbaw, Eric S","burlbe",1789]
[null,null,"Burns, Jeremy P","burnsj6",7817]
[null,null,"Burns, Jessica M","burnsj3",2404]
[null,null,"Burnworth, William B","burnww2",8655]
[null,null,"Burroughs, Mark R","burrom1",8302]
[null,null,"Burton, Corey D","burtoc4",2273]
[null,null,"Buschbacher, Kolton M","buschk1",8850]
[null,null,"Butler, Bradley ","butleb4",659]
[null,null,"Buzzetta, Amanda E","buzzea1",8053]
[null,null,"Caiharr, Joseph D","caihaj1",8196]
[null,null,"Calvert, Garrett J","calveg1",8846]
[null,null,"Camden, Lisa A","camdel1",2063]
[null,null,"Canady, Trent M","canadt2",9154]
[null,null,"Capeder, Jacob D","capedj2",2602]
[null,null,"Carey, Samuel M","careys1",8873]
[null,null,"Carlton, Corbin G","carltc1",2387]
[null,null,"Carnes, Phillip A","carnep1",8425]
[null,null,"Carr, Jim E","carrj",2118]
[null,null,"Carter, Chad A","cartec3",7730]
[null,null,"Casey, John W","caseyj4",9347]
[null,null,"Castro, Michael J","castrm1",1335]
[null,null,"Chamberlain, Eric ","chambe3",729]
[null,null,"Chambers, Jeffrey T","chambj1",2538]
[null,null,"Chapman, Gregory R","chapmg1",1920]
[null,null,"Christenson, Michael A","chrism2",7808]
[null,null,"Chukwuemeka, Francis .","chukwf1",8431]
[null,null,"Clark, Dean R","clarkd4",8313]
[null,null,"Clark, Mark W","clarkm3",8767]
[null,null,"Clark, Ronald R","clarkr5",2711]
[null,null,"Claspille, Cynthia A","claspc1",9044]
[null,null,"Claypool, Tyeson N","claypt2",8116]
[null,null,"Coffer, Angela C","coffea1",8607]
[null,null,"Colbert, Christopher A","colbec1",2721]
[null,null,"Coleman, Paul T","colemp1",2536]
[null,null,"Collins, Erin E","collie1",2614]
[null,null,"Collins, Kemmy M","collik1",1970]
[null,null,"Condron, Darren E","condrd1",1314]
[null,null,"Cooley, Charles K","coolec1",6499]
[null,null,"Cooper, Brody M","coopeb1",8926]
[null,null,"Copeland, Gregory R","copelg1",1393]
[null,null,"Cora, Marion S","coram",2059]
[null,null,"Cordia, Kaleigh P","cordik1",9274]
[null,null,"Corey, Justin G","coreyj1",2900]
[null,null,"Corrigan, Jameson D","corrij1",8905]
[null,null,"Couffer, Jimmy J","couffj",1320]
[null,null,"Covington, Karlee A","covink1",2470]
[null,null,"Cox, Austin D","coxa3",9356]
[null,null,"Cracraft, Brandon L","cracrb1",1684]
[null,null,"Craft, Robert A","craftr2",9024]
[null,null,"Crafton, Travis L","craftt1",1996]
[null,null,"Crews, Hanna R","crewsh1",9094]
[null,null,"Crudgington, Michael J","crudgm",2020]
[null,null,"Cunningham, Bradley W","cunnib2",1771]
[null,null,"Cunningham, Darian J","cunnid3",2709]
[null,null,"Daffron, Josie M","daffrj1",8487]
[null,null,"Damery, Jennifer L","damerj1",2384]
[null,null,"Danback, Michelle L","danbam1",643]
[null,null,"Daniel, Brandon D","danieb1",2863]
[null,null,"Dansberry, Anthony D","dansba1",7813]
[null,null,"Dao, Quyet T","daoq1",1431]
[null,null,"Daulton, Matthew B","daultm2",9407]
[null,null,"Davenport, Byron W","davenb1",8293]
[null,null,"Davis, Brenden .","davisb7",9140]
[null,null,"Davis, Joshua W","davisjf",1286]
[null,null,"DeGroat, William L","degrow1",2265]
[null,null,"DeJesus, William ","dejesw1",591]
[null,null,"Deffendall, Justin D","deffej1",8381]
[null,null,"Denkler, Graeme M","denklg1",9277]
[null,null,"Denning, Betty J","dennib1",2001]
[null,null,"Dennis, Jeffrey J","dennij1",1506]
[null,null,"Dent, Ashton N","denta1",9316]
[null,null,"Denton, Dane E","dentod1",9425]
[null,null,"Desha, Terrell A","deshat1",1331]
[null,null,"Dieterich, Grayson K","dieteg1",8426]
[null,null,"Dietrich, Philip A","dietrp1",2558]
[null,null,"Dingman, Ryan M","dingmr1",1929]
[null,null,"Domingo, Sean M","domins1",2432]
[null,null,"Dotson, Kirk A","dotsok2",2725]
[null,null,"Dowdy, Darius W","dowdyd",2081]
[null,null,"Dragoo, Drew D","dragod1",9025]
[null,null,"Drowns, Matthew L","drownm1",8456]
[null,null,"Dukes, Melvin L","dukesm1",709]
[null,null,"Dunlap, Eric W","dunlae1",8395]
[null,null,"Dunn, Jason A","dunnj1",2699]
[null,null,"Dye, Brian P","dyeb1",2612]
[null,null,"Dykmann, Erica ","dykmae2",8821]
[null,null,"Earls, Teddy J","earlst",1983]
[null,null,"Edelhuber, Brian J","edelhb1",7750]
[null,null,"Edgar, Emily A","edgare1",7771]
[null,null,"Ellinghouse, Andrew J","ellina1",9276]
[null,null,"Elliott, Nick L","ellion1",8051]
[null,null,"Ellis, Christopher M","ellisc2",2742]
[null,null,"Ellis, Todd M","ellist2",1711]
[null,null,"Elmore, Craig A","elmorc1",2395]
[null,null,"Engemann, Chad D","engemc1",1827]
[null,null,"Esterline, Jacob R","esterj1",9007]
[null,null,"Estopare, Nolan M","estopn1",9452]
[null,null,"Estopare, Roger T","estopr1",1898]
[null,null,"Evans, Austin I","evansa2",8813]
[null,null,"Evans, Garrett Z","evansg2",7753]
[null,null,"Evans, Warren T","evansw3",9255]
[null,null,"Fager, Glenn A","fagerg1",8096]
[null,null,"Farmer, Kyle M","farmek1",9083]
[null,null,"Farrar, Cynthia M","farrac1",9242]
[null,null,"Fenech, Jane D","fenecj1",8678]
[null,null,"Fergison, Gunner L","fergig1",9257]
[null,null,"Ferguson, Drew B","fergud2",9342]
[null,null,"Ferguson, Jason A","ferguj1",2017]
[null,null,"Fernandez, Michael J","fernam1",2587]
[null,null,"Fields, Adam C","fielda4",8328]
[null,null,"Fleak, Taylor M","fleakt1",8641]
[null,null,"Fleer, Bryan J","fleerb1",1837]
[null,null,"Flora, Janique M","floraj1",1432]
[null,null,"Flynn, Steven R","flynns1",2412]
[null,null,"Ford, Clinton D","fordc",8550]
[null,null,"Forshee, Desley L","forshd1",650]
[null,null,"Forsyth, Harrison A","forsyh1",8834]
[null,null,"Foster, Leonard D","fostel",1180]
[null,null,"Fox, Dan M","foxd",1569]
[null,null,"Frandson, Taylor C","frandt1",2646]
[null,null,"Franke, Dean D","frankd",8032]
[null,null,"Fransis, Bahaa S","francb2",6727]
[null,null,"Frazier, Briain K","frazib1",8950]
[null,null,"Freiburger, Jonathan H","freibj1",8532]
[null,null,"French, Danielle R","frencd2",7717]
[null,null,"Frierdich, Josef F","frierj1",640]
[null,null,"Frizzell, Mike W","frizzm",1617]
[null,null,"Fry, Dean D","fryd",2582]
[null,null,"Fuller, Kevin P","fullerk2",8085]
[null,null,"Fuson, Mary M","fusonm1",8407]
[null,null,"Gabel, Jeffrey S","gabelj3",1294]
[null,null,"Gaffery, Tarah A","gaffet1",8917]
[null,null,"Galvez, Jonathan ","galvej1",7094]
[null,null,"Gander, Jeffrey L","gandej",1544]
[null,null,"Garcia, Herberto F","garcih1",589]
[null,null,"Gard, Brian R","gardb1",1568]
[null,null,"Garstang, William D","garstw1",8909]
[null,null,"Gartner, Sarah R","gartns1",8659]
[null,null,"Gast, Luke J","gastl1",9133]
[null,null,"Geldmacher, Kevin M","geldmk1",1910]
[null,null,"Georger, Eric L","george2",8483]
[null,null,"Gibbons, Nicholas J","gibbon1",2415]
[null,null,"Giffin, Philip E","giffip1",1512]
[null,null,"Giles, Kyle B","gilesk1",8798]
[null,null,"Gillespie, James R","gillej",1557]
[null,null,"Girgin, Aydogan L","girgia",1638]
[null,null,"Glass, Derek J","glassd1",8134]
[null,null,"Glock, Christian J","glockc1",7835]
[null,null,"Godsy, Misty ","godsym1",2689]
[null,null,"Goff, Lucille F","goffl1",2165]
[null,null,"Golab, Sarah A","golabs1",5713]
[null,null,"Gonzalez, Felix ","gonzaf1",981]
[null,null,"Goss, Garry L","gossg2",8603]
[null,null,"Graessle, Jacob ","graesj1",646]
[null,null,"Graham, Christopher A","grahac1",496]
[null,null,"Gray, William T","grayw1",8396]
[null,null,"Greer, Lori ","greerl2",569]
[null,null,"Greifzu, Samuel E","greifs1",9017]
[null,null,"Grellner, Christopher J","grellc1",8662]
[null,null,"Grimes, Cheryl M","grimec",1728]
[null,null,"Gripka, Donald (Brad) B","gripkd",1932]
[null,null,"Guess, Jonathan D","guessj3",9047]
[null,null,"Gummersheimer, Robert (Bob) C","gummer1",1810]
[null,null,"Gwin, Collin D","gwinc1",8944]
[null,null,"Haggard, Joseph H","haggaj1",1581]
[null,null,"Hake, James C","hakej1",655]
[null,null,"Haller, Jennifer N","hallej1",2690]
[null,null,"Halley, Tyler R","hallet1",8114]
[null,null,"Hamilton, Kendric R","hamilk2",8814]
[null,null,"Harangozo, Keith M","harank1",1896]
[null,null,"Hargrave, Robert J","hargrr",2452]
[null,null,"Harizal, Michael C","harizm1",8651]
[null,null,"Harper, Logan C","harpel1",8292]
[null,null,"Hart, Gary D","hartg1",1517]
[null,null,"Hartman, Heath E","hartmh",1433]
[null,null,"Harvel, Bruce A","harveb",1477]
[null,null,"Haskew, James K","haskej1",688]
[null,null,"Hathaway, Kurtis K","hathak1",1675]
[null,null,"Haungs, Collin M","haungc1",8588]
[null,null,"Hayden, Ena M","haydee1",2140]
[null,null,"Hayes, Nicholas J","hayesn2",9308]
[null,null,"Hays, Bradley E","haysb1",8646]
[null,null,"Hays, Timothy A","hayst",1439]
[null,null,"Hazlett, Timothy A","hazlet1",2431]
[null,null,"Hellebusch, Tim A","hellet",1829]
[null,null,"Helm, Garrett W","helmg3",8865]
[null,null,"Heming, Cody J","heminc1",8848]
[null,null,"Hendrix, Melisa D","hendrm1",2147]
[null,null,"Henson, Robert W","hensor",704]
[null,null,"Herbst, Christopher J","herbsc2",9327]
[null,null,"Hessenflow, Chad L","hessec2",1657]
[null,null,"Heuszel, Jessica M","heuszj1",7748]
[null,null,"Hibler, Austin D","hiblea1",2259]
[null,null,"Hightower, Cody R","hightc1",1290]
[null,null,"Hill, Colton J","hillc8",8700]
[null,null,"Hill, Tyler R","hillt5",7785]
[null,null,"Hillen, Caleb D","hillec1",9303]
[null,null,"Hills, Donald A","hillsd1",2621]
[null,null,"Hines, Rodney E","hinesr1",8527]
[null,null,"Hollingsworth, Dennis L","hollid",1585]
[null,null,"Hollis, Tristan R","hollit1",8777]
[null,null,"Holt, Briain ","holtb3",8948]
[null,null,"Holtz, Aidan M","holtza1",9309]
[null,null,"Honse, Zach Q","honsez1",2169]
[null,null,"Hopkins, Matthew S","hopkim1",2714]
[null,null,"Horstman, Andrew J","horsta1",9026]
[null,null,"Howard, Carla J","howarc",1434]
[null,null,"Howell, James N","howelj4",2733]
[null,null,"Hoyt, Dustin R","hoytd1",2483]
[null,null,"Hubbard, Isaiah A","hubbai1",679]
[null,null,"Huckaby, Russel C","huckar",1963]
[null,null,"Hughes, Johnny A","hughej1",2048]
[null,null,"Hunt, Brian L","huntb1",8414]
[null,null,"Huntspon, Jontae L","huntsj1",7152]
[null,null,"Huskey, Mitchell R","huskem",2137]
[null,null,"Ihsan, Adel ","ihsana1",8707]
[null,null,"Iles, Brian K","ilesb1",1666]
[null,null,"Ingram, Logan B","ingral1",8830]
[null,null,"Ingrum, Eric V","ingrue",1863]
[null,null,"Inman, Shannon W","inmans",2032]
[null,null,"Jackson, Connor .","jacksc4",9191]
[null,null,"Jackson, Cory M","jacksc3",8778]
[null,null,"Jacobs, Stuart W","jacobs1",8916]
[null,null,"James, Cassandra A","jamesc4",7812]
[null,null,"James, Christopher M","jamesc2",2673]
[null,null,"Janssens, Albert L","janssa",1690]
[null,null,"Jansson, Matthew (Niall) N","janssm",2631]
[null,null,"Jasper, James L","jaspej1",5020]
[null,null,"Jefferson, Jamie M","jeffej1",7754]
[null,null,"Jernigan, Jerrod B","jernij1",2066]
[null,null,"Jessen, Matthew J","jessem1",9296]
[null,null,"Jimenez, Jayden M","jimenj1",8309]
[null,null,"Joens, Jeff S","joensj",2208]
[null,null,"John Reichart, Francis J","reichf",2196]
[null,null,"Johnson, Anson D","johnsa7",9438]
[null,null,"Johnson, Colten M","johnsc9",8913]
[null,null,"Johnson, Jacob M","johnsjn",8851]
[null,null,"Johnson, Jermyn ","johnsj5",2144]
[null,null,"Johnson, Sara M","johnss8",2638]
[null,null,"Johnson, William W","johnsw1",2019]
[null,null,"Johnston, Sonya A","johnsse",2666]
[null,null,"Jonas, Jesse A","jonasj2",9195]
[null,null,"Jones, Aaron J","jonesa2",2028]
[null,null,"Jones, Brandon L","jonesb6",7720]
[null,null,"Jones, Levi ","jonesl7",1304]
[null,null,"Karallas, Isabella S","karali2",587]
[null,null,"Karlin, Christopher J","karlic1",2481]
[null,null,"Keegan, Brett .","keegab2",8822]
[null,null,"Keen, Lincoln W","keenl",1437]
[null,null,"Kelso, Shawn M","kelsos1",1333]
[null,null,"Kemper, Toby J","kempet1",1785]
[null,null,"Kempker, Landre J","kempkl2",8314]
[null,null,"Kennell, Christopher ","kennec2",8506]
[null,null,"King, Nathan G","kingn1",1500]
[null,null,"Kirchner, Michael S","kirchm1",8779]
[null,null,"Kloeppinger, Jacob T","kloepj1",707]
[null,null,"Kneib, Ryan M","kneibr1",2441]
[null,null,"Knight, Nikki R","knighn1",1801]
[null,null,"Knobloch, Ronald ","knoblr1",8786]
[null,null,"Knott, Austin P","knotta1",7845]
[null,null,"Koch, Kevin J","kochk",1831]
[null,null,"Koenig, Benjamin R","koenib2",9183]
[null,null,"Koestner, Gidget J","koestg1",1051]
[null,null,"Konersmann, Glenn D","konerg1",2640]
[null,null,"Koppitz, Matthew J","koppim1",2599]
[null,null,"Kraemer, Kataryna C","kraemk1",1323]
[null,null,"Kratky, Jack C","kratkj1",1899]
[null,null,"Kraus, Jennifer L","krausj1",1269]
[null,null,"Kraus, Matthew W","krausm3",9146]
[null,null,"Kraus, Michael A","krausm2",9046]
[null,null,"Kroner, Jeffery W","kronej1",1531]
[null,null,"Kurtz, Michael T","kurtzm1",9414]
[null,null,"LaFave, Aaron J","lafava1",1948]
[null,null,"Laffoon, Sam J","laffos1",1281]
[null,null,"Lamberson, Julie R","lambej2",2184]
[null,null,"Lane, Karen R","lanek1",1308]
[null,null,"Lange, Brian D","langeb1",2590]
[null,null,"Lara, Rojelio A","larar1",9408]
[null,null,"Lashley, Hannah R","lashlh1",8038]
[null,null,"Lavacot, Matthew F","lavacm1",8548]
[null,null,"Law, Jacob C","lawj1",8076]
[null,null,"Layman, Rodney C","laymar",1655]
[null,null,"Lee, Timothy A","leet1",1277]
[null,null,"Lee, Zachary R","leez1",2743]
[null,null,"Leeker, Joshua M","leekej1",2642]
[null,null,"Leftridge, Kevin M","leftrk1",714]
[null,null,"Lego, Courtney J","legoc2",9413]
[null,null,"Lemon, Stephanie A","lemons1",2123]
[null,null,"Lepper, Derek F","lepped1",1629]
[null,null,"Lewis, Jerry L","lewisj4",2091]
[null,null,"Lewis, John C","lewisj1",2635]
[null,null,"Libbert, Trevor L","libbet1",2393]
[null,null,"Liebhart, David J","liebhd",1539]
[null,null,"Lincoln, Martin D","lincom",1592]
[null,null,"Link, Dylan C","linkd1",2579]
[null,null,"Litzau, Michael J","litzam",1788]
[null,null,"Locke, Tabitha S","locket1",2522]
[null,null,"Lohsandt, Jim R","lohsaj",1663]
[null,null,"Londre, Tristan G","londrt1",8630]
[null,null,"Loseille, Michael R","loseim3",8082]
[null,null,"Lowe, Emily R","lowee1",9279]
[null,null,"Lund, Trey B","lundt1",727]
[null,null,"Mack, Kelvin R","mackk",2126]
[null,null,"Maddox, Hubert R","maddoh",1746]
[null,null,"Maddox, Julie R","maddoj1",8937]
[null,null,"Mallon, Serenity E","mallos1",8859]
[null,null,"Malon, Donna J","malond2",8239]
[null,null,"Malone, Shana R","malons2",3386]
[null,null,"Manke, Brian N","mankeb1",8952]
[null,null,"Mann, Roger L","mannr1",1305]
[null,null,"Markham, Steve T","markhs",1640]
[null,null,"Marriott, Michael W","marrim2",2264]
[null,null,"Marsden, Magdalena K","marsdm1",2548]
[null,null,"Marshall, Kate M","marshk2",2568]
[null,null,"Marshall, Patrick E","marshp4",8702]
[null,null,"Marshall, Robert S","marshr",2198]
[null,null,"Martens, Rochelle A","marter1",1543]
[null,null,"Marti, Kevin K","martik3",8699]
[null,null,"Martin, Glenn R","martig2",2658]
[null,null,"Martinez, Josue ","martijc",7809]
[null,null,"Martinez, Robert P","martir7",7787]
[null,null,"Marzuco, Anthony C","marzua1",2005]
[null,null,"Massey, Corey J","massec1",2613]
[null,null,"Matthews, Todd W","mattht",1661]
[null,null,"McCLoud, Nathaniel P","mcclon1",8252]
[null,null,"McCanless, John M","mccanj1",5389]
[null,null,"McClain, Britt S","mcclab",1438]
[null,null,"McGartland, Kevin G","mcgark",1313]
[null,null,"McKinney, Randy L","mckinr1",2142]
[null,null,"McPeters, Westly P","mcpetw1",2342]
[null,null,"McRae, Adam S","mcraea1",1933]
[null,null,"Mcginnis, Dave M","mcgind1",8036]
[null,null,"Mendenhall, Randy L","mender1",8046]
[null,null,"Meneely, Tammy K","meneet",1556]
[null,null,"Merriman, Mellissa M","merrim1",7729]
[null,null,"Merz, Margaret J","merzm1",9453]
[null,null,"Meyers, Jacob Q","meyerj8",2644]
[null,null,"Middendorf, Anthony G","middea1",8041]
[null,null,"Middleton, Donald S","middld1",7742]
[null,null,"Middleton, Nicholas T","middln",1540]
[null,null,"Milbradt, Taylor Z","milbrz1",8592]
[null,null,"Miller, James M","milleje",7815]
[null,null,"Miller, John P","millejd",7734]
[null,null,"Mitchell, Adam D","mitcha3",2740]
[null,null,"Mitchell-Shannon, Felicia M","mitchf1",9324]
[null,null,"Molinaro, Joseph J","molinj1",1819]
[null,null,"Mooney, Travis E","moonet1",8393]
[null,null,"Morgan, Terry M","morgat",2626]
[null,null,"Moses, Joseph M","mosesj2",8434]
[null,null,"Mosley, Jaylon T","moslej2",9173]
[null,null,"Mottaz, Brian F","mottab1",1736]
[null,null,"Needham, McKeegan C","needhm1",8199]
[null,null,"Nelson, Kent W","nelsok2",1070]
[null,null,"Nevins, Brian ","nevinb1",794]
[null,null,"Ngugi, Simon K","ngugis1",2484]
[null,null,"Niemeyer, Jeffrey G","niemej1",2488]
[null,null,"Noeth, Schuyler ","noeths1",436]
[null,null,"Norton, Nathan R","norton1",666]
[null,null,"Oaks, Brandon M","oaksb1",8035]
[null,null,"Obi, Jeremiah O","obij1",1262]
[null,null,"Odle, Bradley (Brad) D","odleb1",8060]
[null,null,"Oesch, Daniel J","oeschd1",1715]
[null,null,"Oettle, Steven M","oettls1",8782]
[null,null,"Ohlms, John P","ohlmsj",2132]
[null,null,"Okenfuss, Brian G","okenfb1",2090]
[null,null,"Oliver, Matthew D","olivem2",8042]
[null,null,"Olson, Zarah J","olsonz1",9310]
[null,null,"Orr, Richard W","orrr1",8727]
[null,null,"Overstreet, Travis M","overst1",7736]
[null,null,"Owen, Thomas W","owent1",1575]
[null,null,"Packard, Ian C","packai1",683]
[null,null,"Pansa, Gregg A","pansag1",9018]
[null,null,"Parrish, Christopher N","parric1",8640]
[null,null,"Patterson, Casey J","pattec4",9005]
[null,null,"Pederson, Jacob T","pederj1",9305]
[null,null,"Penner, Russell A","penner1",2485]
[null,null,"Perkins, Dawn ","perkid1",874]
[null,null,"Perkins, Melvin (Lee) L","perkim2",8488]
[null,null,"Persinger, Clark D","persic1",617]
[null,null,"Peterson, Christopher I","peterc6",7237]
[null,null,"Peterson, Ronald L","peterr1",1834]
[null,null,"Pfeffer, Mark D","pfeffm1",360]
[null,null,"Pflum, James J","pflumj1",2446]
[null,null,"Phillips, Gary A","phillg1",8394]
[null,null,"Philpot, Donna R","philpd1",361]
[null,null,"Phinney, Alex B","phinna1",8231]
[null,null,"Pinkley, Ethan R","pinkle1",2749]
[null,null,"Piper, Rueben A","piperr1",9354]
[null,null,"Plott, Kevin R","plottk1",2074]
[null,null,"Plummer, Mickey A","plummm1",8857]
[null,null,"Porter, Chloe O","portec3",9353]
[null,null,"Porter, Treasa A","portet3",2166]
[null,null,"Powell, Michael D","powelm3",1430]
[null,null,"Powers, Matthew E","powerm1",696]
[null,null,"Powers, Thomas M","powert2",2319]
[null,null,"Prentice, Caleb .","prentc1",9209]
[null,null,"Present, Jacob B","presej1",7772]
[null,null,"Preuss, Nicole E","preusn1",3398]
[null,null,"Prock, David L","prockd1",8927]
[null,null,"Procter, David S","proctd1",8704]
[null,null,"Pulliam, Audie A","pullia",2002]
[null,null,"Putnam, Blake A","putnab1",8068]
[null,null,"Querry, Bryan D","querrb1",7849]
[null,null,"Rana, Jamie F","ranaj2",8969]
[null,null,"Raybourn, Lisa G","raybol1",1680]
[null,null,"Read, Calen T","readc2",9365]
[null,null,"Rector, Dakota D","rectod1",6850]
[null,null,"Redhage, Christine M","redhac",1907]
[null,null,"Reeb, Cheryl D","reebc1",2141]
[null,null,"Reed, Nathan B","reedn",1999]
[null,null,"Reed, Virgil T","reedv1",1790]
[null,null,"Reedy, Steven R","reedys",1637]
[null,null,"Reilly, Sean J","reills1",621]
[null,null,"Reinwart, Albert F","reinwa1",8656]
[null,null,"Rennick, Craig E","rennic",2628]
[null,null,"Richbourg, Todd M","richbt1",9292]
[null,null,"Richmond, Nicholas D","richmn1",9193]
[null,null,"Rieder, Aaron M","riedea1",2731]
[null,null,"Riley, Reid N","rileyr1",1658]
[null,null,"Roberts, Geoffrey L","roberg5",728]
[null,null,"Robertson, Chad J","roberc5",8819]
[null,null,"Robertson, Thomas A","robert4",9388]
[null,null,"Robinson, Maurin V","robinm3",9247]
[null,null,"Rodenbaugh, Macy J","rodenm",1385]
[null,null,"Roeger, Daniel J","roeged1",2503]
[null,null,"Roegge, Diane R","roeggd",2183]
[null,null,"Roland, Megan .","rolanm1",9076]
[null,null,"Roland, Suzanne D","rolans1",9364]
[null,null,"Rose, Melissa D","rosem1",2637]
[null,null,"Rosendale, Luke F","rosenl2",8793]
[null,null,"Rosenthal, Brian M","rosenb1",378]
[null,null,"Rothermich, Larry D","rothel",2021]
[null,null,"Russell, Amy N","russea1",1300]
[null,null,"Russell, Lucas D","russel2",8653]
[null,null,"Sabo, Tierney .","sabot1",9439]
[null,null,"Samer, Nicole K","samern1",2741]
[null,null,"Sanders, Bryson C","sandeb3",9325]
[null,null,"Sanders, Bryson R","sandeb2",8236]
[null,null,"Sanders, Travis .","sandet5",9215]
[null,null,"Sandifer, Chase M","sandic1",9451]
[null,null,"Sandifer, Philip E","sandip1",1528]
[null,null,"Sandifer, Steven R","sandis1",2665]
[null,null,"Sawyer, Jason A","sawyej2",7798]
[null,null,"Scarpitta, Michael A","scarpm1",1670]
[null,null,"Schafer, Richard J","schafr2",4492]
[null,null,"Schaumburg, Andrew D","schaua1",8319]
[null,null,"Scheulen, Ashley ","scheua1",7735]
[null,null,"Schirmer, Joshua M","schirj1",2703]
[null,null,"Schmauch, Lisa C","schmal1",8973]
[null,null,"Schmidt, Jacob A","schmij8",7273]
[null,null,"Schreckler, Trent M","schret1",8215]
[null,null,"Schulte, Brent T","schulb1",2177]
[null,null,"Schulte, Joe B","schulj",1470]
[null,null,"Schupp, Michael J","schupm",1734]
[null,null,"Schwaller, James M","schwaj2",8250]
[null,null,"Sconce, Jacob G","sconcj1",7765]
[null,null,"Scott, Brenna N","scottb5",8361]
[null,null,"Scott, Nicole A","scottn1",1276]
[null,null,"Seabaugh, Debra L","seabad1",2079]
[null,null,"Semar, Ryan ","semarr1",440]
[null,null,"Severs, Dwayne C","severd1",1636]
[null,null,"Sexauer, Carl J","sexauc1",9194]
[null,null,"Shanks, Brandon D","shankb1",2517]
[null,null,"Shepherd, Kayla M","shephk1",7824]
[null,null,"Sherman, Kirk W","shermk1",1311]
[null,null,"Shewfelt, Barry R","shewfb1",5749]
[null,null,"Shimbo, Seiji ","shimbs1",2620]
[null,null,"Shrum, Tom W","shrumt1",1565]
[null,null,"Siebeneck, Todd M","siebet",1426]
[null,null,"Silver, Jonathan M","silvej1",2580]
[null,null,"Sims, Timothy E","simst",2450]
[null,null,"Skipper, Justin L","skippj1",2648]
[null,null,"Skyrme, Megan A","skyrmm1",8531]
[null,null,"Slavens, Richard J","slaver2",8049]
[null,null,"Smith, Alexander D","smitha9",645]
[null,null,"Smith, Christopher S","smithc12",8975]
[null,null,"Smith, Eric S","smithea",8649]
[null,null,"Smith, Hakim I"," x840028",5039]
[null,null,"Smith, Joseph L","smithjl",2411]
[null,null,"Smith, Lynn W","smithl5",2047]
[null,null,"Smith, Roy W","smithrl",8658]
[null,null,"Smith, Shaun A","smiths8",8847]
[null,null,"Snelling, Scott L","snells1",1702]
[null,null,"Snow, Cody B","snowc1",2617]
[null,null,"Sorensen, Jonathan W","sorenj1",8574]
[null,null,"Speidel, Timothy P","speidt1",2718]
[null,null,"Spradling, Jacob C","spradj2",1292]
[null,null,"Spratt, Aaron M","sprata1",8067]
[null,null,"Sprigg, John P","sprigj",2624]
[null,null,"Spurling, Tyler W","spurlt2",8034]
[null,null,"St Gemme, Robert W","stgemr1",8084]
[null,null,"States, William P","statew1",7719]
[null,null,"Steagall, Lucas D","steagl1",2746]
[null,null,"Stegner, Barbara J","stegnb1",1354]
[null,null,"Steinmeyer, Daniel S","steind2",9042]
[null,null,"Steppig, Ryan M","steppr1",2702]
[null,null,"Steward, David R","stewad1",8055]
[null,null,"Stewart, Charlotte M","stewac",1911]
[null,null,"Stewart, Jeff E","stewaj1",1571]
[null,null,"Stewart, Tyler W","stewat2",8668]
[null,null,"Stilwell, Kirk T","stilwk1",9402]
[null,null,"Stine, Matthew ","stinem1",8507]
[null,null,"Stinnett, Dustin J","stinnd1",9256]
[null,null,"Stockman, Morgan B","stockm3",9397]
[null,null,"Stokes, Zakary P","stokez1",7803]
[null,null,"Stotts, Tracee D","stottt1",2060]
[null,null,"Straw, Tristan M","strawt1",7768]
[null,null,"Street, Bradley D","streeb3",675]
[null,null,"Strong, Krista L","stronk1",2402]
[null,null,"Struemph, Eveyln P","struee1",9080]
[null,null,"Sullinger, William A","sulliw1",2615]
[null,null,"Summers, Charles C","summec1",8115]
[null,null,"Sutton, Cole J","suttoc2",2409]
[null,null,"Swan, Brent E","swanb1",2256]
[null,null,"Swisher, Khristine M","swishk1",8643]
[null,null,"Swofford, Marley C","swoffm3",8484]
[null,null,"Talley, Allison A","tallea1",1266]
[null,null,"Taurone, Sandra J","tauros1",2058]
[null,null,"Taylor, Timothy K","taylot3",570]
[null,null,"Teegardin, Johnny L","teegaj",1316]
[null,null,"Terrell, Jason A","terrej1",578]
[null,null,"Terrell, Joseph P","terrej2",8868]
[null,null,"Terrell, Logan D","terrel1",9079]
[null,null,"Thomas, Douglas R","thomad",1461]
[null,null,"Thomas, Druly ","thomad8",8966]
[null,null,"Thomas, Jennifer A","thomaj8",678]
[null,null,"Thomas, Sheron A","thomas6",9355]
[null,null,"Thomason, Robert C","thomar1",2061]
[null,null,"Thompson, Marshall S","thompm2",8329]
[null,null,"Thudium, Tommy L","thudit1",8061]
[null,null,"Thurman, Brandon W","thurmb2",8787]
[null,null,"Thurston, Wyatt E","thursw1",8535]
[null,null,"Tillery, Lionel ","tillel1",3403]
[null,null,"Tincknell, Victor Q","tinckv1",2572]
[null,null,"Todd, Brian A","toddb",1254]
[null,null,"Tracy, Steve .","tracys2",9060]
[null,null,"Trautman, Brett S","trautb",2209]
[null,null,"Turner, Paul W","turnep3",648]
[null,null,"Unland, Joshua M","unlanj1",8875]
[null,null,"Uptegrove, Richard S","uptegr",1643]
[null,null,"Vader, Leonard A","vaderl",2192]
[null,null,"Vance, Franklin T","vancef1",1906]
[null,null,"Vanwey, Steve L","vanwes2",8101]
[null,null,"Varner, Jonathan ","varnej1",571]
[null,null,"Veasman, Shadd N","veasms1",8525]
[null,null,"Veer, Jerry L","veerj1",8124]
[null,null,"Vega, Jesus A","vegaj1",8572]
[null,null,"Vennekotter, Michael G","vennem1",8664]
[null,null,"Villanueva-Kaeo, Kaupena (KJ) ","villak1",8086]
[null,null,"Vohs, Robert J","vohsr1",620]
[null,null,"Volkman, Melvina B","volkmm1",7811]
[null,null,"Voyles, Brandon S","voyleb1",2622]
[null,null,"Wade, Jennifer A","wadej1",7801]
[null,null,"Wagaman, Tyler C","wagamt1",7257]
[null,null,"Wagner, Jonathan S","wagnej8",9323]
[null,null,"Wagner, Joseph C","wagnej7",725]
[null,null,"Waite, Patrick M","waitep3",7739]
[null,null,"Walk, Craig M","walkc1",8984]
[null,null,"Walls, Jamar .","wallsj2",9227]
[null,null,"Ward, Christopher E","wardc1",1883]
[null,null,"Ware, Ronald D","warer1",8304]
[null,null,"Warren, Michael S","warrem1",2305]
[null,null,"Washausen, Scott J","washas",1811]
[null,null,"Watkins, Bradly E","watkib5",1552]
[null,null,"Watson, Matthew .","watsom3",9214]
[null,null,"Weatherby, Connor B","weathc1",642]
[null,null,"Weaver, Daniel D","weaved1",1704]
[null,null,"Weaver, William D","weavew1",606]
[null,null,"Weber, Shawn M","webers1",2669]
[null,null,"Weingart, Lucille M","weingl1",9307]
[null,null,"Weldesenbet, Fidel F","weldef1",690]
[null,null,"Weldon, Kyle .","weldok1",9075]
[null,null,"Wells, Aliyah N","wellsa1",622]
[null,null,"Westcott, Erica L","westce1",8433]
[null,null,"White, Jason D","whitej",2399]
[null,null,"Whited, Mark O","whitem3",8048]
[null,null,"Wieberg, Leslie A","wiebel2",2170]
[null,null,"Wiles, David K","wilesd",1832]
[null,null,"Wiles, Rodney L","wilesr",2022]
[null,null,"Wilkins, Cody A","wilkic1",1327]
[null,null,"Willard, Matthew G","willam",1993]
[null,null,"Williams, Bradley ","willibi",8698]
[null,null,"Williams, Jared Z","willijo",8312]
[null,null,"Williams, Jason M","willij8",2252]
[null,null,"Willis, Bethany M","willibk",8415]
[null,null,"Wilson, Rebecca N","wilsor2",1502]
[null,null,"Wix, James R","wixj1",7722]
[null,null,"Wolk, Tyler J","wolkt1",2540]
[null,null,"Wood, Stephen ","woods6",7715]
[null,null,"Woods, Kirby F","woodsk1",1296]
[null,null,"Woodward, Joel S","woodwj1",716]
[null,null,"Woody, Blake T","woodyb2",7770]
[null,null,"Worthington, Kent D","worthk",1570]
[null,null,"Wright, John P","wrighj7",5391]
[null,null,"Wyrick, Zachary C","wyricz1",9440]
[null,null,"Yerion, Michael R","yeriom1",9346]
[null,null,"Yost, Jared C","yostj1",2668]
[null,null,"Youngblood, Ranie M","youngr6",2652]
[null,null,"Zona, Timothy R","zonat1",1505]
[null,null,"Zuroweste, Janet E","zurowj1",7862]
[null,null,"Zuroweste, Ralph A","zurowr1",2755]
[null,null,"adams, Shaire L","adamss7",2316]
[null,null,"teelc, teelc ","teelc",7305]

{"sheet":"Oracle","index":13,"n_rows":197,"n_cols":128,"rows_kept":197,"cut":false,"hidden":false,"merged":[]}
["YES",{"$f":"IF('Send Sync'!L17=\"\", \"\", 'Send Sync'!L17)","v":""}]
["T_SMPL","T_SMPL","T_SMPL"]
[null,"SMPL_ID   ",{"$f":"Main!V12","v":""}]
[null,"SMPLD_BY   ",{"$f":"LOWER('Send Sync'!S15)","v":""}]
[null,"MATL_CD   ",{"$f":"IF(ISTEXT(Main!F14),Main!F14,\"Need Material\")","v":""}]
[null,"PROD_NM   "]
[null,"PRODR_SUPP_CD",{"$f":"IF(ISTEXT(Main!F17),Main!F17,\"Need Producer  \")","v":"Need Producer  "}]
[null,"PLANT_ID",{"$f":"IF(ISTEXT(Main!J41),IF(Main!J41=0,\"               \",Main!J41),\"               \")","v":"               "}]
[null,"PLANT_T",{"$f":"IF(ISTEXT(Main!J42),IF(Main!J42=0,\"    \",Main!J42),\"    \")","v":"    "}]
[null,"CMS_UID"]
[null,"WITNES_BY_CMS_UID"]
[null,"AUTH_BY_CMS_UID",{"$f":"\"\"","v":""}]
[null,"REL_SMPL_ID"]
[null,"REVISE_SMPL_ID"]
[null,"RMRKS_ID"]
[null,"SMPL_ORIGIN"]
[null,"SMPL_T","QCC "]
[null,"SMPLD_FR_TXT"]
[null,"UNT_T",{"$f":"Main!D43","v":{"$error":"#N/A"}}]
[null,"MNFCTR_CD"]
[null,"TWN"]
[null,"INTD_USE_TXT",{"$f":"IF('Send Sync'!L16:L16=\"\", \"\", 'Send Sync'!L16:L16)","v":""}]
[null,"BUY_USA_IND"]
[null,"BUY_USA_RQRDMT_T"]
[null,"REPR_QTY",{"$f":"'Contract and Quantities'!R13","v":0}]
[null,"CNTRL_T"]
[null,"CNTRL_NBR"]
[null,"SMPL_DT",{"$f":"IF(Main!D10=\"\",TEXT(TODAY(),\"YYYYMMDD\"),Main!D10)","v":"2024"}]
[null,"LOG_DT"]
[null,"GEOG_AREA_T",{"$f":"'Contract and Quantities'!AK11","v":{"$error":"#VALUE!"}}]
[null,"STAT_T",{"$f":"'Contract and Quantities'!I156","v":9}]
[null,"AUTH_DT",{"$f":"\"\"","v":""}]
[null,"REF"]
[null,"STA",{"$f":"\"\"","v":""}]
[null,"OFFST"]
[null,"SMPL_SZ"]
[null,"ACPT_METH_T","SATE"]
[null,"REQST_BY_NM",{"$f":"IF('Send Sync'!S15<>\"\", LEFT('Send Sync'!S15, 45),\"\")","v":""}]
[null,"STD_RMRKS_IND"]
[null,"SMPL_MIX_ID",{"$f":"\"\"","v":""}]
[null,"SMPL_DSN_T",{"$f":"\"\"","v":""}]
[null,"SMPL_LOCK_IND"]
[null,"DSTNC_FNSH_GRD"]
[null,"DSTNC_FNSH_GRD_UNT"]
[null,"SEAL_NBR"]
[null,"LAST_MODFD_UID","system"]
[null,"LAST_MODFD_DT",{"$f":"TEXT(TODAY(),\"YYYYMMDD\")","v":"20240105"}]
[null,"REF_DOC",{"$f":"\" \"","v":" "}]
[null,"SZ_UNT_T",{"$f":"\" \"","v":" "}]
[]
[]
[]
[]
["T_RMRKS_DTL","T_RMRKS_DTL","T_RMRKS_DTL"]
[null,"RMRKS_ID "]
[null,"RMRKS_T ","GEN"]
[null,"RMRKS_SN ",{"$f":"IF(C58=\"\",\"\",\"1\")","v":"1"}]
[null,"RMRKS_TXT_FLD ",{"$f":"Main!B27","v":0}]
[null,"LAST_MODFD_UID ",{"$f":"IF(C58=\"\",\"\",\"system\")","v":"system"}]
[null,"LAST_MODFD_DT ",{"$f":"IF(C59=\"\",\"\",TEXT(TODAY(),\"YYYYMMDD\"))","v":"20240105"}]
[]
[]
[]
[]
["T_CONT_SMPL","T_CONT_SMPL","T_CONT_SMPL","T_CONT_SMPL","T_CONT_SMPL","T_CONT_SMPL","T_CONT_SMPL","T_CONT_SMPL","T_CONT_SMPL","T_CONT_SMPL","T_CONT_SMPL","T_CONT_SMPL","T_CONT_SMPL","T_CONT_SMPL","T_CONT_SMPL","T_CONT_SMPL"]
[null,"CONT_ID",{"$f":"IF('Contract and Quantities'!$AL$39=\"\",\"\",'Contract and Quantities'!$AL39)","v":""},{"$f":"IF('Contract and Quantities'!$AL$40=\"\",\"\",'Contract and Quantities'!$AL40)","v":""},{"$f":"IF('Contract and Quantities'!$AL$41=\"\",\"\",'Contract and Quantities'!$AL41)","v":""},{"$f":"IF('Contract and Quantities'!$AL$42=\"\",\"\",'Contract and Quantities'!$AL42)","v":""},{"$f":"IF('Contract and Quantities'!$AL$43=\"\",\"\",'Contract and Quantities'!$AL43)","v":""},{"$f":"IF('Contract and Quantities'!$AL$44=\"\",\"\",'Contract and Quantities'!$AL44)","v":""},{"$f":"IF('Contract and Quantities'!$AL$45=\"\",\"\",'Contract and Quantities'!$AL45)","v":""},{"$f":"IF('Contract and Quantities'!$AL$46=\"\",\"\",'Contract and Quantities'!$AL46)","v":""},{"$f":"IF('Contract and Quantities'!$AL$47=\"\",\"\",'Contract and Quantities'!$AL47)","v":""},{"$f":"IF('Contract and Quantities'!$AL$48=\"\",\"\",'Contract and Quantities'!$AL48)","v":""},{"$f":"IF('Contract and Quantities'!$AL$49=\"\",\"\",'Contract and Quantities'!$AL49)","v":""},{"$f":"IF('Contract and Quantities'!$AL$50=\"\",\"\",'Contract and Quantities'!$AL50)","v":""},{"$f":"IF('Contract and Quantities'!$AL$51=\"\",\"\",'Contract and Quantities'!$AL51)","v":""},{"$f":"IF('Contract and Quantities'!$AL$52=\"\",\"\",'Contract and Quantities'!$AL52)","v":""}]
[null,"PRJ_NBR",{"$f":"IF('Contract and Quantities'!$AM39=\"\",\"\",'Contract and Quantities'!$AM39)","v":""},{"$f":"IF('Contract and Quantities'!$AM40=\"\",\"\",'Contract and Quantities'!$AM40)","v":""},{"$f":"IF('Contract and Quantities'!$AM41=\"\",\"\",'Contract and Quantities'!$AM41)","v":""},{"$f":"IF('Contract and Quantities'!$AM42=\"\",\"\",'Contract and Quantities'!$AM42)","v":""},{"$f":"IF('Contract and Quantities'!$AM43=\"\",\"\",'Contract and Quantities'!$AM43)","v":""},{"$f":"IF('Contract and Quantities'!$AM44=\"\",\"\",'Contract and Quantities'!$AM44)","v":""},{"$f":"IF('Contract and Quantities'!$AM45=\"\",\"\",'Contract and Quantities'!$AM45)","v":""},{"$f":"IF('Contract and Quantities'!$AM46=\"\",\"\",'Contract and Quantities'!$AM46)","v":""},{"$f":"IF('Contract and Quantities'!$AM47=\"\",\"\",'Contract and Quantities'!$AM47)","v":""},{"$f":"IF('Contract and Quantities'!$AM48=\"\",\"\",'Contract and Quantities'!$AM48)","v":""},{"$f":"IF('Contract and Quantities'!$AM49=\"\",\"\",'Contract and Quantities'!$AM49)","v":""},{"$f":"IF('Contract and Quantities'!$AM50=\"\",\"\",'Contract and Quantities'!$AM50)","v":""},{"$f":"IF('Contract and Quantities'!$AM51=\"\",\"\",'Contract and Quantities'!$AM51)","v":""},{"$f":"IF('Contract and Quantities'!$AM52=\"\",\"\",'Contract and Quantities'!$AM52)","v":""}]
[null,"LN_ITM_NBR",{"$f":"IF('Contract and Quantities'!$AN39=\"\",\"\",'Contract and Quantities'!$AN39)","v":""},{"$f":"IF('Contract and Quantities'!$AN40=\"\",\"\",'Contract and Quantities'!$AN40)","v":""},{"$f":"IF('Contract and Quantities'!$AN41=\"\",\"\",'Contract and Quantities'!$AN41)","v":""},{"$f":"IF('Contract and Quantities'!$AN42=\"\",\"\",'Contract and Quantities'!$AN42)","v":""},{"$f":"IF('Contract and Quantities'!$AN43=\"\",\"\",'Contract and Quantities'!$AN43)","v":""},{"$f":"IF('Contract and Quantities'!$AN44=\"\",\"\",'Contract and Quantities'!$AN44)","v":""},{"$f":"IF('Contract and Quantities'!$AN45=\"\",\"\",'Contract and Quantities'!$AN45)","v":""},{"$f":"IF('Contract and Quantities'!$AN46=\"\",\"\",'Contract and Quantities'!$AN46)","v":""},{"$f":"IF('Contract and Quantities'!$AN47=\"\",\"\",'Contract and Quantities'!$AN47)","v":""},{"$f":"IF('Contract and Quantities'!$AN48=\"\",\"\",'Contract and Quantities'!$AN48)","v":""},{"$f":"IF('Contract and Quantities'!$AN49=\"\",\"\",'Contract and Quantities'!$AN49)","v":""},{"$f":"IF('Contract and Quantities'!$AN50=\"\",\"\",'Contract and Quantities'!$AN50)","v":""},{"$f":"IF('Contract and Quantities'!$AN51=\"\",\"\",'Contract and Quantities'!$AN51)","v":""},{"$f":"IF('Contract and Quantities'!$AN52=\"\",\"\",'Contract and Quantities'!$AN52)","v":""}]
[null,"SMPL_ID",{"$f":"IF('Contract and Quantities'!$AL$39=\"\",\"\",Main!$V$12)","v":""},{"$f":"IF('Contract and Quantities'!$AL$40=\"\",\"\",Main!$V$12)","v":""},{"$f":"IF('Contract and Quantities'!$AL$41=\"\",\"\",Main!$V$12)","v":""},{"$f":"IF('Contract and Quantities'!$AL$42=\"\",\"\",Main!$V$12)","v":""},{"$f":"IF('Contract and Quantities'!$AL$43=\"\",\"\",Main!$V$12)","v":""},{"$f":"IF('Contract and Quantities'!$AL$44=\"\",\"\",Main!$V$12)","v":""},{"$f":"IF('Contract and Quantities'!$AL$45=\"\",\"\",Main!$V$12)","v":""},{"$f":"IF('Contract and Quantities'!$AL$46=\"\",\"\",Main!$V$12)","v":""},{"$f":"IF('Contract and Quantities'!$AL$47=\"\",\"\",Main!$V$12)","v":""},{"$f":"IF('Contract and Quantities'!$AL$48=\"\",\"\",Main!$V$12)","v":""},{"$f":"IF('Contract and Quantities'!$AL$49=\"\",\"\",Main!$V$12)","v":""},{"$f":"IF('Contract and Quantities'!$AL$50=\"\",\"\",Main!$V$12)","v":""},{"$f":"IF('Contract and Quantities'!$AL$51=\"\",\"\",Main!$V$12)","v":""},{"$f":"IF('Contract and Quantities'!$AL$52=\"\",\"\",Main!$V$12)","v":""}]
[null,"REPR_QTY",{"$f":"IF('Contract and Quantities'!$AO39=\"\",\"\",'Contract and Quantities'!AO39)","v":""},{"$f":"IF('Contract and Quantities'!$AO40=\"\",\"\",'Contract and Quantities'!AO40)","v":""},{"$f":"IF('Contract and Quantities'!$AO41=\"\",\"\",'Contract and Quantities'!AO41)","v":""},{"$f":"IF('Contract and Quantities'!$AO42=\"\",\"\",'Contract and Quantities'!AO42)","v":""},{"$f":"IF('Contract and Quantities'!$AO43=\"\",\"\",'Contract and Quantities'!AO43)","v":""},{"$f":"IF('Contract and Quantities'!$AO44=\"\",\"\",'Contract and Quantities'!$AO44)","v":""},{"$f":"IF('Contract and Quantities'!$AO45=\"\",\"\",'Contract and Quantities'!$AO45)","v":""},{"$f":"IF('Contract and Quantities'!$AO46=\"\",\"\",'Contract and Quantities'!$AO46)","v":""},{"$f":"IF('Contract and Quantities'!$AO47=\"\",\"\",'Contract and Quantities'!$AO47)","v":""},{"$f":"IF('Contract and Quantities'!$AO48=\"\",\"\",'Contract and Quantities'!$AO48)","v":""},{"$f":"IF('Contract and Quantities'!$AO49=\"\",\"\",'Contract and Quantities'!$AO49)","v":""},{"$f":"IF('Contract and Quantities'!$AO50=\"\",\"\",'Contract and Quantities'!$AO50)","v":""},{"$f":"IF('Contract and Quantities'!$AO51=\"\",\"\",'Contract and Quantities'!$AO51)","v":""},{"$f":"IF('Contract and Quantities'!$AO52=\"\",\"\",'Contract and Quantities'!$AO52)","v":""}]
[null,"LAST_MODFD_UID",{"$f":"IF('Contract and Quantities'!$AL39=\"\",\"\",$C$4)","v":""},{"$f":"IF('Contract and Quantities'!$AL40=\"\",\"\",$C$4)","v":""},{"$f":"IF('Contract and Quantities'!$AL41=\"\",\"\",$C$4)","v":""},{"$f":"IF('Contract and Quantities'!$AL42=\"\",\"\",$C$4)","v":""},{"$f":"IF('Contract and Quantities'!$AL43=\"\",\"\",$C$4)","v":""},{"$f":"IF('Contract and Quantities'!$AL44=\"\",\"\",$C$4)","v":""},{"$f":"IF('Contract and Quantities'!$AL45=\"\",\"\",$C$4)","v":""},{"$f":"IF('Contract and Quantities'!$AL46=\"\",\"\",$C$4)","v":""},{"$f":"IF('Contract and Quantities'!$AL47=\"\",\"\",$C$4)","v":""},{"$f":"IF('Contract and Quantities'!$AL48=\"\",\"\",$C$4)","v":""},{"$f":"IF('Contract and Quantities'!$AL49=\"\",\"\",$C$4)","v":""},{"$f":"IF('Contract and Quantities'!$AL50=\"\",\"\",$C$4)","v":""},{"$f":"IF('Contract and Quantities'!$AL51=\"\",\"\",$C$4)","v":""},{"$f":"IF('Contract and Quantities'!$AL52=\"\",\"\",$C$4)","v":""}]
[null,"LAST_MODFD_DT",{"$f":"IF('Contract and Quantities'!$AL39=\"\",\"\",TEXT(TODAY(),\"YYYYMMDD\"))","v":""},{"$f":"IF('Contract and Quantities'!$AL40=\"\",\"\",TEXT(TODAY(),\"YYYYMMDD\"))","v":""},{"$f":"IF('Contract and Quantities'!$AL41=\"\",\"\",TEXT(TODAY(),\"YYYYMMDD\"))","v":""},{"$f":"IF('Contract and Quantities'!$AL42=\"\",\"\",TEXT(TODAY(),\"YYYYMMDD\"))","v":""},{"$f":"IF('Contract and Quantities'!$AL43=\"\",\"\",TEXT(TODAY(),\"YYYYMMDD\"))","v":""},{"$f":"IF('Contract and Quantities'!$AL44=\"\",\"\",TEXT(TODAY(),\"YYYYMMDD\"))","v":""},{"$f":"IF('Contract and Quantities'!$AL45=\"\",\"\",TEXT(TODAY(),\"YYYYMMDD\"))","v":""},{"$f":"IF('Contract and Quantities'!$AL46=\"\",\"\",TEXT(TODAY(),\"YYYYMMDD\"))","v":""},{"$f":"IF('Contract and Quantities'!$AL47=\"\",\"\",TEXT(TODAY(),\"YYYYMMDD\"))","v":""},{"$f":"IF('Contract and Quantities'!$AL48=\"\",\"\",TEXT(TODAY(),\"YYYYMMDD\"))","v":""},{"$f":"IF('Contract and Quantities'!$AL49=\"\",\"\",TEXT(TODAY(),\"YYYYMMDD\"))","v":""},{"$f":"IF('Contract and Quantities'!$AL50=\"\",\"\",TEXT(TODAY(),\"YYYYMMDD\"))","v":""},{"$f":"IF('Contract and Quantities'!$AL51=\"\",\"\",TEXT(TODAY(),\"YYYYMMDD\"))","v":""},{"$f":"IF('Contract and Quantities'!$AL52=\"\",\"\",TEXT(TODAY(),\"YYYYMMDD\"))","v":""}]
[]
[]
[]
[]
[]
["T_SMPL_TST","T_SMPL_TST","T_SMPL_TST",{"$f":"C78","v":"T_SMPL_TST"},"T_SMPL_TST","T_SMPL_TST","T_SMPL_TST","T_SMPL_TST","T_SMPL_TST","T_SMPL_TST","T_SMPL_TST","T_SMPL_TST","T_SMPL_TST"]
[null,"TST_METH ",{"$f":"IF('Free Form'!$F$49=\"Y\", \"----\", \"\")","v":""},{"$f":"C150","v":""},"","","",{"$f":"G150","v":""},"","","","","","",{"$f":"N150","v":""},"","","","","",{"$f":"T150","v":""},"","","",{"$f":"C174","v":""},"","","","","","","","","","","","","","","",{"$f":"S174","v":""},{"$f":"T174","v":""},{"$f":"\"\"","v":""},{"$f":"\"\"","v":""},{"$f":"\"\"","v":""},{"$f":"\"\"","v":""},{"$f":"\"\"","v":""},{"$f":"\"\"","v":""},{"$f":"\"\"","v":""},{"$f":"\"\"","v":""},{"$f":"\"\"","v":""},{"$f":"\"\"","v":""}]
[null,"SMPL_ID ",{"$f":"IF('Free Form'!$F$49=\"Y\", C3, \"\")","v":""},{"$f":"C149","v":""},"","","","","","","","","","",{"$f":"N149","v":""},"","","","","",{"$f":"T149","v":""},"","","",{"$f":"C173","v":""},"","","","","","","","","","","","","","","",{"$f":"S173","v":""},{"$f":"T173","v":""},{"$f":"\"\"","v":""},{"$f":"\"\"","v":""},{"$f":"\"\"","v":""},{"$f":"\"\"","v":""},{"$f":"\"\"","v":""},{"$f":"\"\"","v":""},{"$f":"\"\"","v":""},{"$f":"\"\"","v":""},{"$f":"\"\"","v":""},{"$f":"\"\"","v":""}]
[null,"SMPL_TST_NBR ",{"$f":"IF('Free Form'!$F$49=\"Y\", \"1\", \"\")","v":""},{"$f":"C151","v":""},"","","","","","","","","","",{"$f":"N151","v":""},"","","","","",{"$f":"T151","v":""},"","","",{"$f":"C175","v":""},"","","","","","","","","","","","","","","",{"$f":"S175","v":""},"",{"$f":"\"\"","v":""},{"$f":"\"\"","v":""},{"$f":"\"\"","v":""},{"$f":"\"\"","v":""},{"$f":"\"\"","v":""},{"$f":"\"\"","v":""},{"$f":"\"\"","v":""},{"$f":"\"\"","v":""},{"$f":"\"\"","v":""},{"$f":"\"\"","v":""}]
[null,"LAB_ID ",{"$f":"IF('Free Form'!$F$49=\"Y\", \"Fld Lab S\", \"\")","v":""},{"$f":"IF($D$81=\"\",\"\",\"Fld Lab S\")","v":""},{"$f":"IF($E$81=\"\",\"\",\"Fld Lab S\")","v":""},{"$f":"IF($F$81=\"\",\"\",\"Fld Lab S\")","v":""},{"$f":"IF($G$81=\"\",\"\",\"Fld Lab S\")","v":""},{"$f":"IF($H$81=\"\",\"\",\"Fld Lab S\")","v":""},{"$f":"IF($I$81=\"\",\"\",\"Fld Lab S\")","v":""},{"$f":"IF($J$81=\"\",\"\",\"Fld Lab S\")","v":""},{"$f":"IF($K$81=\"\",\"\",\"Fld Lab S\")","v":""},{"$f":"IF($L$81=\"\",\"\",\"Fld Lab S\")","v":""},{"$f":"IF($M$81=\"\",\"\",\"Fld Lab S\")","v":""},{"$f":"IF($N$81=\"\",\"\",\"Fld Lab S\")","v":""},{"$f":"IF(O$81=\"\",\"\",\"Fld Lab S\")","v":""},{"$f":"IF(P$81=\"\",\"\",\"Fld Lab S\")","v":""},{"$f":"IF(Q$81=\"\",\"\",\"Fld Lab S\")","v":""},"","","","","","","","","","","","","","","","","","","","","","","","","",{"$f":"\"\"","v":""},{"$f":"\"\"","v":""},{"$f":"\"\"","v":""},{"$f":"\"\"","v":""},{"$f":"\"\"","v":""},{"$f":"\"\"","v":""},{"$f":"\"\"","v":""},{"$f":"\"\"","v":""},{"$f":"\"\"","v":""},{"$f":"\"\"","v":""}]
[null,"CHRG_AMT ",null,null,null,null,null,null,null,null,null,null,null,null,null,null,null,null,null,null,null,null,null,null,null,null,null,null,null,null,null,null,null,null,null,null,null,null,null,null,null,null,{"$f":"\"\"","v":""},{"$f":"\"\"","v":""},{"$f":"\"\"","v":""},{"$f":"\"\"","v":""},{"$f":"\"\"","v":""},{"$f":"\"\"","v":""},{"$f":"\"\"","v":""},{"$f":"\"\"","v":""},{"$f":"\"\"","v":""},{"$f":"\"\"","v":""}]
[null,"STRT_DT ",{"$f":"IF('Free Form'!$F$49=\"Y\", C28, \"\")","v":""},{"$f":"IF(D$81=\"\",\"\",$C47)","v":""},"","","","","","","","","","",{"$f":"IF(O$81=\"\",\"\",$C47)","v":""},{"$f":"IF(P$81=\"\",\"\",$C47)","v":""},{"$f":"IF(Q$81=\"\",\"\",$C47)","v":""},"","","","","","","","","","","","","","","","","",{"$f":"IF(AI$81=\"\",\"\",$C47)","v":""},"","","","","",{"$f":"IF(AO$81=\"\",\"\",$C47)","v":""},"",{"$f":"\"\"","v":""},{"$f":"\"\"","v":""},{"$f":"\"\"","v":""},{"$f":"\"\"","v":""},{"$f":"\"\"","v":""},{"$f":"\"\"","v":""},{"$f":"\"\"","v":""},{"$f":"\"\"","v":""},{"$f":"\"\"","v":""},{"$f":"\"\"","v":""}]
[null,"EST_CMPL_DT ",{"$f":"IF('Free Form'!$F$49=\"Y\", C28, \"\")","v":""},{"$f":"IF($D$81=\"\",\"\",\"0\")","v":""},{"$f":"IF($E$81=\"\",\"\",\"0\")","v":""},{"$f":"IF($F$81=\"\",\"\",\"0\")","v":""},{"$f":"IF($G$81=\"\",\"\",\"0\")","v":""},{"$f":"IF($H$81=\"\",\"\",\"0\")","v":""},{"$f":"IF($I$81=\"\",\"\",\"0\")","v":""},{"$f":"IF($J$81=\"\",\"\",\"0\")","v":""},{"$f":"IF($K$81=\"\",\"\",\"0\")","v":""},{"$f":"IF($L$81=\"\",\"\",\"0\")","v":""},{"$f":"IF($M$81=\"\",\"\",\"0\")","v":""},{"$f":"IF($N$81=\"\",\"\",\"0\")","v":""},{"$f":"IF(O$81=\"\",\"\",\"0\")","v":""},{"$f":"IF(P$81=\"\",\"\",\"0\")","v":""},{"$f":"IF(Q$81=\"\",\"\",\"0\")","v":""},"","","","","","","","","","","","","","","","","","","","","","","","","",{"$f":"\"\"","v":""},{"$f":"\"\"","v":""},{"$f":"\"\"","v":""},{"$f":"\"\"","v":""},{"$f":"\"\"","v":""},{"$f":"\"\"","v":""},{"$f":"\"\"","v":""},{"$f":"\"\"","v":""},{"$f":"\"\"","v":""},{"$f":"\"\"","v":""}]
[null,"ACTL_CMPL_DT ",{"$f":"IF('Free Form'!$F$49=\"Y\", C28, \"\")","v":""},{"$f":"D84","v":""},"","","","","",{"$f":"J84","v":""},"","","","","","",{"$f":"Q84","v":""},"","","","","","","","","","","","","","","","","",{"$f":"AI84","v":""},"","","","","",{"$f":"AO84","v":""},"",{"$f":"\"\"","v":""},{"$f":"\"\"","v":""},{"$f":"\"\"","v":""},{"$f":"\"\"","v":""},{"$f":"\"\"","v":""},{"$f":"\"\"","v":""},{"$f":"\"\"","v":""},{"$f":"\"\"","v":""},{"$f":"\"\"","v":""},{"$f":"\"\"","v":""}]
[null,"LAST_MODFD_UID ",{"$f":"IF('Free Form'!$F$49=\"Y\", \"system\", \"\")","v":""},{"$f":"IF($D$81=\"\",\"\",\"system\")","v":""},{"$f":"IF($E$81=\"\",\"\",\"system\")","v":""},{"$f":"IF($F$81=\"\",\"\",\"system\")","v":""},{"$f":"IF($G$81=\"\",\"\",\"system\")","v":""},{"$f":"IF($H$81=\"\",\"\",\"system\")","v":""},{"$f":"IF($I$81=\"\",\"\",\"system\")","v":""},{"$f":"IF($J$81=\"\",\"\",\"system\")","v":""},{"$f":"IF($K$81=\"\",\"\",\"system\")","v":""},{"$f":"IF($L$81=\"\",\"\",\"system\")","v":""},{"$f":"IF($M$81=\"\",\"\",\"system\")","v":""},{"$f":"IF($N$81=\"\",\"\",\"system\")","v":""},{"$f":"IF(O$81=\"\",\"\",\"system\")","v":""},{"$f":"IF(P$81=\"\",\"\",\"system\")","v":""},{"$f":"IF(Q$81=\"\",\"\",\"system\")","v":""},"","","","","","","","","","","","","","","","","","","","","","","","","",{"$f":"\"\"","v":""},{"$f":"\"\"","v":""},{"$f":"\"\"","v":""},{"$f":"\"\"","v":""},{"$f":"\"\"","v":""},{"$f":"\"\"","v":""},{"$f":"\"\"","v":""},{"$f":"\"\"","v":""},{"$f":"\"\"","v":""},{"$f":"\"\"","v":""}]
[null,"LAST_MODFD_DT ",{"$f":"IF('Free Form'!$F$49=\"Y\", C28, \"\")","v":""},{"$f":"IF($D$81=\"\",\"\",TEXT(TODAY(),\"YYYYMMDD\"))","v":""},{"$f":"IF($E$81=\"\",\"\",TEXT(TODAY(),\"YYYYMMDD\"))","v":""},{"$f":"IF($F$81=\"\",\"\",TEXT(TODAY(),\"YYYYMMDD\"))","v":""},{"$f":"IF($G$81=\"\",\"\",TEXT(TODAY(),\"YYYYMMDD\"))","v":""},{"$f":"IF($H$81=\"\",\"\",TEXT(TODAY(),\"YYYYMMDD\"))","v":""},{"$f":"IF($I$81=\"\",\"\",TEXT(TODAY(),\"YYYYMMDD\"))","v":""},{"$f":"IF($J$81=\"\",\"\",TEXT(TODAY(),\"YYYYMMDD\"))","v":""},{"$f":"IF($K$81=\"\",\"\",TEXT(TODAY(),\"YYYYMMDD\"))","v":""},{"$f":"IF($L$81=\"\",\"\",TEXT(TODAY(),\"YYYYMMDD\"))","v":""},{"$f":"IF($M$81=\"\",\"\",TEXT(TODAY(),\"YYYYMMDD\"))","v":""},{"$f":"IF($N$81=\"\",\"\",TEXT(TODAY(),\"YYYYMMDD\"))","v":""},{"$f":"IF(O$81=\"\",\"\",TEXT(TODAY(),\"YYYYMMDD\"))","v":""},{"$f":"IF(P$81=\"\",\"\",TEXT(TODAY(),\"YYYYMMDD\"))","v":""},{"$f":"IF(Q$81=\"\",\"\",TEXT(TODAY(),\"YYYYMMDD\"))","v":""},"","","","","","","","","","","","","","","","","","","","","","","","","",{"$f":"\"\"","v":""},{"$f":"\"\"","v":""},{"$f":"\"\"","v":""},{"$f":"\"\"","v":""},{"$f":"\"\"","v":""},{"$f":"\"\"","v":""},{"$f":"\"\"","v":""},{"$f":"\"\"","v":""},{"$f":"\"\"","v":""},{"$f":"\"\"","v":""}]
[]
[]
[]
[]
["T_FREE_FORM_DTL","T_FREE_FORM_DTL","T_FREE_FORM_DTL","T_FREE_FORM_DTL","T_FREE_FORM_DTL","T_FREE_FORM_DTL","T_FREE_FORM_DTL","T_FREE_FORM_DTL","T_FREE_FORM_DTL","T_FREE_FORM_DTL"]
[]
[null,"SMPL_ID ",{"$f":"IF('Free Form'!$F$49=\"Y\",$C$3,\"\")","v":""},{"$f":"IF('Free Form'!$F$50=\"Y\",$C$3,\"\")","v":""},{"$f":"IF('Free Form'!$F$51=\"Y\",$C$3,\"\")","v":""},{"$f":"IF('Free Form'!$F$52=\"Y\",$C$3,\"\")","v":""},{"$f":"IF('Free Form'!$F$53=\"Y\",$C$3,\"\")","v":""},{"$f":"IF('Free Form'!$F$54=\"Y\",$C$3,\"\")","v":""},{"$f":"IF('Free Form'!$F$55=\"Y\",$C$3,\"\")","v":""},{"$f":"IF('Free Form'!$F$56=\"Y\",$C$3,\"\")","v":""}]
[null,"SMPL_TST_NBR ",{"$f":"IF('Free Form'!$F$49=\"Y\",\"1         \",\"\")","v":""},{"$f":"IF('Free Form'!$F$50=\"Y\",\"1         \",\"\")","v":""},{"$f":"IF('Free Form'!$F$51=\"Y\",\"1         \",\"\")","v":""},{"$f":"IF('Free Form'!$F$52=\"Y\",\"1         \",\"\")","v":""},{"$f":"IF('Free Form'!$F$53=\"Y\",\"1         \",\"\")","v":""},{"$f":"IF('Free Form'!$F$54=\"Y\",\"1         \",\"\")","v":""},{"$f":"IF('Free Form'!$F$55=\"Y\",\"1         \",\"\")","v":""},{"$f":"IF('Free Form'!$F$56=\"Y\",\"1         \",\"\")","v":""}]
[null,"FREE_FORM_DTL_SN ",{"$f":"IF('Free Form'!$F$49=\"Y\",'Free Form'!C49,\"\")","v":""},{"$f":"IF('Free Form'!$F$50=\"Y\",'Free Form'!C50,\"\")","v":""},{"$f":"IF('Free Form'!$F$51=\"Y\",'Free Form'!C51,\"\")","v":""},{"$f":"IF('Free Form'!$F$52=\"Y\",'Free Form'!C52,\"\")","v":""},{"$f":"IF('Free Form'!$F$53=\"Y\",'Free Form'!C53,\"\")","v":""},{"$f":"IF('Free Form'!$F$54=\"Y\",'Free Form'!C54,\"\")","v":""},{"$f":"IF('Free Form'!$F$55=\"Y\",'Free Form'!C55,\"\")","v":""},{"$f":"IF('Free Form'!$F$56=\"Y\",'Free Form'!C56,\"\")","v":""}]
[null,"TST_DATA ",{"$f":"IF('Free Form'!$F$49=\"Y\",'Free Form'!G49,\"\")","v":""},{"$f":"IF('Free Form'!$F$50=\"Y\",'Free Form'!G50,\"\")","v":""},{"$f":"IF('Free Form'!$F$51=\"Y\",'Free Form'!G51,\"\")","v":""},{"$f":"IF('Free Form'!$F$52=\"Y\",'Free Form'!G52,\"\")","v":""},{"$f":"IF('Free Form'!$F$53=\"Y\",'Free Form'!G53,\"\")","v":""},{"$f":"IF('Free Form'!$F$54=\"Y\",'Free Form'!G54,\"\")","v":""},{"$f":"IF('Free Form'!$F$55=\"Y\",'Free Form'!G55,\"\")","v":""},{"$f":"IF('Free Form'!$F$56=\"Y\",'Free Form'!G56,\"\")","v":""}]
[null,"LAST_MODFD_UID ",{"$f":"IF('Free Form'!$F$49=\"Y\",$C$46,\"\")","v":""},{"$f":"IF('Free Form'!$F$50=\"Y\",$C$46,\"\")","v":""},{"$f":"IF('Free Form'!$F$51=\"Y\",$C$46,\"\")","v":""},{"$f":"IF('Free Form'!$F$52=\"Y\",$C$46,\"\")","v":""},{"$f":"IF('Free Form'!$F$53=\"Y\",$C$46,\"\")","v":""},{"$f":"IF('Free Form'!$F$54=\"Y\",$C$46,\"\")","v":""},{"$f":"IF('Free Form'!$F$55=\"Y\",$C$46,\"\")","v":""},{"$f":"IF('Free Form'!$F$56=\"Y\",$C$46,\"\")","v":""}]
[null,"LAST_MODFD_DT ",{"$f":"IF('Free Form'!$F$49=\"Y\",$C$47,\"\")","v":""},{"$f":"IF('Free Form'!$F$50=\"Y\",$C$47,\"\")","v":""},{"$f":"IF('Free Form'!$F$51=\"Y\",$C$47,\"\")","v":""},{"$f":"IF('Free Form'!$F$52=\"Y\",$C$47,\"\")","v":""},{"$f":"IF('Free Form'!$F$53=\"Y\",$C$47,\"\")","v":""},{"$f":"IF('Free Form'!$F$54=\"Y\",$C$47,\"\")","v":""},{"$f":"IF('Free Form'!$F$55=\"Y\",$C$47,\"\")","v":""},{"$f":"IF('Free Form'!$F$56=\"Y\",$C$47,\"\")","v":""}]
[]
[]
[]
[]
[]
["T_PCC_TST_HDR","T_PCC_TST_HDR","T_PCC_TST_HDR","T_PCC_TST_HDR","T_PCC_TST_HDR"]
[null,"SMPL_ID "]
[null,"SMPL_TST_NBR "]
[null,"RMRKS_ID "]
[null,"TST_RSLT_T "]
[null,"REVR_UID "]
[null,"SLMP "]
[null,"SLMP_UNT "]
[null,"T119_EFFDT "]
[null,"AIR_CNTNT_M "]
[null,"T152_EFFDT "]
[null,"CONC_TEMP "]
[null,"CONC_TEMP_UNT "]
[null,"H2O_CEM_RATIO "]
[null,"UNT_WT "]
[null,"UNT_WT_UNT "]
[null,"LAST_MODFD_UID "]
[null,"LAST_MODFD_DT "]
[]
[]
[]
[]
["T_PCC_TST_DTL","T_PCC_TST_DTL","T_PCC_TST_DTL","T_PCC_TST_DTL","T_PCC_TST_DTL"]
[null,"SMPL_ID "]
[null,"SMPL_TST_NBR "]
[null,"SPCMN_ID "]
[null,"RMRKS_ID "]
[null,"TST_RSLT_T "]
[null,"REVR_UID "]
[null,"CMPRS_STRGH_M "]
[null,"CMPRS_STRGH_UNT "]
[null,"T22_EFFDT "]
[null,"CYL_DIA "]
[null,"X_SECT_AREA "]
[null,"MAX_LO "]
[null,"CYL_AGE "]
[null,"LAST_MODFD_UID "]
[null,"LAST_MODFD_DT "]
[]
[]
[]
[]
["T_TST RSLTS_HDR","T_TST RSLTS_HDR","T_TST RSLTS_HDR"]
[null,"SMPL_ID",{"$f":"IF($C151=\"1\",$C$3,\"\")","v":""},{"$f":"IF($D151=\"2\",$C$3,\"\")","v":""},{"$f":"IF($E151=\"3\",$C$3,\"\")","v":""},{"$f":"IF($F151=\"1\",$C$3,\"\")","v":""},{"$f":"IF($G151=\"2\",$C$3,\"\")","v":""},{"$f":"IF($H151=\"3\",$C$3,\"\")","v":""},{"$f":"IF($I151=\"1\",$C$3,\"\")","v":""},{"$f":"IF($J151=\"2\",$C$3,\"\")","v":""},{"$f":"IF($K151=\"3\",$C$3,\"\")","v":""},{"$f":"IF($L151=\"1\",$C$3,\"\")","v":""},{"$f":"IF($M151=\"2\",$C$3,\"\")","v":""},{"$f":"IF($N151=\"3\",$C$3,\"\")","v":""},{"$f":"IF(O151=\"1\",$C$3,\"\")","v":""},{"$f":"IF(P151=\"2\",$C$3,\"\")","v":""},{"$f":"IF(Q151=\"3\",$C$3,\"\")","v":""},{"$f":"IF(R151=\"4\",$C$3,\"\")","v":""},{"$f":"IF(S151=\"5\",$C$3,\"\")","v":""},{"$f":"IF(T151=\"1\",$C$3,\"\")","v":""},{"$f":"IF(U151=\"2\",$C$3,\"\")","v":""},{"$f":"IF(V151=\"3\",$C$3,\"\")","v":""},{"$f":"IF(W151=\"4\",$C$3,\"\")","v":""}]
[null,"TST_METH",{"$f":"IF($C151=\"1\",\"SAA007FA\",\"\")","v":""},{"$f":"IF($D151=\"2\",\"SAA007FA\",\"\")","v":""},{"$f":"IF($E151=\"3\",\"SAA007FA\",\"\")","v":""},{"$f":"IF($F151=\"1\",\"SAA007JA\",\"\")","v":""},{"$f":"IF($G151=\"2\",\"SAA007JA\",\"\")","v":""},{"$f":"IF($H151=\"3\",\"SAA007JA\",\"\")","v":""},{"$f":"IF($I151=\"1\",\"SAA008CA\",\"\")","v":""},{"$f":"IF($J151=\"2\",\"SAA008CA\",\"\")","v":""},{"$f":"IF($K151=\"3\",\"SAA008CA\",\"\")","v":""},{"$f":"IF($L151=\"1\",\"SA1000XX\",\"\")","v":""},{"$f":"IF($M151=\"2\",\"SA1000XX\",\"\")","v":""},{"$f":"IF($N151=\"3\",\"SA1000XX\",\"\")","v":""},{"$f":"IF(O151=\"1\",\"SAAT27AA\",\"\")","v":""},{"$f":"IF(P151=\"2\",\"SAAT27AA\",\"\")","v":""},{"$f":"IF(Q151=\"3\",\"SAAT27AA\",\"\")","v":""},{"$f":"IF(R151=\"4\",\"SAAT27AA\",\"\")","v":""},{"$f":"IF(S151=\"5\",\"SAAT27AA\",\"\")","v":""},{"$f":"IF(T151=\"1\",\"SAA008CA\",\"\")","v":""},{"$f":"IF(U151=\"2\",\"SAA008CA\",\"\")","v":""},{"$f":"IF(V151=\"3\",\"SAA008CA\",\"\")","v":""},{"$f":"IF(W151=\"4\",\"SAA008CA\",\"\")","v":""}]
[null,"SMPL_TST_NBR",{"$f":"IF('Test 1'!AG13=\"Y\",\"1\",\"\")","v":""},{"$f":"IF('Test 1'!AH13=\"Y\",\"2\",\"\")","v":""},{"$f":"IF('Test 1'!AI13=\"Y\",\"3\",\"\")","v":""},{"$f":"IF('Test 1'!AG12=\"Y\",\"1\",\"\")","v":""},{"$f":"IF('Test 1'!AH12=\"Y\",\"2\",\"\")","v":""},{"$f":"IF('Test 1'!AI12=\"Y\",\"3\",\"\")","v":""},{"$f":"IF('Test 1'!AG44=\"Y\",\"1\",\"\")","v":""},{"$f":"IF('Test 1'!AH44=\"Y\",\"2\",\"\")","v":""},{"$f":"IF('Test 1'!AI44=\"Y\",\"3\",\"\")","v":""},{"$f":"IF('Test 1'!AG38=\"Y\",\"1\",\"\")","v":""},{"$f":"IF('Test 1'!AH38=\"Y\",\"2\",\"\")","v":""},{"$f":"IF('Test 1'!AI38=\"Y\",\"3\",\"\")","v":""},{"$f":"IF('Test 2'!AG14=\"Y\",\"1\",\"\")","v":""},{"$f":"IF('Test 2'!AH14=\"Y\",\"2\",\"\")","v":""},{"$f":"IF('Test 2'!AI14=\"Y\",\"3\",\"\")","v":""},{"$f":"IF('Test 2'!AJ14=\"Y\",\"4\",\"\")","v":""},{"$f":"IF('Test 2'!AK14=\"Y\",\"5\",\"\")","v":""},{"$f":"IF('Test 2'!AG37=\"Y\",\"1\",\"\")","v":""},{"$f":"IF('Test 2'!AH37=\"Y\",\"2\",\"\")","v":""},{"$f":"IF('Test 2'!AI37=\"Y\",\"3\",\"\")","v":""},{"$f":"IF('Test 2'!AJ37=\"Y\",\"4\",\"\")","v":""}]
[null,"RMRKS_ID"]
[null,"EFFDT"]
[null,"LAST_MODFD_UID",{"$f":"IF($C151=\"1\",$C4,\"\")","v":""},{"$f":"IF($D151=\"2\",$C4,\"\")","v":""},{"$f":"IF($E151=\"3\",$C4,\"\")","v":""},{"$f":"IF($F151=\"1\",$C4,\"\")","v":""},{"$f":"IF($G151=\"2\",$C4,\"\")","v":""},{"$f":"IF($H151=\"3\",$C4,\"\")","v":""},{"$f":"IF($I151=\"1\",$C4,\"\")","v":""},{"$f":"IF($J151=\"2\",$C4,\"\")","v":""},{"$f":"IF($K151=\"3\",$C4,\"\")","v":""},{"$f":"IF($L151=\"1\",$C4,\"\")","v":""},{"$f":"IF($M151=\"2\",$C4,\"\")","v":""},{"$f":"IF(N151=\"3\",$C4,\"\")","v":""},{"$f":"IF(O151=\"1\",$C4,\"\")","v":""},{"$f":"IF(P151=\"2\",$C4,\"\")","v":""},{"$f":"IF(Q151=\"3\",$C4,\"\")","v":""},{"$f":"IF(R151=\"4\",$C4,\"\")","v":""},{"$f":"IF(S151=\"5\",$C4,\"\")","v":""},{"$f":"IF(T151=\"1\",$C4,\"\")","v":""},{"$f":"IF(U151=\"2\",$C4,\"\")","v":""},{"$f":"IF(V151=\"3\",$C4,\"\")","v":""},{"$f":"IF(W151=\"4\",$C4,\"\")","v":""}]
[null,"LAST_MODFD_DT",{"$f":"IF(C151=\"\",\"\",TEXT(TODAY(),\"YYYYMMDD\"))","v":""},"","","","","","","","","","",{"$f":"IF(N151=\"\",\"\",TEXT(TODAY(),\"YYYYMMDD\"))","v":""},"","","","","",{"$f":"IF(T151=\"\",\"\",TEXT(TODAY(),\"YYYYMMDD\"))","v":""},"","",""]
[]
[]
[]
[]
["TST_RSLT_DTL","TST_RSLT_DTL","TST_RSLT_DTL"]
[null,"SMPL_ID",{"$f":"IF($C151=\"\",\"\",$C149)","v":""},{"$f":"IF($C151=\"\",\"\",$C149)","v":""},{"$f":"IF($C151=\"\",\"\",$C149)","v":""},{"$f":"IF($C151=\"\",\"\",$C149)","v":""},"","","","",{"$f":"IF($C151=\"\",\"\",$C149)","v":""},{"$f":"IF($D151=\"\",\"\",$D149)","v":""},"",{"$f":"IF($D151=\"\",\"\",$D149)","v":""},"","","","","",{"$f":"IF($D151=\"\",\"\",$D149)","v":""},{"$f":"IF($E151=\"\",\"\",$E149)","v":""},"","","","","","","",{"$f":"IF($E151=\"\",\"\",$E149)","v":""},{"$f":"IF($F151=\"\",\"\",$F149)","v":""},"","","","","","",{"$f":"IF($F151=\"\",\"\",$F149)","v":""},{"$f":"IF($G151=\"\",\"\",$G149)","v":""},"","","","","","",{"$f":"IF($G151=\"\",\"\",$G149)","v":""},{"$f":"IF($H151=\"\",\"\",$H149)","v":""},"","","","","","",{"$f":"IF($H151=\"\",\"\",$H149)","v":""},{"$f":"IF($I151=\"\",\"\",$I149)","v":""},{"$f":"IF($J151=\"\",\"\",$J149)","v":""},{"$f":"IF($K151=\"\",\"\",$K149)","v":""},{"$f":"IF($L151=\"\",\"\",$L149)","v":""},{"$f":"IF($M151=\"\",\"\",$M149)","v":""},{"$f":"IF($N$149=\"\",\"\",$C3)","v":""},{"$f":"IF($O$149=\"\",\"\",$C3)","v":""},{"$f":"IF($O$149=\"\",\"\",$C3)","v":""},{"$f":"IF($O$149=\"\",\"\",$C3)","v":""},"","","","","","","","","","",{"$f":"IF($P$149=\"\",\"\",$C3)","v":""},{"$f":"IF($P$149=\"\",\"\",$C3)","v":""},{"$f":"IF($P$149=\"\",\"\",$C3)","v":""},{"$f":"IF($P$149=\"\",\"\",$C3)","v":""},{"$f":"IF($P$149=\"\",\"\",$C3)","v":""},"","","","",{"$f":"IF($P$149=\"\",\"\",$C3)","v":""},"","","",{"$f":"IF($Q$149=\"\",\"\",$C3)","v":""},{"$f":"IF($Q$149=\"\",\"\",$C3)","v":""},{"$f":"IF($Q$149=\"\",\"\",$C3)","v":""},{"$f":"IF($Q$149=\"\",\"\",$C3)","v":""},{"$f":"IF($Q$149=\"\",\"\",$C3)","v":""},"","","","","","","","",{"$f":"IF($R$149=\"\",\"\",$C3)","v":""},{"$f":"IF($R$149=\"\",\"\",$C3)","v":""},{"$f":"IF($R$149=\"\",\"\",$C3)","v":""},{"$f":"IF($R$149=\"\",\"\",$C3)","v":""},{"$f":"IF($R$149=\"\",\"\",$C3)","v":""},"","","","","","","","",{"$f":"IF($S$149=\"\",\"\",$C3)","v":""},{"$f":"IF($S$149=\"\",\"\",$C3)","v":""},{"$f":"IF($S$149=\"\",\"\",$C3)","v":""},{"$f":"IF($S$149=\"\",\"\",$C3)","v":""},{"$f":"IF($S$149=\"\",\"\",$C3)","v":""},"","","","","","","","",{"$f":"IF($T$149=\"\",\"\",$C3)","v":""},{"$f":"IF($U$149=\"\",\"\",$C3)","v":""},{"$f":"IF($V$149=\"\",\"\",$C3)","v":""},{"$f":"IF($W$149=\"\",\"\",$C3)","v":""}]
[null,"TST_METH",{"$f":"IF($C151=\"\",\"\",$C150)","v":""},{"$f":"IF($C151=\"\",\"\",$C150)","v":""},{"$f":"IF($C151=\"\",\"\",$C150)","v":""},{"$f":"IF($C151=\"\",\"\",$C150)","v":""},"","","","",{"$f":"IF($C151=\"\",\"\",$C150)","v":""},{"$f":"IF($D151=\"\",\"\",$D150)","v":""},"",{"$f":"IF($D151=\"\",\"\",$D150)","v":""},"","","","","",{"$f":"IF($D151=\"\",\"\",$D150)","v":""},{"$f":"IF($E151=\"\",\"\",$E150)","v":""},"","","","","","","",{"$f":"IF($E151=\"\",\"\",$E150)","v":""},{"$f":"IF($F151=\"\",\"\",$F150)","v":""},"","","","","","",{"$f":"IF($F151=\"\",\"\",$F150)","v":""},{"$f":"IF($G151=\"\",\"\",$G150)","v":""},"","","","","","",{"$f":"IF($G151=\"\",\"\",$G150)","v":""},{"$f":"IF($H151=\"\",\"\",$H150)","v":""},"","","","","","",{"$f":"IF($H151=\"\",\"\",$H150)","v":""},{"$f":"IF($I151=\"\",\"\",$I150)","v":""},{"$f":"IF($J151=\"\",\"\",$J150)","v":""},{"$f":"IF($K151=\"\",\"\",$K150)","v":""},{"$f":"IF($L151=\"\",\"\",$L150)","v":""},{"$f":"IF($M151=\"\",\"\",$M150)","v":""},{"$f":"IF($N$149=\"\",\"\",$N150)","v":""},{"$f":"IF($O$149=\"\",\"\",$O150)","v":""},"",{"$f":"IF($O$149=\"\",\"\",$O150)","v":""},"","","","","","","","","","",{"$f":"IF($P$149=\"\",\"\",$P150)","v":""},"","","",{"$f":"IF($P$149=\"\",\"\",$P150)","v":""},"","","","",{"$f":"IF($P$149=\"\",\"\",$P150)","v":""},"","","",{"$f":"IF($Q$149=\"\",\"\",$Q150)","v":""},"","","",{"$f":"IF($Q$149=\"\",\"\",$Q150)","v":""},"","","","","","","","",{"$f":"IF($R$149=\"\",\"\",$R150)","v":""},"","","",{"$f":"IF($R$149=\"\",\"\",$R150)","v":""},"","","","","","","","",{"$f":"IF($S$149=\"\",\"\",$S150)","v":""},"","","",{"$f":"IF($S$149=\"\",\"\",$S150)","v":""},"","","","","","","","",{"$f":"IF($T$149=\"\",\"\",$T150)","v":""},{"$f":"IF($U$149=\"\",\"\",$U150)","v":""},{"$f":"IF($V$149=\"\",\"\",$V150)","v":""},{"$f":"IF($W$149=\"\",\"\",$W150)","v":""}]
[null,"SMPL_TST_NBR",{"$f":"IF($C151=\"\",\"\",$C151)","v":""},{"$f":"IF($C151=\"\",\"\",$C151)","v":""},{"$f":"IF($C151=\"\",\"\",$C151)","v":""},{"$f":"IF($C151=\"\",\"\",$C151)","v":""},"","","","",{"$f":"IF($C151=\"\",\"\",$C151)","v":""},{"$f":"IF($D151=\"\",\"\",$D151)","v":""},"",{"$f":"IF($D151=\"\",\"\",$D151)","v":""},"","","","","",{"$f":"IF($D151=\"\",\"\",$D151)","v":""},{"$f":"IF($E151=\"\",\"\",$E151)","v":""},"","","","","","","",{"$f":"IF($E151=\"\",\"\",$E151)","v":""},{"$f":"IF($F151=\"\",\"\",$F151)","v":""},"","","","","","",{"$f":"IF($F151=\"\",\"\",$F151)","v":""},{"$f":"IF($G151=\"\",\"\",$G151)","v":""},"","","","","","",{"$f":"IF($G151=\"\",\"\",$G151)","v":""},{"$f":"IF($H151=\"\",\"\",$H151)","v":""},"","","","","","",{"$f":"IF($H151=\"\",\"\",$H151)","v":""},{"$f":"IF($I151=\"\",\"\",$I151)","v":""},{"$f":"IF($J151=\"\",\"\",$J151)","v":""},{"$f":"IF($K151=\"\",\"\",$K151)","v":""},{"$f":"IF($L151=\"\",\"\",$L151)","v":""},{"$f":"IF($M151=\"\",\"\",$M151)","v":""},"","","",{"$f":"IF($O$149=\"\",\"\",$O151)","v":""},"","","","","","","","","","","","","","",{"$f":"IF($P$149=\"\",\"\",$P151)","v":""},"","","","",{"$f":"IF($P$149=\"\",\"\",$P151)","v":""},"","","","","","","",{"$f":"IF($Q$149=\"\",\"\",$Q151)","v":""},"","","","","","","","","","","","",{"$f":"IF($R$149=\"\",\"\",$R151)","v":""},"","","","","","","","","","","","",{"$f":"IF($S$149=\"\",\"\",$S151)","v":""},"","","","","","","","",{"$f":"IF($T$149=\"\",\"\",$T151)","v":""},{"$f":"IF($U$149=\"\",\"\",$U151)","v":""},{"$f":"IF($V$149=\"\",\"\",$V151)","v":""},{"$f":"IF($W$149=\"\",\"\",$W151)","v":""}]
[null,"TST_FLD_SN",{"$f":"IF($C151=\"\",\"\",\"1\")","v":""},{"$f":"IF($C151=\"\",\"\",\"2\")","v":""},{"$f":"IF($C151=\"\",\"\",\"3\")","v":""},{"$f":"IF($C151=\"\",\"\",\"4\")","v":""},{"$f":"IF($C151=\"\",\"\",\"5\")","v":""},{"$f":"IF($C151=\"\",\"\",\"8\")","v":""},{"$f":"IF($C151=\"\",\"\",\"9\")","v":""},{"$f":"IF($C151=\"\",\"\",\"10\")","v":""},{"$f":"IF($C151=\"\",\"\",\"11\")","v":""},{"$f":"IF($D151=\"\",\"\",\"1\")","v":""},{"$f":"IF($D151=\"\",\"\",\"2\")","v":""},{"$f":"IF($D151=\"\",\"\",\"3\")","v":""},{"$f":"IF($D151=\"\",\"\",\"4\")","v":""},{"$f":"IF($D151=\"\",\"\",\"5\")","v":""},{"$f":"IF($D151=\"\",\"\",\"8\")","v":""},{"$f":"IF($D151=\"\",\"\",\"9\")","v":""},{"$f":"IF($D151=\"\",\"\",\"10\")","v":""},{"$f":"IF($D151=\"\",\"\",\"11\")","v":""},{"$f":"IF($E151=\"\",\"\",\"1\")","v":""},{"$f":"IF($E151=\"\",\"\",\"2\")","v":""},{"$f":"IF($E151=\"\",\"\",\"3\")","v":""},{"$f":"IF($E151=\"\",\"\",\"4\")","v":""},{"$f":"IF($E151=\"\",\"\",\"5\")","v":""},{"$f":"IF($E151=\"\",\"\",\"8\")","v":""},{"$f":"IF($E151=\"\",\"\",\"9\")","v":""},{"$f":"IF($E151=\"\",\"\",\"10\")","v":""},{"$f":"IF($E151=\"\",\"\",\"11\")","v":""},{"$f":"IF($F151=\"\",\"\",\"1\")","v":""},{"$f":"IF($F151=\"\",\"\",\"2\")","v":""},{"$f":"IF($F151=\"\",\"\",\"3\")","v":""},{"$f":"IF($F151=\"\",\"\",\"5\")","v":""},{"$f":"IF($F151=\"\",\"\",\"8\")","v":""},{"$f":"IF($F151=\"\",\"\",\"9\")","v":""},{"$f":"IF($F151=\"\",\"\",\"10\")","v":""},{"$f":"IF($F151=\"\",\"\",\"11\")","v":""},{"$f":"IF($G151=\"\",\"\",\"1\")","v":""},{"$f":"IF($G151=\"\",\"\",\"2\")","v":""},{"$f":"IF($G151=\"\",\"\",\"3\")","v":""},{"$f":"IF($G151=\"\",\"\",\"5\")","v":""},{"$f":"IF($G151=\"\",\"\",\"8\")","v":""},{"$f":"IF($G151=\"\",\"\",\"9\")","v":""},{"$f":"IF($G151=\"\",\"\",\"10\")","v":""},{"$f":"IF($G151=\"\",\"\",\"11\")","v":""},{"$f":"IF($H151=\"\",\"\",\"1\")","v":""},{"$f":"IF($H151=\"\",\"\",\"2\")","v":""},{"$f":"IF($H151=\"\",\"\",\"3\")","v":""},{"$f":"IF($H151=\"\",\"\",\"5\")","v":""},{"$f":"IF($H151=\"\",\"\",\"8\")","v":""},{"$f":"IF($H151=\"\",\"\",\"9\")","v":""},{"$f":"IF($H151=\"\",\"\",\"10\")","v":""},{"$f":"IF($H151=\"\",\"\",\"11\")","v":""},{"$f":"IF($I151=\"\",\"\",\"2\")","v":""},{"$f":"IF($J151=\"\",\"\",\"2\")","v":""},{"$f":"IF($K151=\"\",\"\",\"2\")","v":""},{"$f":"IF($L151=\"\",\"\",\"4\")","v":""},{"$f":"IF($M151=\"\",\"\",\"4\")","v":""},{"$f":"IF($N$149=\"\",\"\",\"4\")","v":""},{"$f":"IF($O$149=\"\",\"\",\"1\")","v":""},{"$f":"IF($O$149=\"\",\"\",\"2\")","v":""},{"$f":"IF($O$149=\"\",\"\",\"3\")","v":""},{"$f":"IF($O$149=\"\",\"\",\"4\")","v":""},{"$f":"IF($O$149=\"\",\"\",\"5\")","v":""},{"$f":"IF($O$149=\"\",\"\",\"6\")","v":""},{"$f":"IF($O$149=\"\",\"\",\"7\")","v":""},{"$f":"IF($O$149=\"\",\"\",\"9\")","v":""},{"$f":"IF($O$149=\"\",\"\",\"10\")","v":""},{"$f":"IF($O$149=\"\",\"\",\"11\")","v":""},{"$f":"IF($O$149=\"\",\"\",\"12\")","v":""},{"$f":"IF($O$149=\"\",\"\",\"13\")","v":""},{"$f":"IF($O$149=\"\",\"\",\"14\")","v":""},{"$f":"IF($P$149=\"\",\"\",\"1\")","v":""},{"$f":"IF($P$149=\"\",\"\",\"2\")","v":""},{"$f":"IF($P$149=\"\",\"\",\"3\")","v":""},{"$f":"IF($P$149=\"\",\"\",\"4\")","v":""},{"$f":"IF($P$149=\"\",\"\",\"5\")","v":""},{"$f":"IF($P$149=\"\",\"\",\"6\")","v":""},{"$f":"IF($P$149=\"\",\"\",\"7\")","v":""},{"$f":"IF($P$149=\"\",\"\",\"9\")","v":""},{"$f":"IF($P$149=\"\",\"\",\"10\")","v":""},{"$f":"IF($P$149=\"\",\"\",\"11\")","v":""},{"$f":"IF($P$149=\"\",\"\",\"12\")","v":""},{"$f":"IF($P$149=\"\",\"\",\"13\")","v":""},{"$f":"IF($P$149=\"\",\"\",\"14\")","v":""},{"$f":"IF($Q$149=\"\",\"\",\"1\")","v":""},{"$f":"IF($Q$149=\"\",\"\",\"2\")","v":""},{"$f":"IF($Q$149=\"\",\"\",\"3\")","v":""},{"$f":"IF($Q$149=\"\",\"\",\"4\")","v":""},{"$f":"IF($Q$149=\"\",\"\",\"5\")","v":""},{"$f":"IF($Q$149=\"\",\"\",\"6\")","v":""},{"$f":"IF($Q$149=\"\",\"\",\"7\")","v":""},{"$f":"IF($Q$149=\"\",\"\",\"9\")","v":""},{"$f":"IF($Q$149=\"\",\"\",\"10\")","v":""},{"$f":"IF($Q$149=\"\",\"\",\"11\")","v":""},{"$f":"IF($Q$149=\"\",\"\",\"12\")","v":""},{"$f":"IF($Q$149=\"\",\"\",\"13\")","v":""},{"$f":"IF($Q$149=\"\",\"\",\"14\")","v":""},{"$f":"IF($R$149=\"\",\"\",\"1\")","v":""},{"$f":"IF($R$149=\"\",\"\",\"2\")","v":""},{"$f":"IF($R$149=\"\",\"\",\"3\")","v":""},{"$f":"IF($R$149=\"\",\"\",\"4\")","v":""},{"$f":"IF($R$149=\"\",\"\",\"5\")","v":""},{"$f":"IF($R$149=\"\",\"\",\"6\")","v":""},{"$f":"IF($R$149=\"\",\"\",\"7\")","v":""},{"$f":"IF($R$149=\"\",\"\",\"9\")","v":""},{"$f":"IF($R$149=\"\",\"\",\"10\")","v":""},{"$f":"IF($R$149=\"\",\"\",\"11\")","v":""},{"$f":"IF($R$149=\"\",\"\",\"12\")","v":""},{"$f":"IF($R$149=\"\",\"\",\"13\")","v":""},{"$f":"IF($R$149=\"\",\"\",\"14\")","v":""},{"$f":"IF($S$149=\"\",\"\",\"1\")","v":""},{"$f":"IF($S$149=\"\",\"\",\"2\")","v":""},{"$f":"IF($S$149=\"\",\"\",\"3\")","v":""},{"$f":"IF($S$149=\"\",\"\",\"4\")","v":""},{"$f":"IF($S$149=\"\",\"\",\"5\")","v":""},{"$f":"IF($S$149=\"\",\"\",\"6\")","v":""},{"$f":"IF($S$149=\"\",\"\",\"7\")","v":""},{"$f":"IF($S$149=\"\",\"\",\"9\")","v":""},{"$f":"IF($S$149=\"\",\"\",\"10\")","v":""},{"$f":"IF($S$149=\"\",\"\",\"11\")","v":""},{"$f":"IF($S$149=\"\",\"\",\"12\")","v":""},{"$f":"IF($S$149=\"\",\"\",\"13\")","v":""},{"$f":"IF($S$149=\"\",\"\",\"14\")","v":""},{"$f":"IF($T$149=\"\",\"\",\"2\")","v":""},{"$f":"IF($U$149=\"\",\"\",\"2\")","v":""},{"$f":"IF($V$149=\"\",\"\",\"2\")","v":""},{"$f":"IF($W$149=\"\",\"\",\"2\")","v":""}]
[null,"TST_STRG_FLD_VAL",{"$f":"IF($C$151=\"\",\"\",\" \")","v":""},"","","","","","",{"$f":"IF($C$151=\"\",\"\",IF('Test 1'!I17=\"\",\"\",'Test 1'!I17))","v":""},{"$f":"IF($C$151=\"\",\"\",IF('Test 1'!H13=\"\",\"\",'Test 1'!H13))","v":""},{"$f":"IF($D151=\"\",\"\",\" \")","v":""},{"$f":"IF($D151=\"\",\"\",\" \")","v":""},"","","","","",{"$f":"IF($D151=\"\",\"\",IF('Test 1'!I19=\"\",\"\",'Test 1'!I19))","v":""},{"$f":"IF($D151=\"\",\"\",IF('Test 1'!H13=\"\",\"\",'Test 1'!H13))","v":""},{"$f":"IF($E151=\"\",\"\",\" \")","v":""},{"$f":"IF($E151=\"\",\"\",\" \")","v":""},"","","","","",{"$f":"IF($E151=\"\",\"\",IF('Test 1'!I21=\"\",\"\",'Test 1'!I21))","v":""},{"$f":"IF($E151=\"\",\"\",IF('Test 1'!H13=\"\",\"\",'Test 1'!H13))","v":""},{"$f":"IF($F151=\"\",\"\",\" \")","v":""},{"$f":"IF($F151=\"\",\"\",\" \")","v":""},"","","","",{"$f":"IF($F151=\"\",\"\",IF('Test 1'!I17=\"\",\"\",'Test 1'!I17))","v":""},{"$f":"IF($F151=\"\",\"\",IF('Test 1'!H13=\"\",\"\",'Test 1'!H13))","v":""},{"$f":"IF($G151=\"\",\"\",\" \")","v":""},"","","","",{"$f":"IF($G151=\"\",\"\",\" \")","v":""},{"$f":"IF($G151=\"\",\"\",IF('Test 1'!I19=\"\",\"\",'Test 1'!I19))","v":""},{"$f":"IF($G151=\"\",\"\",IF('Test 1'!H13=\"\",\"\",'Test 1'!H13))","v":""},{"$f":"IF($H151=\"\",\"\",\" \")","v":""},{"$f":"IF($H151=\"\",\"\",\" \")","v":""},{"$f":"IF($H151=\"\",\"\",\" \")","v":""},"","","",{"$f":"IF($H151=\"\",\"\",IF('Test 1'!I21=\"\",\"\",'Test 1'!I21))","v":""},{"$f":"IF($H151=\"\",\"\",IF('Test 1'!H13=\"\",\"\",'Test 1'!H13))","v":""},{"$f":"IF($I151=\"\",\"\",'Test 1'!E44)","v":""},{"$f":"IF($J151=\"\",\"\",'Test 1'!I44)","v":""},{"$f":"IF($K151=\"\",\"\",'Test 1'!M44)","v":""},{"$f":"IF($L151=\"\",\"\",\" \")","v":""},{"$f":"IF($M151=\"\",\"\",\" \")","v":""},{"$f":"IF($N$149=\"\",\"\",\" \")","v":""},{"$f":"IF($O$149=\"\",\"\",\" \")","v":""},{"$f":"IF($O$149=\"\",\"\",\" \")","v":""},{"$f":"IF($O$149=\"\",\"\",\" \")","v":""},"","","","","","","","","","",{"$f":"IF($P$149=\"\",\"\",\" \")","v":""},{"$f":"IF($P$149=\"\",\"\",\" \")","v":""},{"$f":"IF($P$149=\"\",\"\",\" \")","v":""},{"$f":"IF($P$149=\"\",\"\",\" \")","v":""},{"$f":"IF($P$149=\"\",\"\",\" \")","v":""},"","","","","","","","",{"$f":"IF($Q$149=\"\",\"\",\" \")","v":""},{"$f":"IF($Q$149=\"\",\"\",\" \")","v":""},{"$f":"IF($Q$149=\"\",\"\",\" \")","v":""},{"$f":"IF($Q$149=\"\",\"\",\" \")","v":""},{"$f":"IF($Q$149=\"\",\"\",\" \")","v":""},"","","","","","","","",{"$f":"IF($R$149=\"\",\"\",\" \")","v":""},{"$f":"IF($R$149=\"\",\"\",\" \")","v":""},{"$f":"IF($R$149=\"\",\"\",\" \")","v":""},{"$f":"IF($R$149=\"\",\"\",\" \")","v":""},{"$f":"IF($R$149=\"\",\"\",\" \")","v":""},"","","","","","","","",{"$f":"IF($S$149=\"\",\"\",\" \")","v":""},{"$f":"IF($S$149=\"\",\"\",\" \")","v":""},{"$f":"IF($S$149=\"\",\"\",\" \")","v":""},{"$f":"IF($S$149=\"\",\"\",\" \")","v":""},{"$f":"IF($S$149=\"\",\"\",\" \")","v":""},"","","","","","","","",{"$f":"IF($T$149=\"\",\"\",'Test 2'!D37)","v":""},{"$f":"IF($U$149=\"\",\"\",'Test 2'!H37)","v":""},{"$f":"IF($V$149=\"\",\"\",'Test 2'!L37)","v":""},{"$f":"IF($W$149=\"\",\"\",'Test 2'!P37)","v":""}]
[null,"TST_NUMRC_FLD_VAL",{"$f":"IF($C151=\"\",\"\",'Test 1'!$AD25)","v":""},{"$f":"IF($C151=\"\",\"\",'Test 1'!$AD26)","v":""},{"$f":"IF($C151=\"\",\"\",'Test 1'!$AD27)","v":""},{"$f":"IF($C151=\"\",\"\",'Test 1'!$AD28)","v":""},{"$f":"IF($C151=\"\",\"\",'Test 1'!$AD29)","v":""},{"$f":"IF($C151=\"\",\"\",'Test 1'!$F16)","v":""},{"$f":"IF($C151=\"\",\"\",'Test 1'!$J16)","v":""},{"$f":"IF($C151=\"\",\"\",0)","v":""},{"$f":"IF($C151=\"\",\"\",0)","v":""},{"$f":"IF($D151=\"\",\"\",'Test 1'!$AE25)","v":""},{"$f":"IF($D151=\"\",\"\",'Test 1'!$AE26)","v":""},{"$f":"IF($D151=\"\",\"\",'Test 1'!$AE27)","v":""},{"$f":"IF($D151=\"\",\"\",'Test 1'!$AE28)","v":""},{"$f":"IF($D151=\"\",\"\",'Test 1'!$AE29)","v":""},{"$f":"IF($D151=\"\",\"\",'Test 1'!$F18)","v":""},{"$f":"IF($D151=\"\",\"\",'Test 1'!$J18)","v":""},{"$f":"IF($D151=\"\",\"\",0)","v":""},"",{"$f":"IF($E151=\"\",\"\",'Test 1'!$AF25)","v":""},{"$f":"IF($E151=\"\",\"\",'Test 1'!$AF26)","v":""},{"$f":"IF($E151=\"\",\"\",'Test 1'!$AF27)","v":""},{"$f":"IF($E151=\"\",\"\",'Test 1'!$AF28)","v":""},{"$f":"IF($E151=\"\",\"\",'Test 1'!$AF29)","v":""},{"$f":"IF($E151=\"\",\"\",'Test 1'!F20)","v":""},{"$f":"IF($E151=\"\",\"\",'Test 1'!J20)","v":""},{"$f":"IF($E151=\"\",\"\",0)","v":""},"",{"$f":"IF($F151=\"\",\"\",'Test 1'!$AG25)","v":""},{"$f":"IF($F151=\"\",\"\",'Test 1'!$AG26)","v":""},{"$f":"IF($F151=\"\",\"\",'Test 1'!$AG27)","v":""},{"$f":"IF($F151=\"\",\"\",'Test 1'!$AG28)","v":""},{"$f":"IF($F151=\"\",\"\",'Test 1'!$F16)","v":""},{"$f":"IF($F151=\"\",\"\",'Test 1'!$J16)","v":""},{"$f":"IF($F151=\"\",\"\",0)","v":""},"",{"$f":"IF($G151=\"\",\"\",'Test 1'!$AH25)","v":""},{"$f":"IF($G151=\"\",\"\",'Test 1'!$AH26)","v":""},{"$f":"IF($G151=\"\",\"\",'Test 1'!$AH27)","v":""},{"$f":"IF($G151=\"\",\"\",'Test 1'!$AH28)","v":""},{"$f":"IF($G151=\"\",\"\",'Test 1'!F18)","v":""},{"$f":"IF($G151=\"\",\"\",'Test 1'!J18)","v":""},{"$f":"IF($G151=\"\",\"\",0)","v":""},"",{"$f":"IF($H151=\"\",\"\",'Test 1'!$AI25)","v":""},{"$f":"IF($H151=\"\",\"\",'Test 1'!$AI26)","v":""},{"$f":"IF($H151=\"\",\"\",'Test 1'!$AI27)","v":""},{"$f":"IF($H151=\"\",\"\",'Test 1'!$AI28)","v":""},{"$f":"IF($H151=\"\",\"\",'Test 1'!$F20)","v":""},{"$f":"IF($H151=\"\",\"\",'Test 1'!J20)","v":""},{"$f":"IF($H151=\"\",\"\",0)","v":""},"",{"$f":"IF($I151=\"\",\"\",0)","v":""},{"$f":"IF($J151=\"\",\"\",0)","v":""},{"$f":"IF($K151=\"\",\"\",0)","v":""},{"$f":"IF($L151=\"\",\"\",'Test 1'!AD36)","v":""},{"$f":"IF($M151=\"\",\"\",'Test 1'!AE36)","v":""},{"$f":"IF($N$149=\"\",\"\",'Test 1'!AF36)","v":""},{"$f":"IF($O$149=\"\",\"\",'Test 2'!AD17)","v":""},{"$f":"IF($O$149=\"\",\"\",'Test 2'!AD18)","v":""},{"$f":"IF($O$149=\"\",\"\",'Test 2'!AD19)","v":""},{"$f":"IF($O$149=\"\",\"\",'Test 2'!AD20)","v":""},{"$f":"IF($O$149=\"\",\"\",'Test 2'!AD21)","v":""},{"$f":"IF($O$149=\"\",\"\",'Test 2'!AD23)","v":""},{"$f":"IF($O$149=\"\",\"\",'Test 2'!AD24)","v":""},{"$f":"IF($O$149=\"\",\"\",'Test 2'!AD25)","v":""},{"$f":"IF($O$149=\"\",\"\",'Test 2'!AD26)","v":""},{"$f":"IF($O$149=\"\",\"\",'Test 2'!AD27)","v":""},{"$f":"IF($O$149=\"\",\"\",'Test 2'!AD28)","v":""},{"$f":"IF($O$149=\"\",\"\",'Test 2'!AD29)","v":""},{"$f":"IF($O$149=\"\",\"\",'Test 2'!AD30)","v":""},{"$f":"IF($P$149=\"\",\"\",'Test 2'!AE17)","v":""},{"$f":"IF($P$149=\"\",\"\",'Test 2'!AE18)","v":""},{"$f":"IF($P$149=\"\",\"\",'Test 2'!AE19)","v":""},{"$f":"IF($P$149=\"\",\"\",'Test 2'!AE20)","v":""},{"$f":"IF($P$149=\"\",\"\",'Test 2'!AE21)","v":""},{"$f":"IF($P$149=\"\",\"\",'Test 2'!AE23)","v":""},{"$f":"IF($P$149=\"\",\"\",'Test 2'!AE24)","v":""},{"$f":"IF($P$149=\"\",\"\",'Test 2'!AE25)","v":""},{"$f":"IF($P$149=\"\",\"\",'Test 2'!AE26)","v":""},{"$f":"IF($P$149=\"\",\"\",'Test 2'!AE27)","v":""},{"$f":"IF($P$149=\"\",\"\",'Test 2'!AE28)","v":""},{"$f":"IF($P$149=\"\",\"\",'Test 2'!AE29)","v":""},{"$f":"IF($P$149=\"\",\"\",'Test 2'!AE30)","v":""},{"$f":"IF($Q$149=\"\",\"\",'Test 2'!AF17)","v":""},{"$f":"IF($Q$149=\"\",\"\",'Test 2'!AF18)","v":""},{"$f":"IF($Q$149=\"\",\"\",'Test 2'!AF19)","v":""},{"$f":"IF($Q$149=\"\",\"\",'Test 2'!AF20)","v":""},{"$f":"IF($Q$149=\"\",\"\",'Test 2'!AF21)","v":""},{"$f":"IF($Q$149=\"\",\"\",'Test 2'!AF23)","v":""},{"$f":"IF($Q$149=\"\",\"\",'Test 2'!AF24)","v":""},{"$f":"IF($Q$149=\"\",\"\",'Test 2'!AF25)","v":""},{"$f":"IF($Q$149=\"\",\"\",'Test 2'!AF26)","v":""},{"$f":"IF($Q$149=\"\",\"\",'Test 2'!AF27)","v":""},{"$f":"IF($Q$149=\"\",\"\",'Test 2'!AF28)","v":""},{"$f":"IF($Q$149=\"\",\"\",'Test 2'!AF29)","v":""},{"$f":"IF($Q$149=\"\",\"\",'Test 2'!AF30)","v":""},{"$f":"IF($R$149=\"\",\"\",'Test 2'!AG17)","v":""},{"$f":"IF($R$149=\"\",\"\",'Test 2'!AG18)","v":""},{"$f":"IF($R$149=\"\",\"\",'Test 2'!AG19)","v":""},{"$f":"IF($R$149=\"\",\"\",'Test 2'!AG20)","v":""},{"$f":"IF($R$149=\"\",\"\",'Test 2'!AG21)","v":""},{"$f":"IF($R$149=\"\",\"\",'Test 2'!AG23)","v":""},{"$f":"IF($R$149=\"\",\"\",'Test 2'!AG24)","v":""},{"$f":"IF($R$149=\"\",\"\",'Test 2'!AG25)","v":""},{"$f":"IF($R$149=\"\",\"\",'Test 2'!AG26)","v":""},{"$f":"IF($R$149=\"\",\"\",'Test 2'!AG27)","v":""},{"$f":"IF($R$149=\"\",\"\",'Test 2'!AG28)","v":""},{"$f":"IF($R$149=\"\",\"\",'Test 2'!AG29)","v":""},{"$f":"IF($R$149=\"\",\"\",'Test 2'!AG30)","v":""},{"$f":"IF($S$149=\"\",\"\",'Test 2'!AH17)","v":""},{"$f":"IF($S$149=\"\",\"\",'Test 2'!AH18)","v":""},{"$f":"IF($S$149=\"\",\"\",'Test 2'!AH19)","v":""},{"$f":"IF($S$149=\"\",\"\",'Test 2'!AH20)","v":""},{"$f":"IF($S$149=\"\",\"\",'Test 2'!AH21)","v":""},{"$f":"IF($S$149=\"\",\"\",'Test 2'!AH23)","v":""},{"$f":"IF($S$149=\"\",\"\",'Test 2'!AH24)","v":""},{"$f":"IF($S$149=\"\",\"\",'Test 2'!AH25)","v":""},{"$f":"IF($S$149=\"\",\"\",'Test 2'!AH26)","v":""},{"$f":"IF($S$149=\"\",\"\",'Test 2'!AH27)","v":""},{"$f":"IF($S$149=\"\",\"\",'Test 2'!AH28)","v":""},{"$f":"IF($S$149=\"\",\"\",'Test 2'!AH29)","v":""},{"$f":"IF($S$149=\"\",\"\",'Test 2'!AH30)","v":""},{"$f":"IF($T$149=\"\",\"\",0)","v":""},{"$f":"IF($U$149=\"\",\"\",0)","v":""},{"$f":"IF($V$149=\"\",\"\",0)","v":""},{"$f":"IF($W$149=\"\",\"\",0)","v":""}]
[null,"LAST_MODFD_UID",{"$f":"IF($C151=\"\",\"\",$C154)","v":""},{"$f":"IF($C151=\"\",\"\",$C154)","v":""},{"$f":"IF($C151=\"\",\"\",$C154)","v":""},{"$f":"IF($C151=\"\",\"\",$C154)","v":""},"","","","",{"$f":"IF($C151=\"\",\"\",$C154)","v":""},{"$f":"IF($D151=\"\",\"\",$D154)","v":""},"",{"$f":"IF($D151=\"\",\"\",$D154)","v":""},"","","","","",{"$f":"IF($D151=\"\",\"\",$D154)","v":""},{"$f":"IF($E151=\"\",\"\",$E154)","v":""},"","","","","","","",{"$f":"IF($E151=\"\",\"\",$E154)","v":""},{"$f":"IF($F151=\"\",\"\",$F154)","v":""},"","","","","","",{"$f":"IF($F151=\"\",\"\",$F154)","v":""},{"$f":"IF($G151=\"\",\"\",$G154)","v":""},"","","","","","",{"$f":"IF($G151=\"\",\"\",$G154)","v":""},{"$f":"IF($H151=\"\",\"\",$H154)","v":""},"","","","","","",{"$f":"IF($H151=\"\",\"\",$H154)","v":""},{"$f":"IF($I151=\"\",\"\",$I154)","v":""},{"$f":"IF($J151=\"\",\"\",$J154)","v":""},{"$f":"IF($K151=\"\",\"\",$K154)","v":""},{"$f":"IF($L151=\"\",\"\",$L154)","v":""},{"$f":"IF($M151=\"\",\"\",$M154)","v":""},{"$f":"IF($N$149=\"\",\"\",$N$154)","v":""},{"$f":"IF($O$149=\"\",\"\",$O$154)","v":""},{"$f":"IF($O$149=\"\",\"\",$O$154)","v":""},{"$f":"IF($O$149=\"\",\"\",$O$154)","v":""},"","","","","","","","","","",{"$f":"IF($P$149=\"\",\"\",$P$154)","v":""},{"$f":"IF($P$149=\"\",\"\",$P$154)","v":""},{"$f":"IF($P$149=\"\",\"\",$P$154)","v":""},{"$f":"IF($P$149=\"\",\"\",$P$154)","v":""},{"$f":"IF($P$149=\"\",\"\",$P$154)","v":""},"","","","","","","","",{"$f":"IF($Q$149=\"\",\"\",$Q$154)","v":""},{"$f":"IF($Q$149=\"\",\"\",$Q$154)","v":""},{"$f":"IF($Q$149=\"\",\"\",$Q$154)","v":""},{"$f":"IF($Q$149=\"\",\"\",$Q$154)","v":""},{"$f":"IF($Q$149=\"\",\"\",$Q$154)","v":""},"","","","","","","","",{"$f":"IF($R$149=\"\",\"\",$R$154)","v":""},{"$f":"IF($R$149=\"\",\"\",$R$154)","v":""},{"$f":"IF($R$149=\"\",\"\",$R$154)","v":""},{"$f":"IF($R$149=\"\",\"\",$R$154)","v":""},{"$f":"IF($R$149=\"\",\"\",$R$154)","v":""},"","","","","","","","",{"$f":"IF($S$149=\"\",\"\",$S$154)","v":""},{"$f":"IF($S$149=\"\",\"\",$S$154)","v":""},{"$f":"IF($S$149=\"\",\"\",$S$154)","v":""},{"$f":"IF($S$149=\"\",\"\",$S$154)","v":""},{"$f":"IF($S$149=\"\",\"\",$S$154)","v":""},"","","","","","","","",{"$f":"IF($T$149=\"\",\"\",$T$154)","v":""},{"$f":"IF($U$149=\"\",\"\",$U$154)","v":""},{"$f":"IF($V$149=\"\",\"\",$V$154)","v":""},{"$f":"IF($W$149=\"\",\"\",$W$154)","v":""}]
[null,"LAST_MODFD_DT",{"$f":"IF($C151=\"\",\"\",$C155)","v":""},{"$f":"IF($C151=\"\",\"\",$C155)","v":""},{"$f":"IF($C151=\"\",\"\",$C155)","v":""},{"$f":"IF($C151=\"\",\"\",$C155)","v":""},"","","","",{"$f":"IF($C151=\"\",\"\",$C155)","v":""},{"$f":"IF($D151=\"\",\"\",$D155)","v":""},"",{"$f":"IF($D151=\"\",\"\",$D155)","v":""},"","","","","",{"$f":"IF($D151=\"\",\"\",$D155)","v":""},{"$f":"IF($E151=\"\",\"\",$E155)","v":""},"","","","","","","",{"$f":"IF($E151=\"\",\"\",$E155)","v":""},{"$f":"IF($F151=\"\",\"\",$F155)","v":""},"","","","","","",{"$f":"IF($F151=\"\",\"\",$F155)","v":""},{"$f":"IF($G151=\"\",\"\",$G155)","v":""},"","","","","","",{"$f":"IF($G151=\"\",\"\",$G155)","v":""},{"$f":"IF($H151=\"\",\"\",$H155)","v":""},"","","","","","",{"$f":"IF($H151=\"\",\"\",$H155)","v":""},{"$f":"IF($I151=\"\",\"\",$I155)","v":""},{"$f":"IF($J151=\"\",\"\",$J155)","v":""},{"$f":"IF($K151=\"\",\"\",$K155)","v":""},{"$f":"IF($L151=\"\",\"\",$L155)","v":""},{"$f":"IF($M151=\"\",\"\",$M155)","v":""},{"$f":"IF($N$149=\"\",\"\",$N155)","v":""},{"$f":"IF($O$149=\"\",\"\",$O155)","v":""},{"$f":"IF($O$149=\"\",\"\",$O155)","v":""},{"$f":"IF($O$149=\"\",\"\",$O155)","v":""},"","","","","","","","","","",{"$f":"IF($P$149=\"\",\"\",$P155)","v":""},{"$f":"IF($P$149=\"\",\"\",$P155)","v":""},{"$f":"IF($P$149=\"\",\"\",$P155)","v":""},{"$f":"IF($P$149=\"\",\"\",$P155)","v":""},{"$f":"IF($P$149=\"\",\"\",$P155)","v":""},"","","","",{"$f":"IF($P$149=\"\",\"\",$P155)","v":""},"","","",{"$f":"IF($Q$149=\"\",\"\",$Q155)","v":""},{"$f":"IF($Q$149=\"\",\"\",$Q155)","v":""},{"$f":"IF($Q$149=\"\",\"\",$Q155)","v":""},{"$f":"IF($Q$149=\"\",\"\",$Q155)","v":""},{"$f":"IF($Q$149=\"\",\"\",$Q155)","v":""},"","","","","","","","",{"$f":"IF($R$149=\"\",\"\",$R155)","v":""},{"$f":"IF($R$149=\"\",\"\",$R155)","v":""},{"$f":"IF($R$149=\"\",\"\",$R155)","v":""},{"$f":"IF($R$149=\"\",\"\",$R155)","v":""},{"$f":"IF($R$149=\"\",\"\",$R155)","v":""},"","","","","","","","",{"$f":"IF($S$149=\"\",\"\",$S155)","v":""},{"$f":"IF($S$149=\"\",\"\",$S155)","v":""},{"$f":"IF($S$149=\"\",\"\",$S155)","v":""},{"$f":"IF($S$149=\"\",\"\",$S155)","v":""},{"$f":"IF($S$149=\"\",\"\",$S155)","v":""},"","","","","","","","",{"$f":"IF($T$149=\"\",\"\",$T155)","v":""},{"$f":"IF($U$149=\"\",\"\",$U155)","v":""},{"$f":"IF($V$149=\"\",\"\",$V155)","v":""},{"$f":"IF($W$149=\"\",\"\",$W155)","v":""}]
[]
[]
[]
["T_TST RSLTS_HDR","T_TST RSLTS_HDR","T_TST RSLTS_HDR"]
[null,"SMPL_ID",{"$f":"IF(C175=\"5\",$C$3,\"\")","v":""},{"$f":"IF(D175=\"1\",$C$3,\"\")","v":""},{"$f":"IF(E175=\"2\",$C$3,\"\")","v":""},{"$f":"IF(F175=\"3\",$C$3,\"\")","v":""},{"$f":"IF(G175=\"4\",$C$3,\"\")","v":""},{"$f":"IF(H175=\"5\",$C$3,\"\")","v":""},{"$f":"IF(I175=\"1\",$C$3,\"\")","v":""},{"$f":"IF(J175=\"2\",$C$3,\"\")","v":""},{"$f":"IF(K175=\"3\",$C$3,\"\")","v":""},{"$f":"IF(L175=\"4\",$C$3,\"\")","v":""},{"$f":"IF(M175=\"5\",$C$3,\"\")","v":""},{"$f":"IF(N175=\"1\",$C$3,\"\")","v":""},{"$f":"IF(O175=\"2\",$C$3,\"\")","v":""},{"$f":"IF(P175=\"3\",$C$3,\"\")","v":""},{"$f":"IF(Q175=\"4\",$C$3,\"\")","v":""},{"$f":"IF(R175=\"5\",$C$3,\"\")","v":""},{"$f":"IF(S175=\"1\",$C$3,\"\")","v":""},{"$f":"IF(T175=\"2\",$C$3,\"\")","v":""}]
[null,"TST_METH",{"$f":"IF(C175=\"5\",\"SAA008CA\",\"\")","v":""},{"$f":"IF(D175=\"1\",\"SA1000XX\",\"\")","v":""},{"$f":"IF(E175=\"2\",\"SA1000XX\",\"\")","v":""},{"$f":"IF(F175=\"3\",\"SA1000XX\",\"\")","v":""},{"$f":"IF(G175=\"4\",\"SA1000XX\",\"\")","v":""},{"$f":"IF(H175=\"5\",\"SA1000XX\",\"\")","v":""},{"$f":"IF(I175=\"1\",\"SAA005GA\",\"\")","v":""},{"$f":"IF(J175=\"2\",\"SAA005GA\",\"\")","v":""},{"$f":"IF(K175=\"3\",\"SAA005GA\",\"\")","v":""},{"$f":"IF(L175=\"4\",\"SAA005GA\",\"\")","v":""},{"$f":"IF(M175=\"5\",\"SAA005GA\",\"\")","v":""},{"$f":"IF(N175=\"1\",\"SAA005AA\",\"\")","v":""},{"$f":"IF(O175=\"2\",\"SAA005AA\",\"\")","v":""},{"$f":"IF(P175=\"3\",\"SAA005AA\",\"\")","v":""},{"$f":"IF(Q175=\"4\",\"SAA005AA\",\"\")","v":""},{"$f":"IF(R175=\"5\",\"SAA005AA\",\"\")","v":""},{"$f":"IF(S175=\"1\",\"SAA028CA\",\"\")","v":""},{"$f":"IF(T175=\"2\",\"SAA028CA\",\"\")","v":""}]
[null,"SMPL_TST_NBR",{"$f":"IF('Test 2'!AK37=\"Y\",\"5\",\"\")","v":""},{"$f":"IF('Test 2'!AG42=\"Y\",\"1\",\"\")","v":""},{"$f":"IF('Test 2'!AH42=\"Y\",\"2\",\"\")","v":""},{"$f":"IF('Test 2'!AI42=\"Y\",\"3\",\"\")","v":""},{"$f":"IF('Test 2'!AJ42=\"Y\",\"4\",\"\")","v":""},{"$f":"IF('Test 2'!AK42=\"Y\",\"5\",\"\")","v":""},{"$f":"IF('Test 2'!AG40=\"Y\",\"1\",\"\")","v":""},{"$f":"IF('Test 2'!AH40=\"Y\",\"2\",\"\")","v":""},{"$f":"IF('Test 2'!AI40=\"Y\",\"3\",\"\")","v":""},{"$f":"IF('Test 2'!AJ40=\"Y\",\"4\",\"\")","v":""},{"$f":"IF('Test 2'!AK40=\"Y\",\"5\",\"\")","v":""},{"$f":"IF('Test 2'!AG55=\"Y\",\"1\",\"\")","v":""},{"$f":"IF('Test 2'!AH55=\"Y\",\"2\",\"\")","v":""},{"$f":"IF('Test 2'!AI55=\"Y\",\"3\",\"\")","v":""},{"$f":"IF('Test 2'!AJ55=\"Y\",\"4\",\"\")","v":""},{"$f":"IF('Test 2'!AK55=\"Y\",\"5\",\"\")","v":""},{"$f":"IF('Test 3'!AH9=\"Y\",\"1\",\"\")","v":""},{"$f":"IF('Test 3'!AI9=\"Y\",\"2\",\"\")","v":""}]
[null,"RMRKS_ID"]
[null,"EFFDT"]
[null,"LAST_MODFD_UID",{"$f":"IF(C175=\"5\",$C4,\"\")","v":""},{"$f":"IF(D175=\"1\",$C4,\"\")","v":""},{"$f":"IF(E175=\"2\",$C4,\"\")","v":""},{"$f":"IF(F175=\"3\",$C4,\"\")","v":""},{"$f":"IF(G175=\"4\",$C4,\"\")","v":""},{"$f":"IF(H175=\"5\",$C4,\"\")","v":""},{"$f":"IF(I175=\"1\",$C4,\"\")","v":""},{"$f":"IF(J175=\"2\",$C4,\"\")","v":""},{"$f":"IF(K175=\"3\",$C4,\"\")","v":""},{"$f":"IF(L175=\"4\",$C4,\"\")","v":""},{"$f":"IF(M175=\"5\",$C4,\"\")","v":""},{"$f":"IF(N175=\"1\",$C4,\"\")","v":""},{"$f":"IF(O175=\"2\",$C4,\"\")","v":""},{"$f":"IF(P175=\"3\",$C4,\"\")","v":""},{"$f":"IF(Q175=\"4\",$C4,\"\")","v":""},{"$f":"IF(R175=\"5\",$C4,\"\")","v":""},{"$f":"IF(S175=\"1\",$C4,\"\")","v":""},{"$f":"IF(T175=\"2\",$C4,\"\")","v":""}]
[null,"LAST_MODFD_DT",{"$f":"IF(C175=\"\",\"\",TEXT(TODAY(),\"YYYYMMDD\"))","v":""},{"$f":"IF(D175=\"\",\"\",TEXT(TODAY(),\"YYYYMMDD\"))","v":""},{"$f":"IF(E175=\"\",\"\",TEXT(TODAY(),\"YYYYMMDD\"))","v":""},"","","",{"$f":"IF(I175=\"\",\"\",TEXT(TODAY(),\"YYYYMMDD\"))","v":""},"","","","",{"$f":"IF(N175=\"\",\"\",TEXT(TODAY(),\"YYYYMMDD\"))","v":""},{"$f":"IF(O175=\"\",\"\",TEXT(TODAY(),\"YYYYMMDD\"))","v":""},"","","",{"$f":"IF(S175=\"\",\"\",TEXT(TODAY(),\"YYYYMMDD\"))","v":""},""]
[]
[]
["TST_RSLT_DTL","TST_RSLT_DTL","TST_RSLT_DTL"]
[null,"SMPL_ID",{"$f":"IF($C$173=\"\",\"\",$C3)","v":""},{"$f":"IF($D$173=\"\",\"\",$C3)","v":""},"","","","","","","","","","","",{"$f":"IF($E$173=\"\",\"\",$C3)","v":""},"","","","","","","","","","","",{"$f":"IF($F$173=\"\",\"\",$C3)","v":""},"","","","","","","","","","","",{"$f":"IF($G$173=\"\",\"\",$C3)","v":""},"","","","","","","","","","","",{"$f":"IF($H$173=\"\",\"\",$C3)","v":""},"","","","","","","","","","","",{"$f":"IF($I$175=\"\",\"\",$C3)","v":""},{"$f":"IF($J$175=\"\",\"\",$C3)","v":""},{"$f":"IF($K$175=\"\",\"\",$C3)","v":""},{"$f":"IF($L$175=\"\",\"\",$C3)","v":""},{"$f":"IF($M$173=\"\",\"\",$C3)","v":""},{"$f":"IF($N$175=\"\",\"\",$C3)","v":""},{"$f":"IF($N$175=\"\",\"\",$C3)","v":""},{"$f":"IF($O$175=\"\",\"\",$C3)","v":""},{"$f":"IF($O$175=\"\",\"\",$C3)","v":""},{"$f":"IF($P$175=\"\",\"\",$C3)","v":""},{"$f":"IF($P$175=\"\",\"\",$C3)","v":""},{"$f":"IF($Q$175=\"\",\"\",$C3)","v":""},{"$f":"IF($Q$175=\"\",\"\",$C3)","v":""},{"$f":"IF($R$175=\"\",\"\",$C3)","v":""},{"$f":"IF($R$175=\"\",\"\",$C3)","v":""},{"$f":"IF($S175=\"\",\"\",$S173)","v":""},"","","","","","","","","","","","","","","",{"$f":"IF($T175=\"\",\"\",$T173)","v":""},{"$f":"IF($T175=\"\",\"\",$T173)","v":""},"","","","","","","","","","","","","",""]
[null,"TST_METH",{"$f":"IF($C$173=\"\",\"\",$C174)","v":""},{"$f":"IF($D$173=\"\",\"\",$D174)","v":""},"","","","","","","","","","","",{"$f":"IF($E$173=\"\",\"\",$E174)","v":""},"","","","","","","","","","","",{"$f":"IF($F$173=\"\",\"\",$F174)","v":""},"","","","","","","","","","","",{"$f":"IF($G$173=\"\",\"\",$G174)","v":""},"","","","","","","","","","","",{"$f":"IF($H$173=\"\",\"\",$H174)","v":""},"","","","","","","","","","","",{"$f":"IF($I$175=\"\",\"\",$I174)","v":""},{"$f":"IF($J$175=\"\",\"\",$J174)","v":""},{"$f":"IF($K$175=\"\",\"\",$K174)","v":""},{"$f":"IF($L$175=\"\",\"\",$L174)","v":""},{"$f":"IF($M$175=\"\",\"\",$M174)","v":""},{"$f":"IF($N$175=\"\",\"\",$N174)","v":""},{"$f":"IF($N$175=\"\",\"\",$N174)","v":""},{"$f":"IF($O$175=\"\",\"\",$O174)","v":""},{"$f":"IF($O$175=\"\",\"\",$O174)","v":""},{"$f":"IF($P$175=\"\",\"\",$P174)","v":""},{"$f":"IF($P$175=\"\",\"\",$P174)","v":""},{"$f":"IF($Q$175=\"\",\"\",$Q174)","v":""},{"$f":"IF($Q$175=\"\",\"\",$Q174)","v":""},{"$f":"IF($R$175=\"\",\"\",$R174)","v":""},{"$f":"IF($R$175=\"\",\"\",$R174)","v":""},{"$f":"IF($S175=\"\",\"\",$S174)","v":""},"","","","","","","","","","","","","","","",{"$f":"IF($T175=\"\",\"\",$T174)","v":""},{"$f":"IF($T175=\"\",\"\",$T174)","v":""},"","","","","","","","","","","","","",""]
[null,"SMPL_TST_NBR",{"$f":"IF($C$173=\"\",\"\",$C175)","v":""},{"$f":"IF($D$173=\"\",\"\",$D175)","v":""},"","","","","","","","","","","",{"$f":"IF($E$173=\"\",\"\",$E175)","v":""},"","","","","","","","","","","",{"$f":"IF($F$173=\"\",\"\",$F175)","v":""},"","","","","","","","","","","",{"$f":"IF($G$173=\"\",\"\",$G175)","v":""},"","","","","","","","","","","",{"$f":"IF($H$173=\"\",\"\",$H175)","v":""},"","","","","","","","","","","",{"$f":"IF($I$175=\"\",\"\",$I175)","v":""},{"$f":"IF($J$175=\"\",\"\",$J175)","v":""},{"$f":"IF($K$175=\"\",\"\",$K175)","v":""},{"$f":"IF($L$175=\"\",\"\",$L175)","v":""},{"$f":"IF($M$175=\"\",\"\",$M175)","v":""},{"$f":"IF($N$175=\"\",\"\",$N175)","v":""},{"$f":"IF($N$175=\"\",\"\",$N175)","v":""},{"$f":"IF($O$175=\"\",\"\",$O175)","v":""},{"$f":"IF($O$175=\"\",\"\",$O175)","v":""},{"$f":"IF($P$175=\"\",\"\",$P175)","v":""},{"$f":"IF($P$175=\"\",\"\",$P175)","v":""},{"$f":"IF($Q$175=\"\",\"\",$Q175)","v":""},{"$f":"IF($Q$175=\"\",\"\",$Q175)","v":""},{"$f":"IF($R$175=\"\",\"\",$R175)","v":""},{"$f":"IF($R$175=\"\",\"\",$R175)","v":""},{"$f":"IF($S175=\"\",\"\",$S175)","v":""},{"$f":"IF($S175=\"\",\"\",$S175)","v":""},{"$f":"IF($S175=\"\",\"\",$S175)","v":""},"","","","","","","","","","",{"$f":"IF($S175=\"\",\"\",$S175)","v":""},{"$f":"IF($S175=\"\",\"\",$S175)","v":""},{"$f":"IF($S175=\"\",\"\",$S175)","v":""},{"$f":"IF($T175=\"\",\"\",$T175)","v":""},{"$f":"IF($T175=\"\",\"\",$T175)","v":""},{"$f":"IF($T175=\"\",\"\",$T175)","v":""},"","","","","","","","","","","","",""]
[null,"TST_FLD_SN",{"$f":"IF($C$173=\"\",\"\",\"2\")","v":""},{"$f":"IF($D$173=\"\",\"\",\"1\")","v":""},{"$f":"IF($D$173=\"\",\"\",\"3\")","v":""},{"$f":"IF($D$173=\"\",\"\",\"5\")","v":""},{"$f":"IF($D$173=\"\",\"\",\"8\")","v":""},{"$f":"IF($D$173=\"\",\"\",\"9\")","v":""},{"$f":"IF($D$173=\"\",\"\",\"10\")","v":""},{"$f":"IF($D$173=\"\",\"\",\"11\")","v":""},{"$f":"IF($D$173=\"\",\"\",\"12\")","v":""},{"$f":"IF($D$173=\"\",\"\",\"13\")","v":""},{"$f":"IF($D$173=\"\",\"\",\"14\")","v":""},{"$f":"IF($D$173=\"\",\"\",\"15\")","v":""},{"$f":"IF($D$173=\"\",\"\",\"16\")","v":""},{"$f":"IF($E$173=\"\",\"\",\"1\")","v":""},{"$f":"IF($E$173=\"\",\"\",\"3\")","v":""},{"$f":"IF($E$173=\"\",\"\",\"5\")","v":""},{"$f":"IF($E$173=\"\",\"\",\"8\")","v":""},{"$f":"IF($E$173=\"\",\"\",\"9\")","v":""},{"$f":"IF($E$173=\"\",\"\",\"10\")","v":""},{"$f":"IF($E$173=\"\",\"\",\"11\")","v":""},{"$f":"IF($E$173=\"\",\"\",\"12\")","v":""},{"$f":"IF($E$173=\"\",\"\",\"13\")","v":""},{"$f":"IF($E$173=\"\",\"\",\"14\")","v":""},{"$f":"IF($E$173=\"\",\"\",\"15\")","v":""},{"$f":"IF($E$173=\"\",\"\",\"16\")","v":""},{"$f":"IF($F$173=\"\",\"\",\"1\")","v":""},{"$f":"IF($F$173=\"\",\"\",\"3\")","v":""},{"$f":"IF($F$173=\"\",\"\",\"5\")","v":""},{"$f":"IF($F$173=\"\",\"\",\"8\")","v":""},{"$f":"IF($F$173=\"\",\"\",\"9\")","v":""},{"$f":"IF($F$173=\"\",\"\",\"10\")","v":""},{"$f":"IF($F$173=\"\",\"\",\"11\")","v":""},{"$f":"IF($F$173=\"\",\"\",\"12\")","v":""},{"$f":"IF($F$173=\"\",\"\",\"13\")","v":""},{"$f":"IF($F$173=\"\",\"\",\"14\")","v":""},{"$f":"IF($F$173=\"\",\"\",\"15\")","v":""},{"$f":"IF($F$173=\"\",\"\",\"16\")","v":""},{"$f":"IF($G$173=\"\",\"\",\"1\")","v":""},{"$f":"IF($G$173=\"\",\"\",\"3\")","v":""},{"$f":"IF($G$173=\"\",\"\",\"5\")","v":""},{"$f":"IF($G$173=\"\",\"\",\"8\")","v":""},{"$f":"IF($G$173=\"\",\"\",\"9\")","v":""},{"$f":"IF($G$173=\"\",\"\",\"10\")","v":""},{"$f":"IF($G$173=\"\",\"\",\"11\")","v":""},{"$f":"IF($G$173=\"\",\"\",\"12\")","v":""},{"$f":"IF($G$173=\"\",\"\",\"13\")","v":""},{"$f":"IF($G$173=\"\",\"\",\"14\")","v":""},{"$f":"IF($G$173=\"\",\"\",\"15\")","v":""},{"$f":"IF($G$173=\"\",\"\",\"16\")","v":""},{"$f":"IF($H$173=\"\",\"\",\"1\")","v":""},{"$f":"IF($H$173=\"\",\"\",\"3\")","v":""},{"$f":"IF($H$173=\"\",\"\",\"5\")","v":""},{"$f":"IF($H$173=\"\",\"\",\"8\")","v":""},{"$f":"IF($H$173=\"\",\"\",\"9\")","v":""},{"$f":"IF($H$173=\"\",\"\",\"10\")","v":""},{"$f":"IF($H$173=\"\",\"\",\"11\")","v":""},{"$f":"IF($H$173=\"\",\"\",\"12\")","v":""},{"$f":"IF($H$173=\"\",\"\",\"13\")","v":""},{"$f":"IF($H$173=\"\",\"\",\"14\")","v":""},{"$f":"IF($H$173=\"\",\"\",\"15\")","v":""},{"$f":"IF($H$173=\"\",\"\",\"16\")","v":""},{"$f":"IF($I$175=\"\",\"\",\"4\")","v":""},{"$f":"IF($J$175=\"\",\"\",\"4\")","v":""},{"$f":"IF($K$175=\"\",\"\",\"4\")","v":""},{"$f":"IF($L$175=\"\",\"\",\"4\")","v":""},{"$f":"IF($M$175=\"\",\"\",\"4\")","v":""},{"$f":"IF($N$175=\"\",\"\",\"1\")","v":""},{"$f":"IF($N$175=\"\",\"\",\"2\")","v":""},{"$f":"IF($O$175=\"\",\"\",\"1\")","v":""},{"$f":"IF($O$175=\"\",\"\",\"2\")","v":""},{"$f":"IF($P$175=\"\",\"\",\"1\")","v":""},{"$f":"IF($P$175=\"\",\"\",\"2\")","v":""},{"$f":"IF($Q$175=\"\",\"\",\"1\")","v":""},{"$f":"IF($Q$175=\"\",\"\",\"2\")","v":""},{"$f":"IF($R$175=\"\",\"\",\"1\")","v":""},{"$f":"IF($R$175=\"\",\"\",\"2\")","v":""},{"$f":"IF($S175=\"\",\"\",\"1\")","v":""},{"$f":"IF($S175=\"\",\"\",\"2\")","v":""},{"$f":"IF($S175=\"\",\"\",\"4\")","v":""},{"$f":"IF($S175=\"\",\"\",\"7\")","v":""},{"$f":"IF($S175=\"\",\"\",\"10\")","v":""},{"$f":"IF($S175=\"\",\"\",\"13\")","v":""},{"$f":"IF($S175=\"\",\"\",\"16\")","v":""},{"$f":"IF($S175=\"\",\"\",\"19\")","v":""},{"$f":"IF($S175=\"\",\"\",\"22\")","v":""},{"$f":"IF($S175=\"\",\"\",\"25\")","v":""},{"$f":"IF($S175=\"\",\"\",\"31\")","v":""},{"$f":"IF($S175=\"\",\"\",\"34\")","v":""},{"$f":"IF($S175=\"\",\"\",\"37\")","v":""},{"$f":"IF($S175=\"\",\"\",\"40\")","v":""},{"$f":"IF($S175=\"\",\"\",\"43\")","v":""},{"$f":"IF($S175=\"\",\"\",\"61\")","v":""},{"$f":"IF($T175=\"\",\"\",\"1\")","v":""},{"$f":"IF($T175=\"\",\"\",\"2\")","v":""},{"$f":"IF($T175=\"\",\"\",\"4\")","v":""},{"$f":"IF($T175=\"\",\"\",\"7\")","v":""},{"$f":"IF($T175=\"\",\"\",\"10\")","v":""},{"$f":"IF($T175=\"\",\"\",\"13\")","v":""},{"$f":"IF($T175=\"\",\"\",\"16\")","v":""},{"$f":"IF($T175=\"\",\"\",\"19\")","v":""},{"$f":"IF($T175=\"\",\"\",\"22\")","v":""},{"$f":"IF($T175=\"\",\"\",\"25\")","v":""},{"$f":"IF($T175=\"\",\"\",\"31\")","v":""},{"$f":"IF($T175=\"\",\"\",\"34\")","v":""},{"$f":"IF($T175=\"\",\"\",\"37\")","v":""},{"$f":"IF($T175=\"\",\"\",\"40\")","v":""},{"$f":"IF($T175=\"\",\"\",\"43\")","v":""},{"$f":"IF($T175=\"\",\"\",\"61\")","v":""}]
[null,"TST_STRG_FLD_VAL",{"$f":"IF($C$173=\"\",\"\",'Test 2'!T37)","v":""},{"$f":"IF($D$173=\"\",\"\",\" \")","v":""},"","","","","","","","","","","",{"$f":"IF($E$173=\"\",\"\",\" \")","v":""},"","","","","","","","","","","",{"$f":"IF($F$173=\"\",\"\",\" \")","v":""},"","","","","","","","","","","",{"$f":"IF($G$173=\"\",\"\",\" \")","v":""},"","","","","","","","","","","",{"$f":"IF($H$173=\"\",\"\",\" \")","v":""},"","","","","","","","","","","",{"$f":"IF($I$175=\"\",\"\",\" \")","v":""},{"$f":"IF($J$175=\"\",\"\",\" \")","v":""},{"$f":"IF($K$175=\"\",\"\",\" \")","v":""},{"$f":"IF($L$175=\"\",\"\",\" \")","v":""},{"$f":"IF($M$175=\"\",\"\",\" \")","v":""},{"$f":"IF($N$175=\"\",\"\",\" \")","v":""},{"$f":"IF($N$175=\"\",\"\",\" \")","v":""},{"$f":"IF($O$175=\"\",\"\",\" \")","v":""},{"$f":"IF($O$175=\"\",\"\",\" \")","v":""},{"$f":"IF($P$175=\"\",\"\",\" \")","v":""},{"$f":"IF($P$175=\"\",\"\",\" \")","v":""},{"$f":"IF($Q$175=\"\",\"\",\" \")","v":""},{"$f":"IF($Q$175=\"\",\"\",\" \")","v":""},{"$f":"IF($R$175=\"\",\"\",\" \")","v":""},{"$f":"IF($R$175=\"\",\"\",\" \")","v":""},{"$f":"IF($S$175=\"\",\"\",\" \")","v":""},"","","","","","","","","","","","","","","",{"$f":"IF($T$175=\"\",\"\",\" \")","v":""},{"$f":"IF($T$175=\"\",\"\",\" \")","v":""},"","","","","","","","","","","","","",""]
[null,"TST_NUMRC_FLD_VAL",{"$f":"IF($C$173=\"\",\"\",0)","v":""},{"$f":"IF($D$173=\"\",\"\",'Test 2'!AD46)","v":""},{"$f":"IF($D$173=\"\",\"\",'Test 2'!AD44)","v":""},{"$f":"IF($D$173=\"\",\"\",'Test 2'!AD48)","v":""},{"$f":"IF($D$173=\"\",\"\",'Test 2'!AD47)","v":""},{"$f":"IF($D$173=\"\",\"\",'Test 2'!AD45)","v":""},{"$f":"IF($D$173=\"\",\"\",'Test 2'!D50)","v":""},{"$f":"IF($D$173=\"\",\"\",'Test 2'!AD66)","v":""},{"$f":"IF($D$173=\"\",\"\",'Test 2'!AD67)","v":""},{"$f":"IF($D$173=\"\",\"\",'Test 2'!AD68)","v":""},{"$f":"IF($D$173=\"\",\"\",'Test 2'!AD69)","v":""},{"$f":"IF($D$173=\"\",\"\",'Test 2'!AD70)","v":""},{"$f":"IF($D$173=\"\",\"\",'Test 2'!AD71)","v":""},{"$f":"IF($E$173=\"\",\"\",'Test 2'!AE46)","v":""},{"$f":"IF($E$173=\"\",\"\",'Test 2'!AE44)","v":""},{"$f":"IF($E$173=\"\",\"\",'Test 2'!AE48)","v":""},{"$f":"IF($E$173=\"\",\"\",'Test 2'!AE47)","v":""},{"$f":"IF($E$173=\"\",\"\",'Test 2'!AE45)","v":""},{"$f":"IF($E$173=\"\",\"\",'Test 2'!H50)","v":""},{"$f":"IF($E$173=\"\",\"\",'Test 2'!AE66)","v":""},{"$f":"IF($E$173=\"\",\"\",'Test 2'!AE67)","v":""},{"$f":"IF($E$173=\"\",\"\",'Test 2'!AE68)","v":""},{"$f":"IF($E$173=\"\",\"\",'Test 2'!AE69)","v":""},{"$f":"IF($E$173=\"\",\"\",'Test 2'!AE70)","v":""},{"$f":"IF($E$173=\"\",\"\",'Test 2'!AE71)","v":""},{"$f":"IF($F$173=\"\",\"\",'Test 2'!AF46)","v":""},{"$f":"IF($F$173=\"\",\"\",'Test 2'!AF44)","v":""},{"$f":"IF($F$173=\"\",\"\",'Test 2'!AF48)","v":""},{"$f":"IF($F$173=\"\",\"\",'Test 2'!AF47)","v":""},{"$f":"IF($F$173=\"\",\"\",'Test 2'!AF45)","v":""},{"$f":"IF($F$173=\"\",\"\",'Test 2'!L50)","v":""},{"$f":"IF($F$173=\"\",\"\",'Test 2'!#REF!)","v":""},{"$f":"IF($F$173=\"\",\"\",'Test 2'!#REF!)","v":""},{"$f":"IF($F$173=\"\",\"\",'Test 2'!#REF!)","v":""},{"$f":"IF($F$173=\"\",\"\",'Test 2'!#REF!)","v":""},{"$f":"IF($F$173=\"\",\"\",'Test 2'!#REF!)","v":""},{"$f":"IF($F$173=\"\",\"\",'Test 2'!#REF!)","v":""},{"$f":"IF($G$173=\"\",\"\",'Test 2'!AG46)","v":""},{"$f":"IF($G$173=\"\",\"\",'Test 2'!AG44)","v":""},{"$f":"IF($G$173=\"\",\"\",'Test 2'!AG48)","v":""},{"$f":"IF($G$173=\"\",\"\",'Test 2'!AG47)","v":""},{"$f":"IF($G$173=\"\",\"\",'Test 2'!AG45)","v":""},{"$f":"IF($G$173=\"\",\"\",'Test 2'!P50)","v":""},{"$f":"IF($G$173=\"\",\"\",'Test 2'!#REF!)","v":""},{"$f":"IF($G$173=\"\",\"\",'Test 2'!#REF!)","v":""},{"$f":"IF($G$173=\"\",\"\",'Test 2'!#REF!)","v":""},{"$f":"IF($G$173=\"\",\"\",'Test 2'!#REF!)","v":""},{"$f":"IF($G$173=\"\",\"\",'Test 2'!#REF!)","v":""},{"$f":"IF($G$173=\"\",\"\",'Test 2'!#REF!)","v":""},{"$f":"IF($H$173=\"\",\"\",'Test 2'!AH46)","v":""},{"$f":"IF($H$173=\"\",\"\",'Test 2'!AH44)","v":""},{"$f":"IF($H$173=\"\",\"\",'Test 2'!AH48)","v":""},{"$f":"IF($H$173=\"\",\"\",'Test 2'!AH47)","v":""},{"$f":"IF($H$173=\"\",\"\",'Test 2'!AH45)","v":""},{"$f":"IF($H$173=\"\",\"\",'Test 2'!T50)","v":""},{"$f":"IF($H$173=\"\",\"\",'Test 2'!#REF!)","v":""},{"$f":"IF($H$173=\"\",\"\",'Test 2'!#REF!)","v":""},{"$f":"IF($H$173=\"\",\"\",'Test 2'!#REF!)","v":""},{"$f":"IF($H$173=\"\",\"\",'Test 2'!#REF!)","v":""},{"$f":"IF($H$173=\"\",\"\",'Test 2'!#REF!)","v":""},{"$f":"IF($H$173=\"\",\"\",'Test 2'!#REF!)","v":""},{"$f":"IF($I$175=\"\",\"\",'Test 2'!AD49)","v":""},{"$f":"IF($J$175=\"\",\"\",'Test 2'!AE49)","v":""},{"$f":"IF($K$175=\"\",\"\",'Test 2'!AF49)","v":""},{"$f":"IF($L$175=\"\",\"\",'Test 2'!AG49)","v":""},{"$f":"IF($M$175=\"\",\"\",'Test 2'!AH49)","v":""},{"$f":"IF($N$175=\"\",\"\",'Test 2'!AD57)","v":""},{"$f":"IF($N$175=\"\",\"\",'Test 2'!AD58)","v":""},{"$f":"IF($O$175=\"\",\"\",'Test 2'!AE57)","v":""},{"$f":"IF($O$175=\"\",\"\",'Test 2'!AE58)","v":""},{"$f":"IF($P$175=\"\",\"\",'Test 2'!AF57)","v":""},{"$f":"IF($P$175=\"\",\"\",'Test 2'!AF58)","v":""},{"$f":"IF($Q$175=\"\",\"\",'Test 2'!AG57)","v":""},{"$f":"IF($Q$175=\"\",\"\",'Test 2'!AG58)","v":""},{"$f":"IF($R$175=\"\",\"\",'Test 2'!AH57)","v":""},{"$f":"IF($R$175=\"\",\"\",'Test 2'!AH58)","v":""},{"$f":"IF($S175=\"\",\"\",'Test 3'!$AE13)","v":""},{"$f":"IF($S175=\"\",\"\",'Test 3'!$AE12)","v":""},{"$f":"IF($S175=\"\",\"\",'Test 3'!$AE14)","v":""},{"$f":"IF($S175=\"\",\"\",'Test 3'!$AE15)","v":""},{"$f":"IF($S175=\"\",\"\",'Test 3'!$AE16)","v":""},{"$f":"IF($S175=\"\",\"\",'Test 3'!$AE17)","v":""},{"$f":"IF($S175=\"\",\"\",'Test 3'!$AE18)","v":""},{"$f":"IF($S175=\"\",\"\",'Test 3'!$AE19)","v":""},{"$f":"IF($S175=\"\",\"\",'Test 3'!$AE20)","v":""},{"$f":"IF($S175=\"\",\"\",'Test 3'!$AE21)","v":""},{"$f":"IF($S175=\"\",\"\",'Test 3'!$AE22)","v":""},{"$f":"IF($S175=\"\",\"\",'Test 3'!$AE23)","v":""},{"$f":"IF($S175=\"\",\"\",'Test 3'!$AE24)","v":""},{"$f":"IF($S175=\"\",\"\",'Test 3'!$AE25)","v":""},{"$f":"IF($S175=\"\",\"\",'Test 3'!$AE26)","v":""},{"$f":"IF($S175=\"\",\"\",'Test 3'!AH12)","v":""},{"$f":"IF($T175=\"\",\"\",'Test 3'!$AF13)","v":""},{"$f":"IF($T175=\"\",\"\",'Test 3'!$AF12)","v":""},{"$f":"IF($T175=\"\",\"\",'Test 3'!$AF14)","v":""},{"$f":"IF($T175=\"\",\"\",'Test 3'!$AF15)","v":""},{"$f":"IF($T175=\"\",\"\",'Test 3'!$AF16)","v":""},{"$f":"IF($T175=\"\",\"\",'Test 3'!$AF17)","v":""},{"$f":"IF($T175=\"\",\"\",'Test 3'!$AF18)","v":""},{"$f":"IF($T175=\"\",\"\",'Test 3'!$AF19)","v":""},{"$f":"IF($T175=\"\",\"\",'Test 3'!$AF20)","v":""},{"$f":"IF($T175=\"\",\"\",'Test 3'!$AF21)","v":""},{"$f":"IF($T175=\"\",\"\",'Test 3'!$AF22)","v":""},{"$f":"IF($T175=\"\",\"\",'Test 3'!$AF23)","v":""},{"$f":"IF($T175=\"\",\"\",'Test 3'!$AF24)","v":""},{"$f":"IF($T175=\"\",\"\",'Test 3'!$AF25)","v":""},{"$f":"IF($T175=\"\",\"\",'Test 3'!$AF26)","v":""},{"$f":"IF($T175=\"\",\"\",'Test 3'!$AI12)","v":""}]
[null,"LAST_MODFD_UID",{"$f":"IF($C$173=\"\",\"\",$C$178)","v":""},{"$f":"IF($D$173=\"\",\"\",$D$178)","v":""},"","","","","","","","","","","",{"$f":"IF($E$173=\"\",\"\",$E$178)","v":""},"","","","","","","","","","","",{"$f":"IF($F$173=\"\",\"\",$F$178)","v":""},"","","","","","","","","","","",{"$f":"IF($G$173=\"\",\"\",$G$178)","v":""},"","","","","","","","","","","",{"$f":"IF($H$173=\"\",\"\",$H$178)","v":""},"","","","","","","","","","","",{"$f":"IF($I$175=\"\",\"\",$I$178)","v":""},{"$f":"IF($J$175=\"\",\"\",$J$178)","v":""},{"$f":"IF($K$175=\"\",\"\",$K$178)","v":""},{"$f":"IF($L$175=\"\",\"\",$L$178)","v":""},{"$f":"IF($M$175=\"\",\"\",$M$178)","v":""},{"$f":"IF($N$175=\"\",\"\",$N$178)","v":""},{"$f":"IF($N$175=\"\",\"\",$N$178)","v":""},{"$f":"IF($O$175=\"\",\"\",$O$178)","v":""},{"$f":"IF($O$175=\"\",\"\",$O$178)","v":""},{"$f":"IF($P$175=\"\",\"\",$P$178)","v":""},{"$f":"IF($P$175=\"\",\"\",$P$178)","v":""},{"$f":"IF($Q$175=\"\",\"\",$Q$178)","v":""},{"$f":"IF($Q$175=\"\",\"\",$Q$178)","v":""},{"$f":"IF($R$175=\"\",\"\",$R$178)","v":""},{"$f":"IF($R$175=\"\",\"\",$R$178)","v":""},{"$f":"IF($S175=\"\",\"\",$S178)","v":""},"","","","","","","","","","","","","","","",{"$f":"IF($T175=\"\",\"\",$T178)","v":""},{"$f":"IF($T175=\"\",\"\",$T178)","v":""},"","","","","","","","","","","","","",""]
[null,"LAST_MODFD_DT",{"$f":"IF($C$173=\"\",\"\",$C179)","v":""},{"$f":"IF($D$173=\"\",\"\",$D179)","v":""},"","","","","","","","","","","",{"$f":"IF($E$173=\"\",\"\",$E179)","v":""},"","","","","","","","","","","",{"$f":"IF($F$173=\"\",\"\",$F179)","v":""},"","","","","","","","","","","",{"$f":"IF($G$173=\"\",\"\",$G179)","v":""},"","","","","","","","","","","",{"$f":"IF($H$173=\"\",\"\",$H179)","v":""},"","","","","","","","","","","",{"$f":"IF($I$175=\"\",\"\",$I179)","v":""},{"$f":"IF($J$175=\"\",\"\",$J179)","v":""},{"$f":"IF($K$175=\"\",\"\",$K179)","v":""},{"$f":"IF($L$175=\"\",\"\",$L179)","v":""},{"$f":"IF($M$175=\"\",\"\",$M179)","v":""},{"$f":"IF($N$175=\"\",\"\",$N179)","v":""},{"$f":"IF($N$175=\"\",\"\",$N179)","v":""},{"$f":"IF($O$175=\"\",\"\",$O179)","v":""},{"$f":"IF($O$175=\"\",\"\",$O179)","v":""},{"$f":"IF($P$175=\"\",\"\",$P179)","v":""},{"$f":"IF($P$175=\"\",\"\",$P179)","v":""},{"$f":"IF($Q$175=\"\",\"\",$Q179)","v":""},{"$f":"IF($Q$175=\"\",\"\",$Q179)","v":""},{"$f":"IF($R$175=\"\",\"\",$R179)","v":""},{"$f":"IF($R$175=\"\",\"\",$R179)","v":""},{"$f":"IF($S175=\"\",\"\",$S179)","v":""},"","","","","","","","","","","","","","","",{"$f":"IF($T175=\"\",\"\",$T179)","v":""},{"$f":"IF($T175=\"\",\"\",$T179)","v":""},"","","","","","","","","","","","","",""]
[]
[]
[]
["T_VEND","T_VEND",{"$f":"B194","v":"T_VEND"}]
[null,"VEND_FULL_NM",{"$f":"Main!U10","v":0}]
[null,"VNTYP3",{"$f":"'Send Sync'!L19:L19","v":0}]
[null,"VNIND8",{"$f":"\"Y\"","v":"Y"}]

{"sheet":"AWP Oracle","index":14,"n_rows":1512,"n_cols":123,"rows_kept":562,"cut":true,"hidden":false,"merged":[],"bounds":{"rows_first":250,"rows_last":62,"rows_between":250,"halvings":3}}
[{"$f":"'Send Sync'!AC23","v":"NO"},{"$f":"IF('Send Sync'!L16=\"\", \"\", 'Send Sync'!L16)","v":""},{"$f":"IF('Send Sync'!L17=\"\", \"\", 'Send Sync'!L17)","v":""},null,null,null,null,"SampleRecordAssociation","SampleRecordAssociation","SampleRecordAssociation",null,null,null,null,null,"SMPLRECCONTMATSETASSOC","SMPLRECCONTMATSETASSOC","SMPLRECCONTMATSETASSOC",null,null,null,null,null,null,null,null,null,null,null,null,null,null,"SampleRecordTest","lastrow",{"$f":"ROW(AI54)","v":54},null,null,null,null,null,null,null,null,null,null,null,null,null,null,null,null,null,null,null,null,null,null,null,null,null,null,null,null,null,null,null,null,null,null,null,null,null,null,null,null,"AgencyEntityInstance","lastrow",{"$f":"ROW(BZ161)","v":161},null,null,null,null,null,null,null,null,null,null,null,null,null,null,null,"AgencyEntityInsData","lastrow",{"$f":"ROW(CR1512)","v":1512},null,null,null,null,null,null,null,null,null,null,null,"SampleRecordRemark",null,null,null,null,null,null,null,null,null,null,null,null,"RefVendor"]
["SAMPLERECORD","SampleRecord ID","Sample Id",null,null,null,null,null,"SampleRecordAssociation Id","SampleRecordAssociation Id",null,null,null,null,null,null,"SmplRecContMatSetAssoc Id","CntrctPrjitmMatSet Id","SampleRecord Id","WorkLocation","MaterialUnit","RepresentedQuantity","SatisfiedRepresentedQnty","Created Dt","CreatedBy","LastUpdated DT","LastUpdatedBy",null,null,null,null,null,null,"SampleRecordTest Id","SampleRecord Id","MaterialTest Id","Number Value","DestinationLab Id","LabUnit Id","OriginalTest Id","ActualCompletion Dt","ChargeAmount","Descr","Due Dt","EstimatedCompletion Dt","PlannedStart Dt","TestRuns","TestStart Dt","Priority","Status","TestReportable","Retest","TestRequeued","CountsTowardMaa","Default Value","Required","ResultLocked","RetestRequested","TestUpdateable","Created Dt","Created By","LastUpdated Dt","LastUpdated By","BillingCode Id","CancelledOrRetested","ReceivedDate","RefTestResultValue Id","TestInstances","RefSpecSelected","RetestQuantity",null,null,null,null,null,null,"AgencyEntityInstance Id","AgencyEntity Id","BaseModelParent Id","AgencyEntityInstanceParent Id","DataXml","Created Dt","Created By","LastUpdated Dt","LastUpdated By",null,null,null,null,null,null,null,null,null,"AgencyEntityInsData Id","AgencyEntityInstance Id","Key","Value","Created Dt","Created By","LastUpdated Dt","LastUpdated By",null,null,null,null,null,"SampleRecordRemark Id","Model Id","Text","RemarkModelMapping Id","Created Dt","Created By","LastUpdated Dt","LastUpdated By",null,null,null,null,null,"VendorName","Vncde3","Vnflg8"]
[null,"SampleRecord NM",{"$f":"Main!V12","v":""},null,null,null,null,null,"SampleRecord Id","Sample Id",null,null,null,null,null,null,{"$f":"IF(R3=\"\",\"\",\"CntrctPrjitmMatSet Id 1\")","v":""},{"$f":"IF('Contract and Quantities'!AS39=\"\",\"\",'Contract and Quantities'!AS39)","v":""},{"$f":"IF(R3=\"\",\"\",\"Sample Id\")","v":""},null,{"$f":"IF(R3=\"\",\"\",'Contract and Quantities'!AR39)","v":""},{"$f":"IF(R3=\"\",\"\",'Contract and Quantities'!AQ39)","v":""},{"$f":"IF(R3=\"\",\"\",0)","v":""},{"$f":"IF(R3=\"\",\"\",TODAY())","v":""},{"$f":"IF(R3=\"\",\"\",\"WTSYSTEMUSER\")","v":""},{"$f":"IF(R3=\"\",\"\",TODAY())","v":""},{"$f":"IF(R3=\"\",\"\",\"WTSYSTEMUSER\")","v":""},null,null,null,"freeform",null,null,{"$f":"IF('Free Form'!$F$49=\"Y\", \"SampleRecordTest Id 1\", \"\")","v":""},{"$f":"IF(AH3=\"\",\"\",\"Sample Id\")","v":""},{"$f":"IF(AQ3=\"\",\"\",VLOOKUP(AQ3,'Send Sync'!$I$56:$J$145,2,FALSE))","v":""},{"$f":"IF(AH3=\"\",\"\",1)","v":""},{"$f":"IF(AH3=\"\",\"\",'Send Sync'!$R$56)","v":""},{"$f":"IF(AH3=\"\",\"\",'Send Sync'!$T$56)","v":""},null,null,null,{"$f":"IF(AH3=\"\",\"\",\"Free Form Test\")","v":""},null,{"$f":"IF(AH3=\"\",\"\",TODAY())","v":""},{"$f":"IF(AH3=\"\",\"\",TODAY())","v":""},{"$f":"IF(AH3=\"\",\"\",1)","v":""},{"$f":"IF(AH3=\"\",\"\",TODAY())","v":""},null,{"$f":"IF(AH3=\"\",\"\",60)","v":""},{"$f":"IF(AH3=\"\",\"\",1)","v":""},{"$f":"IF(AH3=\"\",\"\",0)","v":""},{"$f":"IF(AH3=\"\",\"\",0)","v":""},{"$f":"IF(AH3=\"\",\"\",1)","v":""},{"$f":"IF(AH3=\"\",\"\",0)","v":""},{"$f":"IF(AH3=\"\",\"\",0)","v":""},{"$f":"IF(AH3=\"\",\"\",0)","v":""},{"$f":"IF(AH3=\"\",\"\",0)","v":""},{"$f":"IF(AH3=\"\",\"\",1)","v":""},{"$f":"IF(AH3=\"\",\"\",TODAY())","v":""},{"$f":"IF(AH3=\"\",\"\",\"WTSYSTEMUSER\")","v":""},{"$f":"IF(AH3=\"\",\"\",TODAY())","v":""},{"$f":"IF(AH3=\"\",\"\",\"WTSYSTEMUSER\")","v":""},null,{"$f":"IF(AH3=\"\",\"\",0)","v":""},null,null,{"$f":"IF(AH3=\"\",\"\",1)","v":""},{"$f":"IF(AH3=\"\",\"\",0)","v":""},null,null,null,null,null,null,null,{"$f":"IF(AH3=\"\",\"\",\"AgencyEntityInstance Id 1\")","v":""},{"$f":"IF(BY3=\"\",\"\",VLOOKUP(\"CM_FreeForm\",'Send Sync'!$K$56:$L$96,2,FALSE))","v":""},{"$f":"IF(BY3=\"\",\"\",\"SampleRecordTest Id 1\")","v":""},null,{"$f":"IF(BY3=\"\",\"\",CONCATENATE(\"<Data><FreeForm>\",CO3,\"</FreeForm></Data>\"))","v":""},{"$f":"IF(BY3=\"\",\"\",TODAY())","v":""},{"$f":"IF(BY3=\"\",\"\",\"WTSYSTEMUSER\")","v":""},{"$f":"IF(BY3=\"\",\"\",TODAY())","v":""},{"$f":"IF(BY3=\"\",\"\",\"WTSYSTEMUSER\")","v":""},null,null,null,null,null,null,null,{"$f":"IF(CT3=\"\",\"\",SUBSTITUTE(SUBSTITUTE(SUBSTITUTE(SUBSTITUTE(SUBSTITUTE(CT3,\"&\",\"&amp;\"),\">\",\"&gt;\"),\"<\",\"&lt;\"),\"'\",\"&#39;\"),\"\"\"\",\"&quot;\"))","v":""},null,{"$f":"IF(BY3=\"\",\"\",\"AgencyEntityInsData Id 1\")","v":""},{"$f":"IF(BY3=\"\",\"\",\"AgencyEntityInstance Id 1\")","v":""},{"$f":"IF(BY3=\"\",\"\",\"FreeForm\")","v":""},{"$f":"IF(BY3=\"\",\"\",'Free Form'!B14)","v":""},{"$f":"IF(BY3=\"\",\"\",TODAY())","v":""},{"$f":"IF(BY3=\"\",\"\",\"WTSYSTEMUSER\")","v":""},{"$f":"IF(BY3=\"\",\"\",TODAY())","v":""},{"$f":"IF(BY3=\"\",\"\",\"WTSYSTEMUSER\")","v":""},null,null,null,null,null,{"$f":"IF(Main!B27=\"\",\"\",\"SampleRecordRemark Id\")","v":""},{"$f":"IF(DD3=\"\",\"\",\"Sample Id\")","v":""},{"$f":"IF(DD3=\"\",\"\",Main!B27)","v":""},{"$f":"IF(DD3=\"\",\"\",53)","v":""},{"$f":"IF(DD3=\"\",\"\",TODAY())","v":""},{"$f":"IF(DD3=\"\",\"\",\"WTSYSTEMUSER\")","v":""},{"$f":"IF(DD3=\"\",\"\",TODAY())","v":""},{"$f":"IF(DD3=\"\",\"\",\"WTSYSTEMUSER\")","v":""},null,null,null,null,null,{"$f":"Main!U10","v":0},{"$f":"'Send Sync'!L19","v":0},"Y"]
[null,"RefAdministrativeOffice ID",null,null,null,null,null,null,"AssociationType","Destination Lab",null,null,null,null,null,null,{"$f":"IF(R4=\"\",\"\",\"CntrctPrjitmMatSet Id 2\")","v":""},{"$f":"IF('Contract and Quantities'!AS40=\"\",\"\",'Contract and Quantities'!AS40)","v":""},{"$f":"IF(R4=\"\",\"\",\"Sample Id\")","v":""},null,{"$f":"IF(R4=\"\",\"\",'Contract and Quantities'!AR40)","v":""},{"$f":"IF(R4=\"\",\"\",'Contract and Quantities'!AQ40)","v":""},{"$f":"IF(R4=\"\",\"\",0)","v":""},{"$f":"IF(R4=\"\",\"\",TODAY())","v":""},{"$f":"IF(R4=\"\",\"\",\"WTSYSTEMUSER\")","v":""},{"$f":"IF(R4=\"\",\"\",TODAY())","v":""},"",null,null,null,"Base Type 1&5",null,null,{"$f":"IF('Test 1'!AG13=\"Y\",\"SampleRecordTest Id 2\",\"\")","v":""},"",{"$f":"IF(AQ4=\"\",\"\",VLOOKUP(AQ4,'Send Sync'!$I$56:$J$145,2,FALSE))","v":""},{"$f":"IF(AH4=\"\",\"\",1)","v":""},{"$f":"IF(AH4=\"\",\"\",'Send Sync'!$R$56)","v":""},{"$f":"IF(AH4=\"\",\"\",'Send Sync'!$T$56)","v":""},null,null,null,{"$f":"IF(AH4=\"\",\"\",IF($C$43=\"QA\",\"Base Type 1&5 Sieve Analysis (QA)\",\"Base Type 1&5 Sieve Analysis (QC)\"))","v":""},null,"","",{"$f":"IF(AH4=\"\",\"\",COUNTIF(AJ4:AJ6,AJ4))","v":""},"",null,"","","","","","","","","","","","","","",null,{"$f":"IF(AH4=\"\",\"\",0)","v":""},null,{"$f":"IF(AH4=\"\",\"\",IF(LEFT(Main!F14,4)=\"1007\",IF('Test 1'!D31=\"YES\",VLOOKUP(\"Pass\",'Send Sync'!$Y$56:$Z$57,2,FALSE),IF('Test 1'!D31=\"NO\",VLOOKUP(\"Fail\",'Send Sync'!$Y$56:$Z$57,2,FALSE),\"\")),\"\"))","v":""},{"$f":"IF(AH4=\"\",\"\",1)","v":""},{"$f":"IF(AH4=\"\",\"\",0)","v":""},null,null,null,null,null,null,null,{"$f":"IF(AH4=\"\",\"\",\"AgencyEntityInstance Id 2\")","v":""},{"$f":"IF(BY4=\"\",\"\",VLOOKUP(\"CM_Base_Grad_T1T5\",'Send Sync'!$K$56:$L$96,2,FALSE))","v":""},{"$f":"IF(BY4=\"\",\"\",\"SampleRecordTest Id 2\")","v":""},"",{"$f":"IF(BY4=\"\",\"\",CONCATENATE(\"<Data><cm_base_grad_T1T5_01_inch>\",CO4,\"</cm_base_grad_T1T5_01_inch><cm_base_grad_T1T5_02_half_inch>\",CO5,\"</cm_base_grad_T1T5_02_half_inch><cm_base_grad_T1T5_03_no_4>\",CO6,\"</cm_base_grad_T1T5_03_no_4><cm_base_grad_T1T5_04_no_30>\",CO7,\"</cm_base_grad_T1T5_04_no_30><cm_base_grad_T1T5_05_no_200>\",CO8,\"</cm_base_grad_T1T5_05_no_200><cm_base_grad_T1T5_08_station_1>\",CO9,\"</cm_base_grad_T1T5_08_station_1><cm_base_grad_T1T5_09_station_2>\",CO10,\"</cm_base_grad_T1T5_09_station_2><cm_base_grad_T1T5_10_centerline_location>\",CO11,\"</cm_base_grad_T1T5_10_centerline_location><cm_base_grad_T1T5_11_tested_by>\",CO12,\"</cm_base_grad_T1T5_11_tested_by><cm_base_grad_T1T5_half_inch_label>\",CO13,\"</cm_base_grad_T1T5_half_inch_label><cm_base_grad_T1T5_half_inch_max>\",CO14,\"</cm_base_grad_T1T5_half_inch_max><cm_base_grad_T1T5_half_inch_min>\",CO15,\"</cm_base_grad_T1T5_half_inch_min><cm_base_grad_T1T5_inch_label>\",CO16,\"</cm_base_grad_T1T5_inch_label><cm_base_grad_T1T5_inch_max>\",CO17,\"</cm_base_grad_T1T5_inch_max><cm_base_grad_T1T5_inch_min>\",CO18,\"</cm_base_grad_T1T5_inch_min><cm_base_grad_T1T5_label_01_inch>\",CO19,\"</cm_base_grad_T1T5_label_01_inch><cm_base_grad_T1T5_label_02_half_inch>\",CO20,\"</cm_base_grad_T1T5_label_02_half_inch><cm_base_grad_T1T5_label_03_no_4>\",CO21,\"</cm_base_grad_T1T5_label_03_no_4><cm_base_grad_T1T5_label_04_no_30>\",CO22,\"</cm_base_grad_T1T5_label_04_no_30><cm_base_grad_T1T5_label_05_no_200>\",CO23,\"</cm_base_grad_T1T5_label_05_no_200><cm_base_grad_T1T5_label_06>\",CO24,\"</cm_base_grad_T1T5_label_06><cm_base_grad_T1T5_label_07>\",CO25,\"</cm_base_grad_T1T5_label_07><cm_base_grad_T1T5_label_08>\",CO26,\"</cm_base_grad_T1T5_label_08><cm_base_grad_T1T5_label_09>\",CO27,\"</cm_base_grad_T1T5_label_09><cm_base_grad_T1T5_no_200_label>\",CO28,\"</cm_base_grad_T1T5_no_200_label><cm_base_grad_T1T5_no_200_max>\",CO29,\"</cm_base_grad_T1T5_no_200_max><cm_base_grad_T1T5_no_200_min>\",CO30,\"</cm_base_grad_T1T5_no_200_min><cm_base_grad_T1T5_no_30_label>\",CO31,\"</cm_base_grad_T1T5_no_30_label><cm_base_grad_T1T5_no_30_max>\",CO32,\"</cm_base_grad_T1T5_no_30_max><cm_base_grad_T1T5_no_30_min>\",CO33,\"</cm_base_grad_T1T5_no_30_min><cm_base_grad_T1T5_no_4_label>\",CO34,\"</cm_base_grad_T1T5_no_4_label><cm_base_grad_T1T5_no_4_max>\",CO35,\"</cm_base_grad_T1T5_no_4_max><cm_base_grad_T1T5_no_4_min>\",CO36,\"</cm_base_grad_T1T5_no_4_min><cm_base_grad_T1T5_spec_01_inch_max>\",CO37,\"</cm_base_grad_T1T5_spec_01_inch_max><cm_base_grad_T1T5_spec_01_inch_min>\",CO38,\"</cm_base_grad_T1T5_spec_01_inch_min><cm_base_grad_T1T5_spec_02_half_inch_max>\",CO39,\"</cm_base_grad_T1T5_spec_02_half_inch_max><cm_base_grad_T1T5_spec_02_half_inch_min>\",CO40,\"</cm_base_grad_T1T5_spec_02_half_inch_min><cm_base_grad_T1T5_spec_03_no_4_max>\",CO41,\"</cm_base_grad_T1T5_spec_03_no_4_max><cm_base_grad_T1T5_spec_03_no_4_min>\",CO42,\"</cm_base_grad_T1T5_spec_03_no_4_min><cm_base_grad_T1T5_spec_04_no_30_max>\",CO43,\"</cm_base_grad_T1T5_spec_04_no_30_max><cm_base_grad_T1T5_spec_04_no_30_min>\",CO44,\"</cm_base_grad_T1T5_spec_04_no_30_min><cm_base_grad_T1T5_spec_05_no_200_max>\",CO45,\"</cm_base_grad_T1T5_spec_05_no_200_max><cm_base_grad_T1T5_spec_05_no_200_min>\",CO46,\"</cm_base_grad_T1T5_spec_05_no_200_min></Data>\"))","v":""},{"$f":"IF(BY4=\"\",\"\",TODAY())","v":""},{"$f":"IF(BY4=\"\",\"\",\"WTSYSTEMUSER\")","v":""},{"$f":"IF(BY4=\"\",\"\",TODAY())","v":""},{"$f":"IF(BY4=\"\",\"\",\"WTSYSTEMUSER\")","v":""},null,null,null,null,null,null,null,{"$f":"IF(CT4=\"\",\"\",SUBSTITUTE(SUBSTITUTE(SUBSTITUTE(SUBSTITUTE(SUBSTITUTE(CT4,\"&\",\"&amp;\"),\">\",\"&gt;\"),\"<\",\"&lt;\"),\"'\",\"&#39;\"),\"\"\"\",\"&quot;\"))","v":""},null,{"$f":"IF(BY4=\"\",\"\",\"AgencyEntityInsData Id 2\")","v":""},{"$f":"IF(BY4=\"\",\"\",\"AgencyEntityInstance Id 2\")","v":""},{"$f":"IF(BY4=\"\",\"\",\"cm_base_grad_T1T5_01_inch\")","v":""},{"$f":"IF(BY4=\"\",\"\",IF('Test 1'!$AD25=0,\"\",'Test 1'!$AD25))","v":""},{"$f":"IF(BY4=\"\",\"\",TODAY())","v":""},{"$f":"IF(BY4=\"\",\"\",\"WTSYSTEMUSER\")","v":""},{"$f":"IF(BY4=\"\",\"\",TODAY())","v":""},{"$f":"IF(BY4=\"\",\"\",\"WTSYSTEMUSER\")","v":""}]
[null,"AuthorizedBy ID",null,null,null,null,null,null,"Entity Id",{"$f":"'Send Sync'!AB56","v":204},null,null,null,null,null,null,{"$f":"IF(R5=\"\",\"\",\"CntrctPrjitmMatSet Id 3\")","v":""},{"$f":"IF('Contract and Quantities'!AS41=\"\",\"\",'Contract and Quantities'!AS41)","v":""},"",null,{"$f":"IF(R5=\"\",\"\",'Contract and Quantities'!AR41)","v":""},{"$f":"IF(R5=\"\",\"\",'Contract and Quantities'!AQ41)","v":""},"","","","","",null,null,null,"Base Type 1&5",null,null,{"$f":"IF('Test 1'!AH13=\"Y\",\"SampleRecordTest Id 3\",\"\")","v":""},"",{"$f":"IF(AQ5=\"\",\"\",VLOOKUP(AQ5,'Send Sync'!$I$56:$J$145,2,FALSE))","v":""},{"$f":"IF(AH5=\"\",\"\",2)","v":""},{"$f":"IF(AH5=\"\",\"\",'Send Sync'!$R$56)","v":""},{"$f":"IF(AH5=\"\",\"\",'Send Sync'!$T$56)","v":""},null,null,null,{"$f":"IF(AH5=\"\",\"\",IF($C$43=\"QA\",\"Base Type 1&5 Sieve Analysis (QA)\",\"Base Type 1&5 Sieve Analysis (QC)\"))","v":""},null,"","",{"$f":"IF(AH5=\"\",\"\",COUNTIF(AJ4:AJ6,AJ5))","v":""},"",null,"","","","","","","","","","","","","","",null,"",null,{"$f":"IF(AH5=\"\",\"\",IF(LEFT(Main!F14,4)=\"1007\",IF('Test 1'!H31=\"YES\",VLOOKUP(\"Pass\",'Send Sync'!$Y$56:$Z$57,2,FALSE),IF('Test 1'!H31=\"NO\",VLOOKUP(\"Fail\",'Send Sync'!$Y$56:$Z$57,2,FALSE),\"\")),\"\"))","v":""},"","",null,null,null,null,null,null,null,{"$f":"IF(AH5=\"\",\"\",\"AgencyEntityInstance Id 3\")","v":""},{"$f":"IF(BY5=\"\",\"\",VLOOKUP(\"CM_Base_Grad_T1T5\",'Send Sync'!$K$56:$L$96,2,FALSE))","v":""},{"$f":"IF(BY5=\"\",\"\",\"SampleRecordTest Id 3\")","v":""},"",{"$f":"IF(BY5=\"\",\"\",CONCATENATE(\"<Data><cm_base_grad_T1T5_01_inch>\",CO47,\"</cm_base_grad_T1T5_01_inch><cm_base_grad_T1T5_02_half_inch>\",CO48,\"</cm_base_grad_T1T5_02_half_inch><cm_base_grad_T1T5_03_no_4>\",CO49,\"</cm_base_grad_T1T5_03_no_4><cm_base_grad_T1T5_04_no_30>\",CO50,\"</cm_base_grad_T1T5_04_no_30><cm_base_grad_T1T5_05_no_200>\",CO51,\"</cm_base_grad_T1T5_05_no_200><cm_base_grad_T1T5_08_station_1>\",CO52,\"</cm_base_grad_T1T5_08_station_1><cm_base_grad_T1T5_09_station_2>\",CO53,\"</cm_base_grad_T1T5_09_station_2><cm_base_grad_T1T5_10_centerline_location>\",CO54,\"</cm_base_grad_T1T5_10_centerline_location><cm_base_grad_T1T5_11_tested_by>\",CO55,\"</cm_base_grad_T1T5_11_tested_by><cm_base_grad_T1T5_half_inch_label>\",CO56,\"</cm_base_grad_T1T5_half_inch_label><cm_base_grad_T1T5_half_inch_max>\",CO57,\"</cm_base_grad_T1T5_half_inch_max><cm_base_grad_T1T5_half_inch_min>\",CO58,\"</cm_base_grad_T1T5_half_inch_min><cm_base_grad_T1T5_inch_label>\",CO59,\"</cm_base_grad_T1T5_inch_label><cm_base_grad_T1T5_inch_max>\",CO60,\"</cm_base_grad_T1T5_inch_max><cm_base_grad_T1T5_inch_min>\",CO61,\"</cm_base_grad_T1T5_inch_min><cm_base_grad_T1T5_label_01_inch>\",CO62,\"</cm_base_grad_T1T5_label_01_inch><cm_base_grad_T1T5_label_02_half_inch>\",CO63,\"</cm_base_grad_T1T5_label_02_half_inch><cm_base_grad_T1T5_label_03_no_4>\",CO64,\"</cm_base_grad_T1T5_label_03_no_4><cm_base_grad_T1T5_label_04_no_30>\",CO65,\"</cm_base_grad_T1T5_label_04_no_30><cm_base_grad_T1T5_label_05_no_200>\",CO66,\"</cm_base_grad_T1T5_label_05_no_200><cm_base_grad_T1T5_label_06>\",CO67,\"</cm_base_grad_T1T5_label_06><cm_base_grad_T1T5_label_07>\",CO68,\"</cm_base_grad_T1T5_label_07><cm_base_grad_T1T5_label_08>\",CO69,\"</cm_base_grad_T1T5_label_08><cm_base_grad_T1T5_label_09>\",CO70,\"</cm_base_grad_T1T5_label_09><cm_base_grad_T1T5_no_200_label>\",CO71,\"</cm_base_grad_T1T5_no_200_label><cm_base_grad_T1T5_no_200_max>\",CO72,\"</cm_base_grad_T1T5_no_200_max><cm_base_grad_T1T5_no_200_min>\",CO73,\"</cm_base_grad_T1T5_no_200_min><cm_base_grad_T1T5_no_30_label>\",CO74,\"</cm_base_grad_T1T5_no_30_label><cm_base_grad_T1T5_no_30_max>\",CO75,\"</cm_base_grad_T1T5_no_30_max><cm_base_grad_T1T5_no_30_min>\",CO76,\"</cm_base_grad_T1T5_no_30_min><cm_base_grad_T1T5_no_4_label>\",CO77,\"</cm_base_grad_T1T5_no_4_label><cm_base_grad_T1T5_no_4_max>\",CO78,\"</cm_base_grad_T1T5_no_4_max><cm_base_grad_T1T5_no_4_min>\",CO79,\"</cm_base_grad_T1T5_no_4_min><cm_base_grad_T1T5_spec_01_inch_max>\",CO80,\"</cm_base_grad_T1T5_spec_01_inch_max><cm_base_grad_T1T5_spec_01_inch_min>\",CO81,\"</cm_base_grad_T1T5_spec_01_inch_min><cm_base_grad_T1T5_spec_02_half_inch_max>\",CO82,\"</cm_base_grad_T1T5_spec_02_half_inch_max><cm_base_grad_T1T5_spec_02_half_inch_min>\",CO83,\"</cm_base_grad_T1T5_spec_02_half_inch_min><cm_base_grad_T1T5_spec_03_no_4_max>\",CO84,\"</cm_base_grad_T1T5_spec_03_no_4_max><cm_base_grad_T1T5_spec_03_no_4_min>\",CO85,\"</cm_base_grad_T1T5_spec_03_no_4_min><cm_base_grad_T1T5_spec_04_no_30_max>\",CO86,\"</cm_base_grad_T1T5_spec_04_no_30_max><cm_base_grad_T1T5_spec_04_no_30_min>\",CO87,\"</cm_base_grad_T1T5_spec_04_no_30_min><cm_base_grad_T1T5_spec_05_no_200_max>\",CO88,\"</cm_base_grad_T1T5_spec_05_no_200_max><cm_base_grad_T1T5_spec_05_no_200_min>\",CO89,\"</cm_base_grad_T1T5_spec_05_no_200_min></Data>\"))","v":""},"","","","",null,null,null,null,null,null,null,"",null,{"$f":"IF(BY4=\"\",\"\",\"AgencyEntityInsData Id 3\")","v":""},{"$f":"IF(BY4=\"\",\"\",\"AgencyEntityInstance Id 2\")","v":""},{"$f":"IF(BY4=\"\",\"\",\"cm_base_grad_T1T5_02_half_inch\")","v":""},{"$f":"IF(BY4=\"\",\"\",IF('Test 1'!$AD26=0,\"\",'Test 1'!$AD26))","v":""},{"$f":"IF(BY4=\"\",\"\",TODAY())","v":""},{"$f":"IF(BY4=\"\",\"\",\"WTSYSTEMUSER\")","v":""},{"$f":"IF(BY4=\"\",\"\",TODAY())","v":""},{"$f":"IF(BY4=\"\",\"\",\"WTSYSTEMUSER\")","v":""}]
[null,"DsrInspector ID",null,null,null,null,null,null,"PersonInfo Id",null,null,null,null,null,null,null,{"$f":"IF(R6=\"\",\"\",\"CntrctPrjitmMatSet Id 4\")","v":""},{"$f":"IF('Contract and Quantities'!AS42=\"\",\"\",'Contract and Quantities'!AS42)","v":""},"",null,{"$f":"IF(R6=\"\",\"\",'Contract and Quantities'!AR42)","v":""},{"$f":"IF(R6=\"\",\"\",'Contract and Quantities'!AQ42)","v":""},"","","","","",null,null,null,"Base Type 1&5",null,null,{"$f":"IF('Test 1'!AI13=\"Y\",\"SampleRecordTest Id 4\",\"\")","v":""},"",{"$f":"IF(AQ6=\"\",\"\",VLOOKUP(AQ6,'Send Sync'!$I$56:$J$145,2,FALSE))","v":""},{"$f":"IF(AH6=\"\",\"\",3)","v":""},{"$f":"IF(AH6=\"\",\"\",'Send Sync'!$R$56)","v":""},{"$f":"IF(AH6=\"\",\"\",'Send Sync'!$T$56)","v":""},null,null,null,{"$f":"IF(AH6=\"\",\"\",IF($C$43=\"QA\",\"Base Type 1&5 Sieve Analysis (QA)\",\"Base Type 1&5 Sieve Analysis (QC)\"))","v":""},null,"","",{"$f":"IF(AH6=\"\",\"\",COUNTIF(AJ4:AJ6,AJ6))","v":""},"",null,"","","","","","","","","","","","","","",null,"",null,{"$f":"IF(AH6=\"\",\"\",IF(LEFT(Main!F14,4)=\"1007\",IF('Test 1'!K31=\"YES\",VLOOKUP(\"Pass\",'Send Sync'!$Y$56:$Z$57,2,FALSE),IF('Test 1'!K31=\"NO\",VLOOKUP(\"Fail\",'Send Sync'!$Y$56:$Z$57,2,FALSE),\"\")),\"\"))","v":""},"","",null,null,null,null,null,null,null,{"$f":"IF(AH6=\"\",\"\",\"AgencyEntityInstance Id 4\")","v":""},{"$f":"IF(BY6=\"\",\"\",VLOOKUP(\"CM_Base_Grad_T1T5\",'Send Sync'!$K$56:$L$96,2,FALSE))","v":""},{"$f":"IF(BY6=\"\",\"\",\"SampleRecordTest Id 4\")","v":""},"",{"$f":"IF(BY6=\"\",\"\",CONCATENATE(\"<Data><cm_base_grad_T1T5_01_inch>\",CO90,\"</cm_base_grad_T1T5_01_inch><cm_base_grad_T1T5_02_half_inch>\",CO91,\"</cm_base_grad_T1T5_02_half_inch><cm_base_grad_T1T5_03_no_4>\",CO92,\"</cm_base_grad_T1T5_03_no_4><cm_base_grad_T1T5_04_no_30>\",CO93,\"</cm_base_grad_T1T5_04_no_30><cm_base_grad_T1T5_05_no_200>\",CO94,\"</cm_base_grad_T1T5_05_no_200><cm_base_grad_T1T5_08_station_1>\",CO95,\"</cm_base_grad_T1T5_08_station_1><cm_base_grad_T1T5_09_station_2>\",CO96,\"</cm_base_grad_T1T5_09_station_2><cm_base_grad_T1T5_10_centerline_location>\",CO97,\"</cm_base_grad_T1T5_10_centerline_location><cm_base_grad_T1T5_11_tested_by>\",CO98,\"</cm_base_grad_T1T5_11_tested_by><cm_base_grad_T1T5_half_inch_label>\",CO99,\"</cm_base_grad_T1T5_half_inch_label><cm_base_grad_T1T5_half_inch_max>\",CO100,\"</cm_base_grad_T1T5_half_inch_max><cm_base_grad_T1T5_half_inch_min>\",CO101,\"</cm_base_grad_T1T5_half_inch_min><cm_base_grad_T1T5_inch_label>\",CO102,\"</cm_base_grad_T1T5_inch_label><cm_base_grad_T1T5_inch_max>\",CO103,\"</cm_base_grad_T1T5_inch_max><cm_base_grad_T1T5_inch_min>\",CO104,\"</cm_base_grad_T1T5_inch_min><cm_base_grad_T1T5_label_01_inch>\",CO105,\"</cm_base_grad_T1T5_label_01_inch><cm_base_grad_T1T5_label_02_half_inch>\",CO106,\"</cm_base_grad_T1T5_label_02_half_inch><cm_base_grad_T1T5_label_03_no_4>\",CO107,\"</cm_base_grad_T1T5_label_03_no_4><cm_base_grad_T1T5_label_04_no_30>\",CO108,\"</cm_base_grad_T1T5_label_04_no_30><cm_base_grad_T1T5_label_05_no_200>\",CO109,\"</cm_base_grad_T1T5_label_05_no_200><cm_base_grad_T1T5_label_06>\",CO110,\"</cm_base_grad_T1T5_label_06><cm_base_grad_T1T5_label_07>\",CO111,\"</cm_base_grad_T1T5_label_07><cm_base_grad_T1T5_label_08>\",CO112,\"</cm_base_grad_T1T5_label_08><cm_base_grad_T1T5_label_09>\",CO113,\"</cm_base_grad_T1T5_label_09><cm_base_grad_T1T5_no_200_label>\",CO114,\"</cm_base_grad_T1T5_no_200_label><cm_base_grad_T1T5_no_200_max>\",CO115,\"</cm_base_grad_T1T5_no_200_max><cm_base_grad_T1T5_no_200_min>\",CO116,\"</cm_base_grad_T1T5_no_200_min><cm_base_grad_T1T5_no_30_label>\",CO117,\"</cm_base_grad_T1T5_no_30_label><cm_base_grad_T1T5_no_30_max>\",CO118,\"</cm_base_grad_T1T5_no_30_max><cm_base_grad_T1T5_no_30_min>\",CO119,\"</cm_base_grad_T1T5_no_30_min><cm_base_grad_T1T5_no_4_label>\",CO120,\"</cm_base_grad_T1T5_no_4_label><cm_base_grad_T1T5_no_4_max>\",CO121,\"</cm_base_grad_T1T5_no_4_max><cm_base_grad_T1T5_no_4_min>\",CO122,\"</cm_base_grad_T1T5_no_4_min><cm_base_grad_T1T5_spec_01_inch_max>\",CO123,\"</cm_base_grad_T1T5_spec_01_inch_max><cm_base_grad_T1T5_spec_01_inch_min>\",CO124,\"</cm_base_grad_T1T5_spec_01_inch_min><cm_base_grad_T1T5_spec_02_half_inch_max>\",CO125,\"</cm_base_grad_T1T5_spec_02_half_inch_max><cm_base_grad_T1T5_spec_02_half_inch_min>\",CO126,\"</cm_base_grad_T1T5_spec_02_half_inch_min><cm_base_grad_T1T5_spec_03_no_4_max>\",CO127,\"</cm_base_grad_T1T5_spec_03_no_4_max><cm_base_grad_T1T5_spec_03_no_4_min>\",CO128,\"</cm_base_grad_T1T5_spec_03_no_4_min><cm_base_grad_T1T5_spec_04_no_30_max>\",CO129,\"</cm_base_grad_T1T5_spec_04_no_30_max><cm_base_grad_T1T5_spec_04_no_30_min>\",CO130,\"</cm_base_grad_T1T5_spec_04_no_30_min><cm_base_grad_T1T5_spec_05_no_200_max>\",CO131,\"</cm_base_grad_T1T5_spec_05_no_200_max><cm_base_grad_T1T5_spec_05_no_200_min>\",CO132,\"</cm_base_grad_T1T5_spec_05_no_200_min></Data>\"))","v":""},"","","","",null,null,null,null,null,null,null,"",null,{"$f":"IF(BY4=\"\",\"\",\"AgencyEntityInsData Id 4\")","v":""},{"$f":"IF(BY4=\"\",\"\",\"AgencyEntityInstance Id 2\")","v":""},{"$f":"IF(BY4=\"\",\"\",\"cm_base_grad_T1T5_03_no_4\")","v":""},{"$f":"IF(BY4=\"\",\"\",IF('Test 1'!$AD27=0,\"\",'Test 1'!$AD27))","v":""},{"$f":"IF(BY4=\"\",\"\",TODAY())","v":""},{"$f":"IF(BY4=\"\",\"\",\"WTSYSTEMUSER\")","v":""},{"$f":"IF(BY4=\"\",\"\",TODAY())","v":""},{"$f":"IF(BY4=\"\",\"\",\"WTSYSTEMUSER\")","v":""}]
[null,"DwrInspector ID",null,null,null,null,null,null,"DestinationLab Id",{"$f":"'Send Sync'!R56","v":5},null,null,null,null,null,null,{"$f":"IF(R7=\"\",\"\",\"CntrctPrjitmMatSet Id 5\")","v":""},{"$f":"IF('Contract and Quantities'!AS43=\"\",\"\",'Contract and Quantities'!AS43)","v":""},"",null,{"$f":"IF(R7=\"\",\"\",'Contract and Quantities'!AR43)","v":""},{"$f":"IF(R7=\"\",\"\",'Contract and Quantities'!AQ43)","v":""},"","","","","",null,null,null,"Base Type 7",null,null,{"$f":"IF('Test 1'!AG12=\"Y\",\"SampleRecordTest Id 5\",\"\")","v":""},"",{"$f":"IF(AQ7=\"\",\"\",VLOOKUP(AQ7,'Send Sync'!$I$56:$J$145,2,FALSE))","v":""},{"$f":"IF(AH7=\"\",\"\",1)","v":""},{"$f":"IF(AH7=\"\",\"\",'Send Sync'!$R$56)","v":""},{"$f":"IF(AH7=\"\",\"\",'Send Sync'!$T$56)","v":""},null,null,null,{"$f":"IF(AH7=\"\",\"\",IF($C$43=\"QA\",\"Base Type 7 Sieve Analysis (QA)\",\"Base Type 7 Sieve Analysis (QC)\"))","v":""},null,"","",{"$f":"IF(AH7=\"\",\"\",COUNTIF(AJ7:AJ9,AJ7))","v":""},"",null,"","","","","","","","","","","","","","",null,"",null,{"$f":"IF(AH7=\"\",\"\",IF(LEFT(Main!F14,4)=\"1007\",IF('Test 1'!Q31=\"YES\",VLOOKUP(\"Pass\",'Send Sync'!$Y$56:$Z$57,2,FALSE),IF('Test 1'!Q31=\"NO\",VLOOKUP(\"Fail\",'Send Sync'!$Y$56:$Z$57,2,FALSE),\"\")),\"\"))","v":""},"","",null,null,null,null,null,null,null,{"$f":"IF(AH7=\"\",\"\",\"AgencyEntityInstance Id 5\")","v":""},{"$f":"IF(BY7=\"\",\"\",VLOOKUP(\"CM_Base_Grad_T7\",'Send Sync'!$K$56:$L$96,2,FALSE))","v":""},{"$f":"IF(BY7=\"\",\"\",\"SampleRecordTest Id 5\")","v":""},"",{"$f":"IF(BY7=\"\",\"\",CONCATENATE(\"<Data><cm_base_grad_T7_01_1pt5_inch>\",CO133,\"</cm_base_grad_T7_01_1pt5_inch><cm_base_grad_T7_02_inch>\",CO134,\"</cm_base_grad_T7_02_inch><cm_base_grad_T7_03_no_8>\",CO135,\"</cm_base_grad_T7_03_no_8><cm_base_grad_T7_05_no_200>\",CO136,\"</cm_base_grad_T7_05_no_200><cm_base_grad_T7_08_station_1>\",CO137,\"</cm_base_grad_T7_08_station_1><cm_base_grad_T7_09_station_2>\",CO138,\"</cm_base_grad_T7_09_station_2><cm_base_grad_T7_10_centerline_location>\",CO139,\"</cm_base_grad_T7_10_centerline_location><cm_base_grad_T7_11_tested_by>\",CO140,\"</cm_base_grad_T7_11_tested_by><cm_base_grad_T7_label_01_1pt5_inch>\",CO141,\"</cm_base_grad_T7_label_01_1pt5_inch><cm_base_grad_T7_label_02_inch>\",CO142,\"</cm_base_grad_T7_label_02_inch><cm_base_grad_T7_label_03_no_8>\",CO143,\"</cm_base_grad_T7_label_03_no_8><cm_base_grad_T7_label_05_no_200>\",CO144,\"</cm_base_grad_T7_label_05_no_200><cm_base_grad_T7_label_06>\",CO145,\"</cm_base_grad_T7_label_06><cm_base_grad_T7_label_07>\",CO146,\"</cm_base_grad_T7_label_07><cm_base_grad_T7_label_08>\",CO147,\"</cm_base_grad_T7_label_08><cm_base_grad_T7_label_09>\",CO148,\"</cm_base_grad_T7_label_09><cm_base_grad_T7_spec_01_1pt5_inch_max>\",CO149,\"</cm_base_grad_T7_spec_01_1pt5_inch_max><cm_base_grad_T7_spec_01_1pt5_inch_min>\",CO150,\"</cm_base_grad_T7_spec_01_1pt5_inch_min><cm_base_grad_T7_spec_02_inch_max>\",CO151,\"</cm_base_grad_T7_spec_02_inch_max><cm_base_grad_T7_spec_02_inch_min>\",CO152,\"</cm_base_grad_T7_spec_02_inch_min><cm_base_grad_T7_spec_03_no_8_max>\",CO153,\"</cm_base_grad_T7_spec_03_no_8_max><cm_base_grad_T7_spec_03_no_8_min>\",CO154,\"</cm_base_grad_T7_spec_03_no_8_min><cm_base_grad_T7_spec_05_no_200_max>\",CO155,\"</cm_base_grad_T7_spec_05_no_200_max><cm_base_grad_T7_spec_05_no_200_min>\",CO156,\"</cm_base_grad_T7_spec_05_no_200_min></Data>\"))","v":""},"","","","",null,null,null,null,null,null,null,"",null,{"$f":"IF(BY4=\"\",\"\",\"AgencyEntityInsData Id 5\")","v":""},{"$f":"IF(BY4=\"\",\"\",\"AgencyEntityInstance Id 2\")","v":""},{"$f":"IF(BY4=\"\",\"\",\"cm_base_grad_T1T5_04_no_30\")","v":""},{"$f":"IF(BY4=\"\",\"\",IF('Test 1'!$AD28=0,\"\",'Test 1'!$AD28))","v":""},{"$f":"IF(BY4=\"\",\"\",TODAY())","v":""},{"$f":"IF(BY4=\"\",\"\",\"WTSYSTEMUSER\")","v":""},{"$f":"IF(BY4=\"\",\"\",TODAY())","v":""},{"$f":"IF(BY4=\"\",\"\",\"WTSYSTEMUSER\")","v":""}]
[null,"Facility ID",{"$f":"Main!J41","v":{"$error":"#N/A"}},null,null,null,null,null,"RefVendor Id",null,null,null,null,null,null,null,{"$f":"IF(R8=\"\",\"\",\"CntrctPrjitmMatSet Id 6\")","v":""},{"$f":"IF('Contract and Quantities'!AS44=\"\",\"\",'Contract and Quantities'!AS44)","v":""},"",null,{"$f":"IF(R8=\"\",\"\",'Contract and Quantities'!AR44)","v":""},{"$f":"IF(R8=\"\",\"\",'Contract and Quantities'!AQ44)","v":""},"","","","","",null,null,null,"Base Type 7",null,null,{"$f":"IF('Test 1'!AH12=\"Y\",\"SampleRecordTest Id 6\",\"\")","v":""},"",{"$f":"IF(AQ8=\"\",\"\",VLOOKUP(AQ8,'Send Sync'!$I$56:$J$145,2,FALSE))","v":""},{"$f":"IF(AH8=\"\",\"\",2)","v":""},{"$f":"IF(AH8=\"\",\"\",'Send Sync'!$R$56)","v":""},{"$f":"IF(AH8=\"\",\"\",'Send Sync'!$T$56)","v":""},null,null,null,{"$f":"IF(AH8=\"\",\"\",IF($C$43=\"QA\",\"Base Type 7 Sieve Analysis (QA)\",\"Base Type 7 Sieve Analysis (QC)\"))","v":""},null,"","",{"$f":"IF(AH8=\"\",\"\",COUNTIF(AJ7:AJ9,AJ8))","v":""},"",null,"","","","","","","","","","","","","","",null,"",null,{"$f":"IF(AH8=\"\",\"\",IF(LEFT(Main!F14,4)=\"1007\",IF('Test 1'!U31=\"YES\",VLOOKUP(\"Pass\",'Send Sync'!$Y$56:$Z$57,2,FALSE),IF('Test 1'!U31=\"NO\",VLOOKUP(\"Fail\",'Send Sync'!$Y$56:$Z$57,2,FALSE),\"\")),\"\"))","v":""},"","",null,null,null,null,null,null,null,{"$f":"IF(AH8=\"\",\"\",\"AgencyEntityInstance Id 6\")","v":""},{"$f":"IF(BY8=\"\",\"\",VLOOKUP(\"CM_Base_Grad_T7\",'Send Sync'!$K$56:$L$96,2,FALSE))","v":""},{"$f":"IF(BY8=\"\",\"\",\"SampleRecordTest Id 6\")","v":""},"",{"$f":"IF(BY8=\"\",\"\",CONCATENATE(\"<Data><cm_base_grad_T7_01_1pt5_inch>\",CO157,\"</cm_base_grad_T7_01_1pt5_inch><cm_base_grad_T7_02_inch>\",CO158,\"</cm_base_grad_T7_02_inch><cm_base_grad_T7_03_no_8>\",CO159,\"</cm_base_grad_T7_03_no_8><cm_base_grad_T7_05_no_200>\",CO160,\"</cm_base_grad_T7_05_no_200><cm_base_grad_T7_08_station_1>\",CO161,\"</cm_base_grad_T7_08_station_1><cm_base_grad_T7_09_station_2>\",CO162,\"</cm_base_grad_T7_09_station_2><cm_base_grad_T7_10_centerline_location>\",CO163,\"</cm_base_grad_T7_10_centerline_location><cm_base_grad_T7_11_tested_by>\",CO164,\"</cm_base_grad_T7_11_tested_by><cm_base_grad_T7_label_01_1pt5_inch>\",CO165,\"</cm_base_grad_T7_label_01_1pt5_inch><cm_base_grad_T7_label_02_inch>\",CO166,\"</cm_base_grad_T7_label_02_inch><cm_base_grad_T7_label_03_no_8>\",CO167,\"</cm_base_grad_T7_label_03_no_8><cm_base_grad_T7_label_05_no_200>\",CO168,\"</cm_base_grad_T7_label_05_no_200><cm_base_grad_T7_label_06>\",CO169,\"</cm_base_grad_T7_label_06><cm_base_grad_T7_label_07>\",CO170,\"</cm_base_grad_T7_label_07><cm_base_grad_T7_label_08>\",CO171,\"</cm_base_grad_T7_label_08><cm_base_grad_T7_label_09>\",CO172,\"</cm_base_grad_T7_label_09><cm_base_grad_T7_spec_01_1pt5_inch_max>\",CO173,\"</cm_base_grad_T7_spec_01_1pt5_inch_max><cm_base_grad_T7_spec_01_1pt5_inch_min>\",CO174,\"</cm_base_grad_T7_spec_01_1pt5_inch_min><cm_base_grad_T7_spec_02_inch_max>\",CO175,\"</cm_base_grad_T7_spec_02_inch_max><cm_base_grad_T7_spec_02_inch_min>\",CO176,\"</cm_base_grad_T7_spec_02_inch_min><cm_base_grad_T7_spec_03_no_8_max>\",CO177,\"</cm_base_grad_T7_spec_03_no_8_max><cm_base_grad_T7_spec_03_no_8_min>\",CO178,\"</cm_base_grad_T7_spec_03_no_8_min><cm_base_grad_T7_spec_05_no_200_max>\",CO179,\"</cm_base_grad_T7_spec_05_no_200_max><cm_base_grad_T7_spec_05_no_200_min>\",CO180,\"</cm_base_grad_T7_spec_05_no_200_min></Data>\"))","v":""},"","","","",null,null,null,null,null,null,null,"",null,{"$f":"IF(BY4=\"\",\"\",\"AgencyEntityInsData Id 6\")","v":""},{"$f":"IF(BY4=\"\",\"\",\"AgencyEntityInstance Id 2\")","v":""},{"$f":"IF(BY4=\"\",\"\",\"cm_base_grad_T1T5_05_no_200\")","v":""},{"$f":"IF(BY4=\"\",\"\",IF('Test 1'!$AD29=0,\"\",'Test 1'!$AD29))","v":""},{"$f":"IF(BY4=\"\",\"\",TODAY())","v":""},{"$f":"IF(BY4=\"\",\"\",\"WTSYSTEMUSER\")","v":""},{"$f":"IF(BY4=\"\",\"\",TODAY())","v":""},{"$f":"IF(BY4=\"\",\"\",\"WTSYSTEMUSER\")","v":""}]
[null,"LinkTo ID",null,null,null,null,null,null,"Role Id",null,null,null,null,null,null,null,{"$f":"IF(R9=\"\",\"\",\"CntrctPrjitmMatSet Id 7\")","v":""},{"$f":"IF('Contract and Quantities'!AS45=\"\",\"\",'Contract and Quantities'!AS45)","v":""},"",null,{"$f":"IF(R9=\"\",\"\",'Contract and Quantities'!AR45)","v":""},{"$f":"IF(R9=\"\",\"\",'Contract and Quantities'!AQ45)","v":""},"","","","","",null,null,null,"Base Type 7",null,null,{"$f":"IF('Test 1'!AI12=\"Y\",\"SampleRecordTest Id 7\",\"\")","v":""},"",{"$f":"IF(AQ9=\"\",\"\",VLOOKUP(AQ9,'Send Sync'!$I$56:$J$145,2,FALSE))","v":""},{"$f":"IF(AH9=\"\",\"\",3)","v":""},{"$f":"IF(AH9=\"\",\"\",'Send Sync'!$R$56)","v":""},{"$f":"IF(AH9=\"\",\"\",'Send Sync'!$T$56)","v":""},null,null,null,{"$f":"IF(AH9=\"\",\"\",IF($C$43=\"QA\",\"Base Type 7 Sieve Analysis (QA)\",\"Base Type 7 Sieve Analysis (QC)\"))","v":""},null,"","",{"$f":"IF(AH9=\"\",\"\",COUNTIF(AJ7:AJ9,AJ9))","v":""},"",null,"","","","","","","","","","","","","","",null,"",null,{"$f":"IF(AH9=\"\",\"\",IF(LEFT(Main!F14,4)=\"1007\",IF('Test 1'!X31=\"YES\",VLOOKUP(\"Pass\",'Send Sync'!$Y$56:$Z$57,2,FALSE),IF('Test 1'!X31=\"NO\",VLOOKUP(\"Fail\",'Send Sync'!$Y$56:$Z$57,2,FALSE),\"\")),\"\"))","v":""},"","",null,null,null,null,null,null,null,{"$f":"IF(AH9=\"\",\"\",\"AgencyEntityInstance Id 7\")","v":""},{"$f":"IF(BY9=\"\",\"\",VLOOKUP(\"CM_Base_Grad_T7\",'Send Sync'!$K$56:$L$96,2,FALSE))","v":""},{"$f":"IF(BY9=\"\",\"\",\"SampleRecordTest Id 7\")","v":""},"",{"$f":"IF(BY9=\"\",\"\",CONCATENATE(\"<Data><cm_base_grad_T7_01_1pt5_inch>\",CO181,\"</cm_base_grad_T7_01_1pt5_inch><cm_base_grad_T7_02_inch>\",CO182,\"</cm_base_grad_T7_02_inch><cm_base_grad_T7_03_no_8>\",CO183,\"</cm_base_grad_T7_03_no_8><cm_base_grad_T7_05_no_200>\",CO184,\"</cm_base_grad_T7_05_no_200><cm_base_grad_T7_08_station_1>\",CO185,\"</cm_base_grad_T7_08_station_1><cm_base_grad_T7_09_station_2>\",CO186,\"</cm_base_grad_T7_09_station_2><cm_base_grad_T7_10_centerline_location>\",CO187,\"</cm_base_grad_T7_10_centerline_location><cm_base_grad_T7_11_tested_by>\",CO188,\"</cm_base_grad_T7_11_tested_by><cm_base_grad_T7_label_01_1pt5_inch>\",CO189,\"</cm_base_grad_T7_label_01_1pt5_inch><cm_base_grad_T7_label_02_inch>\",CO190,\"</cm_base_grad_T7_label_02_inch><cm_base_grad_T7_label_03_no_8>\",CO191,\"</cm_base_grad_T7_label_03_no_8><cm_base_grad_T7_label_05_no_200>\",CO192,\"</cm_base_grad_T7_label_05_no_200><cm_base_grad_T7_label_06>\",CO193,\"</cm_base_grad_T7_label_06><cm_base_grad_T7_label_07>\",CO194,\"</cm_base_grad_T7_label_07><cm_base_grad_T7_label_08>\",CO195,\"</cm_base_grad_T7_label_08><cm_base_grad_T7_label_09>\",CO196,\"</cm_base_grad_T7_label_09><cm_base_grad_T7_spec_01_1pt5_inch_max>\",CO197,\"</cm_base_grad_T7_spec_01_1pt5_inch_max><cm_base_grad_T7_spec_01_1pt5_inch_min>\",CO198,\"</cm_base_grad_T7_spec_01_1pt5_inch_min><cm_base_grad_T7_spec_02_inch_max>\",CO199,\"</cm_base_grad_T7_spec_02_inch_max><cm_base_grad_T7_spec_02_inch_min>\",CO200,\"</cm_base_grad_T7_spec_02_inch_min><cm_base_grad_T7_spec_03_no_8_max>\",CO201,\"</cm_base_grad_T7_spec_03_no_8_max><cm_base_grad_T7_spec_03_no_8_min>\",CO202,\"</cm_base_grad_T7_spec_03_no_8_min><cm_base_grad_T7_spec_05_no_200_max>\",CO203,\"</cm_base_grad_T7_spec_05_no_200_max><cm_base_grad_T7_spec_05_no_200_min>\",CO204,\"</cm_base_grad_T7_spec_05_no_200_min></Data>\"))","v":""},"","","","",null,null,null,null,null,null,null,"",null,{"$f":"IF(BY4=\"\",\"\",\"AgencyEntityInsData Id 7\")","v":""},{"$f":"IF(BY4=\"\",\"\",\"AgencyEntityInstance Id 2\")","v":""},{"$f":"IF(BY4=\"\",\"\",\"cm_base_grad_T1T5_08_station_1\")","v":""},{"$f":"IF(BY4=\"\",\"\",IF('Test 1'!$F16=0,\"\",'Test 1'!$F16))","v":""},{"$f":"IF(BY4=\"\",\"\",TODAY())","v":""},{"$f":"IF(BY4=\"\",\"\",\"WTSYSTEMUSER\")","v":""},{"$f":"IF(BY4=\"\",\"\",TODAY())","v":""},{"$f":"IF(BY4=\"\",\"\",\"WTSYSTEMUSER\")","v":""}]
[null,"LsaurLastModifiedBy ID",null,null,null,null,null,null,"AssociatedValue",{"$f":"'Send Sync'!R56","v":5},null,null,null,null,null,null,{"$f":"IF(R10=\"\",\"\",\"CntrctPrjitmMatSet Id 8\")","v":""},{"$f":"IF('Contract and Quantities'!AS46=\"\",\"\",'Contract and Quantities'!AS46)","v":""},"",null,{"$f":"IF(R10=\"\",\"\",'Contract and Quantities'!AR46)","v":""},{"$f":"IF(R10=\"\",\"\",'Contract and Quantities'!AQ46)","v":""},"","","","","",null,null,null,"T90 Aggregate PI",null,null,{"$f":"IF(OR('Test 1'!AG44=\"Y\",'Test 2'!AG37=\"Y\",'Test 3'!AH11=\"Y\"),\"SampleRecordTest Id 8\",\"\")","v":""},"",{"$f":"IF(AQ10=\"\",\"\",VLOOKUP(AQ10,'Send Sync'!$I$56:$J$145,2,FALSE))","v":""},{"$f":"IF(AH10=\"\",\"\",VALUE(ROW(1:1)))","v":""},{"$f":"IF(AH10=\"\",\"\",'Send Sync'!$R$56)","v":""},{"$f":"IF(AH10=\"\",\"\",'Send Sync'!$T$56)","v":""},null,null,null,{"$f":"IF(AH10=\"\",\"\",IF($C$43=\"QA\",\"AASHTO T90 Aggregate PI (QA)\",\"AASHTO T90 Aggregate PI (QC)\"))","v":""},null,"","",{"$f":"IF(AH10=\"\",\"\",COUNTIF(AJ10:AJ14,AJ10))","v":""},"",null,"","","","","","","","","","","","","","",null,{"$f":"IF($AH10=\"\",\"\",0)","v":""},null,{"$f":"IF(AH10=\"\",\"\",IF(LEFT(Main!F14,4)=\"1007\",IF('Test 1'!D46=\"YES\",VLOOKUP(\"Pass\",'Send Sync'!$Y$56:$Z$57,2,FALSE),IF('Test 1'!D46=\"NO\",VLOOKUP(\"Fail\",'Send Sync'!$Y$56:$Z$57,2,FALSE),\"\")),IF(LEFT(Main!F14,4)=\"1005\",IF('Test 2'!D39=\"YES\",VLOOKUP(\"Pass\",'Send Sync'!$Y$56:$Z$57,2,FALSE),IF('Test 2'!D39=\"NO\",VLOOKUP(\"Fail\",'Send Sync'!$Y$56:$Z$57,2,FALSE),\"\")),\"\")))","v":""},"","",null,null,null,null,null,null,null,{"$f":"IF(AH10=\"\",\"\",\"AgencyEntityInstance Id 8\")","v":""},{"$f":"IF(BY10=\"\",\"\",VLOOKUP(\"CM_PI_Field\",'Send Sync'!$K$56:$L$96,2,FALSE))","v":""},{"$f":"IF(BY10=\"\",\"\",\"SampleRecordTest Id 8\")","v":""},"",{"$f":"IF(BY10=\"\",\"\",CONCATENATE(\"<Data><CM_PlasticityIndex_Base_TestResults>\",CO205,\"</CM_PlasticityIndex_Base_TestResults></Data>\"))","v":""},"","","","",null,null,null,null,null,null,null,"",null,{"$f":"IF(BY4=\"\",\"\",\"AgencyEntityInsData Id 8\")","v":""},{"$f":"IF(BY4=\"\",\"\",\"AgencyEntityInstance Id 2\")","v":""},{"$f":"IF(BY4=\"\",\"\",\"cm_base_grad_T1T5_09_station_2\")","v":""},{"$f":"IF(BY4=\"\",\"\",IF('Test 1'!$J16=0,\"\",'Test 1'!$J16))","v":""},{"$f":"IF(BY4=\"\",\"\",TODAY())","v":""},{"$f":"IF(BY4=\"\",\"\",\"WTSYSTEMUSER\")","v":""},{"$f":"IF(BY4=\"\",\"\",TODAY())","v":""},{"$f":"IF(BY4=\"\",\"\",\"WTSYSTEMUSER\")","v":""}]
[null,"Material ID",{"$f":"Main!J40","v":{"$error":"#N/A"}},null,null,null,null,null,"Created Dt",{"$f":"TODAY()","v":"2024-01-05"},null,null,null,null,null,null,{"$f":"IF(R11=\"\",\"\",\"CntrctPrjitmMatSet Id 9\")","v":""},{"$f":"IF('Contract and Quantities'!AS47=\"\",\"\",'Contract and Quantities'!AS47)","v":""},"",null,{"$f":"IF(R11=\"\",\"\",'Contract and Quantities'!AR47)","v":""},{"$f":"IF(R11=\"\",\"\",'Contract and Quantities'!AQ47)","v":""},"","","","","",null,null,null,"T90 Aggregate PI",null,null,{"$f":"IF(OR('Test 1'!AH44=\"Y\",'Test 2'!AH37=\"Y\",'Test 3'!AI11=\"Y\"),\"SampleRecordTest Id 9\",\"\")","v":""},"",{"$f":"IF(AQ11=\"\",\"\",VLOOKUP(AQ11,'Send Sync'!$I$56:$J$145,2,FALSE))","v":""},{"$f":"IF(AH11=\"\",\"\",VALUE(ROW(2:2)))","v":""},{"$f":"IF(AH11=\"\",\"\",'Send Sync'!$R$56)","v":""},{"$f":"IF(AH11=\"\",\"\",'Send Sync'!$T$56)","v":""},null,null,null,{"$f":"IF(AH11=\"\",\"\",IF($C$43=\"QA\",\"AASHTO T90 Aggregate PI (QA)\",\"AASHTO T90 Aggregate PI (QC)\"))","v":""},null,"","",{"$f":"IF(AH11=\"\",\"\",COUNTIF(AJ10:AJ14,AJ11))","v":""},"",null,"","","","","","","","","","","","","","",null,"",null,{"$f":"IF(AH11=\"\",\"\",IF(LEFT(Main!F14,4)=\"1007\",IF('Test 1'!H46=\"YES\",VLOOKUP(\"Pass\",'Send Sync'!$Y$56:$Z$57,2,FALSE),IF('Test 1'!H46=\"NO\",VLOOKUP(\"Fail\",'Send Sync'!$Y$56:$Z$57,2,FALSE),\"\")),IF(LEFT(Main!F14,4)=\"1005\",IF('Test 2'!H39=\"YES\",VLOOKUP(\"Pass\",'Send Sync'!$Y$56:$Z$57,2,FALSE),IF('Test 2'!H39=\"NO\",VLOOKUP(\"Fail\",'Send Sync'!$Y$56:$Z$57,2,FALSE),\"\")),\"\")))","v":""},"","",null,null,null,null,null,null,null,{"$f":"IF(AH11=\"\",\"\",\"AgencyEntityInstance Id 9\")","v":""},{"$f":"IF(BY11=\"\",\"\",VLOOKUP(\"CM_PI_Field\",'Send Sync'!$K$56:$L$96,2,FALSE))","v":""},{"$f":"IF(BY11=\"\",\"\",\"SampleRecordTest Id 9\")","v":""},"",{"$f":"IF(BY11=\"\",\"\",CONCATENATE(\"<Data><CM_PlasticityIndex_Base_TestResults>\",CO206,\"</CM_PlasticityIndex_Base_TestResults></Data>\"))","v":""},"","","","",null,null,null,null,null,null,null,"",null,{"$f":"IF(BY4=\"\",\"\",\"AgencyEntityInsData Id 9\")","v":""},{"$f":"IF(BY4=\"\",\"\",\"AgencyEntityInstance Id 2\")","v":""},{"$f":"IF(BY4=\"\",\"\",\"cm_base_grad_T1T5_10_centerline_location\")","v":""},{"$f":"IF(BY4=\"\",\"\",IF('Test 1'!I17=\"\",\"\",'Test 1'!I17))","v":""},{"$f":"IF(BY4=\"\",\"\",TODAY())","v":""},{"$f":"IF(BY4=\"\",\"\",\"WTSYSTEMUSER\")","v":""},{"$f":"IF(BY4=\"\",\"\",TODAY())","v":""},{"$f":"IF(BY4=\"\",\"\",\"WTSYSTEMUSER\")","v":""}]
[null,"RevisedBy ID",null,null,null,null,null,null,"Created By","WTSYSTEMUSER",null,null,null,null,null,null,{"$f":"IF(R12=\"\",\"\",\"CntrctPrjitmMatSet Id 10\")","v":""},{"$f":"IF('Contract and Quantities'!AS48=\"\",\"\",'Contract and Quantities'!AS48)","v":""},"",null,{"$f":"IF(R12=\"\",\"\",'Contract and Quantities'!AR48)","v":""},{"$f":"IF(R12=\"\",\"\",'Contract and Quantities'!AQ48)","v":""},"","","","","",null,null,null,"T90 Aggregate PI",null,null,{"$f":"IF(OR('Test 1'!AI44=\"Y\",'Test 2'!AI37=\"Y\"),\"SampleRecordTest Id 10\",\"\")","v":""},"",{"$f":"IF(AQ12=\"\",\"\",VLOOKUP(AQ12,'Send Sync'!$I$56:$J$145,2,FALSE))","v":""},"",{"$f":"IF(AH12=\"\",\"\",'Send Sync'!$R$56)","v":""},{"$f":"IF(AH12=\"\",\"\",'Send Sync'!$T$56)","v":""},null,null,null,{"$f":"IF(AH12=\"\",\"\",IF($C$43=\"QA\",\"AASHTO T90 Aggregate PI (QA)\",\"AASHTO T90 Aggregate PI (QC)\"))","v":""},null,"","",{"$f":"IF(AH12=\"\",\"\",COUNTIF(AJ10:AJ14,AJ12))","v":""},"",null,"","","","","","","","","","","","","","",null,"",null,{"$f":"IF(AH12=\"\",\"\",IF(LEFT(Main!F14,4)=\"1007\",IF('Test 1'!L46=\"YES\",VLOOKUP(\"Pass\",'Send Sync'!$Y$56:$Z$57,2,FALSE),IF('Test 1'!L46=\"NO\",VLOOKUP(\"Fail\",'Send Sync'!$Y$56:$Z$57,2,FALSE),\"\")),IF(LEFT(Main!F14,4)=\"1005\",IF('Test 2'!L39=\"YES\",VLOOKUP(\"Pass\",'Send Sync'!$Y$56:$Z$57,2,FALSE),IF('Test 2'!L39=\"NO\",VLOOKUP(\"Fail\",'Send Sync'!$Y$56:$Z$57,2,FALSE),\"\")),\"\")))","v":""},"","",null,null,null,null,null,null,null,{"$f":"IF(AH12=\"\",\"\",\"AgencyEntityInstance Id 10\")","v":""},{"$f":"IF(BY12=\"\",\"\",VLOOKUP(\"CM_PI_Field\",'Send Sync'!$K$56:$L$96,2,FALSE))","v":""},{"$f":"IF(BY12=\"\",\"\",\"SampleRecordTest Id 10\")","v":""},"",{"$f":"IF(BY12=\"\",\"\",CONCATENATE(\"<Data><CM_PlasticityIndex_Base_TestResults>\",CO207,\"</CM_PlasticityIndex_Base_TestResults></Data>\"))","v":""},"","","","",null,null,null,null,null,null,null,"",null,{"$f":"IF(BY4=\"\",\"\",\"AgencyEntityInsData Id 10\")","v":""},{"$f":"IF(BY4=\"\",\"\",\"AgencyEntityInstance Id 2\")","v":""},{"$f":"IF(BY4=\"\",\"\",\"cm_base_grad_T1T5_11_tested_by\")","v":""},{"$f":"IF(BY4=\"\",\"\",IF('Test 1'!H13=\"\",\"\",'Test 1'!H13))","v":""},{"$f":"IF(BY4=\"\",\"\",TODAY())","v":""},{"$f":"IF(BY4=\"\",\"\",\"WTSYSTEMUSER\")","v":""},{"$f":"IF(BY4=\"\",\"\",TODAY())","v":""},{"$f":"IF(BY4=\"\",\"\",\"WTSYSTEMUSER\")","v":""}]
[null,"RevisingSample ID",null,null,null,null,null,null,"LastUpdated Dt",{"$f":"TODAY()","v":"2024-01-05"},null,null,null,null,null,null,{"$f":"IF(R13=\"\",\"\",\"CntrctPrjitmMatSet Id 11\")","v":""},{"$f":"IF('Contract and Quantities'!AS49=\"\",\"\",'Contract and Quantities'!AS49)","v":""},"",null,{"$f":"IF(R13=\"\",\"\",'Contract and Quantities'!AR49)","v":""},{"$f":"IF(R13=\"\",\"\",'Contract and Quantities'!AQ49)","v":""},"","","","","",null,null,null,"T90 Aggregate PI",null,null,{"$f":"IF('Test 2'!AJ37=\"Y\",\"SampleRecordTest Id 11\",\"\")","v":""},"",{"$f":"IF(AQ13=\"\",\"\",VLOOKUP(AQ13,'Send Sync'!$I$56:$J$145,2,FALSE))","v":""},"",{"$f":"IF(AH13=\"\",\"\",'Send Sync'!$R$56)","v":""},{"$f":"IF(AH13=\"\",\"\",'Send Sync'!$T$56)","v":""},null,null,null,{"$f":"IF(AH13=\"\",\"\",IF($C$43=\"QA\",\"AASHTO T90 Aggregate PI (QA)\",\"AASHTO T90 Aggregate PI (QC)\"))","v":""},null,"","",{"$f":"IF(AH13=\"\",\"\",COUNTIF(AJ10:AJ14,AJ13))","v":""},"",null,"","","","","","","","","","","","","","",null,"",null,{"$f":"IF(AH13=\"\",\"\",IF(LEFT(Main!F14,4)=\"1005\",IF('Test 2'!P39=\"YES\",VLOOKUP(\"Pass\",'Send Sync'!$Y$56:$Z$57,2,FALSE),IF('Test 2'!P39=\"NO\",VLOOKUP(\"Fail\",'Send Sync'!$Y$56:$Z$57,2,FALSE),\"\")),\"\"))","v":""},"","",null,null,null,null,null,null,null,{"$f":"IF(AH13=\"\",\"\",\"AgencyEntityInstance Id 11\")","v":""},{"$f":"IF(BY13=\"\",\"\",VLOOKUP(\"CM_PI_Field\",'Send Sync'!$K$56:$L$96,2,FALSE))","v":""},{"$f":"IF(BY13=\"\",\"\",\"SampleRecordTest Id 11\")","v":""},"",{"$f":"IF(BY13=\"\",\"\",CONCATENATE(\"<Data><CM_PlasticityIndex_Base_TestResults>\",CO208,\"</CM_PlasticityIndex_Base_TestResults></Data>\"))","v":""},"","","","",null,null,null,null,null,null,null,"",null,{"$f":"IF(BY4=\"\",\"\",\"AgencyEntityInsData Id 11\")","v":""},{"$f":"IF(BY4=\"\",\"\",\"AgencyEntityInstance Id 2\")","v":""},{"$f":"IF(BY4=\"\",\"\",\"cm_base_grad_T1T5_half_inch_label\")","v":""},{"$f":"IF(BY4=\"\",\"\",\"1/2\"\" (12.5 mm)\")","v":""},{"$f":"IF(BY4=\"\",\"\",TODAY())","v":""},{"$f":"IF(BY4=\"\",\"\",\"WTSYSTEMUSER\")","v":""},{"$f":"IF(BY4=\"\",\"\",TODAY())","v":""},{"$f":"IF(BY4=\"\",\"\",\"WTSYSTEMUSER\")","v":""}]
[null,"Sampler ID",{"$f":"'Send Sync'!D55","v":{"$error":"#N/A"}},null,null,null,null,null,"LastUpdated By","WTSYSTEMUSER",null,null,null,null,null,null,{"$f":"IF(R14=\"\",\"\",\"CntrctPrjitmMatSet Id 12\")","v":""},{"$f":"IF('Contract and Quantities'!AS50=\"\",\"\",'Contract and Quantities'!AS50)","v":""},"",null,{"$f":"IF(R14=\"\",\"\",'Contract and Quantities'!AR50)","v":""},{"$f":"IF(R14=\"\",\"\",'Contract and Quantities'!AQ50)","v":""},"","","","","",null,null,null,"T90 Aggregate PI",null,null,{"$f":"IF('Test 2'!AK37=\"Y\",\"SampleRecordTest Id 12\",\"\")","v":""},"",{"$f":"IF(AQ14=\"\",\"\",VLOOKUP(AQ14,'Send Sync'!$I$56:$J$145,2,FALSE))","v":""},"",{"$f":"IF(AH14=\"\",\"\",'Send Sync'!$R$56)","v":""},{"$f":"IF(AH14=\"\",\"\",'Send Sync'!$T$56)","v":""},null,null,null,{"$f":"IF(AH14=\"\",\"\",IF($C$43=\"QA\",\"AASHTO T90 Aggregate PI (QA)\",\"AASHTO T90 Aggregate PI (QC)\"))","v":""},null,"","",{"$f":"IF(AH14=\"\",\"\",COUNTIF(AJ10:AJ14,AJ14))","v":""},"",null,"","","","","","","","","","","","","","",null,"",null,{"$f":"IF(AH14=\"\",\"\",IF(LEFT(Main!F14,4)=\"1005\",IF('Test 2'!T39=\"YES\",VLOOKUP(\"Pass\",'Send Sync'!$Y$56:$Z$57,2,FALSE),IF('Test 2'!T39=\"NO\",VLOOKUP(\"Fail\",'Send Sync'!$Y$56:$Z$57,2,FALSE),\"\")),\"\"))","v":""},"","",null,null,null,null,null,null,null,{"$f":"IF(AH14=\"\",\"\",\"AgencyEntityInstance Id 12\")","v":""},{"$f":"IF(BY14=\"\",\"\",VLOOKUP(\"CM_PI_Field\",'Send Sync'!$K$56:$L$96,2,FALSE))","v":""},{"$f":"IF(BY14=\"\",\"\",\"SampleRecordTest Id 12\")","v":""},"",{"$f":"IF(BY14=\"\",\"\",CONCATENATE(\"<Data><CM_PlasticityIndex_Base_TestResults>\",CO209,\"</CM_PlasticityIndex_Base_TestResults></Data>\"))","v":""},"","","","",null,null,null,null,null,null,null,"",null,{"$f":"IF(BY4=\"\",\"\",\"AgencyEntityInsData Id 12\")","v":""},{"$f":"IF(BY4=\"\",\"\",\"AgencyEntityInstance Id 2\")","v":""},{"$f":"IF(BY4=\"\",\"\",\"cm_base_grad_T1T5_half_inch_max\")","v":""},{"$f":"IF(BY4=\"\",\"\",\"90\")","v":""},{"$f":"IF(BY4=\"\",\"\",TODAY())","v":""},{"$f":"IF(BY4=\"\",\"\",\"WTSYSTEMUSER\")","v":""},{"$f":"IF(BY4=\"\",\"\",TODAY())","v":""},{"$f":"IF(BY4=\"\",\"\",\"WTSYSTEMUSER\")","v":""}]
[null,"Smfmi ID",null,null,null,null,null,null,"ReceivedDate",{"$f":"TODAY()","v":"2024-01-05"},null,null,null,null,null,null,{"$f":"IF(R15=\"\",\"\",\"CntrctPrjitmMatSet Id 13\")","v":""},{"$f":"IF('Contract and Quantities'!AS51=\"\",\"\",'Contract and Quantities'!AS51)","v":""},"",null,{"$f":"IF(R15=\"\",\"\",'Contract and Quantities'!AR51)","v":""},{"$f":"IF(R15=\"\",\"\",'Contract and Quantities'!AQ51)","v":""},"","","","","",null,null,null,"Deleterious",null,null,{"$f":"IF(OR('Test 1'!AG38=\"Y\",'Test 2'!AG41=\"Y\",'Test 2'!AG42=\"Y\"),\"SampleRecordTest Id 13\",\"\")","v":""},"",{"$f":"IF(AQ15=\"\",\"\",VLOOKUP(AQ15,'Send Sync'!$I$56:$J$145,2,FALSE))","v":""},{"$f":"IF(AH15=\"\",\"\",1)","v":""},{"$f":"IF(AH15=\"\",\"\",'Send Sync'!$R$56)","v":""},{"$f":"IF(AH15=\"\",\"\",'Send Sync'!$T$56)","v":""},null,null,null,{"$f":"IF(AH15=\"\",\"\",IF($C$43=\"QA\",\"MoDOT TM71 Generic Deleterious Template (QA)\",\"MoDOT TM71 Generic Deleterious Template (QC)\"))","v":""},null,"","",{"$f":"IF(AH15=\"\",\"\",COUNTIF(AJ15:AJ19,AJ15))","v":""},"",null,"","","","","","","","","","","","","","",null,"",null,{"$f":"IF(AH15=\"\",\"\",IF(LEFT(Main!F14,4)=\"1007\",IF('Test 1'!D39=\"YES\",VLOOKUP(\"Pass\",'Send Sync'!$Y$56:$Z$57,2,FALSE),IF('Test 1'!D39=\"NO\",VLOOKUP(\"Fail\",'Send Sync'!$Y$56:$Z$57,2,FALSE),\"\")),IF(OR(LEFT(Main!F14,4)=\"1005\",LEFT(Main!F14,4)=\"1003\"),IF('Test 2'!D52=\"YES\",VLOOKUP(\"Pass\",'Send Sync'!$Y$56:$Z$57,2,FALSE),IF('Test 2'!D52=\"NO\",VLOOKUP(\"Fail\",'Send Sync'!$Y$56:$Z$57,2,FALSE),\"\")),\"\")))","v":""},"","",null,null,null,null,null,null,null,{"$f":"IF(AH15=\"\",\"\",\"AgencyEntityInstance Id 13\")","v":""},{"$f":"IF(BY15=\"\",\"\",VLOOKUP(\"CM_Del\",'Send Sync'!$K$56:$L$96,2,FALSE))","v":""},{"$f":"IF(BY15=\"\",\"\",\"SampleRecordTest Id 13\")","v":""},"",{"$f":"IF(BY15=\"\",\"\",CONCATENATE(\"<Data><del_ca_200>\",CO210,\"</del_ca_200><del_ca_chert>\",CO211,\"</del_ca_chert><del_ca_clay>\",CO212,\"</del_ca_clay><del_ca_mud>\",CO213,\"</del_ca_mud><del_ca_mud_sh>\",CO214,\"</del_ca_mud_sh><del_ca_ofm>\",CO215,\"</del_ca_ofm><del_ca_rock>\",CO216,\"</del_ca_rock><del_ca_rock_sh>\",CO217,\"</del_ca_rock_sh><del_ca_sh>\",CO218,\"</del_ca_sh><del_fa_clay_sh>\",CO219,\"</del_fa_clay_sh><del_fa_coal>\",CO220,\"</del_fa_coal><del_fa_lw>\",CO221,\"</del_fa_lw><del_fa_other>\",CO222,\"</del_fa_other><del_man_sand>\",CO223,\"</del_man_sand><del_material>\",CO224,\"</del_material><del_nat_sand>\",CO225,\"</del_nat_sand><del_tot_del>\",CO226,\"</del_tot_del></Data>\"))","v":""},"","","","",null,null,null,null,null,null,null,"",null,{"$f":"IF(BY4=\"\",\"\",\"AgencyEntityInsData Id 13\")","v":""},{"$f":"IF(BY4=\"\",\"\",\"AgencyEntityInstance Id 2\")","v":""},{"$f":"IF(BY4=\"\",\"\",\"cm_base_grad_T1T5_half_inch_min\")","v":""},{"$f":"IF(BY4=\"\",\"\",\"60\")","v":""},{"$f":"IF(BY4=\"\",\"\",TODAY())","v":""},{"$f":"IF(BY4=\"\",\"\",\"WTSYSTEMUSER\")","v":""},{"$f":"IF(BY4=\"\",\"\",TODAY())","v":""},{"$f":"IF(BY4=\"\",\"\",\"WTSYSTEMUSER\")","v":""}]
[null,"Source ID",{"$f":"Main!J42","v":{"$error":"#N/A"}},null,null,null,null,null,null,null,null,null,null,null,null,null,{"$f":"IF(R16=\"\",\"\",\"CntrctPrjitmMatSet Id 14\")","v":""},{"$f":"IF('Contract and Quantities'!AS52=\"\",\"\",'Contract and Quantities'!AS52)","v":""},"",null,{"$f":"IF(R16=\"\",\"\",'Contract and Quantities'!AR52)","v":""},{"$f":"IF(R16=\"\",\"\",'Contract and Quantities'!AQ52)","v":""},"","","","","",null,null,null,"Deleterious",null,null,{"$f":"IF(OR('Test 1'!AH38=\"Y\",'Test 2'!AH41=\"Y\",'Test 2'!AH42=\"Y\"),\"SampleRecordTest Id 14\",\"\")","v":""},"",{"$f":"IF(AQ16=\"\",\"\",VLOOKUP(AQ16,'Send Sync'!$I$56:$J$145,2,FALSE))","v":""},{"$f":"IF(AH16=\"\",\"\",2)","v":""},{"$f":"IF(AH16=\"\",\"\",'Send Sync'!$R$56)","v":""},{"$f":"IF(AH16=\"\",\"\",'Send Sync'!$T$56)","v":""},null,null,null,{"$f":"IF(AH16=\"\",\"\",IF($C$43=\"QA\",\"MoDOT TM71 Generic Deleterious Template (QA)\",\"MoDOT TM71 Generic Deleterious Template (QC)\"))","v":""},null,"","",{"$f":"IF(AH16=\"\",\"\",COUNTIF(AJ15:AJ19,AJ16))","v":""},"",null,"","","","","","","","","","","","","","",null,"",null,{"$f":"IF(AH16=\"\",\"\",IF(LEFT(Main!F14,4)=\"1007\",IF('Test 1'!H39=\"YES\",VLOOKUP(\"Pass\",'Send Sync'!$Y$56:$Z$57,2,FALSE),IF('Test 1'!H39=\"NO\",VLOOKUP(\"Fail\",'Send Sync'!$Y$56:$Z$57,2,FALSE),\"\")),IF(OR(LEFT(Main!F14,4)=\"1005\",LEFT(Main!F14,4)=\"1003\"),IF('Test 2'!H52=\"YES\",VLOOKUP(\"Pass\",'Send Sync'!$Y$56:$Z$57,2,FALSE),IF('Test 2'!H52=\"NO\",VLOOKUP(\"Fail\",'Send Sync'!$Y$56:$Z$57,2,FALSE),\"\")),\"\")))","v":""},"","",null,null,null,null,null,null,null,{"$f":"IF(AH16=\"\",\"\",\"AgencyEntityInstance Id 14\")","v":""},{"$f":"IF(BY16=\"\",\"\",VLOOKUP(\"CM_Del\",'Send Sync'!$K$56:$L$96,2,FALSE))","v":""},{"$f":"IF(BY16=\"\",\"\",\"SampleRecordTest Id 14\")","v":""},"",{"$f":"IF(BY16=\"\",\"\",CONCATENATE(\"<Data><del_ca_200>\",CO227,\"</del_ca_200><del_ca_chert>\",CO228,\"</del_ca_chert><del_ca_clay>\",CO229,\"</del_ca_clay><del_ca_mud>\",CO230,\"</del_ca_mud><del_ca_mud_sh>\",CO231,\"</del_ca_mud_sh><del_ca_ofm>\",CO232,\"</del_ca_ofm><del_ca_rock>\",CO233,\"</del_ca_rock><del_ca_rock_sh>\",CO234,\"</del_ca_rock_sh><del_ca_sh>\",CO235,\"</del_ca_sh><del_fa_clay_sh>\",CO236,\"</del_fa_clay_sh><del_fa_coal>\",CO237,\"</del_fa_coal><del_fa_lw>\",CO238,\"</del_fa_lw><del_fa_other>\",CO239,\"</del_fa_other><del_man_sand>\",CO240,\"</del_man_sand><del_material>\",CO241,\"</del_material><del_nat_sand>\",CO242,\"</del_nat_sand><del_tot_del>\",CO243,\"</del_tot_del></Data>\"))","v":""},"","","","",null,null,null,null,null,null,null,"",null,{"$f":"IF(BY4=\"\",\"\",\"AgencyEntityInsData Id 14\")","v":""},{"$f":"IF(BY4=\"\",\"\",\"AgencyEntityInstance Id 2\")","v":""},{"$f":"IF(BY4=\"\",\"\",\"cm_base_grad_T1T5_inch_label\")","v":""},{"$f":"IF(BY4=\"\",\"\",\"1\"\" (25.0 mm)\")","v":""},{"$f":"IF(BY4=\"\",\"\",TODAY())","v":""},{"$f":"IF(BY4=\"\",\"\",\"WTSYSTEMUSER\")","v":""},{"$f":"IF(BY4=\"\",\"\",TODAY())","v":""},{"$f":"IF(BY4=\"\",\"\",\"WTSYSTEMUSER\")","v":""}]
[null,"WitnessedBy ID",null,null,null,null,null,null,null,null,null,null,null,null,null,null,{"$f":"IF(R17=\"\",\"\",\"CntrctPrjitmMatSet Id 14\")","v":""},{"$f":"IF('Contract and Quantities'!AS53=\"\",\"\",'Contract and Quantities'!AS53)","v":""},{"$f":"IF(R17=\"\",\"\",\"Sample Id\")","v":""},null,{"$f":"IF(R17=\"\",\"\",'Contract and Quantities'!AR53)","v":""},{"$f":"IF(R17=\"\",\"\",'Contract and Quantities'!AQ53)","v":""},{"$f":"IF(R17=\"\",\"\",0)","v":""},{"$f":"IF(R17=\"\",\"\",TODAY())","v":""},{"$f":"IF(R17=\"\",\"\",\"WTSYSTEMUSER\")","v":""},{"$f":"IF(R17=\"\",\"\",TODAY())","v":""},{"$f":"IF(R17=\"\",\"\",\"WTSYSTEMUSER\")","v":""},null,null,null,"Deleterious",null,null,{"$f":"IF(OR('Test 1'!AI38=\"Y\",'Test 2'!AI41=\"Y\",'Test 2'!AI42=\"Y\"),\"SampleRecordTest Id 15\",\"\")","v":""},"",{"$f":"IF(AQ17=\"\",\"\",VLOOKUP(AQ17,'Send Sync'!$I$56:$J$145,2,FALSE))","v":""},{"$f":"IF(AH17=\"\",\"\",3)","v":""},{"$f":"IF(AH17=\"\",\"\",'Send Sync'!$R$56)","v":""},{"$f":"IF(AH17=\"\",\"\",'Send Sync'!$T$56)","v":""},null,null,null,{"$f":"IF(AH17=\"\",\"\",IF($C$43=\"QA\",\"MoDOT TM71 Generic Deleterious Template (QA)\",\"MoDOT TM71 Generic Deleterious Template (QC)\"))","v":""},null,"","",{"$f":"IF(AH17=\"\",\"\",COUNTIF(AJ15:AJ19,AJ17))","v":""},"",null,"","","","","","","","","","","","","","",null,"",null,{"$f":"IF(AH17=\"\",\"\",IF(LEFT(Main!F14,4)=\"1007\",IF('Test 1'!L39=\"YES\",VLOOKUP(\"Pass\",'Send Sync'!$Y$56:$Z$57,2,FALSE),IF('Test 1'!L39=\"NO\",VLOOKUP(\"Fail\",'Send Sync'!$Y$56:$Z$57,2,FALSE),\"\")),IF(OR(LEFT(Main!F14,4)=\"1005\",LEFT(Main!F14,4)=\"1003\"),IF('Test 2'!L52=\"YES\",VLOOKUP(\"Pass\",'Send Sync'!$Y$56:$Z$57,2,FALSE),IF('Test 2'!L52=\"NO\",VLOOKUP(\"Fail\",'Send Sync'!$Y$56:$Z$57,2,FALSE),\"\")),\"\")))","v":""},"","",null,null,null,null,null,null,null,{"$f":"IF(AH17=\"\",\"\",\"AgencyEntityInstance Id 15\")","v":""},{"$f":"IF(BY17=\"\",\"\",VLOOKUP(\"CM_Del\",'Send Sync'!$K$56:$L$96,2,FALSE))","v":""},{"$f":"IF(BY17=\"\",\"\",\"SampleRecordTest Id 15\")","v":""},"",{"$f":"IF(BY17=\"\",\"\",CONCATENATE(\"<Data><del_ca_200>\",CO244,\"</del_ca_200><del_ca_chert>\",CO245,\"</del_ca_chert><del_ca_clay>\",CO246,\"</del_ca_clay><del_ca_mud>\",CO247,\"</del_ca_mud><del_ca_mud_sh>\",CO248,\"</del_ca_mud_sh><del_ca_ofm>\",CO249,\"</del_ca_ofm><del_ca_rock>\",CO250,\"</del_ca_rock><del_ca_rock_sh>\",CO251,\"</del_ca_rock_sh><del_ca_sh>\",CO252,\"</del_ca_sh><del_fa_clay_sh>\",CO253,\"</del_fa_clay_sh><del_fa_coal>\",CO254,\"</del_fa_coal><del_fa_lw>\",CO255,\"</del_fa_lw><del_fa_other>\",CO256,\"</del_fa_other><del_man_sand>\",CO257,\"</del_man_sand><del_material>\",CO258,\"</del_material><del_nat_sand>\",CO259,\"</del_nat_sand><del_tot_del>\",CO260,\"</del_tot_del></Data>\"))","v":""},"","","","",null,null,null,null,null,null,null,"",null,{"$f":"IF(BY4=\"\",\"\",\"AgencyEntityInsData Id 15\")","v":""},{"$f":"IF(BY4=\"\",\"\",\"AgencyEntityInstance Id 2\")","v":""},{"$f":"IF(BY4=\"\",\"\",\"cm_base_grad_T1T5_inch_max\")","v":""},{"$f":"IF(BY4=\"\",\"\",\"100\")","v":""},{"$f":"IF(BY4=\"\",\"\",TODAY())","v":""},{"$f":"IF(BY4=\"\",\"\",\"WTSYSTEMUSER\")","v":""},{"$f":"IF(BY4=\"\",\"\",TODAY())","v":""},{"$f":"IF(BY4=\"\",\"\",\"WTSYSTEMUSER\")","v":""}]
[null,"AcceptanceMethod",{"$f":"Main!R40","v":"SATE"},null,null,null,null,null,null,null,null,null,null,null,null,null,"",{"$f":"IF('Contract and Quantities'!AS54=\"\",\"\",'Contract and Quantities'!AS54)","v":""},"",null,{"$f":"IF(R18=\"\",\"\",'Contract and Quantities'!AR54)","v":""},{"$f":"IF(R18=\"\",\"\",'Contract and Quantities'!AQ54)","v":""},"","","","","",null,null,null,"Deleterious",null,null,{"$f":"IF(OR('Test 2'!AJ41=\"Y\",'Test 2'!AJ42=\"Y\"),\"SampleRecordTest Id 16\",\"\")","v":""},"",{"$f":"IF(AQ18=\"\",\"\",VLOOKUP(AQ18,'Send Sync'!$I$56:$J$145,2,FALSE))","v":""},{"$f":"IF(AH18=\"\",\"\",4)","v":""},{"$f":"IF(AH18=\"\",\"\",'Send Sync'!$R$56)","v":""},{"$f":"IF(AH18=\"\",\"\",'Send Sync'!$T$56)","v":""},null,null,null,{"$f":"IF(AH18=\"\",\"\",IF($C$43=\"QA\",\"MoDOT TM71 Generic Deleterious Template (QA)\",\"MoDOT TM71 Generic Deleterious Template (QC)\"))","v":""},null,"","",{"$f":"IF(AH18=\"\",\"\",COUNTIF(AJ15:AJ19,AJ18))","v":""},"",null,"","","","","","","","","","","","","","",null,"",null,{"$f":"IF(AH18=\"\",\"\",IF(OR(LEFT(Main!F14,4)=\"1005\",LEFT(Main!F14,4)=\"1003\"),IF('Test 2'!P52=\"YES\",VLOOKUP(\"Pass\",'Send Sync'!$Y$56:$Z$57,2,FALSE),IF('Test 2'!P52=\"NO\",VLOOKUP(\"Fail\",'Send Sync'!$Y$56:$Z$57,2,FALSE),\"\")),\"\"))","v":""},"","",null,null,null,null,null,null,null,{"$f":"IF(AH18=\"\",\"\",\"AgencyEntityInstance Id 16\")","v":""},{"$f":"IF(BY18=\"\",\"\",VLOOKUP(\"CM_Del\",'Send Sync'!$K$56:$L$96,2,FALSE))","v":""},{"$f":"IF(BY18=\"\",\"\",\"SampleRecordTest Id 16\")","v":""},"",{"$f":"IF(BY18=\"\",\"\",CONCATENATE(\"<Data><del_ca_200>\",CO261,\"</del_ca_200><del_ca_chert>\",CO262,\"</del_ca_chert><del_ca_clay>\",CO263,\"</del_ca_clay><del_ca_mud>\",CO264,\"</del_ca_mud><del_ca_mud_sh>\",CO265,\"</del_ca_mud_sh><del_ca_ofm>\",CO266,\"</del_ca_ofm><del_ca_rock>\",CO267,\"</del_ca_rock><del_ca_rock_sh>\",CO268,\"</del_ca_rock_sh><del_ca_sh>\",CO269,\"</del_ca_sh><del_fa_clay_sh>\",CO270,\"</del_fa_clay_sh><del_fa_coal>\",CO271,\"</del_fa_coal><del_fa_lw>\",CO272,\"</del_fa_lw><del_fa_other>\",CO273,\"</del_fa_other><del_man_sand>\",CO274,\"</del_man_sand><del_material>\",CO275,\"</del_material><del_nat_sand>\",CO276,\"</del_nat_sand><del_tot_del>\",CO277,\"</del_tot_del></Data>\"))","v":""},"","","","",null,null,null,null,null,null,null,"",null,{"$f":"IF(BY4=\"\",\"\",\"AgencyEntityInsData Id 16\")","v":""},{"$f":"IF(BY4=\"\",\"\",\"AgencyEntityInstance Id 2\")","v":""},{"$f":"IF(BY4=\"\",\"\",\"cm_base_grad_T1T5_inch_min\")","v":""},{"$f":"IF(BY4=\"\",\"\",\"100\")","v":""},{"$f":"IF(BY4=\"\",\"\",TODAY())","v":""},{"$f":"IF(BY4=\"\",\"\",\"WTSYSTEMUSER\")","v":""},{"$f":"IF(BY4=\"\",\"\",TODAY())","v":""},{"$f":"IF(BY4=\"\",\"\",\"WTSYSTEMUSER\")","v":""}]
[null,"Authorized Dt",null,null,null,null,null,null,null,null,null,null,null,null,null,null,"",{"$f":"IF('Contract and Quantities'!AS55=\"\",\"\",'Contract and Quantities'!AS55)","v":""},"",null,{"$f":"IF(R19=\"\",\"\",'Contract and Quantities'!AR55)","v":""},{"$f":"IF(R19=\"\",\"\",'Contract and Quantities'!AQ55)","v":""},"","","","","",null,null,null,"Deleterious",null,null,{"$f":"IF(OR('Test 2'!AK41=\"Y\",'Test 2'!AK42=\"Y\"),\"SampleRecordTest Id 17\",\"\")","v":""},"",{"$f":"IF(AQ19=\"\",\"\",VLOOKUP(AQ19,'Send Sync'!$I$56:$J$145,2,FALSE))","v":""},{"$f":"IF(AH19=\"\",\"\",5)","v":""},{"$f":"IF(AH19=\"\",\"\",'Send Sync'!$R$56)","v":""},{"$f":"IF(AH19=\"\",\"\",'Send Sync'!$T$56)","v":""},null,null,null,{"$f":"IF(AH19=\"\",\"\",IF($C$43=\"QA\",\"MoDOT TM71 Generic Deleterious Template (QA)\",\"MoDOT TM71 Generic Deleterious Template (QC)\"))","v":""},null,"","",{"$f":"IF(AH19=\"\",\"\",COUNTIF(AJ15:AJ19,AJ19))","v":""},"",null,"","","","","","","","","","","","","","",null,"",null,{"$f":"IF(AH19=\"\",\"\",IF(OR(LEFT(Main!F14,4)=\"1005\",LEFT(Main!F14,4)=\"1003\"),IF('Test 2'!T52=\"YES\",VLOOKUP(\"Pass\",'Send Sync'!$Y$56:$Z$57,2,FALSE),IF('Test 2'!T52=\"NO\",VLOOKUP(\"Fail\",'Send Sync'!$Y$56:$Z$57,2,FALSE),\"\")),\"\"))","v":""},"","",null,null,null,null,null,null,null,{"$f":"IF(AH19=\"\",\"\",\"AgencyEntityInstance Id 17\")","v":""},{"$f":"IF(BY19=\"\",\"\",VLOOKUP(\"CM_Del\",'Send Sync'!$K$56:$L$96,2,FALSE))","v":""},{"$f":"IF(BY19=\"\",\"\",\"SampleRecordTest Id 17\")","v":""},"",{"$f":"IF(BY19=\"\",\"\",CONCATENATE(\"<Data><del_ca_200>\",CO278,\"</del_ca_200><del_ca_chert>\",CO279,\"</del_ca_chert><del_ca_clay>\",CO280,\"</del_ca_clay><del_ca_mud>\",CO281,\"</del_ca_mud><del_ca_mud_sh>\",CO282,\"</del_ca_mud_sh><del_ca_ofm>\",CO283,\"</del_ca_ofm><del_ca_rock>\",CO284,\"</del_ca_rock><del_ca_rock_sh>\",CO285,\"</del_ca_rock_sh><del_ca_sh>\",CO286,\"</del_ca_sh><del_fa_clay_sh>\",CO287,\"</del_fa_clay_sh><del_fa_coal>\",CO288,\"</del_fa_coal><del_fa_lw>\",CO289,\"</del_fa_lw><del_fa_other>\",CO290,\"</del_fa_other><del_man_sand>\",CO291,\"</del_man_sand><del_material>\",CO292,\"</del_material><del_nat_sand>\",CO293,\"</del_nat_sand><del_tot_del>\",CO294,\"</del_tot_del></Data>\"))","v":""},"","","","",null,null,null,null,null,null,null,"",null,{"$f":"IF(BY4=\"\",\"\",\"AgencyEntityInsData Id 17\")","v":""},{"$f":"IF(BY4=\"\",\"\",\"AgencyEntityInstance Id 2\")","v":""},{"$f":"IF(BY4=\"\",\"\",\"cm_base_grad_T1T5_label_01_inch\")","v":""},{"$f":"IF(BY4=\"\",\"\",\"1\"\" (25.0 mm)\")","v":""},{"$f":"IF(BY4=\"\",\"\",TODAY())","v":""},{"$f":"IF(BY4=\"\",\"\",\"WTSYSTEMUSER\")","v":""},{"$f":"IF(BY4=\"\",\"\",TODAY())","v":""},{"$f":"IF(BY4=\"\",\"\",\"WTSYSTEMUSER\")","v":""}]
[null,"BuyUsaRequirements",null,null,null,null,null,null,null,null,null,null,null,null,null,null,"",{"$f":"IF('Contract and Quantities'!AS56=\"\",\"\",'Contract and Quantities'!AS56)","v":""},"",null,{"$f":"IF(R20=\"\",\"\",'Contract and Quantities'!AR56)","v":""},{"$f":"IF(R20=\"\",\"\",'Contract and Quantities'!AQ56)","v":""},"","","","","",null,null,null,"T27",null,null,{"$f":"IF(OR('Test 2'!AG13=\"Y\",'Test 2'!AG14=\"Y\"),\"SampleRecordTest Id 18\",\"\")","v":""},"",{"$f":"IF(AQ20=\"\",\"\",VLOOKUP(AQ20,'Send Sync'!$I$56:$J$145,2,FALSE))","v":""},{"$f":"IF(AH20=\"\",\"\",1)","v":""},{"$f":"IF(AH20=\"\",\"\",'Send Sync'!$R$56)","v":""},{"$f":"IF(AH20=\"\",\"\",'Send Sync'!$T$56)","v":""},null,null,null,{"$f":"IF(AH20=\"\",\"\",IF($C$43=\"QA\",\"AASHTO T27 Sieve Analysis (QA)\",\"AASHTO T27 Sieve Analysis (QC)\"))","v":""},null,"","",{"$f":"IF(AH20=\"\",\"\",COUNTIF(AJ20:AJ24,AJ20))","v":""},"",null,"","","","","","","","","","","","","","",null,{"$f":"IF(AH20=\"\",\"\",0)","v":""},null,{"$f":"IF(AH20=\"\",\"\",IF(OR(LEFT(Main!F14,4)=\"1005\",LEFT(Main!F14,4)=\"1003\"),IF('Test 2'!D32=\"YES\",VLOOKUP(\"Pass\",'Send Sync'!$Y$56:$Z$57,2,FALSE),IF('Test 2'!D32=\"NO\",VLOOKUP(\"Fail\",'Send Sync'!$Y$56:$Z$57,2,FALSE),\"\")),\"\"))","v":""},"","",null,null,null,null,null,null,null,{"$f":"IF(AH20=\"\",\"\",\"AgencyEntityInstance Id 18\")","v":""},{"$f":"IF(BY20=\"\",\"\",VLOOKUP(\"CM_T27_Detail\",'Send Sync'!$K$56:$L$96,2,FALSE))","v":""},{"$f":"IF(BY20=\"\",\"\",\"SampleRecordTest Id 18\")","v":""},"",{"$f":"IF(BY20=\"\",\"\",CONCATENATE(\"<Data><cm_t27_detail_inspec>\",CO295,\"</cm_t27_detail_inspec></Data>\"))","v":""},"","","","",null,null,null,null,null,null,null,"",null,{"$f":"IF(BY4=\"\",\"\",\"AgencyEntityInsData Id 18\")","v":""},{"$f":"IF(BY4=\"\",\"\",\"AgencyEntityInstance Id 2\")","v":""},{"$f":"IF(BY4=\"\",\"\",\"cm_base_grad_T1T5_label_02_half_inch\")","v":""},{"$f":"IF(BY4=\"\",\"\",\"1/2\"\" (12.5 mm)\")","v":""},{"$f":"IF(BY4=\"\",\"\",TODAY())","v":""},{"$f":"IF(BY4=\"\",\"\",\"WTSYSTEMUSER\")","v":""},{"$f":"IF(BY4=\"\",\"\",TODAY())","v":""},{"$f":"IF(BY4=\"\",\"\",\"WTSYSTEMUSER\")","v":""}]
[null,"ControlNumber",null,null,null,null,null,null,null,null,null,null,null,null,null,null,"",{"$f":"IF('Contract and Quantities'!AS57=\"\",\"\",'Contract and Quantities'!AS57)","v":""},"",null,{"$f":"IF(R21=\"\",\"\",'Contract and Quantities'!AR57)","v":""},{"$f":"IF(R21=\"\",\"\",'Contract and Quantities'!AQ57)","v":""},"","","","","",null,null,null,"T27",null,null,{"$f":"IF(OR('Test 2'!AH13=\"Y\",'Test 2'!AH14=\"Y\"),\"SampleRecordTest Id 19\",\"\")","v":""},"",{"$f":"IF(AQ21=\"\",\"\",VLOOKUP(AQ21,'Send Sync'!$I$56:$J$145,2,FALSE))","v":""},{"$f":"IF(AH21=\"\",\"\",2)","v":""},{"$f":"IF(AH21=\"\",\"\",'Send Sync'!$R$56)","v":""},{"$f":"IF(AH21=\"\",\"\",'Send Sync'!$T$56)","v":""},null,null,null,{"$f":"IF(AH21=\"\",\"\",IF($C$43=\"QA\",\"AASHTO T27 Sieve Analysis (QA)\",\"AASHTO T27 Sieve Analysis (QC)\"))","v":""},null,"","",{"$f":"IF(AH21=\"\",\"\",COUNTIF(AJ20:AJ24,AJ21))","v":""},"",null,"","","","","","","","","","","","","","",null,"",null,{"$f":"IF(AH21=\"\",\"\",IF(OR(LEFT(Main!F14,4)=\"1005\",LEFT(Main!F14,4)=\"1003\"),IF('Test 2'!H32=\"YES\",VLOOKUP(\"Pass\",'Send Sync'!$Y$56:$Z$57,2,FALSE),IF('Test 2'!H32=\"NO\",VLOOKUP(\"Fail\",'Send Sync'!$Y$56:$Z$57,2,FALSE),\"\")),\"\"))","v":""},"","",null,null,null,null,null,null,null,{"$f":"IF(AH20=\"\",\"\",\"AgencyEntityInstance Id 19\")","v":""},{"$f":"IF(BY20=\"\",\"\",VLOOKUP(\"CM_T27_List\",'Send Sync'!$K$56:$L$96,2,FALSE))","v":""},null,{"$f":"IF(BY20=\"\",\"\",\"AgencyEntityInstance Id 18\")","v":""},{"$f":"IF(BY20=\"\",\"\",CONCATENATE(\"<Data><cm_t27_list_inspecrow>\",CO296,\"</cm_t27_list_inspecrow><cm_t27_list_max>\",CO297,\"</cm_t27_list_max><cm_t27_list_min>\",CO298,\"</cm_t27_list_min><cm_t27_list_order>\",CO299,\"</cm_t27_list_order><cm_t27_list_pct_passing>\",CO300,\"</cm_t27_list_pct_passing><cm_t27_list_sieve>\",CO301,\"</cm_t27_list_sieve></Data>\"))","v":""},{"$f":"IF(BY20=\"\",\"\",TODAY())","v":""},{"$f":"IF(BY20=\"\",\"\",\"WTSYSTEMUSER\")","v":""},{"$f":"IF(BY20=\"\",\"\",TODAY())","v":""},{"$f":"IF(BY20=\"\",\"\",\"WTSYSTEMUSER\")","v":""},null,null,null,null,null,null,null,"",null,{"$f":"IF(BY4=\"\",\"\",\"AgencyEntityInsData Id 19\")","v":""},{"$f":"IF(BY4=\"\",\"\",\"AgencyEntityInstance Id 2\")","v":""},{"$f":"IF(BY4=\"\",\"\",\"cm_base_grad_T1T5_label_03_no_4\")","v":""},{"$f":"IF(BY4=\"\",\"\",\"No. 4 (4.75 mm)\")","v":""},{"$f":"IF(BY4=\"\",\"\",TODAY())","v":""},{"$f":"IF(BY4=\"\",\"\",\"WTSYSTEMUSER\")","v":""},{"$f":"IF(BY4=\"\",\"\",TODAY())","v":""},{"$f":"IF(BY4=\"\",\"\",\"WTSYSTEMUSER\")","v":""}]
[null,"ControlType",null,null,null,null,null,null,null,null,null,null,null,null,null,null,"",{"$f":"IF('Contract and Quantities'!AS58=\"\",\"\",'Contract and Quantities'!AS58)","v":""},"",null,{"$f":"IF(R22=\"\",\"\",'Contract and Quantities'!AR58)","v":""},{"$f":"IF(R22=\"\",\"\",'Contract and Quantities'!AQ58)","v":""},"","","","","",null,null,null,"T27",null,null,{"$f":"IF(OR('Test 2'!AI13=\"Y\",'Test 2'!AI14=\"Y\"),\"SampleRecordTest Id 20\",\"\")","v":""},"",{"$f":"IF(AQ22=\"\",\"\",VLOOKUP(AQ22,'Send Sync'!$I$56:$J$145,2,FALSE))","v":""},{"$f":"IF(AH22=\"\",\"\",3)","v":""},{"$f":"IF(AH22=\"\",\"\",'Send Sync'!$R$56)","v":""},{"$f":"IF(AH22=\"\",\"\",'Send Sync'!$T$56)","v":""},null,null,null,{"$f":"IF(AH22=\"\",\"\",IF($C$43=\"QA\",\"AASHTO T27 Sieve Analysis (QA)\",\"AASHTO T27 Sieve Analysis (QC)\"))","v":""},null,"","",{"$f":"IF(AH22=\"\",\"\",COUNTIF(AJ20:AJ24,AJ22))","v":""},"",null,"","","","","","","","","","","","","","",null,"",null,{"$f":"IF(AH22=\"\",\"\",IF(OR(LEFT(Main!F14,4)=\"1005\",LEFT(Main!F14,4)=\"1003\"),IF('Test 2'!L32=\"YES\",VLOOKUP(\"Pass\",'Send Sync'!$Y$56:$Z$57,2,FALSE),IF('Test 2'!L32=\"NO\",VLOOKUP(\"Fail\",'Send Sync'!$Y$56:$Z$57,2,FALSE),\"\")),\"\"))","v":""},"","",null,null,null,null,null,null,null,{"$f":"IF(AH20=\"\",\"\",\"AgencyEntityInstance Id 20\")","v":""},{"$f":"IF(BY20=\"\",\"\",VLOOKUP(\"CM_T27_List\",'Send Sync'!$K$56:$L$96,2,FALSE))","v":""},null,{"$f":"IF(BY20=\"\",\"\",\"AgencyEntityInstance Id 18\")","v":""},{"$f":"IF(BY20=\"\",\"\",CONCATENATE(\"<Data><cm_t27_list_inspecrow>\",CO302,\"</cm_t27_list_inspecrow><cm_t27_list_max>\",CO303,\"</cm_t27_list_max><cm_t27_list_min>\",CO304,\"</cm_t27_list_min><cm_t27_list_order>\",CO305,\"</cm_t27_list_order><cm_t27_list_pct_passing>\",CO306,\"</cm_t27_list_pct_passing><cm_t27_list_sieve>\",CO307,\"</cm_t27_list_sieve></Data>\"))","v":""},{"$f":"IF(BY20=\"\",\"\",TODAY())","v":""},{"$f":"IF(BY20=\"\",\"\",\"WTSYSTEMUSER\")","v":""},{"$f":"IF(BY20=\"\",\"\",TODAY())","v":""},{"$f":"IF(BY20=\"\",\"\",\"WTSYSTEMUSER\")","v":""},null,null,null,null,null,null,null,"",null,{"$f":"IF(BY4=\"\",\"\",\"AgencyEntityInsData Id 20\")","v":""},{"$f":"IF(BY4=\"\",\"\",\"AgencyEntityInstance Id 2\")","v":""},{"$f":"IF(BY4=\"\",\"\",\"cm_base_grad_T1T5_label_04_no_30\")","v":""},{"$f":"IF(BY4=\"\",\"\",\"No. 30 (600 microns)\")","v":""},{"$f":"IF(BY4=\"\",\"\",TODAY())","v":""},{"$f":"IF(BY4=\"\",\"\",\"WTSYSTEMUSER\")","v":""},{"$f":"IF(BY4=\"\",\"\",TODAY())","v":""},{"$f":"IF(BY4=\"\",\"\",\"WTSYSTEMUSER\")","v":""}]
[null,"Distance",null,null,null,null,null,null,null,null,null,null,null,null,null,null,"",{"$f":"IF('Contract and Quantities'!AS59=\"\",\"\",'Contract and Quantities'!AS59)","v":""},"",null,{"$f":"IF(R23=\"\",\"\",'Contract and Quantities'!AR59)","v":""},{"$f":"IF(R23=\"\",\"\",'Contract and Quantities'!AQ59)","v":""},"","","","","",null,null,null,"T27",null,null,{"$f":"IF(OR('Test 2'!AJ13=\"Y\",'Test 2'!AJ14=\"Y\"),\"SampleRecordTest Id 21\",\"\")","v":""},"",{"$f":"IF(AQ23=\"\",\"\",VLOOKUP(AQ23,'Send Sync'!$I$56:$J$145,2,FALSE))","v":""},{"$f":"IF(AH23=\"\",\"\",4)","v":""},{"$f":"IF(AH23=\"\",\"\",'Send Sync'!$R$56)","v":""},{"$f":"IF(AH23=\"\",\"\",'Send Sync'!$T$56)","v":""},null,null,null,{"$f":"IF(AH23=\"\",\"\",IF($C$43=\"QA\",\"AASHTO T27 Sieve Analysis (QA)\",\"AASHTO T27 Sieve Analysis (QC)\"))","v":""},null,"","",{"$f":"IF(AH23=\"\",\"\",COUNTIF(AJ20:AJ24,AJ23))","v":""},"",null,"","","","","","","","","","","","","","",null,"",null,{"$f":"IF(AH23=\"\",\"\",IF(OR(LEFT(Main!F14,4)=\"1005\",LEFT(Main!F14,4)=\"1003\"),IF('Test 2'!P32=\"YES\",VLOOKUP(\"Pass\",'Send Sync'!$Y$56:$Z$57,2,FALSE),IF('Test 2'!P32=\"NO\",VLOOKUP(\"Fail\",'Send Sync'!$Y$56:$Z$57,2,FALSE),\"\")),\"\"))","v":""},"","",null,null,null,null,null,null,null,{"$f":"IF(AH20=\"\",\"\",\"AgencyEntityInstance Id 21\")","v":""},{"$f":"IF(BY20=\"\",\"\",VLOOKUP(\"CM_T27_List\",'Send Sync'!$K$56:$L$96,2,FALSE))","v":""},null,{"$f":"IF(BY20=\"\",\"\",\"AgencyEntityInstance Id 18\")","v":""},{"$f":"IF(BY20=\"\",\"\",CONCATENATE(\"<Data><cm_t27_list_inspecrow>\",CO308,\"</cm_t27_list_inspecrow><cm_t27_list_max>\",CO309,\"</cm_t27_list_max><cm_t27_list_min>\",CO310,\"</cm_t27_list_min><cm_t27_list_order>\",CO311,\"</cm_t27_list_order><cm_t27_list_pct_passing>\",CO312,\"</cm_t27_list_pct_passing><cm_t27_list_sieve>\",CO313,\"</cm_t27_list_sieve></Data>\"))","v":""},{"$f":"IF(BY20=\"\",\"\",TODAY())","v":""},{"$f":"IF(BY20=\"\",\"\",\"WTSYSTEMUSER\")","v":""},{"$f":"IF(BY20=\"\",\"\",TODAY())","v":""},{"$f":"IF(BY20=\"\",\"\",\"WTSYSTEMUSER\")","v":""},null,null,null,null,null,null,null,"",null,{"$f":"IF(BY4=\"\",\"\",\"AgencyEntityInsData Id 21\")","v":""},{"$f":"IF(BY4=\"\",\"\",\"AgencyEntityInstance Id 2\")","v":""},{"$f":"IF(BY4=\"\",\"\",\"cm_base_grad_T1T5_label_05_no_200\")","v":""},{"$f":"IF(BY4=\"\",\"\",\"No. 200 (75 microns)\")","v":""},{"$f":"IF(BY4=\"\",\"\",TODAY())","v":""},{"$f":"IF(BY4=\"\",\"\",\"WTSYSTEMUSER\")","v":""},{"$f":"IF(BY4=\"\",\"\",TODAY())","v":""},{"$f":"IF(BY4=\"\",\"\",\"WTSYSTEMUSER\")","v":""}]
[null,"DistanceFromGrade",null,null,null,null,null,null,null,null,null,null,null,null,null,null,"",{"$f":"IF('Contract and Quantities'!AS60=\"\",\"\",'Contract and Quantities'!AS60)","v":""},"",null,{"$f":"IF(R24=\"\",\"\",'Contract and Quantities'!AR60)","v":""},{"$f":"IF(R24=\"\",\"\",'Contract and Quantities'!AQ60)","v":""},"","","","","",null,null,null,"T27",null,null,{"$f":"IF(OR('Test 2'!AK13=\"Y\",'Test 2'!AK14=\"Y\"),\"SampleRecordTest Id 22\",\"\")","v":""},"",{"$f":"IF(AQ24=\"\",\"\",VLOOKUP(AQ24,'Send Sync'!$I$56:$J$145,2,FALSE))","v":""},{"$f":"IF(AH24=\"\",\"\",5)","v":""},{"$f":"IF(AH24=\"\",\"\",'Send Sync'!$R$56)","v":""},{"$f":"IF(AH24=\"\",\"\",'Send Sync'!$T$56)","v":""},null,null,null,{"$f":"IF(AH24=\"\",\"\",IF($C$43=\"QA\",\"AASHTO T27 Sieve Analysis (QA)\",\"AASHTO T27 Sieve Analysis (QC)\"))","v":""},null,"","",{"$f":"IF(AH24=\"\",\"\",COUNTIF(AJ20:AJ24,AJ24))","v":""},"",null,"","","","","","","","","","","","","","",null,"",null,{"$f":"IF(AH24=\"\",\"\",IF(OR(LEFT(Main!F14,4)=\"1005\",LEFT(Main!F14,4)=\"1003\"),IF('Test 2'!T32=\"YES\",VLOOKUP(\"Pass\",'Send Sync'!$Y$56:$Z$57,2,FALSE),IF('Test 2'!T32=\"NO\",VLOOKUP(\"Fail\",'Send Sync'!$Y$56:$Z$57,2,FALSE),\"\")),\"\"))","v":""},"","",null,null,null,null,null,null,null,{"$f":"IF(AH20=\"\",\"\",\"AgencyEntityInstance Id 22\")","v":""},{"$f":"IF(BY20=\"\",\"\",VLOOKUP(\"CM_T27_List\",'Send Sync'!$K$56:$L$96,2,FALSE))","v":""},null,{"$f":"IF(BY20=\"\",\"\",\"AgencyEntityInstance Id 18\")","v":""},{"$f":"IF(BY20=\"\",\"\",CONCATENATE(\"<Data><cm_t27_list_inspecrow>\",CO314,\"</cm_t27_list_inspecrow><cm_t27_list_max>\",CO315,\"</cm_t27_list_max><cm_t27_list_min>\",CO316,\"</cm_t27_list_min><cm_t27_list_order>\",CO317,\"</cm_t27_list_order><cm_t27_list_pct_passing>\",CO318,\"</cm_t27_list_pct_passing><cm_t27_list_sieve>\",CO319,\"</cm_t27_list_sieve></Data>\"))","v":""},{"$f":"IF(BY20=\"\",\"\",TODAY())","v":""},{"$f":"IF(BY20=\"\",\"\",\"WTSYSTEMUSER\")","v":""},{"$f":"IF(BY20=\"\",\"\",TODAY())","v":""},{"$f":"IF(BY20=\"\",\"\",\"WTSYSTEMUSER\")","v":""},null,null,null,null,null,null,null,"",null,{"$f":"IF(BY4=\"\",\"\",\"AgencyEntityInsData Id 22\")","v":""},{"$f":"IF(BY4=\"\",\"\",\"AgencyEntityInstance Id 2\")","v":""},{"$f":"IF(BY4=\"\",\"\",\"cm_base_grad_T1T5_label_06\")","v":""},{"$f":"IF(BY4=\"\",\"\",\"Station\")","v":""},{"$f":"IF(BY4=\"\",\"\",TODAY())","v":""},{"$f":"IF(BY4=\"\",\"\",\"WTSYSTEMUSER\")","v":""},{"$f":"IF(BY4=\"\",\"\",TODAY())","v":""},{"$f":"IF(BY4=\"\",\"\",\"WTSYSTEMUSER\")","v":""}]
[null,"DistanceFromGradeUnits",null,null,null,null,null,null,null,null,null,null,null,null,null,null,"",{"$f":"IF('Contract and Quantities'!AS61=\"\",\"\",'Contract and Quantities'!AS61)","v":""},"",null,{"$f":"IF(R25=\"\",\"\",'Contract and Quantities'!AR61)","v":""},{"$f":"IF(R25=\"\",\"\",'Contract and Quantities'!AQ61)","v":""},"","","","","",null,null,null,"T85 Absorption",null,null,{"$f":"IF('Test 2'!AG55=\"Y\",\"SampleRecordTest Id 23\",\"\")","v":""},"",{"$f":"IF(AQ25=\"\",\"\",VLOOKUP(AQ25,'Send Sync'!$I$56:$J$145,2,FALSE))","v":""},{"$f":"IF(AH25=\"\",\"\",1)","v":""},{"$f":"IF(AH25=\"\",\"\",'Send Sync'!$R$56)","v":""},{"$f":"IF(AH25=\"\",\"\",'Send Sync'!$T$56)","v":""},null,null,null,{"$f":"IF(AH25=\"\",\"\",IF($C$43=\"QA\",\"AASHTO T85 Absorption for Concrete Aggregate (QA)\",\"AASHTO T85 Absorption for Concrete Aggregate (QC)\"))","v":""},null,"","",{"$f":"IF(AH25=\"\",\"\",COUNTIF(AJ25:AJ29,AJ25))","v":""},"",null,"","","","","","","","","","","","","","",null,"",null,{"$f":"IF(AH25=\"\",\"\",IF(LEFT(Main!F14,4)=\"1005\",IF('Test 2'!D61=\"YES\",VLOOKUP(\"Pass\",'Send Sync'!$Y$56:$Z$57,2,FALSE),IF('Test 2'!D61=\"NO\",VLOOKUP(\"Fail\",'Send Sync'!$Y$56:$Z$57,2,FALSE),\"\")),\"\"))","v":""},"","",null,null,null,null,null,null,null,{"$f":"IF(AH20=\"\",\"\",\"AgencyEntityInstance Id 23\")","v":""},{"$f":"IF(BY20=\"\",\"\",VLOOKUP(\"CM_T27_List\",'Send Sync'!$K$56:$L$96,2,FALSE))","v":""},null,{"$f":"IF(BY20=\"\",\"\",\"AgencyEntityInstance Id 18\")","v":""},{"$f":"IF(BY20=\"\",\"\",CONCATENATE(\"<Data><cm_t27_list_inspecrow>\",CO320,\"</cm_t27_list_inspecrow><cm_t27_list_max>\",CO321,\"</cm_t27_list_max><cm_t27_list_min>\",CO322,\"</cm_t27_list_min><cm_t27_list_order>\",CO323,\"</cm_t27_list_order><cm_t27_list_pct_passing>\",CO324,\"</cm_t27_list_pct_passing><cm_t27_list_sieve>\",CO325,\"</cm_t27_list_sieve></Data>\"))","v":""},{"$f":"IF(BY20=\"\",\"\",TODAY())","v":""},{"$f":"IF(BY20=\"\",\"\",\"WTSYSTEMUSER\")","v":""},{"$f":"IF(BY20=\"\",\"\",TODAY())","v":""},{"$f":"IF(BY20=\"\",\"\",\"WTSYSTEMUSER\")","v":""},null,null,null,null,null,null,null,"",null,{"$f":"IF(BY4=\"\",\"\",\"AgencyEntityInsData Id 23\")","v":""},{"$f":"IF(BY4=\"\",\"\",\"AgencyEntityInstance Id 2\")","v":""},{"$f":"IF(BY4=\"\",\"\",\"cm_base_grad_T1T5_label_07\")","v":""},{"$f":"IF(BY4=\"\",\"\",\"+\")","v":""},{"$f":"IF(BY4=\"\",\"\",TODAY())","v":""},{"$f":"IF(BY4=\"\",\"\",\"WTSYSTEMUSER\")","v":""},{"$f":"IF(BY4=\"\",\"\",TODAY())","v":""},{"$f":"IF(BY4=\"\",\"\",\"WTSYSTEMUSER\")","v":""}]
[null,"Elevation",null,null,null,null,null,null,null,null,null,null,null,null,null,null,"",{"$f":"IF('Contract and Quantities'!AS62=\"\",\"\",'Contract and Quantities'!AS62)","v":""},"",null,{"$f":"IF(R26=\"\",\"\",'Contract and Quantities'!AR62)","v":""},{"$f":"IF(R26=\"\",\"\",'Contract and Quantities'!AQ62)","v":""},"","","","","",null,null,null,"T85 Absorption",null,null,{"$f":"IF('Test 2'!AH55=\"Y\",\"SampleRecordTest Id 24\",\"\")","v":""},"",{"$f":"IF(AQ26=\"\",\"\",VLOOKUP(AQ26,'Send Sync'!$I$56:$J$145,2,FALSE))","v":""},{"$f":"IF(AH26=\"\",\"\",2)","v":""},{"$f":"IF(AH26=\"\",\"\",'Send Sync'!$R$56)","v":""},{"$f":"IF(AH26=\"\",\"\",'Send Sync'!$T$56)","v":""},null,null,null,{"$f":"IF(AH26=\"\",\"\",IF($C$43=\"QA\",\"AASHTO T85 Absorption for Concrete Aggregate (QA)\",\"AASHTO T85 Absorption for Concrete Aggregate (QC)\"))","v":""},null,"","",{"$f":"IF(AH26=\"\",\"\",COUNTIF(AJ25:AJ29,AJ26))","v":""},"",null,"","","","","","","","","","","","","","",null,"",null,{"$f":"IF(AH26=\"\",\"\",IF(LEFT(Main!F14,4)=\"1005\",IF('Test 2'!H61=\"YES\",VLOOKUP(\"Pass\",'Send Sync'!$Y$56:$Z$57,2,FALSE),IF('Test 2'!H61=\"NO\",VLOOKUP(\"Fail\",'Send Sync'!$Y$56:$Z$57,2,FALSE),\"\")),\"\"))","v":""},"","",null,null,null,null,null,null,null,{"$f":"IF(AH20=\"\",\"\",\"AgencyEntityInstance Id 24\")","v":""},{"$f":"IF(BY20=\"\",\"\",VLOOKUP(\"CM_T27_List\",'Send Sync'!$K$56:$L$96,2,FALSE))","v":""},null,{"$f":"IF(BY20=\"\",\"\",\"AgencyEntityInstance Id 18\")","v":""},{"$f":"IF(BY20=\"\",\"\",CONCATENATE(\"<Data><cm_t27_list_inspecrow>\",CO326,\"</cm_t27_list_inspecrow><cm_t27_list_max>\",CO327,\"</cm_t27_list_max><cm_t27_list_min>\",CO328,\"</cm_t27_list_min><cm_t27_list_order>\",CO329,\"</cm_t27_list_order><cm_t27_list_pct_passing>\",CO330,\"</cm_t27_list_pct_passing><cm_t27_list_sieve>\",CO331,\"</cm_t27_list_sieve></Data>\"))","v":""},{"$f":"IF(BY20=\"\",\"\",TODAY())","v":""},{"$f":"IF(BY20=\"\",\"\",\"WTSYSTEMUSER\")","v":""},{"$f":"IF(BY20=\"\",\"\",TODAY())","v":""},{"$f":"IF(BY20=\"\",\"\",\"WTSYSTEMUSER\")","v":""},null,null,null,null,null,null,null,"",null,{"$f":"IF(BY4=\"\",\"\",\"AgencyEntityInsData Id 24\")","v":""},{"$f":"IF(BY4=\"\",\"\",\"AgencyEntityInstance Id 2\")","v":""},{"$f":"IF(BY4=\"\",\"\",\"cm_base_grad_T1T5_label_08\")","v":""},{"$f":"IF(BY4=\"\",\"\",\"Location R/L of Centerline\")","v":""},{"$f":"IF(BY4=\"\",\"\",TODAY())","v":""},{"$f":"IF(BY4=\"\",\"\",\"WTSYSTEMUSER\")","v":""},{"$f":"IF(BY4=\"\",\"\",TODAY())","v":""},{"$f":"IF(BY4=\"\",\"\",\"WTSYSTEMUSER\")","v":""}]
[null,"GeographicArea",{"$f":"'Contract and Quantities'!AK11","v":{"$error":"#VALUE!"}},null,null,null,null,null,null,null,null,null,null,null,null,null,"",{"$f":"IF('Contract and Quantities'!AS63=\"\",\"\",'Contract and Quantities'!AS63)","v":""},"",null,{"$f":"IF(R27=\"\",\"\",'Contract and Quantities'!AR63)","v":""},{"$f":"IF(R27=\"\",\"\",'Contract and Quantities'!AQ63)","v":""},"","","","","",null,null,null,"T85 Absorption",null,null,{"$f":"IF('Test 2'!AI55=\"Y\",\"SampleRecordTest Id 25\",\"\")","v":""},"",{"$f":"IF(AQ27=\"\",\"\",VLOOKUP(AQ27,'Send Sync'!$I$56:$J$145,2,FALSE))","v":""},{"$f":"IF(AH27=\"\",\"\",3)","v":""},{"$f":"IF(AH27=\"\",\"\",'Send Sync'!$R$56)","v":""},{"$f":"IF(AH27=\"\",\"\",'Send Sync'!$T$56)","v":""},null,null,null,{"$f":"IF(AH27=\"\",\"\",IF($C$43=\"QA\",\"AASHTO T85 Absorption for Concrete Aggregate (QA)\",\"AASHTO T85 Absorption for Concrete Aggregate (QC)\"))","v":""},null,"","",{"$f":"IF(AH27=\"\",\"\",COUNTIF(AJ25:AJ29,AJ27))","v":""},"",null,"","","","","","","","","","","","","","",null,"",null,{"$f":"IF(AH27=\"\",\"\",IF(LEFT(Main!F14,4)=\"1005\",IF('Test 2'!L61=\"YES\",VLOOKUP(\"Pass\",'Send Sync'!$Y$56:$Z$57,2,FALSE),IF('Test 2'!L61=\"NO\",VLOOKUP(\"Fail\",'Send Sync'!$Y$56:$Z$57,2,FALSE),\"\")),\"\"))","v":""},"","",null,null,null,null,null,null,null,{"$f":"IF(AH20=\"\",\"\",\"AgencyEntityInstance Id 25\")","v":""},{"$f":"IF(BY20=\"\",\"\",VLOOKUP(\"CM_T27_List\",'Send Sync'!$K$56:$L$96,2,FALSE))","v":""},null,{"$f":"IF(BY20=\"\",\"\",\"AgencyEntityInstance Id 18\")","v":""},{"$f":"IF(BY20=\"\",\"\",CONCATENATE(\"<Data><cm_t27_list_inspecrow>\",CO332,\"</cm_t27_list_inspecrow><cm_t27_list_max>\",CO333,\"</cm_t27_list_max><cm_t27_list_min>\",CO334,\"</cm_t27_list_min><cm_t27_list_order>\",CO335,\"</cm_t27_list_order><cm_t27_list_pct_passing>\",CO336,\"</cm_t27_list_pct_passing><cm_t27_list_sieve>\",CO337,\"</cm_t27_list_sieve></Data>\"))","v":""},{"$f":"IF(BY20=\"\",\"\",TODAY())","v":""},{"$f":"IF(BY20=\"\",\"\",\"WTSYSTEMUSER\")","v":""},{"$f":"IF(BY20=\"\",\"\",TODAY())","v":""},{"$f":"IF(BY20=\"\",\"\",\"WTSYSTEMUSER\")","v":""},null,null,null,null,null,null,null,"",null,{"$f":"IF(BY4=\"\",\"\",\"AgencyEntityInsData Id 25\")","v":""},{"$f":"IF(BY4=\"\",\"\",\"AgencyEntityInstance Id 2\")","v":""},{"$f":"IF(BY4=\"\",\"\",\"cm_base_grad_T1T5_label_09\")","v":""},{"$f":"IF(BY4=\"\",\"\",\"Test Performed By\")","v":""},{"$f":"IF(BY4=\"\",\"\",TODAY())","v":""},{"$f":"IF(BY4=\"\",\"\",\"WTSYSTEMUSER\")","v":""},{"$f":"IF(BY4=\"\",\"\",TODAY())","v":""},{"$f":"IF(BY4=\"\",\"\",\"WTSYSTEMUSER\")","v":""}]
[null,"IntendedUse",null,null,null,null,null,null,null,null,null,null,null,null,null,null,"",{"$f":"IF('Contract and Quantities'!AS64=\"\",\"\",'Contract and Quantities'!AS64)","v":""},"",null,{"$f":"IF(R28=\"\",\"\",'Contract and Quantities'!AR64)","v":""},{"$f":"IF(R28=\"\",\"\",'Contract and Quantities'!AQ64)","v":""},"","","","","",null,null,null,"T85 Absorption",null,null,{"$f":"IF('Test 2'!AJ55=\"Y\",\"SampleRecordTest Id 26\",\"\")","v":""},"",{"$f":"IF(AQ28=\"\",\"\",VLOOKUP(AQ28,'Send Sync'!$I$56:$J$145,2,FALSE))","v":""},{"$f":"IF(AH28=\"\",\"\",4)","v":""},{"$f":"IF(AH28=\"\",\"\",'Send Sync'!$R$56)","v":""},{"$f":"IF(AH28=\"\",\"\",'Send Sync'!$T$56)","v":""},null,null,null,{"$f":"IF(AH28=\"\",\"\",IF($C$43=\"QA\",\"AASHTO T85 Absorption for Concrete Aggregate (QA)\",\"AASHTO T85 Absorption for Concrete Aggregate (QC)\"))","v":""},null,"","",{"$f":"IF(AH28=\"\",\"\",COUNTIF(AJ25:AJ29,AJ28))","v":""},"",null,"","","","","","","","","","","","","","",null,"",null,{"$f":"IF(AH28=\"\",\"\",IF(LEFT(Main!F14,4)=\"1005\",IF('Test 2'!P61=\"YES\",VLOOKUP(\"Pass\",'Send Sync'!$Y$56:$Z$57,2,FALSE),IF('Test 2'!P61=\"NO\",VLOOKUP(\"Fail\",'Send Sync'!$Y$56:$Z$57,2,FALSE),\"\")),\"\"))","v":""},"","",null,null,null,null,null,null,null,{"$f":"IF(AH20=\"\",\"\",\"AgencyEntityInstance Id 26\")","v":""},{"$f":"IF(BY20=\"\",\"\",VLOOKUP(\"CM_T27_List\",'Send Sync'!$K$56:$L$96,2,FALSE))","v":""},null,{"$f":"IF(BY20=\"\",\"\",\"AgencyEntityInstance Id 18\")","v":""},{"$f":"IF(BY20=\"\",\"\",CONCATENATE(\"<Data><cm_t27_list_inspecrow>\",CO338,\"</cm_t27_list_inspecrow><cm_t27_list_max>\",CO339,\"</cm_t27_list_max><cm_t27_list_min>\",CO340,\"</cm_t27_list_min><cm_t27_list_order>\",CO341,\"</cm_t27_list_order><cm_t27_list_pct_passing>\",CO342,\"</cm_t27_list_pct_passing><cm_t27_list_sieve>\",CO343,\"</cm_t27_list_sieve></Data>\"))","v":""},{"$f":"IF(BY20=\"\",\"\",TODAY())","v":""},{"$f":"IF(BY20=\"\",\"\",\"WTSYSTEMUSER\")","v":""},{"$f":"IF(BY20=\"\",\"\",TODAY())","v":""},{"$f":"IF(BY20=\"\",\"\",\"WTSYSTEMUSER\")","v":""},null,null,null,null,null,null,null,"",null,{"$f":"IF(BY4=\"\",\"\",\"AgencyEntityInsData Id 26\")","v":""},{"$f":"IF(BY4=\"\",\"\",\"AgencyEntityInstance Id 2\")","v":""},{"$f":"IF(BY4=\"\",\"\",\"cm_base_grad_T1T5_no_200_label\")","v":""},{"$f":"IF(BY4=\"\",\"\",\"No. 200 (75 microns)\")","v":""},{"$f":"IF(BY4=\"\",\"\",TODAY())","v":""},{"$f":"IF(BY4=\"\",\"\",\"WTSYSTEMUSER\")","v":""},{"$f":"IF(BY4=\"\",\"\",TODAY())","v":""},{"$f":"IF(BY4=\"\",\"\",\"WTSYSTEMUSER\")","v":""}]
[null,"LabControlNumber",{"$f":"CONCATENATE(\"CN\",C3)","v":"CN"},null,null,null,null,null,null,null,null,null,null,null,null,null,"",{"$f":"IF('Contract and Quantities'!AS65=\"\",\"\",'Contract and Quantities'!AS65)","v":""},"",null,{"$f":"IF(R29=\"\",\"\",'Contract and Quantities'!AR65)","v":""},{"$f":"IF(R29=\"\",\"\",'Contract and Quantities'!AQ65)","v":""},"","","","","",null,null,null,"T85 Absorption",null,null,{"$f":"IF('Test 2'!AK55=\"Y\",\"SampleRecordTest Id 27\",\"\")","v":""},"",{"$f":"IF(AQ29=\"\",\"\",VLOOKUP(AQ29,'Send Sync'!$I$56:$J$145,2,FALSE))","v":""},{"$f":"IF(AH29=\"\",\"\",5)","v":""},{"$f":"IF(AH29=\"\",\"\",'Send Sync'!$R$56)","v":""},{"$f":"IF(AH29=\"\",\"\",'Send Sync'!$T$56)","v":""},null,null,null,{"$f":"IF(AH29=\"\",\"\",IF($C$43=\"QA\",\"AASHTO T85 Absorption for Concrete Aggregate (QA)\",\"AASHTO T85 Absorption for Concrete Aggregate (QC)\"))","v":""},null,"","",{"$f":"IF(AH29=\"\",\"\",COUNTIF(AJ25:AJ29,AJ29))","v":""},"",null,"","","","","","","","","","","","","","",null,"",null,{"$f":"IF(AH29=\"\",\"\",IF(LEFT(Main!F14,4)=\"1005\",IF('Test 2'!T61=\"YES\",VLOOKUP(\"Pass\",'Send Sync'!$Y$56:$Z$57,2,FALSE),IF('Test 2'!T61=\"NO\",VLOOKUP(\"Fail\",'Send Sync'!$Y$56:$Z$57,2,FALSE),\"\")),\"\"))","v":""},"","",null,null,null,null,null,null,null,{"$f":"IF(AH20=\"\",\"\",\"AgencyEntityInstance Id 27\")","v":""},{"$f":"IF(BY20=\"\",\"\",VLOOKUP(\"CM_T27_List\",'Send Sync'!$K$56:$L$96,2,FALSE))","v":""},null,{"$f":"IF(BY20=\"\",\"\",\"AgencyEntityInstance Id 18\")","v":""},{"$f":"IF(BY20=\"\",\"\",CONCATENATE(\"<Data><cm_t27_list_inspecrow>\",CO344,\"</cm_t27_list_inspecrow><cm_t27_list_max>\",CO345,\"</cm_t27_list_max><cm_t27_list_min>\",CO346,\"</cm_t27_list_min><cm_t27_list_order>\",CO347,\"</cm_t27_list_order><cm_t27_list_pct_passing>\",CO348,\"</cm_t27_list_pct_passing><cm_t27_list_sieve>\",CO349,\"</cm_t27_list_sieve></Data>\"))","v":""},{"$f":"IF(BY20=\"\",\"\",TODAY())","v":""},{"$f":"IF(BY20=\"\",\"\",\"WTSYSTEMUSER\")","v":""},{"$f":"IF(BY20=\"\",\"\",TODAY())","v":""},{"$f":"IF(BY20=\"\",\"\",\"WTSYSTEMUSER\")","v":""},null,null,null,null,null,null,null,"",null,{"$f":"IF(BY4=\"\",\"\",\"AgencyEntityInsData Id 27\")","v":""},{"$f":"IF(BY4=\"\",\"\",\"AgencyEntityInstance Id 2\")","v":""},{"$f":"IF(BY4=\"\",\"\",\"cm_base_grad_T1T5_no_200_max\")","v":""},{"$f":"IF(BY4=\"\",\"\",\"15\")","v":""},{"$f":"IF(BY4=\"\",\"\",TODAY())","v":""},{"$f":"IF(BY4=\"\",\"\",\"WTSYSTEMUSER\")","v":""},{"$f":"IF(BY4=\"\",\"\",TODAY())","v":""},{"$f":"IF(BY4=\"\",\"\",\"WTSYSTEMUSER\")","v":""}]
[null,"LabReferenceNumber",null,null,null,null,null,null,null,null,null,null,null,null,null,null,"",{"$f":"IF('Contract and Quantities'!AS66=\"\",\"\",'Contract and Quantities'!AS66)","v":""},"",null,{"$f":"IF(R30=\"\",\"\",'Contract and Quantities'!AR66)","v":""},{"$f":"IF(R30=\"\",\"\",'Contract and Quantities'!AQ66)","v":""},"","","","","",null,null,null,"Deleterious",null,null,{"$f":"IF('Test 2'!AG43=\"Y\",\"SampleRecordTest Id 28\",\"\")","v":""},"",{"$f":"IF(AQ30=\"\",\"\",VLOOKUP(AQ30,'Send Sync'!$I$56:$J$145,2,FALSE))","v":""},{"$f":"IF(AH30=\"\",\"\",1)","v":""},{"$f":"IF(AH30=\"\",\"\",'Send Sync'!$R$56)","v":""},{"$f":"IF(AH30=\"\",\"\",'Send Sync'!$T$56)","v":""},null,null,null,{"$f":"IF(AH30=\"\",\"\",IF($C$43=\"QA\",\"MoDOT TM71 Generic Deleterious Template (QA)\",\"MoDOT TM71 Generic Deleterious Template (QC)\"))","v":""},null,"","",{"$f":"IF(AH30=\"\",\"\",COUNTIF(AJ30:AJ34,AJ30))","v":""},"",null,"","","","","","","","","","","","","","",null,"",null,{"$f":"IF(AH30=\"\",\"\",IF(LEFT(Main!F14,4)=\"1005\",IF('Test 2'!G73=\"YES\",VLOOKUP(\"Pass\",'Send Sync'!$Y$56:$Z$57,2,FALSE),IF('Test 2'!G73=\"NO\",VLOOKUP(\"Fail\",'Send Sync'!$Y$56:$Z$57,2,FALSE),\"\")),\"\"))","v":""},"","",null,null,null,null,null,null,null,{"$f":"IF(AH20=\"\",\"\",\"AgencyEntityInstance Id 28\")","v":""},{"$f":"IF(BY20=\"\",\"\",VLOOKUP(\"CM_T27_List\",'Send Sync'!$K$56:$L$96,2,FALSE))","v":""},null,{"$f":"IF(BY20=\"\",\"\",\"AgencyEntityInstance Id 18\")","v":""},{"$f":"IF(BY20=\"\",\"\",CONCATENATE(\"<Data><cm_t27_list_inspecrow>\",CO350,\"</cm_t27_list_inspecrow><cm_t27_list_max>\",CO351,\"</cm_t27_list_max><cm_t27_list_min>\",CO352,\"</cm_t27_list_min><cm_t27_list_order>\",CO353,\"</cm_t27_list_order><cm_t27_list_pct_passing>\",CO354,\"</cm_t27_list_pct_passing><cm_t27_list_sieve>\",CO355,\"</cm_t27_list_sieve></Data>\"))","v":""},{"$f":"IF(BY20=\"\",\"\",TODAY())","v":""},{"$f":"IF(BY20=\"\",\"\",\"WTSYSTEMUSER\")","v":""},{"$f":"IF(BY20=\"\",\"\",TODAY())","v":""},{"$f":"IF(BY20=\"\",\"\",\"WTSYSTEMUSER\")","v":""},null,null,null,null,null,null,null,"",null,{"$f":"IF(BY4=\"\",\"\",\"AgencyEntityInsData Id 28\")","v":""},{"$f":"IF(BY4=\"\",\"\",\"AgencyEntityInstance Id 2\")","v":""},{"$f":"IF(BY4=\"\",\"\",\"cm_base_grad_T1T5_no_200_min\")","v":""},{"$f":"IF(BY4=\"\",\"\",\"0\")","v":""},{"$f":"IF(BY4=\"\",\"\",TODAY())","v":""},{"$f":"IF(BY4=\"\",\"\",\"WTSYSTEMUSER\")","v":""},{"$f":"IF(BY4=\"\",\"\",TODAY())","v":""},{"$f":"IF(BY4=\"\",\"\",\"WTSYSTEMUSER\")","v":""}]
[null,"Latitude",null,null,null,null,null,null,null,null,null,null,null,null,null,null,"",{"$f":"IF('Contract and Quantities'!AS67=\"\",\"\",'Contract and Quantities'!AS67)","v":""},"",null,{"$f":"IF(R31=\"\",\"\",'Contract and Quantities'!AR67)","v":""},{"$f":"IF(R31=\"\",\"\",'Contract and Quantities'!AQ67)","v":""},"","","","","",null,null,null,"Deleterious",null,null,{"$f":"IF('Test 2'!AH43=\"Y\",\"SampleRecordTest Id 29\",\"\")","v":""},"",{"$f":"IF(AQ31=\"\",\"\",VLOOKUP(AQ31,'Send Sync'!$I$56:$J$145,2,FALSE))","v":""},{"$f":"IF(AH31=\"\",\"\",2)","v":""},{"$f":"IF(AH31=\"\",\"\",'Send Sync'!$R$56)","v":""},{"$f":"IF(AH31=\"\",\"\",'Send Sync'!$T$56)","v":""},null,null,null,{"$f":"IF(AH31=\"\",\"\",IF($C$43=\"QA\",\"MoDOT TM71 Generic Deleterious Template (QA)\",\"MoDOT TM71 Generic Deleterious Template (QC)\"))","v":""},null,{"$f":"IF(AH31=\"\",\"\",TODAY())","v":""},{"$f":"IF(AH31=\"\",\"\",TODAY())","v":""},{"$f":"IF(AH31=\"\",\"\",COUNTIF(AJ30:AJ34,AJ31))","v":""},"",null,{"$f":"IF(AH31=\"\",\"\",60)","v":""},{"$f":"IF(AH31=\"\",\"\",1)","v":""},{"$f":"IF(AH31=\"\",\"\",0)","v":""},{"$f":"IF(AH31=\"\",\"\",0)","v":""},{"$f":"IF(AH31=\"\",\"\",1)","v":""},{"$f":"IF(AH31=\"\",\"\",0)","v":""},{"$f":"IF(AH31=\"\",\"\",0)","v":""},{"$f":"IF(AH31=\"\",\"\",0)","v":""},{"$f":"IF(AH31=\"\",\"\",0)","v":""},{"$f":"IF(AH31=\"\",\"\",1)","v":""},{"$f":"IF(AH31=\"\",\"\",TODAY())","v":""},{"$f":"IF(AH31=\"\",\"\",\"WTSYSTEMUSER\")","v":""},{"$f":"IF(AH31=\"\",\"\",TODAY())","v":""},{"$f":"IF(AH31=\"\",\"\",\"WTSYSTEMUSER\")","v":""},null,{"$f":"IF(AH31=\"\",\"\",0)","v":""},null,{"$f":"IF(AH31=\"\",\"\",IF(LEFT(Main!F14,4)=\"1005\",IF('Test 2'!K73=\"YES\",VLOOKUP(\"Pass\",'Send Sync'!$Y$56:$Z$57,2,FALSE),IF('Test 2'!K73=\"NO\",VLOOKUP(\"Fail\",'Send Sync'!$Y$56:$Z$57,2,FALSE),\"\")),\"\"))","v":""},"","",null,null,null,null,null,null,null,{"$f":"IF(AH20=\"\",\"\",\"AgencyEntityInstance Id 29\")","v":""},{"$f":"IF(BY20=\"\",\"\",VLOOKUP(\"CM_T27_List\",'Send Sync'!$K$56:$L$96,2,FALSE))","v":""},null,{"$f":"IF(BY20=\"\",\"\",\"AgencyEntityInstance Id 18\")","v":""},{"$f":"IF(BY20=\"\",\"\",CONCATENATE(\"<Data><cm_t27_list_inspecrow>\",CO356,\"</cm_t27_list_inspecrow><cm_t27_list_max>\",CO357,\"</cm_t27_list_max><cm_t27_list_min>\",CO358,\"</cm_t27_list_min><cm_t27_list_order>\",CO359,\"</cm_t27_list_order><cm_t27_list_pct_passing>\",CO360,\"</cm_t27_list_pct_passing><cm_t27_list_sieve>\",CO361,\"</cm_t27_list_sieve></Data>\"))","v":""},{"$f":"IF(BY20=\"\",\"\",TODAY())","v":""},{"$f":"IF(BY20=\"\",\"\",\"WTSYSTEMUSER\")","v":""},{"$f":"IF(BY20=\"\",\"\",TODAY())","v":""},{"$f":"IF(BY20=\"\",\"\",\"WTSYSTEMUSER\")","v":""},null,null,null,null,null,null,null,"",null,{"$f":"IF(BY4=\"\",\"\",\"AgencyEntityInsData Id 29\")","v":""},{"$f":"IF(BY4=\"\",\"\",\"AgencyEntityInstance Id 2\")","v":""},{"$f":"IF(BY4=\"\",\"\",\"cm_base_grad_T1T5_no_30_label\")","v":""},{"$f":"IF(BY4=\"\",\"\",\"No. 30 (600 microns)\")","v":""},{"$f":"IF(BY4=\"\",\"\",TODAY())","v":""},{"$f":"IF(BY4=\"\",\"\",\"WTSYSTEMUSER\")","v":""},{"$f":"IF(BY4=\"\",\"\",TODAY())","v":""},{"$f":"IF(BY4=\"\",\"\",\"WTSYSTEMUSER\")","v":""}]
[null,"Longitude",null,null,null,null,null,null,null,null,null,null,null,null,null,null,"",{"$f":"IF('Contract and Quantities'!AS68=\"\",\"\",'Contract and Quantities'!AS68)","v":""},"",null,{"$f":"IF(R32=\"\",\"\",'Contract and Quantities'!AR68)","v":""},{"$f":"IF(R32=\"\",\"\",'Contract and Quantities'!AQ68)","v":""},"","","","","",null,null,null,"Deleterious",null,null,{"$f":"IF('Test 2'!AI43=\"Y\",\"SampleRecordTest Id 30\",\"\")","v":""},"",{"$f":"IF(AQ32=\"\",\"\",VLOOKUP(AQ32,'Send Sync'!$I$56:$J$145,2,FALSE))","v":""},{"$f":"IF(AH32=\"\",\"\",3)","v":""},{"$f":"IF(AH32=\"\",\"\",'Send Sync'!$R$56)","v":""},{"$f":"IF(AH32=\"\",\"\",'Send Sync'!$T$56)","v":""},null,null,null,{"$f":"IF(AH32=\"\",\"\",IF($C$43=\"QA\",\"MoDOT TM71 Generic Deleterious Template (QA)\",\"MoDOT TM71 Generic Deleterious Template (QC)\"))","v":""},null,"","",{"$f":"IF(AH32=\"\",\"\",COUNTIF(AJ30:AJ34,AJ32))","v":""},"",null,"","","","","","","","","","","","","","",null,"",null,{"$f":"IF(AH32=\"\",\"\",IF(LEFT(Main!F14,4)=\"1005\",IF('Test 2'!O73=\"YES\",VLOOKUP(\"Pass\",'Send Sync'!$Y$56:$Z$57,2,FALSE),IF('Test 2'!O73=\"NO\",VLOOKUP(\"Fail\",'Send Sync'!$Y$56:$Z$57,2,FALSE),\"\")),\"\"))","v":""},"","",null,null,null,null,null,null,null,{"$f":"IF(AH20=\"\",\"\",\"AgencyEntityInstance Id 30\")","v":""},{"$f":"IF(BY20=\"\",\"\",VLOOKUP(\"CM_T27_List\",'Send Sync'!$K$56:$L$96,2,FALSE))","v":""},null,{"$f":"IF(BY20=\"\",\"\",\"AgencyEntityInstance Id 18\")","v":""},{"$f":"IF(BY20=\"\",\"\",CONCATENATE(\"<Data><cm_t27_list_inspecrow>\",CO362,\"</cm_t27_list_inspecrow><cm_t27_list_max>\",CO363,\"</cm_t27_list_max><cm_t27_list_min>\",CO364,\"</cm_t27_list_min><cm_t27_list_order>\",CO365,\"</cm_t27_list_order><cm_t27_list_pct_passing>\",CO366,\"</cm_t27_list_pct_passing><cm_t27_list_sieve>\",CO367,\"</cm_t27_list_sieve></Data>\"))","v":""},{"$f":"IF(BY20=\"\",\"\",TODAY())","v":""},{"$f":"IF(BY20=\"\",\"\",\"WTSYSTEMUSER\")","v":""},{"$f":"IF(BY20=\"\",\"\",TODAY())","v":""},{"$f":"IF(BY20=\"\",\"\",\"WTSYSTEMUSER\")","v":""},null,null,null,null,null,null,null,"",null,{"$f":"IF(BY4=\"\",\"\",\"AgencyEntityInsData Id 30\")","v":""},{"$f":"IF(BY4=\"\",\"\",\"AgencyEntityInstance Id 2\")","v":""},{"$f":"IF(BY4=\"\",\"\",\"cm_base_grad_T1T5_no_30_max\")","v":""},{"$f":"IF(BY4=\"\",\"\",\"35\")","v":""},{"$f":"IF(BY4=\"\",\"\",TODAY())","v":""},{"$f":"IF(BY4=\"\",\"\",\"WTSYSTEMUSER\")","v":""},{"$f":"IF(BY4=\"\",\"\",TODAY())","v":""},{"$f":"IF(BY4=\"\",\"\",\"WTSYSTEMUSER\")","v":""}]
[null,"LsaurLastModified Dt",null,null,null,null,null,null,null,null,null,null,null,null,null,null,"",{"$f":"IF('Contract and Quantities'!AS69=\"\",\"\",'Contract and Quantities'!AS69)","v":""},"",null,{"$f":"IF(R33=\"\",\"\",'Contract and Quantities'!AR69)","v":""},{"$f":"IF(R33=\"\",\"\",'Contract and Quantities'!AQ69)","v":""},"","","","","",null,null,null,"Deleterious",null,null,{"$f":"IF('Test 2'!AJ43=\"Y\",\"SampleRecordTest Id 31\",\"\")","v":""},"",{"$f":"IF(AQ33=\"\",\"\",VLOOKUP(AQ33,'Send Sync'!$I$56:$J$145,2,FALSE))","v":""},{"$f":"IF(AH33=\"\",\"\",4)","v":""},{"$f":"IF(AH33=\"\",\"\",'Send Sync'!$R$56)","v":""},{"$f":"IF(AH33=\"\",\"\",'Send Sync'!$T$56)","v":""},null,null,null,{"$f":"IF(AH33=\"\",\"\",IF($C$43=\"QA\",\"MoDOT TM71 Generic Deleterious Template (QA)\",\"MoDOT TM71 Generic Deleterious Template (QC)\"))","v":""},null,"","",{"$f":"IF(AH33=\"\",\"\",COUNTIF(AJ30:AJ34,AJ33))","v":""},"",null,"","","","","","","","","","","","","","",null,"",null,{"$f":"IF(AH33=\"\",\"\",IF(LEFT(Main!F14,4)=\"1005\",IF('Test 2'!S73=\"YES\",VLOOKUP(\"Pass\",'Send Sync'!$Y$56:$Z$57,2,FALSE),IF('Test 2'!S73=\"NO\",VLOOKUP(\"Fail\",'Send Sync'!$Y$56:$Z$57,2,FALSE),\"\")),\"\"))","v":""},"","",null,null,null,null,null,null,null,{"$f":"IF(AH20=\"\",\"\",\"AgencyEntityInstance Id 31\")","v":""},{"$f":"IF(BY20=\"\",\"\",VLOOKUP(\"CM_T27_List\",'Send Sync'!$K$56:$L$96,2,FALSE))","v":""},null,{"$f":"IF(BY20=\"\",\"\",\"AgencyEntityInstance Id 18\")","v":""},{"$f":"IF(BY20=\"\",\"\",CONCATENATE(\"<Data><cm_t27_list_inspecrow>\",CO368,\"</cm_t27_list_inspecrow><cm_t27_list_max>\",CO369,\"</cm_t27_list_max><cm_t27_list_min>\",CO370,\"</cm_t27_list_min><cm_t27_list_order>\",CO371,\"</cm_t27_list_order><cm_t27_list_pct_passing>\",CO372,\"</cm_t27_list_pct_passing><cm_t27_list_sieve>\",CO373,\"</cm_t27_list_sieve></Data>\"))","v":""},{"$f":"IF(BY20=\"\",\"\",TODAY())","v":""},{"$f":"IF(BY20=\"\",\"\",\"WTSYSTEMUSER\")","v":""},{"$f":"IF(BY20=\"\",\"\",TODAY())","v":""},{"$f":"IF(BY20=\"\",\"\",\"WTSYSTEMUSER\")","v":""},null,null,null,null,null,null,null,"",null,{"$f":"IF(BY4=\"\",\"\",\"AgencyEntityInsData Id 31\")","v":""},{"$f":"IF(BY4=\"\",\"\",\"AgencyEntityInstance Id 2\")","v":""},{"$f":"IF(BY4=\"\",\"\",\"cm_base_grad_T1T5_no_30_min\")","v":""},{"$f":"IF(BY4=\"\",\"\",\"10\")","v":""},{"$f":"IF(BY4=\"\",\"\",TODAY())","v":""},{"$f":"IF(BY4=\"\",\"\",\"WTSYSTEMUSER\")","v":""},{"$f":"IF(BY4=\"\",\"\",TODAY())","v":""},{"$f":"IF(BY4=\"\",\"\",\"WTSYSTEMUSER\")","v":""}]
[null,"OffSet",null,null,null,null,null,null,null,null,null,null,null,null,null,null,"",{"$f":"IF('Contract and Quantities'!AS70=\"\",\"\",'Contract and Quantities'!AS70)","v":""},"",null,{"$f":"IF(R34=\"\",\"\",'Contract and Quantities'!AR70)","v":""},{"$f":"IF(R34=\"\",\"\",'Contract and Quantities'!AQ70)","v":""},"","","","","",null,null,null,"Deleterious",null,null,{"$f":"IF('Test 2'!AK43=\"Y\",\"SampleRecordTest Id 32\",\"\")","v":""},"",{"$f":"IF(AQ34=\"\",\"\",VLOOKUP(AQ34,'Send Sync'!$I$56:$J$145,2,FALSE))","v":""},{"$f":"IF(AH34=\"\",\"\",5)","v":""},{"$f":"IF(AH34=\"\",\"\",'Send Sync'!$R$56)","v":""},{"$f":"IF(AH34=\"\",\"\",'Send Sync'!$T$56)","v":""},null,null,null,{"$f":"IF(AH34=\"\",\"\",IF($C$43=\"QA\",\"MoDOT TM71 Generic Deleterious Template (QA)\",\"MoDOT TM71 Generic Deleterious Template (QC)\"))","v":""},null,"","",{"$f":"IF(AH34=\"\",\"\",COUNTIF(AJ30:AJ34,AJ34))","v":""},"",null,"","","","","","","","","","","","","","",null,"",null,{"$f":"IF(AH34=\"\",\"\",IF(LEFT(Main!F14,4)=\"1005\",IF('Test 2'!W73=\"YES\",VLOOKUP(\"Pass\",'Send Sync'!$Y$56:$Z$57,2,FALSE),IF('Test 2'!W73=\"NO\",VLOOKUP(\"Fail\",'Send Sync'!$Y$56:$Z$57,2,FALSE),\"\")),\"\"))","v":""},"","",null,null,null,null,null,null,null,{"$f":"IF(AH20=\"\",\"\",\"AgencyEntityInstance Id 32\")","v":""},{"$f":"IF(BY20=\"\",\"\",VLOOKUP(\"CM_T27_List\",'Send Sync'!$K$56:$L$96,2,FALSE))","v":""},null,{"$f":"IF(BY20=\"\",\"\",\"AgencyEntityInstance Id 18\")","v":""},{"$f":"IF(BY20=\"\",\"\",CONCATENATE(\"<Data><cm_t27_list_inspecrow>\",CO374,\"</cm_t27_list_inspecrow><cm_t27_list_max>\",CO375,\"</cm_t27_list_max><cm_t27_list_min>\",CO376,\"</cm_t27_list_min><cm_t27_list_order>\",CO377,\"</cm_t27_list_order><cm_t27_list_pct_passing>\",CO378,\"</cm_t27_list_pct_passing><cm_t27_list_sieve>\",CO379,\"</cm_t27_list_sieve></Data>\"))","v":""},{"$f":"IF(BY20=\"\",\"\",TODAY())","v":""},{"$f":"IF(BY20=\"\",\"\",\"WTSYSTEMUSER\")","v":""},{"$f":"IF(BY20=\"\",\"\",TODAY())","v":""},{"$f":"IF(BY20=\"\",\"\",\"WTSYSTEMUSER\")","v":""},null,null,null,null,null,null,null,"",null,{"$f":"IF(BY4=\"\",\"\",\"AgencyEntityInsData Id 32\")","v":""},{"$f":"IF(BY4=\"\",\"\",\"AgencyEntityInstance Id 2\")","v":""},{"$f":"IF(BY4=\"\",\"\",\"cm_base_grad_T1T5_no_4_label\")","v":""},{"$f":"IF(BY4=\"\",\"\",\"No. 4 (4.75 mm)\")","v":""},{"$f":"IF(BY4=\"\",\"\",TODAY())","v":""},{"$f":"IF(BY4=\"\",\"\",\"WTSYSTEMUSER\")","v":""},{"$f":"IF(BY4=\"\",\"\",TODAY())","v":""},{"$f":"IF(BY4=\"\",\"\",\"WTSYSTEMUSER\")","v":""}]
[null,"Reference",null,null,null,null,null,null,null,null,null,null,null,null,null,null,"",{"$f":"IF('Contract and Quantities'!AS71=\"\",\"\",'Contract and Quantities'!AS71)","v":""},"",null,{"$f":"IF(R35=\"\",\"\",'Contract and Quantities'!AR71)","v":""},{"$f":"IF(R35=\"\",\"\",'Contract and Quantities'!AQ71)","v":""},"","","","","",null,null,null,"T27",null,null,{"$f":"IF('Test 3'!AH9=\"Y\",\"SampleRecordTest Id 33\",\"\")","v":""},"",{"$f":"IF(AQ35=\"\",\"\",VLOOKUP(AQ35,'Send Sync'!$I$56:$J$145,2,FALSE))","v":""},{"$f":"IF(AH35=\"\",\"\",1)","v":""},{"$f":"IF(AH35=\"\",\"\",'Send Sync'!$R$56)","v":""},{"$f":"IF(AH35=\"\",\"\",'Send Sync'!$T$56)","v":""},null,null,null,{"$f":"IF(AH35=\"\",\"\",IF($C$43=\"QA\",\"AASHTO T27 Sieve Analysis (QA)\",\"AASHTO T27 Sieve Analysis (QC)\"))","v":""},null,"","",{"$f":"IF(AH35=\"\",\"\",COUNTIF(AJ35:AJ36,AJ35))","v":""},"",null,"","","","","","","","","","","","","","",null,"",null,{"$f":"IF(AH35=\"\",\"\",IF(LEFT(Main!F14,4)=\"1010\",IF('Test 3'!E29=\"YES\",VLOOKUP(\"Pass\",'Send Sync'!$Y$56:$Z$57,2,FALSE),IF('Test 3'!E29=\"NO\",VLOOKUP(\"Fail\",'Send Sync'!$Y$56:$Z$57,2,FALSE),\"\")),\"\"))","v":""},"","",null,null,null,null,null,null,null,{"$f":"IF(AH20=\"\",\"\",\"AgencyEntityInstance Id 33\")","v":""},{"$f":"IF(BY20=\"\",\"\",VLOOKUP(\"CM_T27_List\",'Send Sync'!$K$56:$L$96,2,FALSE))","v":""},null,{"$f":"IF(BY20=\"\",\"\",\"AgencyEntityInstance Id 18\")","v":""},{"$f":"IF(BY20=\"\",\"\",CONCATENATE(\"<Data><cm_t27_list_inspecrow>\",CO380,\"</cm_t27_list_inspecrow><cm_t27_list_max>\",CO381,\"</cm_t27_list_max><cm_t27_list_min>\",CO382,\"</cm_t27_list_min><cm_t27_list_order>\",CO383,\"</cm_t27_list_order><cm_t27_list_pct_passing>\",CO384,\"</cm_t27_list_pct_passing><cm_t27_list_sieve>\",CO385,\"</cm_t27_list_sieve></Data>\"))","v":""},{"$f":"IF(BY20=\"\",\"\",TODAY())","v":""},{"$f":"IF(BY20=\"\",\"\",\"WTSYSTEMUSER\")","v":""},{"$f":"IF(BY20=\"\",\"\",TODAY())","v":""},{"$f":"IF(BY20=\"\",\"\",\"WTSYSTEMUSER\")","v":""},null,null,null,null,null,null,null,"",null,{"$f":"IF(BY4=\"\",\"\",\"AgencyEntityInsData Id 33\")","v":""},{"$f":"IF(BY4=\"\",\"\",\"AgencyEntityInstance Id 2\")","v":""},{"$f":"IF(BY4=\"\",\"\",\"cm_base_grad_T1T5_no_4_max\")","v":""},{"$f":"IF(BY4=\"\",\"\",\"60\")","v":""},{"$f":"IF(BY4=\"\",\"\",TODAY())","v":""},{"$f":"IF(BY4=\"\",\"\",\"WTSYSTEMUSER\")","v":""},{"$f":"IF(BY4=\"\",\"\",TODAY())","v":""},{"$f":"IF(BY4=\"\",\"\",\"WTSYSTEMUSER\")","v":""}]
[null,"RepresentedQuantity",{"$f":"'Contract and Quantities'!R13","v":0},null,null,null,null,null,null,null,null,null,null,null,null,null,"",{"$f":"IF('Contract and Quantities'!AS72=\"\",\"\",'Contract and Quantities'!AS72)","v":""},"",null,{"$f":"IF(R36=\"\",\"\",'Contract and Quantities'!AR72)","v":""},{"$f":"IF(R36=\"\",\"\",'Contract and Quantities'!AQ72)","v":""},"","","","","",null,null,null,"T27",null,null,{"$f":"IF('Test 3'!AI9=\"Y\",\"SampleRecordTest Id 34\",\"\")","v":""},"",{"$f":"IF(AQ36=\"\",\"\",VLOOKUP(AQ36,'Send Sync'!$I$56:$J$145,2,FALSE))","v":""},{"$f":"IF(AH36=\"\",\"\",2)","v":""},{"$f":"IF(AH36=\"\",\"\",'Send Sync'!$R$56)","v":""},{"$f":"IF(AH36=\"\",\"\",'Send Sync'!$T$56)","v":""},null,null,null,{"$f":"IF(AH36=\"\",\"\",IF($C$43=\"QA\",\"AASHTO T27 Sieve Analysis (QA)\",\"AASHTO T27 Sieve Analysis (QC)\"))","v":""},null,"","",{"$f":"IF(AH36=\"\",\"\",COUNTIF(AJ35:AJ36,AJ36))","v":""},"",null,"","","","","","","","","","","","","","",null,"",null,{"$f":"IF(AH36=\"\",\"\",IF(LEFT(Main!F14,4)=\"1010\",IF('Test 3'!H29=\"YES\",VLOOKUP(\"Pass\",'Send Sync'!$Y$56:$Z$57,2,FALSE),IF('Test 3'!H29=\"NO\",VLOOKUP(\"Fail\",'Send Sync'!$Y$56:$Z$57,2,FALSE),\"\")),\"\"))","v":""},"","",null,null,null,null,null,null,null,{"$f":"IF(AH21=\"\",\"\",\"AgencyEntityInstance Id 34\")","v":""},{"$f":"IF(BY36=\"\",\"\",VLOOKUP(\"CM_T27_Detail\",'Send Sync'!$K$56:$L$96,2,FALSE))","v":""},{"$f":"IF(BY36=\"\",\"\",\"SampleRecordTest Id 19\")","v":""},"",{"$f":"IF(BY36=\"\",\"\",CONCATENATE(\"<Data><cm_t27_detail_inspec>\",CO386,\"</cm_t27_detail_inspec></Data>\"))","v":""},{"$f":"IF(BY36=\"\",\"\",TODAY())","v":""},{"$f":"IF(BY36=\"\",\"\",\"WTSYSTEMUSER\")","v":""},{"$f":"IF(BY36=\"\",\"\",TODAY())","v":""},{"$f":"IF(BY36=\"\",\"\",\"WTSYSTEMUSER\")","v":""},null,null,null,null,null,null,null,"",null,{"$f":"IF(BY4=\"\",\"\",\"AgencyEntityInsData Id 34\")","v":""},{"$f":"IF(BY4=\"\",\"\",\"AgencyEntityInstance Id 2\")","v":""},{"$f":"IF(BY4=\"\",\"\",\"cm_base_grad_T1T5_no_4_min\")","v":""},{"$f":"IF(BY4=\"\",\"\",\"35\")","v":""},{"$f":"IF(BY4=\"\",\"\",TODAY())","v":""},{"$f":"IF(BY4=\"\",\"\",\"WTSYSTEMUSER\")","v":""},{"$f":"IF(BY4=\"\",\"\",TODAY())","v":""},{"$f":"IF(BY4=\"\",\"\",\"WTSYSTEMUSER\")","v":""}]
[null,"RepresentedQuantityUnits",{"$f":"Main!D43","v":{"$error":"#N/A"}},null,null,null,null,null,null,null,null,null,null,null,null,null,"",{"$f":"IF('Contract and Quantities'!AS73=\"\",\"\",'Contract and Quantities'!AS73)","v":""},"",null,{"$f":"IF(R37=\"\",\"\",'Contract and Quantities'!AR73)","v":""},{"$f":"IF(R37=\"\",\"\",'Contract and Quantities'!AQ73)","v":""},"","","","","",null,null,null,"T288 Soil Resistivity",null,null,{"$f":"IF('Test 3'!AH28=\"Y\",\"SampleRecordTest Id 35\",\"\")","v":""},"",{"$f":"IF(AQ37=\"\",\"\",VLOOKUP(AQ37,'Send Sync'!$I$56:$J$145,2,FALSE))","v":""},{"$f":"IF(AH37=\"\",\"\",1)","v":""},{"$f":"IF(AH37=\"\",\"\",'Send Sync'!$R$56)","v":""},{"$f":"IF(AH37=\"\",\"\",'Send Sync'!$T$56)","v":""},null,null,null,{"$f":"IF(AH37=\"\",\"\",\"AASHTO T288 Soil Resistivity Field\")","v":""},null,"","",{"$f":"IF(AH37=\"\",\"\",COUNTIF(AJ37:AJ38,AJ37))","v":""},"",null,"","","","","","","","","","","","","","",null,"",null,"","","",null,null,null,null,null,null,null,{"$f":"IF(AH21=\"\",\"\",\"AgencyEntityInstance Id 35\")","v":""},{"$f":"IF(BY36=\"\",\"\",VLOOKUP(\"CM_T27_List\",'Send Sync'!$K$56:$L$96,2,FALSE))","v":""},null,{"$f":"IF(BY36=\"\",\"\",\"AgencyEntityInstance Id 34\")","v":""},{"$f":"IF(BY36=\"\",\"\",CONCATENATE(\"<Data><cm_t27_list_inspecrow>\",CO387,\"</cm_t27_list_inspecrow><cm_t27_list_max>\",CO388,\"</cm_t27_list_max><cm_t27_list_min>\",CO389,\"</cm_t27_list_min><cm_t27_list_order>\",CO390,\"</cm_t27_list_order><cm_t27_list_pct_passing>\",CO391,\"</cm_t27_list_pct_passing><cm_t27_list_sieve>\",CO392,\"</cm_t27_list_sieve></Data>\"))","v":""},{"$f":"IF(BY36=\"\",\"\",TODAY())","v":""},{"$f":"IF(BY36=\"\",\"\",\"WTSYSTEMUSER\")","v":""},{"$f":"IF(BY36=\"\",\"\",TODAY())","v":""},{"$f":"IF(BY36=\"\",\"\",\"WTSYSTEMUSER\")","v":""},null,null,null,null,null,null,null,"",null,{"$f":"IF(BY4=\"\",\"\",\"AgencyEntityInsData Id 35\")","v":""},{"$f":"IF(BY4=\"\",\"\",\"AgencyEntityInstance Id 2\")","v":""},{"$f":"IF(BY4=\"\",\"\",\"cm_base_grad_T1T5_spec_01_inch_max\")","v":""},{"$f":"IF(BY4=\"\",\"\",\"100\")","v":""},{"$f":"IF(BY4=\"\",\"\",TODAY())","v":""},{"$f":"IF(BY4=\"\",\"\",\"WTSYSTEMUSER\")","v":""},{"$f":"IF(BY4=\"\",\"\",TODAY())","v":""},{"$f":"IF(BY4=\"\",\"\",\"WTSYSTEMUSER\")","v":""}]
[null,"RequestedBy",null,null,null,null,null,null,null,null,null,null,null,null,null,null,"",{"$f":"IF('Contract and Quantities'!AS74=\"\",\"\",'Contract and Quantities'!AS74)","v":""},"",null,{"$f":"IF(R38=\"\",\"\",'Contract and Quantities'!AR74)","v":""},{"$f":"IF(R38=\"\",\"\",'Contract and Quantities'!AQ74)","v":""},"","","","","",null,null,null,"T288 Soil Resistivity",null,null,{"$f":"IF('Test 3'!AI28=\"Y\",\"SampleRecordTest Id 36\",\"\")","v":""},"",{"$f":"IF(AQ38=\"\",\"\",VLOOKUP(AQ38,'Send Sync'!$I$56:$J$145,2,FALSE))","v":""},{"$f":"IF(AH38=\"\",\"\",2)","v":""},{"$f":"IF(AH38=\"\",\"\",'Send Sync'!$R$56)","v":""},{"$f":"IF(AH38=\"\",\"\",'Send Sync'!$T$56)","v":""},null,null,null,{"$f":"IF(AH38=\"\",\"\",\"AASHTO T288 Soil Resistivity Field\")","v":""},null,"","",{"$f":"IF(AH38=\"\",\"\",COUNTIF(AJ37:AJ38,AJ38))","v":""},"",null,"","","","","","","","","","","","","","",null,"",null,"","","",null,null,null,null,null,null,null,{"$f":"IF(AH21=\"\",\"\",\"AgencyEntityInstance Id 36\")","v":""},{"$f":"IF(BY36=\"\",\"\",VLOOKUP(\"CM_T27_List\",'Send Sync'!$K$56:$L$96,2,FALSE))","v":""},null,{"$f":"IF(BY36=\"\",\"\",\"AgencyEntityInstance Id 34\")","v":""},{"$f":"IF(BY36=\"\",\"\",CONCATENATE(\"<Data><cm_t27_list_inspecrow>\",CO393,\"</cm_t27_list_inspecrow><cm_t27_list_max>\",CO394,\"</cm_t27_list_max><cm_t27_list_min>\",CO395,\"</cm_t27_list_min><cm_t27_list_order>\",CO396,\"</cm_t27_list_order><cm_t27_list_pct_passing>\",CO397,\"</cm_t27_list_pct_passing><cm_t27_list_sieve>\",CO398,\"</cm_t27_list_sieve></Data>\"))","v":""},{"$f":"IF(BY36=\"\",\"\",TODAY())","v":""},{"$f":"IF(BY36=\"\",\"\",\"WTSYSTEMUSER\")","v":""},{"$f":"IF(BY36=\"\",\"\",TODAY())","v":""},{"$f":"IF(BY36=\"\",\"\",\"WTSYSTEMUSER\")","v":""},null,null,null,null,null,null,null,"",null,{"$f":"IF(BY4=\"\",\"\",\"AgencyEntityInsData Id 36\")","v":""},{"$f":"IF(BY4=\"\",\"\",\"AgencyEntityInstance Id 2\")","v":""},{"$f":"IF(BY4=\"\",\"\",\"cm_base_grad_T1T5_spec_01_inch_min\")","v":""},{"$f":"IF(BY4=\"\",\"\",\"100\")","v":""},{"$f":"IF(BY4=\"\",\"\",TODAY())","v":""},{"$f":"IF(BY4=\"\",\"\",\"WTSYSTEMUSER\")","v":""},{"$f":"IF(BY4=\"\",\"\",TODAY())","v":""},{"$f":"IF(BY4=\"\",\"\",\"WTSYSTEMUSER\")","v":""}]
[null,"Sample Dt",{"$f":"DATE(Main!I9,Main!I10,Main!I11)","v":"2023-11-30"},null,null,null,null,null,null,null,null,null,null,null,null,null,"",{"$f":"IF('Contract and Quantities'!AS75=\"\",\"\",'Contract and Quantities'!AS75)","v":""},"",null,{"$f":"IF(R39=\"\",\"\",'Contract and Quantities'!AR75)","v":""},{"$f":"IF(R39=\"\",\"\",'Contract and Quantities'!AQ75)","v":""},"","","","","",null,null,null,"T255 Aggregate % Moisture",null,null,{"$f":"IF('Test 1'!AG50=\"Y\",\"SampleRecordTest Id 37\",\"\")","v":""},"",{"$f":"IF(AQ39=\"\",\"\",VLOOKUP(AQ39,'Send Sync'!$I$56:$J$145,2,FALSE))","v":""},{"$f":"IF(AH39=\"\",\"\",1)","v":""},{"$f":"IF(AH39=\"\",\"\",'Send Sync'!$R$56)","v":""},{"$f":"IF(AH39=\"\",\"\",'Send Sync'!$T$56)","v":""},null,null,null,{"$f":"IF(AH39=\"\",\"\",\"AASHTO T255 Total Moisture Content of Aggregate by Drying\")","v":""},null,{"$f":"IF(AH39=\"\",\"\",TODAY())","v":""},{"$f":"IF(AH39=\"\",\"\",TODAY())","v":""},{"$f":"IF(AH39=\"\",\"\",COUNTIF(AJ39:AJ41,AJ39))","v":""},{"$f":"IF(AH39=\"\",\"\",TODAY())","v":""},null,{"$f":"IF(AH39=\"\",\"\",60)","v":""},{"$f":"IF(AH39=\"\",\"\",1)","v":""},{"$f":"IF(AH39=\"\",\"\",0)","v":""},{"$f":"IF(AH39=\"\",\"\",0)","v":""},{"$f":"IF(AH39=\"\",\"\",1)","v":""},{"$f":"IF(AH39=\"\",\"\",0)","v":""},{"$f":"IF(AH39=\"\",\"\",0)","v":""},{"$f":"IF(AH39=\"\",\"\",0)","v":""},{"$f":"IF(AH39=\"\",\"\",0)","v":""},{"$f":"IF(AH39=\"\",\"\",1)","v":""},{"$f":"IF(AH39=\"\",\"\",TODAY())","v":""},{"$f":"IF(AH39=\"\",\"\",\"WTSYSTEMUSER\")","v":""},{"$f":"IF(AH39=\"\",\"\",TODAY())","v":""},{"$f":"IF(AH39=\"\",\"\",\"WTSYSTEMUSER\")","v":""},null,{"$f":"IF(AH39=\"\",\"\",0)","v":""},null,{"$f":"IF(AH39=\"\",\"\",IF(LEFT(Main!F14,4)=\"1007\",IF('Test 1'!E54=\"YES\",VLOOKUP(\"Pass\",'Send Sync'!$Y$56:$Z$57,2,FALSE),IF('Test 1'!E54=\"NO\",VLOOKUP(\"Fail\",'Send Sync'!$Y$56:$Z$57,2,FALSE),\"\")),\"\"))","v":""},"","",null,null,null,null,null,null,null,{"$f":"IF(AH21=\"\",\"\",\"AgencyEntityInstance Id 37\")","v":""},{"$f":"IF(BY36=\"\",\"\",VLOOKUP(\"CM_T27_List\",'Send Sync'!$K$56:$L$96,2,FALSE))","v":""},null,{"$f":"IF(BY36=\"\",\"\",\"AgencyEntityInstance Id 34\")","v":""},{"$f":"IF(BY36=\"\",\"\",CONCATENATE(\"<Data><cm_t27_list_inspecrow>\",CO399,\"</cm_t27_list_inspecrow><cm_t27_list_max>\",CO400,\"</cm_t27_list_max><cm_t27_list_min>\",CO401,\"</cm_t27_list_min><cm_t27_list_order>\",CO402,\"</cm_t27_list_order><cm_t27_list_pct_passing>\",CO403,\"</cm_t27_list_pct_passing><cm_t27_list_sieve>\",CO404,\"</cm_t27_list_sieve></Data>\"))","v":""},{"$f":"IF(BY36=\"\",\"\",TODAY())","v":""},{"$f":"IF(BY36=\"\",\"\",\"WTSYSTEMUSER\")","v":""},{"$f":"IF(BY36=\"\",\"\",TODAY())","v":""},{"$f":"IF(BY36=\"\",\"\",\"WTSYSTEMUSER\")","v":""},null,null,null,null,null,null,null,"",null,{"$f":"IF(BY4=\"\",\"\",\"AgencyEntityInsData Id 37\")","v":""},{"$f":"IF(BY4=\"\",\"\",\"AgencyEntityInstance Id 2\")","v":""},{"$f":"IF(BY4=\"\",\"\",\"cm_base_grad_T1T5_spec_02_half_inch_max\")","v":""},{"$f":"IF(BY4=\"\",\"\",\"90\")","v":""},{"$f":"IF(BY4=\"\",\"\",TODAY())","v":""},{"$f":"IF(BY4=\"\",\"\",\"WTSYSTEMUSER\")","v":""},{"$f":"IF(BY4=\"\",\"\",TODAY())","v":""},{"$f":"IF(BY4=\"\",\"\",\"WTSYSTEMUSER\")","v":""}]
[null,"SampledFrom",null,null,null,null,null,null,null,null,null,null,null,null,null,null,"",{"$f":"IF('Contract and Quantities'!AS76=\"\",\"\",'Contract and Quantities'!AS76)","v":""},"",null,{"$f":"IF(R40=\"\",\"\",'Contract and Quantities'!AR76)","v":""},{"$f":"IF(R40=\"\",\"\",'Contract and Quantities'!AQ76)","v":""},"","","","","",null,null,null,"T255 Aggregate % Moisture",null,null,{"$f":"IF('Test 1'!AH50=\"Y\",\"SampleRecordTest Id 38\",\"\")","v":""},"",{"$f":"IF(AQ40=\"\",\"\",VLOOKUP(AQ40,'Send Sync'!$I$56:$J$145,2,FALSE))","v":""},{"$f":"IF(AH40=\"\",\"\",2)","v":""},{"$f":"IF(AH40=\"\",\"\",'Send Sync'!$R$56)","v":""},{"$f":"IF(AH40=\"\",\"\",'Send Sync'!$T$56)","v":""},null,null,null,{"$f":"IF(AH40=\"\",\"\",\"AASHTO T255 Total Moisture Content of Aggregate by Drying\")","v":""},null,"","",{"$f":"IF(AH40=\"\",\"\",COUNTIF(AJ39:AJ41,AJ40))","v":""},"",null,"","","","","","","","","","","","","","",null,"",null,{"$f":"IF(AH40=\"\",\"\",IF(LEFT(Main!F14,4)=\"1007\",IF('Test 1'!I54=\"YES\",VLOOKUP(\"Pass\",'Send Sync'!$Y$56:$Z$57,2,FALSE),IF('Test 1'!I54=\"NO\",VLOOKUP(\"Fail\",'Send Sync'!$Y$56:$Z$57,2,FALSE),\"\")),\"\"))","v":""},"","",null,null,null,null,null,null,null,{"$f":"IF(AH21=\"\",\"\",\"AgencyEntityInstance Id 38\")","v":""},{"$f":"IF(BY36=\"\",\"\",VLOOKUP(\"CM_T27_List\",'Send Sync'!$K$56:$L$96,2,FALSE))","v":""},null,{"$f":"IF(BY36=\"\",\"\",\"AgencyEntityInstance Id 34\")","v":""},{"$f":"IF(BY36=\"\",\"\",CONCATENATE(\"<Data><cm_t27_list_inspecrow>\",CO405,\"</cm_t27_list_inspecrow><cm_t27_list_max>\",CO406,\"</cm_t27_list_max><cm_t27_list_min>\",CO407,\"</cm_t27_list_min><cm_t27_list_order>\",CO408,\"</cm_t27_list_order><cm_t27_list_pct_passing>\",CO409,\"</cm_t27_list_pct_passing><cm_t27_list_sieve>\",CO410,\"</cm_t27_list_sieve></Data>\"))","v":""},{"$f":"IF(BY36=\"\",\"\",TODAY())","v":""},{"$f":"IF(BY36=\"\",\"\",\"WTSYSTEMUSER\")","v":""},{"$f":"IF(BY36=\"\",\"\",TODAY())","v":""},{"$f":"IF(BY36=\"\",\"\",\"WTSYSTEMUSER\")","v":""},null,null,null,null,null,null,null,"",null,{"$f":"IF(BY4=\"\",\"\",\"AgencyEntityInsData Id 38\")","v":""},{"$f":"IF(BY4=\"\",\"\",\"AgencyEntityInstance Id 2\")","v":""},{"$f":"IF(BY4=\"\",\"\",\"cm_base_grad_T1T5_spec_02_half_inch_min\")","v":""},{"$f":"IF(BY4=\"\",\"\",\"60\")","v":""},{"$f":"IF(BY4=\"\",\"\",TODAY())","v":""},{"$f":"IF(BY4=\"\",\"\",\"WTSYSTEMUSER\")","v":""},{"$f":"IF(BY4=\"\",\"\",TODAY())","v":""},{"$f":"IF(BY4=\"\",\"\",\"WTSYSTEMUSER\")","v":""}]
[null,"SampleOrigin",{"$f":"IF(Main!N25=\"\",\"\",Main!N25)","v":""},null,null,null,null,null,null,null,null,null,null,null,null,null,"",{"$f":"IF('Contract and Quantities'!AS77=\"\",\"\",'Contract and Quantities'!AS77)","v":""},"",null,{"$f":"IF(R41=\"\",\"\",'Contract and Quantities'!AR77)","v":""},{"$f":"IF(R41=\"\",\"\",'Contract and Quantities'!AQ77)","v":""},"","","","","",null,null,null,"T255 Aggregate % Moisture",null,null,{"$f":"IF('Test 1'!AI50=\"Y\",\"SampleRecordTest Id 39\",\"\")","v":""},{"$f":"IF(AH41=\"\",\"\",\"Sample Id\")","v":""},{"$f":"IF(AQ41=\"\",\"\",VLOOKUP(AQ41,'Send Sync'!$I$56:$J$145,2,FALSE))","v":""},{"$f":"IF(AH41=\"\",\"\",3)","v":""},{"$f":"IF(AH41=\"\",\"\",'Send Sync'!$R$56)","v":""},{"$f":"IF(AH41=\"\",\"\",'Send Sync'!$T$56)","v":""},null,null,null,{"$f":"IF(AH41=\"\",\"\",\"AASHTO T255 Total Moisture Content of Aggregate by Drying\")","v":""},null,"","",{"$f":"IF(AH41=\"\",\"\",COUNTIF(AJ39:AJ41,AJ41))","v":""},"",null,"","","","","","","","","","","","","","",null,"",null,{"$f":"IF(AH41=\"\",\"\",IF(LEFT(Main!F14,4)=\"1007\",IF('Test 1'!M54=\"YES\",VLOOKUP(\"Pass\",'Send Sync'!$Y$56:$Z$57,2,FALSE),IF('Test 1'!M54=\"NO\",VLOOKUP(\"Fail\",'Send Sync'!$Y$56:$Z$57,2,FALSE),\"\")),\"\"))","v":""},"","",null,null,null,null,null,null,null,{"$f":"IF(AH21=\"\",\"\",\"AgencyEntityInstance Id 39\")","v":""},{"$f":"IF(BY36=\"\",\"\",VLOOKUP(\"CM_T27_List\",'Send Sync'!$K$56:$L$96,2,FALSE))","v":""},null,{"$f":"IF(BY36=\"\",\"\",\"AgencyEntityInstance Id 34\")","v":""},{"$f":"IF(BY36=\"\",\"\",CONCATENATE(\"<Data><cm_t27_list_inspecrow>\",CO411,\"</cm_t27_list_inspecrow><cm_t27_list_max>\",CO412,\"</cm_t27_list_max><cm_t27_list_min>\",CO413,\"</cm_t27_list_min><cm_t27_list_order>\",CO414,\"</cm_t27_list_order><cm_t27_list_pct_passing>\",CO415,\"</cm_t27_list_pct_passing><cm_t27_list_sieve>\",CO416,\"</cm_t27_list_sieve></Data>\"))","v":""},{"$f":"IF(BY36=\"\",\"\",TODAY())","v":""},{"$f":"IF(BY36=\"\",\"\",\"WTSYSTEMUSER\")","v":""},{"$f":"IF(BY36=\"\",\"\",TODAY())","v":""},{"$f":"IF(BY36=\"\",\"\",\"WTSYSTEMUSER\")","v":""},null,null,null,null,null,null,null,"",null,{"$f":"IF(BY4=\"\",\"\",\"AgencyEntityInsData Id 39\")","v":""},{"$f":"IF(BY4=\"\",\"\",\"AgencyEntityInstance Id 2\")","v":""},{"$f":"IF(BY4=\"\",\"\",\"cm_base_grad_T1T5_spec_03_no_4_max\")","v":""},{"$f":"IF(BY4=\"\",\"\",\"60\")","v":""},{"$f":"IF(BY4=\"\",\"\",TODAY())","v":""},{"$f":"IF(BY4=\"\",\"\",\"WTSYSTEMUSER\")","v":""},{"$f":"IF(BY4=\"\",\"\",TODAY())","v":""},{"$f":"IF(BY4=\"\",\"\",\"WTSYSTEMUSER\")","v":""}]
[null,"SampleSizeUnits",null,null,null,null,null,null,null,null,null,null,null,null,null,null,"",{"$f":"IF('Contract and Quantities'!AS78=\"\",\"\",'Contract and Quantities'!AS78)","v":""},"",null,{"$f":"IF(R42=\"\",\"\",'Contract and Quantities'!AR78)","v":""},{"$f":"IF(R42=\"\",\"\",'Contract and Quantities'!AQ78)","v":""},"","","","","",null,null,null,"Flat and Elongated",null,null,{"$f":"IF('Test 2'!AG40=\"Y\",\"SampleRecordTest Id 40\",\"\")","v":""},{"$f":"IF(AH42=\"\",\"\",\"Sample Id\")","v":""},{"$f":"IF(AQ42=\"\",\"\",VLOOKUP(AQ42,'Send Sync'!$I$56:$J$145,2,FALSE))","v":""},{"$f":"IF(AH42=\"\",\"\",1)","v":""},{"$f":"IF(AH42=\"\",\"\",'Send Sync'!$R$56)","v":""},{"$f":"IF(AH42=\"\",\"\",'Send Sync'!$T$56)","v":""},null,null,null,{"$f":"IF(AH42=\"\",\"\",IF($C$43=\"QA\",\"ASTM D4791 Flat and Elongated Field (QA)\",\"ASTM D4791 Flat and Elongated Field (QC)\"))","v":""},null,{"$f":"IF(AH42=\"\",\"\",TODAY())","v":""},{"$f":"IF(AH42=\"\",\"\",TODAY())","v":""},{"$f":"IF(AH42=\"\",\"\",COUNTIF(AJ42:AJ46,AJ42))","v":""},{"$f":"IF(AH42=\"\",\"\",TODAY())","v":""},null,{"$f":"IF(AH42=\"\",\"\",60)","v":""},{"$f":"IF(AH42=\"\",\"\",1)","v":""},{"$f":"IF(AH42=\"\",\"\",0)","v":""},{"$f":"IF(AH42=\"\",\"\",0)","v":""},{"$f":"IF(AH42=\"\",\"\",1)","v":""},{"$f":"IF(AH42=\"\",\"\",0)","v":""},{"$f":"IF(AH42=\"\",\"\",0)","v":""},{"$f":"IF(AH42=\"\",\"\",0)","v":""},{"$f":"IF(AH42=\"\",\"\",0)","v":""},{"$f":"IF(AH42=\"\",\"\",1)","v":""},{"$f":"IF(AH42=\"\",\"\",TODAY())","v":""},{"$f":"IF(AH42=\"\",\"\",\"WTSYSTEMUSER\")","v":""},{"$f":"IF(AH42=\"\",\"\",TODAY())","v":""},{"$f":"IF(AH42=\"\",\"\",\"WTSYSTEMUSER\")","v":""},null,{"$f":"IF(AH42=\"\",\"\",0)","v":""},null,"","","",null,null,null,null,null,null,null,{"$f":"IF(AH21=\"\",\"\",\"AgencyEntityInstance Id 40\")","v":""},{"$f":"IF(BY36=\"\",\"\",VLOOKUP(\"CM_T27_List\",'Send Sync'!$K$56:$L$96,2,FALSE))","v":""},null,{"$f":"IF(BY36=\"\",\"\",\"AgencyEntityInstance Id 34\")","v":""},{"$f":"IF(BY36=\"\",\"\",CONCATENATE(\"<Data><cm_t27_list_inspecrow>\",CO417,\"</cm_t27_list_inspecrow><cm_t27_list_max>\",CO418,\"</cm_t27_list_max><cm_t27_list_min>\",CO419,\"</cm_t27_list_min><cm_t27_list_order>\",CO420,\"</cm_t27_list_order><cm_t27_list_pct_passing>\",CO421,\"</cm_t27_list_pct_passing><cm_t27_list_sieve>\",CO422,\"</cm_t27_list_sieve></Data>\"))","v":""},{"$f":"IF(BY36=\"\",\"\",TODAY())","v":""},{"$f":"IF(BY36=\"\",\"\",\"WTSYSTEMUSER\")","v":""},{"$f":"IF(BY36=\"\",\"\",TODAY())","v":""},{"$f":"IF(BY36=\"\",\"\",\"WTSYSTEMUSER\")","v":""},null,null,null,null,null,null,null,"",null,{"$f":"IF(BY4=\"\",\"\",\"AgencyEntityInsData Id 40\")","v":""},{"$f":"IF(BY4=\"\",\"\",\"AgencyEntityInstance Id 2\")","v":""},{"$f":"IF(BY4=\"\",\"\",\"cm_base_grad_T1T5_spec_03_no_4_min\")","v":""},{"$f":"IF(BY4=\"\",\"\",\"35\")","v":""},{"$f":"IF(BY4=\"\",\"\",TODAY())","v":""},{"$f":"IF(BY4=\"\",\"\",\"WTSYSTEMUSER\")","v":""},{"$f":"IF(BY4=\"\",\"\",TODAY())","v":""},{"$f":"IF(BY4=\"\",\"\",\"WTSYSTEMUSER\")","v":""}]
[null,"SampleType",{"$f":"Main!U40","v":"QCC"},null,null,null,null,null,null,null,null,null,null,null,null,null,"",{"$f":"IF('Contract and Quantities'!AS79=\"\",\"\",'Contract and Quantities'!AS79)","v":""},"",null,{"$f":"IF(R43=\"\",\"\",'Contract and Quantities'!AR79)","v":""},{"$f":"IF(R43=\"\",\"\",'Contract and Quantities'!AQ79)","v":""},"","","","","",null,null,null,"Flat and Elongated",null,null,{"$f":"IF('Test 2'!AH40=\"Y\",\"SampleRecordTest Id 41\",\"\")","v":""},"",{"$f":"IF(AQ43=\"\",\"\",VLOOKUP(AQ43,'Send Sync'!$I$56:$J$145,2,FALSE))","v":""},{"$f":"IF(AH43=\"\",\"\",2)","v":""},{"$f":"IF(AH43=\"\",\"\",'Send Sync'!$R$56)","v":""},{"$f":"IF(AH43=\"\",\"\",'Send Sync'!$T$56)","v":""},null,null,null,{"$f":"IF(AH43=\"\",\"\",IF($C$43=\"QA\",\"ASTM D4791 Flat and Elongated Field (QA)\",\"ASTM D4791 Flat and Elongated Field (QC)\"))","v":""},null,"","",{"$f":"IF(AH43=\"\",\"\",COUNTIF(AJ42:AJ46,AJ43))","v":""},"",null,"","","","","","","","","","","","","","",null,"",null,"","","",null,null,null,null,null,null,null,{"$f":"IF(AH21=\"\",\"\",\"AgencyEntityInstance Id 41\")","v":""},{"$f":"IF(BY36=\"\",\"\",VLOOKUP(\"CM_T27_List\",'Send Sync'!$K$56:$L$96,2,FALSE))","v":""},null,{"$f":"IF(BY36=\"\",\"\",\"AgencyEntityInstance Id 34\")","v":""},{"$f":"IF(BY36=\"\",\"\",CONCATENATE(\"<Data><cm_t27_list_inspecrow>\",CO423,\"</cm_t27_list_inspecrow><cm_t27_list_max>\",CO424,\"</cm_t27_list_max><cm_t27_list_min>\",CO425,\"</cm_t27_list_min><cm_t27_list_order>\",CO426,\"</cm_t27_list_order><cm_t27_list_pct_passing>\",CO427,\"</cm_t27_list_pct_passing><cm_t27_list_sieve>\",CO428,\"</cm_t27_list_sieve></Data>\"))","v":""},{"$f":"IF(BY36=\"\",\"\",TODAY())","v":""},{"$f":"IF(BY36=\"\",\"\",\"WTSYSTEMUSER\")","v":""},{"$f":"IF(BY36=\"\",\"\",TODAY())","v":""},{"$f":"IF(BY36=\"\",\"\",\"WTSYSTEMUSER\")","v":""},null,null,null,null,null,null,null,"",null,{"$f":"IF(BY4=\"\",\"\",\"AgencyEntityInsData Id 41\")","v":""},{"$f":"IF(BY4=\"\",\"\",\"AgencyEntityInstance Id 2\")","v":""},{"$f":"IF(BY4=\"\",\"\",\"cm_base_grad_T1T5_spec_04_no_30_max\")","v":""},{"$f":"IF(BY4=\"\",\"\",\"35\")","v":""},{"$f":"IF(BY4=\"\",\"\",TODAY())","v":""},{"$f":"IF(BY4=\"\",\"\",\"WTSYSTEMUSER\")","v":""},{"$f":"IF(BY4=\"\",\"\",TODAY())","v":""},{"$f":"IF(BY4=\"\",\"\",\"WTSYSTEMUSER\")","v":""}]
[null,"SealNumber",null,null,null,null,null,null,null,null,null,null,null,null,null,null,"",{"$f":"IF('Contract and Quantities'!AS80=\"\",\"\",'Contract and Quantities'!AS80)","v":""},"",null,{"$f":"IF(R44=\"\",\"\",'Contract and Quantities'!AR80)","v":""},{"$f":"IF(R44=\"\",\"\",'Contract and Quantities'!AQ80)","v":""},"","","","","",null,null,null,"Flat and Elongated",null,null,{"$f":"IF('Test 2'!AI40=\"Y\",\"SampleRecordTest Id 42\",\"\")","v":""},"",{"$f":"IF(AQ44=\"\",\"\",VLOOKUP(AQ44,'Send Sync'!$I$56:$J$145,2,FALSE))","v":""},{"$f":"IF(AH44=\"\",\"\",3)","v":""},{"$f":"IF(AH44=\"\",\"\",'Send Sync'!$R$56)","v":""},{"$f":"IF(AH44=\"\",\"\",'Send Sync'!$T$56)","v":""},null,null,null,{"$f":"IF(AH44=\"\",\"\",IF($C$43=\"QA\",\"ASTM D4791 Flat and Elongated Field (QA)\",\"ASTM D4791 Flat and Elongated Field (QC)\"))","v":""},null,"","",{"$f":"IF(AH44=\"\",\"\",COUNTIF(AJ42:AJ46,AJ44))","v":""},"",null,"","","","","","","","","","","","","","",null,"",null,"","","",null,null,null,null,null,null,null,{"$f":"IF(AH21=\"\",\"\",\"AgencyEntityInstance Id 42\")","v":""},{"$f":"IF(BY36=\"\",\"\",VLOOKUP(\"CM_T27_List\",'Send Sync'!$K$56:$L$96,2,FALSE))","v":""},null,{"$f":"IF(BY36=\"\",\"\",\"AgencyEntityInstance Id 34\")","v":""},{"$f":"IF(BY36=\"\",\"\",CONCATENATE(\"<Data><cm_t27_list_inspecrow>\",CO429,\"</cm_t27_list_inspecrow><cm_t27_list_max>\",CO430,\"</cm_t27_list_max><cm_t27_list_min>\",CO431,\"</cm_t27_list_min><cm_t27_list_order>\",CO432,\"</cm_t27_list_order><cm_t27_list_pct_passing>\",CO433,\"</cm_t27_list_pct_passing><cm_t27_list_sieve>\",CO434,\"</cm_t27_list_sieve></Data>\"))","v":""},{"$f":"IF(BY36=\"\",\"\",TODAY())","v":""},{"$f":"IF(BY36=\"\",\"\",\"WTSYSTEMUSER\")","v":""},{"$f":"IF(BY36=\"\",\"\",TODAY())","v":""},{"$f":"IF(BY36=\"\",\"\",\"WTSYSTEMUSER\")","v":""},null,null,null,null,null,null,null,"",null,{"$f":"IF(BY4=\"\",\"\",\"AgencyEntityInsData Id 42\")","v":""},{"$f":"IF(BY4=\"\",\"\",\"AgencyEntityInstance Id 2\")","v":""},{"$f":"IF(BY4=\"\",\"\",\"cm_base_grad_T1T5_spec_04_no_30_min\")","v":""},{"$f":"IF(BY4=\"\",\"\",\"10\")","v":""},{"$f":"IF(BY4=\"\",\"\",TODAY())","v":""},{"$f":"IF(BY4=\"\",\"\",\"WTSYSTEMUSER\")","v":""},{"$f":"IF(BY4=\"\",\"\",TODAY())","v":""},{"$f":"IF(BY4=\"\",\"\",\"WTSYSTEMUSER\")","v":""}]
[null,"Station",null,null,null,null,null,null,null,null,null,null,null,null,null,null,"",{"$f":"IF('Contract and Quantities'!AS81=\"\",\"\",'Contract and Quantities'!AS81)","v":""},"",null,{"$f":"IF(R45=\"\",\"\",'Contract and Quantities'!AR81)","v":""},{"$f":"IF(R45=\"\",\"\",'Contract and Quantities'!AQ81)","v":""},"","","","","",null,null,null,"Flat and Elongated",null,null,{"$f":"IF('Test 2'!AJ40=\"Y\",\"SampleRecordTest Id 43\",\"\")","v":""},"",{"$f":"IF(AQ45=\"\",\"\",VLOOKUP(AQ45,'Send Sync'!$I$56:$J$145,2,FALSE))","v":""},{"$f":"IF(AH45=\"\",\"\",4)","v":""},{"$f":"IF(AH45=\"\",\"\",'Send Sync'!$R$56)","v":""},{"$f":"IF(AH45=\"\",\"\",'Send Sync'!$T$56)","v":""},null,null,null,{"$f":"IF(AH45=\"\",\"\",IF($C$43=\"QA\",\"ASTM D4791 Flat and Elongated Field (QA)\",\"ASTM D4791 Flat and Elongated Field (QC)\"))","v":""},null,"","",{"$f":"IF(AH45=\"\",\"\",COUNTIF(AJ42:AJ46,AJ45))","v":""},"",null,"","","","","","","","","","","","","","",null,"",null,"","","",null,null,null,null,null,null,null,{"$f":"IF(AH21=\"\",\"\",\"AgencyEntityInstance Id 43\")","v":""},{"$f":"IF(BY36=\"\",\"\",VLOOKUP(\"CM_T27_List\",'Send Sync'!$K$56:$L$96,2,FALSE))","v":""},null,{"$f":"IF(BY36=\"\",\"\",\"AgencyEntityInstance Id 34\")","v":""},{"$f":"IF(BY36=\"\",\"\",CONCATENATE(\"<Data><cm_t27_list_inspecrow>\",CO435,\"</cm_t27_list_inspecrow><cm_t27_list_max>\",CO436,\"</cm_t27_list_max><cm_t27_list_min>\",CO437,\"</cm_t27_list_min><cm_t27_list_order>\",CO438,\"</cm_t27_list_order><cm_t27_list_pct_passing>\",CO439,\"</cm_t27_list_pct_passing><cm_t27_list_sieve>\",CO440,\"</cm_t27_list_sieve></Data>\"))","v":""},{"$f":"IF(BY36=\"\",\"\",TODAY())","v":""},{"$f":"IF(BY36=\"\",\"\",\"WTSYSTEMUSER\")","v":""},{"$f":"IF(BY36=\"\",\"\",TODAY())","v":""},{"$f":"IF(BY36=\"\",\"\",\"WTSYSTEMUSER\")","v":""},null,null,null,null,null,null,null,"",null,{"$f":"IF(BY4=\"\",\"\",\"AgencyEntityInsData Id 43\")","v":""},{"$f":"IF(BY4=\"\",\"\",\"AgencyEntityInstance Id 2\")","v":""},{"$f":"IF(BY4=\"\",\"\",\"cm_base_grad_T1T5_spec_05_no_200_max\")","v":""},{"$f":"IF(BY4=\"\",\"\",\"15\")","v":""},{"$f":"IF(BY4=\"\",\"\",TODAY())","v":""},{"$f":"IF(BY4=\"\",\"\",\"WTSYSTEMUSER\")","v":""},{"$f":"IF(BY4=\"\",\"\",TODAY())","v":""},{"$f":"IF(BY4=\"\",\"\",\"WTSYSTEMUSER\")","v":""}]
[null,"SationPlus",null,null,null,null,null,null,null,null,null,null,null,null,null,null,"",{"$f":"IF('Contract and Quantities'!AS82=\"\",\"\",'Contract and Quantities'!AS82)","v":""},"",null,{"$f":"IF(R46=\"\",\"\",'Contract and Quantities'!AR82)","v":""},{"$f":"IF(R46=\"\",\"\",'Contract and Quantities'!AQ82)","v":""},"","","","","",null,null,null,"Flat and Elongated",null,null,{"$f":"IF('Test 2'!AK40=\"Y\",\"SampleRecordTest Id 44\",\"\")","v":""},"",{"$f":"IF(AQ46=\"\",\"\",VLOOKUP(AQ46,'Send Sync'!$I$56:$J$145,2,FALSE))","v":""},{"$f":"IF(AH46=\"\",\"\",5)","v":""},{"$f":"IF(AH46=\"\",\"\",'Send Sync'!$R$56)","v":""},{"$f":"IF(AH46=\"\",\"\",'Send Sync'!$T$56)","v":""},null,null,null,{"$f":"IF(AH46=\"\",\"\",IF($C$43=\"QA\",\"ASTM D4791 Flat and Elongated Field (QA)\",\"ASTM D4791 Flat and Elongated Field (QC)\"))","v":""},null,"","",{"$f":"IF(AH46=\"\",\"\",COUNTIF(AJ42:AJ46,AJ46))","v":""},"",null,"","","","","","","","","","","","","","",null,"",null,null,"","",null,null,null,null,null,null,null,{"$f":"IF(AH21=\"\",\"\",\"AgencyEntityInstance Id 44\")","v":""},{"$f":"IF(BY36=\"\",\"\",VLOOKUP(\"CM_T27_List\",'Send Sync'!$K$56:$L$96,2,FALSE))","v":""},null,{"$f":"IF(BY36=\"\",\"\",\"AgencyEntityInstance Id 34\")","v":""},{"$f":"IF(BY36=\"\",\"\",CONCATENATE(\"<Data><cm_t27_list_inspecrow>\",CO441,\"</cm_t27_list_inspecrow><cm_t27_list_max>\",CO442,\"</cm_t27_list_max><cm_t27_list_min>\",CO443,\"</cm_t27_list_min><cm_t27_list_order>\",CO444,\"</cm_t27_list_order><cm_t27_list_pct_passing>\",CO445,\"</cm_t27_list_pct_passing><cm_t27_list_sieve>\",CO446,\"</cm_t27_list_sieve></Data>\"))","v":""},{"$f":"IF(BY36=\"\",\"\",TODAY())","v":""},{"$f":"IF(BY36=\"\",\"\",\"WTSYSTEMUSER\")","v":""},{"$f":"IF(BY36=\"\",\"\",TODAY())","v":""},{"$f":"IF(BY36=\"\",\"\",\"WTSYSTEMUSER\")","v":""},null,null,null,null,null,null,null,"",null,{"$f":"IF(BY4=\"\",\"\",\"AgencyEntityInsData Id 44\")","v":""},{"$f":"IF(BY4=\"\",\"\",\"AgencyEntityInstance Id 2\")","v":""},{"$f":"IF(BY4=\"\",\"\",\"cm_base_grad_T1T5_spec_05_no_200_min\")","v":""},{"$f":"IF(BY4=\"\",\"\",\"0\")","v":""},{"$f":"IF(BY4=\"\",\"\",TODAY())","v":""},{"$f":"IF(BY4=\"\",\"\",\"WTSYSTEMUSER\")","v":""},{"$f":"IF(BY4=\"\",\"\",TODAY())","v":""},{"$f":"IF(BY4=\"\",\"\",\"WTSYSTEMUSER\")","v":""}]
[null,"BuyAmerican",0,null,null,null,null,null,null,null,null,null,null,null,null,null,"",{"$f":"IF('Contract and Quantities'!AS83=\"\",\"\",'Contract and Quantities'!AS83)","v":""},"",null,{"$f":"IF(R47=\"\",\"\",'Contract and Quantities'!AR83)","v":""},{"$f":"IF(R47=\"\",\"\",'Contract and Quantities'!AQ83)","v":""},"","","","","",null,null,null,"QCQA grad",null,null,{"$f":"IF(AND('Test 4'!AE11=1,$C$43=\"QCQA\"),\"SampleRecordTest Id 45\",\"\")","v":""},{"$f":"IF(AH47=\"\",\"\",\"Sample Id\")","v":""},{"$f":"IF(AQ47=\"\",\"\",VLOOKUP(AQ47,'Send Sync'!$I$56:$J$145,2,FALSE))","v":""},{"$f":"IF(AH47=\"\",\"\",COUNTIF($AJ$47:AJ47,AJ47))","v":""},{"$f":"IF(AH47=\"\",\"\",'Send Sync'!$R$56)","v":""},{"$f":"IF(AH47=\"\",\"\",'Send Sync'!$T$56)","v":""},null,null,null,{"$f":"IF(AH47=\"\",\"\",\"AASHTO T27 Aggregate Gradation QA Retained Split (QCQA)\")","v":""},null,{"$f":"IF(AH47=\"\",\"\",TODAY())","v":""},{"$f":"IF(AH47=\"\",\"\",TODAY())","v":""},{"$f":"IF(AH47=\"\",\"\",COUNTIF($AJ$47:$AJ$52,AJ47))","v":""},{"$f":"IF(AH47=\"\",\"\",TODAY())","v":""},null,{"$f":"IF(AH47=\"\",\"\",60)","v":""},{"$f":"IF(AH47=\"\",\"\",1)","v":""},{"$f":"IF(AH47=\"\",\"\",0)","v":""},{"$f":"IF(AH47=\"\",\"\",0)","v":""},{"$f":"IF(AH47=\"\",\"\",1)","v":""},{"$f":"IF(AH47=\"\",\"\",0)","v":""},{"$f":"IF(AH47=\"\",\"\",0)","v":""},{"$f":"IF(AH47=\"\",\"\",0)","v":""},{"$f":"IF(AH47=\"\",\"\",0)","v":""},{"$f":"IF(AH47=\"\",\"\",1)","v":""},{"$f":"IF(AH47=\"\",\"\",TODAY())","v":""},{"$f":"IF(AH47=\"\",\"\",\"WTSYSTEMUSER\")","v":""},{"$f":"IF(AH47=\"\",\"\",TODAY())","v":""},{"$f":"IF(AH47=\"\",\"\",\"WTSYSTEMUSER\")","v":""},null,{"$f":"IF(AH47=\"\",\"\",0)","v":""},null,null,{"$f":"IF(AH47=\"\",\"\",1)","v":""},{"$f":"IF(AH47=\"\",\"\",0)","v":""},null,null,null,null,null,null,null,{"$f":"IF(AH21=\"\",\"\",\"AgencyEntityInstance Id 45\")","v":""},{"$f":"IF(BY36=\"\",\"\",VLOOKUP(\"CM_T27_List\",'Send Sync'!$K$56:$L$96,2,FALSE))","v":""},null,{"$f":"IF(BY36=\"\",\"\",\"AgencyEntityInstance Id 34\")","v":""},{"$f":"IF(BY36=\"\",\"\",CONCATENATE(\"<Data><cm_t27_list_inspecrow>\",CO447,\"</cm_t27_list_inspecrow><cm_t27_list_max>\",CO448,\"</cm_t27_list_max><cm_t27_list_min>\",CO449,\"</cm_t27_list_min><cm_t27_list_order>\",CO450,\"</cm_t27_list_order><cm_t27_list_pct_passing>\",CO451,\"</cm_t27_list_pct_passing><cm_t27_list_sieve>\",CO452,\"</cm_t27_list_sieve></Data>\"))","v":""},{"$f":"IF(BY36=\"\",\"\",TODAY())","v":""},{"$f":"IF(BY36=\"\",\"\",\"WTSYSTEMUSER\")","v":""},{"$f":"IF(BY36=\"\",\"\",TODAY())","v":""},{"$f":"IF(BY36=\"\",\"\",\"WTSYSTEMUSER\")","v":""},null,null,null,null,null,null,null,"",null,{"$f":"IF(BY5=\"\",\"\",\"AgencyEntityInsData Id 45\")","v":""},{"$f":"IF(BY5=\"\",\"\",\"AgencyEntityInstance Id 3\")","v":""},{"$f":"IF(BY5=\"\",\"\",\"cm_base_grad_T1T5_01_inch\")","v":""},{"$f":"IF(BY5=\"\",\"\",IF('Test 1'!$AE25=0,\"\",'Test 1'!$AE25))","v":""},{"$f":"IF(BY5=\"\",\"\",TODAY())","v":""},{"$f":"IF(BY5=\"\",\"\",\"WTSYSTEMUSER\")","v":""},{"$f":"IF(BY5=\"\",\"\",TODAY())","v":""},{"$f":"IF(BY5=\"\",\"\",\"WTSYSTEMUSER\")","v":""}]
[null,"SpltSample",0,null,null,null,null,null,null,null,null,null,null,null,null,null,"",{"$f":"IF('Contract and Quantities'!AS84=\"\",\"\",'Contract and Quantities'!AS84)","v":""},"",null,{"$f":"IF(R48=\"\",\"\",'Contract and Quantities'!AR84)","v":""},{"$f":"IF(R48=\"\",\"\",'Contract and Quantities'!AQ84)","v":""},"","","","","",null,null,null,"QCQA grad 2",null,null,{"$f":"IF(AND('Test 4'!AF11=1,$C$43=\"QCQA\"),\"SampleRecordTest Id 46\",\"\")","v":""},"",{"$f":"IF(AQ48=\"\",\"\",VLOOKUP(AQ48,'Send Sync'!$I$56:$J$145,2,FALSE))","v":""},{"$f":"IF(AH48=\"\",\"\",COUNTIF($AJ$47:AJ48,AJ48))","v":""},{"$f":"IF(AH48=\"\",\"\",'Send Sync'!$R$56)","v":""},{"$f":"IF(AH48=\"\",\"\",'Send Sync'!$T$56)","v":""},null,null,null,{"$f":"IF(AH48=\"\",\"\",\"AASHTO T27 Aggregate Gradation QA Retained Split (QCQA)\")","v":""},null,"","","","",null,"","","","","","","","","","","","","","",null,"",null,null,"","",null,null,null,null,null,null,null,{"$f":"IF(AH21=\"\",\"\",\"AgencyEntityInstance Id 46\")","v":""},{"$f":"IF(BY36=\"\",\"\",VLOOKUP(\"CM_T27_List\",'Send Sync'!$K$56:$L$96,2,FALSE))","v":""},null,{"$f":"IF(BY36=\"\",\"\",\"AgencyEntityInstance Id 34\")","v":""},{"$f":"IF(BY36=\"\",\"\",CONCATENATE(\"<Data><cm_t27_list_inspecrow>\",CO453,\"</cm_t27_list_inspecrow><cm_t27_list_max>\",CO454,\"</cm_t27_list_max><cm_t27_list_min>\",CO455,\"</cm_t27_list_min><cm_t27_list_order>\",CO456,\"</cm_t27_list_order><cm_t27_list_pct_passing>\",CO457,\"</cm_t27_list_pct_passing><cm_t27_list_sieve>\",CO458,\"</cm_t27_list_sieve></Data>\"))","v":""},{"$f":"IF(BY36=\"\",\"\",TODAY())","v":""},{"$f":"IF(BY36=\"\",\"\",\"WTSYSTEMUSER\")","v":""},{"$f":"IF(BY36=\"\",\"\",TODAY())","v":""},{"$f":"IF(BY36=\"\",\"\",\"WTSYSTEMUSER\")","v":""},null,null,null,null,null,null,null,"",null,{"$f":"IF(BY5=\"\",\"\",\"AgencyEntityInsData Id 46\")","v":""},{"$f":"IF(BY5=\"\",\"\",\"AgencyEntityInstance Id 3\")","v":""},{"$f":"IF(BY5=\"\",\"\",\"cm_base_grad_T1T5_02_half_inch\")","v":""},{"$f":"IF(BY5=\"\",\"\",IF('Test 1'!$AE26=0,\"\",'Test 1'!$AE26))","v":""},{"$f":"IF(BY5=\"\",\"\",TODAY())","v":""},{"$f":"IF(BY5=\"\",\"\",\"WTSYSTEMUSER\")","v":""},{"$f":"IF(BY5=\"\",\"\",TODAY())","v":""},{"$f":"IF(BY5=\"\",\"\",\"WTSYSTEMUSER\")","v":""}]
[null,"Created Dt",{"$f":"TODAY()","v":"2024-01-05"},null,null,null,null,null,null,null,null,null,null,null,null,null,"",{"$f":"IF('Contract and Quantities'!AS85=\"\",\"\",'Contract and Quantities'!AS85)","v":""},"",null,{"$f":"IF(R49=\"\",\"\",'Contract and Quantities'!AR85)","v":""},{"$f":"IF(R49=\"\",\"\",'Contract and Quantities'!AQ85)","v":""},"","","","","",null,null,null,"QCQA del 1",null,null,{"$f":"IF(AND('Test 4'!AE30=1,$C$43=\"QCQA\"),\"SampleRecordTest Id 47\",\"\")","v":""},"",{"$f":"IF(AQ49=\"\",\"\",VLOOKUP(AQ49,'Send Sync'!$I$56:$J$145,2,FALSE))","v":""},{"$f":"IF(AH49=\"\",\"\",COUNTIF($AJ$47:AJ49,AJ49))","v":""},{"$f":"IF(AH49=\"\",\"\",'Send Sync'!$R$56)","v":""},{"$f":"IF(AH49=\"\",\"\",'Send Sync'!$T$56)","v":""},null,null,null,{"$f":"IF(AH49=\"\",\"\",\"MoDOT TM71 Deleterious QA Retained Split (QCQA)\")","v":""},null,"","","","",null,"","","","","","","","","","","","","","",null,"",null,null,"","",null,null,null,null,null,null,null,{"$f":"IF(AH21=\"\",\"\",\"AgencyEntityInstance Id 47\")","v":""},{"$f":"IF(BY36=\"\",\"\",VLOOKUP(\"CM_T27_List\",'Send Sync'!$K$56:$L$96,2,FALSE))","v":""},null,{"$f":"IF(BY36=\"\",\"\",\"AgencyEntityInstance Id 34\")","v":""},{"$f":"IF(BY36=\"\",\"\",CONCATENATE(\"<Data><cm_t27_list_inspecrow>\",CO459,\"</cm_t27_list_inspecrow><cm_t27_list_max>\",CO460,\"</cm_t27_list_max><cm_t27_list_min>\",CO461,\"</cm_t27_list_min><cm_t27_list_order>\",CO462,\"</cm_t27_list_order><cm_t27_list_pct_passing>\",CO463,\"</cm_t27_list_pct_passing><cm_t27_list_sieve>\",CO464,\"</cm_t27_list_sieve></Data>\"))","v":""},{"$f":"IF(BY36=\"\",\"\",TODAY())","v":""},{"$f":"IF(BY36=\"\",\"\",\"WTSYSTEMUSER\")","v":""},{"$f":"IF(BY36=\"\",\"\",TODAY())","v":""},{"$f":"IF(BY36=\"\",\"\",\"WTSYSTEMUSER\")","v":""},null,null,null,null,null,null,null,"",null,{"$f":"IF(BY5=\"\",\"\",\"AgencyEntityInsData Id 47\")","v":""},{"$f":"IF(BY5=\"\",\"\",\"AgencyEntityInstance Id 3\")","v":""},{"$f":"IF(BY5=\"\",\"\",\"cm_base_grad_T1T5_03_no_4\")","v":""},{"$f":"IF(BY5=\"\",\"\",IF('Test 1'!$AE27=0,\"\",'Test 1'!$AE27))","v":""},{"$f":"IF(BY5=\"\",\"\",TODAY())","v":""},{"$f":"IF(BY5=\"\",\"\",\"WTSYSTEMUSER\")","v":""},{"$f":"IF(BY5=\"\",\"\",TODAY())","v":""},{"$f":"IF(BY5=\"\",\"\",\"WTSYSTEMUSER\")","v":""}]
[null,"CreatedBy","WTSYSTEMUSER",null,null,null,null,null,null,null,null,null,null,null,null,null,"",{"$f":"IF('Contract and Quantities'!AS86=\"\",\"\",'Contract and Quantities'!AS86)","v":""},"",null,{"$f":"IF(R50=\"\",\"\",'Contract and Quantities'!AR86)","v":""},{"$f":"IF(R50=\"\",\"\",'Contract and Quantities'!AQ86)","v":""},"","","","","",null,null,null,"QCQA del 2",null,null,{"$f":"IF(AND('Test 4'!AF30=1,$C$43=\"QCQA\"),\"SampleRecordTest Id 48\",\"\")","v":""},"",{"$f":"IF(AQ50=\"\",\"\",VLOOKUP(AQ50,'Send Sync'!$I$56:$J$145,2,FALSE))","v":""},{"$f":"IF(AH50=\"\",\"\",COUNTIF($AJ$47:AJ50,AJ50))","v":""},{"$f":"IF(AH50=\"\",\"\",'Send Sync'!$R$56)","v":""},{"$f":"IF(AH50=\"\",\"\",'Send Sync'!$T$56)","v":""},null,null,null,{"$f":"IF(AH50=\"\",\"\",\"MoDOT TM71 Deleterious QA Retained Split (QCQA)\")","v":""},null,"","","","",null,"","","","","","","","","","","","","","",null,"",null,null,"","",null,null,null,null,null,null,null,{"$f":"IF(AH21=\"\",\"\",\"AgencyEntityInstance Id 48\")","v":""},{"$f":"IF(BY36=\"\",\"\",VLOOKUP(\"CM_T27_List\",'Send Sync'!$K$56:$L$96,2,FALSE))","v":""},null,{"$f":"IF(BY36=\"\",\"\",\"AgencyEntityInstance Id 34\")","v":""},{"$f":"IF(BY36=\"\",\"\",CONCATENATE(\"<Data><cm_t27_list_inspecrow>\",CO465,\"</cm_t27_list_inspecrow><cm_t27_list_max>\",CO466,\"</cm_t27_list_max><cm_t27_list_min>\",CO467,\"</cm_t27_list_min><cm_t27_list_order>\",CO468,\"</cm_t27_list_order><cm_t27_list_pct_passing>\",CO469,\"</cm_t27_list_pct_passing><cm_t27_list_sieve>\",CO470,\"</cm_t27_list_sieve></Data>\"))","v":""},{"$f":"IF(BY36=\"\",\"\",TODAY())","v":""},{"$f":"IF(BY36=\"\",\"\",\"WTSYSTEMUSER\")","v":""},{"$f":"IF(BY36=\"\",\"\",TODAY())","v":""},{"$f":"IF(BY36=\"\",\"\",\"WTSYSTEMUSER\")","v":""},null,null,null,null,null,null,null,"",null,{"$f":"IF(BY5=\"\",\"\",\"AgencyEntityInsData Id 48\")","v":""},{"$f":"IF(BY5=\"\",\"\",\"AgencyEntityInstance Id 3\")","v":""},{"$f":"IF(BY5=\"\",\"\",\"cm_base_grad_T1T5_04_no_30\")","v":""},{"$f":"IF(BY5=\"\",\"\",IF('Test 1'!$AE28=0,\"\",'Test 1'!$AE28))","v":""},{"$f":"IF(BY5=\"\",\"\",TODAY())","v":""},{"$f":"IF(BY5=\"\",\"\",\"WTSYSTEMUSER\")","v":""},{"$f":"IF(BY5=\"\",\"\",TODAY())","v":""},{"$f":"IF(BY5=\"\",\"\",\"WTSYSTEMUSER\")","v":""}]
[null,"LastUpdated Dt",{"$f":"TODAY()","v":"2024-01-05"},null,null,null,null,null,null,null,null,null,null,null,null,null,"",{"$f":"IF('Contract and Quantities'!AS87=\"\",\"\",'Contract and Quantities'!AS87)","v":""},"",null,{"$f":"IF(R51=\"\",\"\",'Contract and Quantities'!AR87)","v":""},{"$f":"IF(R51=\"\",\"\",'Contract and Quantities'!AQ87)","v":""},"","","","","",null,null,null,"QCQA Abs 1",null,null,{"$f":"IF(AND('Test 4'!AE42=1,$C$43=\"QCQA\"),\"SampleRecordTest Id 49\",\"\")","v":""},"",{"$f":"IF(AQ51=\"\",\"\",VLOOKUP(AQ51,'Send Sync'!$I$56:$J$145,2,FALSE))","v":""},{"$f":"IF(AH51=\"\",\"\",COUNTIF($AJ$47:AJ51,AJ51))","v":""},{"$f":"IF(AH51=\"\",\"\",'Send Sync'!$R$56)","v":""},{"$f":"IF(AH51=\"\",\"\",'Send Sync'!$T$56)","v":""},null,null,null,{"$f":"IF(AH51=\"\",\"\",\"AASHTO T85 Absorption for Concrete Aggregate (QCQA)\")","v":""},null,"","","","",null,"","","","","","","","","","","","","","",null,"",null,null,"","",null,null,null,null,null,null,null,{"$f":"IF(AH21=\"\",\"\",\"AgencyEntityInstance Id 49\")","v":""},{"$f":"IF(BY36=\"\",\"\",VLOOKUP(\"CM_T27_List\",'Send Sync'!$K$56:$L$96,2,FALSE))","v":""},null,{"$f":"IF(BY36=\"\",\"\",\"AgencyEntityInstance Id 34\")","v":""},{"$f":"IF(BY36=\"\",\"\",CONCATENATE(\"<Data><cm_t27_list_inspecrow>\",CO471,\"</cm_t27_list_inspecrow><cm_t27_list_max>\",CO472,\"</cm_t27_list_max><cm_t27_list_min>\",CO473,\"</cm_t27_list_min><cm_t27_list_order>\",CO474,\"</cm_t27_list_order><cm_t27_list_pct_passing>\",CO475,\"</cm_t27_list_pct_passing><cm_t27_list_sieve>\",CO476,\"</cm_t27_list_sieve></Data>\"))","v":""},{"$f":"IF(BY36=\"\",\"\",TODAY())","v":""},{"$f":"IF(BY36=\"\",\"\",\"WTSYSTEMUSER\")","v":""},{"$f":"IF(BY36=\"\",\"\",TODAY())","v":""},{"$f":"IF(BY36=\"\",\"\",\"WTSYSTEMUSER\")","v":""},null,null,null,null,null,null,null,"",null,{"$f":"IF(BY5=\"\",\"\",\"AgencyEntityInsData Id 49\")","v":""},{"$f":"IF(BY5=\"\",\"\",\"AgencyEntityInstance Id 3\")","v":""},{"$f":"IF(BY5=\"\",\"\",\"cm_base_grad_T1T5_05_no_200\")","v":""},{"$f":"IF(BY5=\"\",\"\",IF('Test 1'!$AE29=0,\"\",'Test 1'!$AE29))","v":""},{"$f":"IF(BY5=\"\",\"\",TODAY())","v":""},{"$f":"IF(BY5=\"\",\"\",\"WTSYSTEMUSER\")","v":""},{"$f":"IF(BY5=\"\",\"\",TODAY())","v":""},{"$f":"IF(BY5=\"\",\"\",\"WTSYSTEMUSER\")","v":""}]
[null,"LastUpdatedBy","WTSYSTEMUSER",null,null,null,null,null,null,null,null,null,null,null,null,null,"",{"$f":"IF('Contract and Quantities'!AS88=\"\",\"\",'Contract and Quantities'!AS88)","v":""},"",null,{"$f":"IF(R52=\"\",\"\",'Contract and Quantities'!AR88)","v":""},{"$f":"IF(R52=\"\",\"\",'Contract and Quantities'!AQ88)","v":""},"","","","","",null,null,null,"QCQA Abs 2",null,null,{"$f":"IF(AND('Test 4'!AF42=1,$C$43=\"QCQA\"),\"SampleRecordTest Id 50\",\"\")","v":""},"",{"$f":"IF(AQ52=\"\",\"\",VLOOKUP(AQ52,'Send Sync'!$I$56:$J$145,2,FALSE))","v":""},{"$f":"IF(AH52=\"\",\"\",COUNTIF($AJ$47:AJ52,AJ52))","v":""},{"$f":"IF(AH52=\"\",\"\",'Send Sync'!$R$56)","v":""},{"$f":"IF(AH52=\"\",\"\",'Send Sync'!$T$56)","v":""},null,null,null,{"$f":"IF(AH52=\"\",\"\",\"AASHTO T85 Absorption for Concrete Aggregate (QCQA)\")","v":""},null,"","","","",null,"","","","","","","","","","","","","","",null,"",null,null,"","",null,null,null,null,null,null,null,{"$f":"IF(AH22=\"\",\"\",\"AgencyEntityInstance Id 50\")","v":""},{"$f":"IF(BY52=\"\",\"\",VLOOKUP(\"CM_T27_Detail\",'Send Sync'!$K$56:$L$96,2,FALSE))","v":""},{"$f":"IF(BY52=\"\",\"\",\"SampleRecordTest Id 20\")","v":""},"",{"$f":"IF(BY52=\"\",\"\",CONCATENATE(\"<Data><cm_t27_detail_inspec>\",CO477,\"</cm_t27_detail_inspec></Data>\"))","v":""},{"$f":"IF(BY52=\"\",\"\",TODAY())","v":""},{"$f":"IF(BY52=\"\",\"\",\"WTSYSTEMUSER\")","v":""},{"$f":"IF(BY52=\"\",\"\",TODAY())","v":""},{"$f":"IF(BY52=\"\",\"\",\"WTSYSTEMUSER\")","v":""},null,null,null,null,null,null,null,"",null,{"$f":"IF(BY5=\"\",\"\",\"AgencyEntityInsData Id 50\")","v":""},{"$f":"IF(BY5=\"\",\"\",\"AgencyEntityInstance Id 3\")","v":""},{"$f":"IF(BY5=\"\",\"\",\"cm_base_grad_T1T5_08_station_1\")","v":""},{"$f":"IF(BY5=\"\",\"\",IF('Test 1'!$F18=0,\"\",'Test 1'!$F18))","v":""},{"$f":"IF(BY5=\"\",\"\",TODAY())","v":""},{"$f":"IF(BY5=\"\",\"\",\"WTSYSTEMUSER\")","v":""},{"$f":"IF(BY5=\"\",\"\",TODAY())","v":""},{"$f":"IF(BY5=\"\",\"\",\"WTSYSTEMUSER\")","v":""}]
[null,"DailySourceReport ID",null,null,null,null,null,null,null,null,null,null,null,null,null,null,null,null,null,null,null,null,null,null,null,null,null,null,null,null,"Base T1T5 Agg QCQA 1",null,null,{"$f":"IF(AND('Test 4'!AH11=1,$C$43=\"QCQA\"),\"SampleRecordTest Id 51\",\"\")","v":""},"",{"$f":"IF(AQ53=\"\",\"\",VLOOKUP(AQ53,'Send Sync'!$I$56:$J$145,2,FALSE))","v":""},{"$f":"IF(AH53=\"\",\"\",COUNTIF($AJ$47:AJ53,AJ53))","v":""},{"$f":"IF(AH53=\"\",\"\",'Send Sync'!$R$56)","v":""},{"$f":"IF(AH53=\"\",\"\",'Send Sync'!$T$56)","v":""},null,null,null,{"$f":"IF(AH53=\"\",\"\",\"Base T1&T5 Aggregate Retained Comparison (QCQA)\")","v":""},null,"","",{"$f":"IF(AH53=\"\",\"\",COUNTIF($AJ$48:$AJ$53,AJ53))","v":""},"",null,"","","","","","","","","","","","","","",null,"",null,null,"","",null,null,null,null,null,null,null,{"$f":"IF(AH22=\"\",\"\",\"AgencyEntityInstance Id 51\")","v":""},{"$f":"IF(BY52=\"\",\"\",VLOOKUP(\"CM_T27_List\",'Send Sync'!$K$56:$L$96,2,FALSE))","v":""},null,{"$f":"IF(BY52=\"\",\"\",\"AgencyEntityInstance Id 50\")","v":""},{"$f":"IF(BY52=\"\",\"\",CONCATENATE(\"<Data><cm_t27_list_inspecrow>\",CO478,\"</cm_t27_list_inspecrow><cm_t27_list_max>\",CO479,\"</cm_t27_list_max><cm_t27_list_min>\",CO480,\"</cm_t27_list_min><cm_t27_list_order>\",CO481,\"</cm_t27_list_order><cm_t27_list_pct_passing>\",CO482,\"</cm_t27_list_pct_passing><cm_t27_list_sieve>\",CO483,\"</cm_t27_list_sieve></Data>\"))","v":""},{"$f":"IF(BY52=\"\",\"\",TODAY())","v":""},{"$f":"IF(BY52=\"\",\"\",\"WTSYSTEMUSER\")","v":""},{"$f":"IF(BY52=\"\",\"\",TODAY())","v":""},{"$f":"IF(BY52=\"\",\"\",\"WTSYSTEMUSER\")","v":""},null,null,null,null,null,null,null,"",null,{"$f":"IF(BY5=\"\",\"\",\"AgencyEntityInsData Id 51\")","v":""},{"$f":"IF(BY5=\"\",\"\",\"AgencyEntityInstance Id 3\")","v":""},{"$f":"IF(BY5=\"\",\"\",\"cm_base_grad_T1T5_09_station_2\")","v":""},{"$f":"IF(BY5=\"\",\"\",IF('Test 1'!$J18=0,\"\",'Test 1'!$J18))","v":""},{"$f":"IF(BY5=\"\",\"\",TODAY())","v":""},{"$f":"IF(BY5=\"\",\"\",\"WTSYSTEMUSER\")","v":""},{"$f":"IF(BY5=\"\",\"\",TODAY())","v":""},{"$f":"IF(BY5=\"\",\"\",\"WTSYSTEMUSER\")","v":""}]
[null,"Log Dt",null,null,null,null,null,null,null,null,null,null,null,null,null,null,null,null,null,null,null,null,null,null,null,null,null,null,null,null,"Base T1T5 Agg QCQA 1",null,null,{"$f":"IF(AND('Test 4'!AI11=1,$C$43=\"QCQA\"),\"SampleRecordTest Id 52\",\"\")","v":""},"",{"$f":"IF(AQ54=\"\",\"\",VLOOKUP(AQ54,'Send Sync'!$I$56:$J$145,2,FALSE))","v":""},{"$f":"IF(AH54=\"\",\"\",COUNTIF($AJ$47:AJ54,AJ54))","v":""},{"$f":"IF(AH54=\"\",\"\",'Send Sync'!$R$56)","v":""},{"$f":"IF(AH54=\"\",\"\",'Send Sync'!$T$56)","v":""},null,null,null,{"$f":"IF(AH54=\"\",\"\",\"Base T1&T5 Aggregate Retained Comparison (QCQA)\")","v":""},null,"","",{"$f":"IF(AH54=\"\",\"\",COUNTIF($AJ$49:$AJ$54,AJ54))","v":""},"",null,"","","","","","","","","","","","","","",null,"",null,null,"","",null,null,null,null,null,null,null,{"$f":"IF(AH22=\"\",\"\",\"AgencyEntityInstance Id 52\")","v":""},{"$f":"IF(BY52=\"\",\"\",VLOOKUP(\"CM_T27_List\",'Send Sync'!$K$56:$L$96,2,FALSE))","v":""},null,{"$f":"IF(BY52=\"\",\"\",\"AgencyEntityInstance Id 50\")","v":""},{"$f":"IF(BY52=\"\",\"\",CONCATENATE(\"<Data><cm_t27_list_inspecrow>\",CO484,\"</cm_t27_list_inspecrow><cm_t27_list_max>\",CO485,\"</cm_t27_list_max><cm_t27_list_min>\",CO486,\"</cm_t27_list_min><cm_t27_list_order>\",CO487,\"</cm_t27_list_order><cm_t27_list_pct_passing>\",CO488,\"</cm_t27_list_pct_passing><cm_t27_list_sieve>\",CO489,\"</cm_t27_list_sieve></Data>\"))","v":""},{"$f":"IF(BY52=\"\",\"\",TODAY())","v":""},{"$f":"IF(BY52=\"\",\"\",\"WTSYSTEMUSER\")","v":""},{"$f":"IF(BY52=\"\",\"\",TODAY())","v":""},{"$f":"IF(BY52=\"\",\"\",\"WTSYSTEMUSER\")","v":""},null,null,null,null,null,null,null,"",null,{"$f":"IF(BY5=\"\",\"\",\"AgencyEntityInsData Id 52\")","v":""},{"$f":"IF(BY5=\"\",\"\",\"AgencyEntityInstance Id 3\")","v":""},{"$f":"IF(BY5=\"\",\"\",\"cm_base_grad_T1T5_10_centerline_location\")","v":""},{"$f":"IF(BY5=\"\",\"\",IF('Test 1'!I19=\"\",\"\",'Test 1'!I19))","v":""},{"$f":"IF(BY5=\"\",\"\",TODAY())","v":""},{"$f":"IF(BY5=\"\",\"\",\"WTSYSTEMUSER\")","v":""},{"$f":"IF(BY5=\"\",\"\",TODAY())","v":""},{"$f":"IF(BY5=\"\",\"\",\"WTSYSTEMUSER\")","v":""}]
[null,"MixDesign ID",null,null,null,null,null,null,null,null,null,null,null,null,null,null,null,null,null,null,null,null,null,null,null,null,null,null,null,null,null,null,null,null,null,null,null,null,null,null,null,null,null,null,null,null,null,null,null,null,null,null,null,null,null,null,null,null,null,null,null,null,null,null,null,null,null,null,null,null,null,null,null,null,null,null,{"$f":"IF(AH22=\"\",\"\",\"AgencyEntityInstance Id 53\")","v":""},{"$f":"IF(BY52=\"\",\"\",VLOOKUP(\"CM_T27_List\",'Send Sync'!$K$56:$L$96,2,FALSE))","v":""},null,{"$f":"IF(BY52=\"\",\"\",\"AgencyEntityInstance Id 50\")","v":""},{"$f":"IF(BY52=\"\",\"\",CONCATENATE(\"<Data><cm_t27_list_inspecrow>\",CO490,\"</cm_t27_list_inspecrow><cm_t27_list_max>\",CO491,\"</cm_t27_list_max><cm_t27_list_min>\",CO492,\"</cm_t27_list_min><cm_t27_list_order>\",CO493,\"</cm_t27_list_order><cm_t27_list_pct_passing>\",CO494,\"</cm_t27_list_pct_passing><cm_t27_list_sieve>\",CO495,\"</cm_t27_list_sieve></Data>\"))","v":""},{"$f":"IF(BY52=\"\",\"\",TODAY())","v":""},{"$f":"IF(BY52=\"\",\"\",\"WTSYSTEMUSER\")","v":""},{"$f":"IF(BY52=\"\",\"\",TODAY())","v":""},{"$f":"IF(BY52=\"\",\"\",\"WTSYSTEMUSER\")","v":""},null,null,null,null,null,null,null,"",null,{"$f":"IF(BY5=\"\",\"\",\"AgencyEntityInsData Id 53\")","v":""},{"$f":"IF(BY5=\"\",\"\",\"AgencyEntityInstance Id 3\")","v":""},{"$f":"IF(BY5=\"\",\"\",\"cm_base_grad_T1T5_11_tested_by\")","v":""},{"$f":"IF(BY5=\"\",\"\",IF('Test 1'!H13=\"\",\"\",'Test 1'!H13))","v":""},{"$f":"IF(BY5=\"\",\"\",TODAY())","v":""},{"$f":"IF(BY5=\"\",\"\",\"WTSYSTEMUSER\")","v":""},{"$f":"IF(BY5=\"\",\"\",TODAY())","v":""},{"$f":"IF(BY5=\"\",\"\",\"WTSYSTEMUSER\")","v":""}]
[null,"MixDesignType ID",null,null,null,null,null,null,null,null,null,null,null,null,null,null,null,null,null,null,null,null,null,null,null,null,null,null,null,null,null,null,null,null,null,null,null,null,null,null,null,null,null,null,null,null,null,null,null,null,null,null,null,null,null,null,null,null,null,null,null,null,null,null,null,null,null,null,null,null,null,null,null,null,null,null,{"$f":"IF(AH22=\"\",\"\",\"AgencyEntityInstance Id 54\")","v":""},{"$f":"IF(BY52=\"\",\"\",VLOOKUP(\"CM_T27_List\",'Send Sync'!$K$56:$L$96,2,FALSE))","v":""},null,{"$f":"IF(BY52=\"\",\"\",\"AgencyEntityInstance Id 50\")","v":""},{"$f":"IF(BY52=\"\",\"\",CONCATENATE(\"<Data><cm_t27_list_inspecrow>\",CO496,\"</cm_t27_list_inspecrow><cm_t27_list_max>\",CO497,\"</cm_t27_list_max><cm_t27_list_min>\",CO498,\"</cm_t27_list_min><cm_t27_list_order>\",CO499,\"</cm_t27_list_order><cm_t27_list_pct_passing>\",CO500,\"</cm_t27_list_pct_passing><cm_t27_list_sieve>\",CO501,\"</cm_t27_list_sieve></Data>\"))","v":""},{"$f":"IF(BY52=\"\",\"\",TODAY())","v":""},{"$f":"IF(BY52=\"\",\"\",\"WTSYSTEMUSER\")","v":""},{"$f":"IF(BY52=\"\",\"\",TODAY())","v":""},{"$f":"IF(BY52=\"\",\"\",\"WTSYSTEMUSER\")","v":""},null,null,null,null,null,null,null,"",null,{"$f":"IF(BY5=\"\",\"\",\"AgencyEntityInsData Id 54\")","v":""},{"$f":"IF(BY5=\"\",\"\",\"AgencyEntityInstance Id 3\")","v":""},{"$f":"IF(BY5=\"\",\"\",\"cm_base_grad_T1T5_half_inch_label\")","v":""},{"$f":"IF(BY5=\"\",\"\",\"1/2\"\" (12.5 mm)\")","v":""},{"$f":"IF(BY5=\"\",\"\",TODAY())","v":""},{"$f":"IF(BY5=\"\",\"\",\"WTSYSTEMUSER\")","v":""},{"$f":"IF(BY5=\"\",\"\",TODAY())","v":""},{"$f":"IF(BY5=\"\",\"\",\"WTSYSTEMUSER\")","v":""}]
[null,"AssociatedContracts",{"$f":"IF(AND(NOT('Contract and Quantities'!J33=\"\"),NOT('Contract and Quantities'!O33=\"\"),NOT('Contract and Quantities'!T33=\"\")),CONCATENATE('Contract and Quantities'!J33,\",\",'Contract and Quantities'!O33,\",\",'Contract and Quantities'!T33),IF(AND(NOT('Contract and Quantities'!J33=\"\"),NOT('Contract and Quantities'!O33=\"\")),CONCATENATE('Contract and Quantities'!J33,\",\",'Contract and Quantities'!O33),'Contract and Quantities'!J33))","v":0},null,null,null,null,null,null,null,null,null,null,null,null,null,null,null,null,null,null,null,null,null,null,null,null,null,null,null,null,null,null,null,null,null,null,null,null,null,null,null,null,null,null,null,null,null,null,null,null,null,null,null,null,null,null,null,null,null,null,null,null,null,null,null,null,null,null,null,null,null,null,null,null,null,{"$f":"IF(AH22=\"\",\"\",\"AgencyEntityInstance Id 55\")","v":""},{"$f":"IF(BY52=\"\",\"\",VLOOKUP(\"CM_T27_List\",'Send Sync'!$K$56:$L$96,2,FALSE))","v":""},null,{"$f":"IF(BY52=\"\",\"\",\"AgencyEntityInstance Id 50\")","v":""},{"$f":"IF(BY52=\"\",\"\",CONCATENATE(\"<Data><cm_t27_list_inspecrow>\",CO502,\"</cm_t27_list_inspecrow><cm_t27_list_max>\",CO503,\"</cm_t27_list_max><cm_t27_list_min>\",CO504,\"</cm_t27_list_min><cm_t27_list_order>\",CO505,\"</cm_t27_list_order><cm_t27_list_pct_passing>\",CO506,\"</cm_t27_list_pct_passing><cm_t27_list_sieve>\",CO507,\"</cm_t27_list_sieve></Data>\"))","v":""},{"$f":"IF(BY52=\"\",\"\",TODAY())","v":""},{"$f":"IF(BY52=\"\",\"\",\"WTSYSTEMUSER\")","v":""},{"$f":"IF(BY52=\"\",\"\",TODAY())","v":""},{"$f":"IF(BY52=\"\",\"\",\"WTSYSTEMUSER\")","v":""},null,null,null,null,null,null,null,"",null,{"$f":"IF(BY5=\"\",\"\",\"AgencyEntityInsData Id 55\")","v":""},{"$f":"IF(BY5=\"\",\"\",\"AgencyEntityInstance Id 3\")","v":""},{"$f":"IF(BY5=\"\",\"\",\"cm_base_grad_T1T5_half_inch_max\")","v":""},{"$f":"IF(BY5=\"\",\"\",\"90\")","v":""},{"$f":"IF(BY5=\"\",\"\",TODAY())","v":""},{"$f":"IF(BY5=\"\",\"\",\"WTSYSTEMUSER\")","v":""},{"$f":"IF(BY5=\"\",\"\",TODAY())","v":""},{"$f":"IF(BY5=\"\",\"\",\"WTSYSTEMUSER\")","v":""}]
[null,"DailyWorkReport ID",null,null,null,null,null,null,null,null,null,null,null,null,null,null,null,null,null,null,null,null,null,null,null,null,null,null,null,null,null,null,null,null,null,null,null,null,null,null,null,null,null,null,null,null,null,null,null,null,null,null,null,null,null,null,null,null,null,null,null,null,null,null,null,null,null,null,null,null,null,null,null,null,null,null,{"$f":"IF(AH22=\"\",\"\",\"AgencyEntityInstance Id 56\")","v":""},{"$f":"IF(BY52=\"\",\"\",VLOOKUP(\"CM_T27_List\",'Send Sync'!$K$56:$L$96,2,FALSE))","v":""},null,{"$f":"IF(BY52=\"\",\"\",\"AgencyEntityInstance Id 50\")","v":""},{"$f":"IF(BY52=\"\",\"\",CONCATENATE(\"<Data><cm_t27_list_inspecrow>\",CO508,\"</cm_t27_list_inspecrow><cm_t27_list_max>\",CO509,\"</cm_t27_list_max><cm_t27_list_min>\",CO510,\"</cm_t27_list_min><cm_t27_list_order>\",CO511,\"</cm_t27_list_order><cm_t27_list_pct_passing>\",CO512,\"</cm_t27_list_pct_passing><cm_t27_list_sieve>\",CO513,\"</cm_t27_list_sieve></Data>\"))","v":""},{"$f":"IF(BY52=\"\",\"\",TODAY())","v":""},{"$f":"IF(BY52=\"\",\"\",\"WTSYSTEMUSER\")","v":""},{"$f":"IF(BY52=\"\",\"\",TODAY())","v":""},{"$f":"IF(BY52=\"\",\"\",\"WTSYSTEMUSER\")","v":""},null,null,null,null,null,null,null,"",null,{"$f":"IF(BY5=\"\",\"\",\"AgencyEntityInsData Id 56\")","v":""},{"$f":"IF(BY5=\"\",\"\",\"AgencyEntityInstance Id 3\")","v":""},{"$f":"IF(BY5=\"\",\"\",\"cm_base_grad_T1T5_half_inch_min\")","v":""},{"$f":"IF(BY5=\"\",\"\",\"60\")","v":""},{"$f":"IF(BY5=\"\",\"\",TODAY())","v":""},{"$f":"IF(BY5=\"\",\"\",\"WTSYSTEMUSER\")","v":""},{"$f":"IF(BY5=\"\",\"\",TODAY())","v":""},{"$f":"IF(BY5=\"\",\"\",\"WTSYSTEMUSER\")","v":""}]
[null,"RefSampleStatus ID",{"$f":"'Contract and Quantities'!I156","v":9},null,null,null,null,null,null,null,null,null,null,null,null,null,null,null,null,null,null,null,null,null,null,null,null,null,null,null,null,null,null,null,null,null,null,null,null,null,null,null,null,null,null,null,null,null,null,null,null,null,null,null,null,null,null,null,null,null,null,null,null,null,null,null,null,null,null,null,null,null,null,null,null,null,{"$f":"IF(AH22=\"\",\"\",\"AgencyEntityInstance Id 57\")","v":""},{"$f":"IF(BY52=\"\",\"\",VLOOKUP(\"CM_T27_List\",'Send Sync'!$K$56:$L$96,2,FALSE))","v":""},null,{"$f":"IF(BY52=\"\",\"\",\"AgencyEntityInstance Id 50\")","v":""},{"$f":"IF(BY52=\"\",\"\",CONCATENATE(\"<Data><cm_t27_list_inspecrow>\",CO514,\"</cm_t27_list_inspecrow><cm_t27_list_max>\",CO515,\"</cm_t27_list_max><cm_t27_list_min>\",CO516,\"</cm_t27_list_min><cm_t27_list_order>\",CO517,\"</cm_t27_list_order><cm_t27_list_pct_passing>\",CO518,\"</cm_t27_list_pct_passing><cm_t27_list_sieve>\",CO519,\"</cm_t27_list_sieve></Data>\"))","v":""},{"$f":"IF(BY52=\"\",\"\",TODAY())","v":""},{"$f":"IF(BY52=\"\",\"\",\"WTSYSTEMUSER\")","v":""},{"$f":"IF(BY52=\"\",\"\",TODAY())","v":""},{"$f":"IF(BY52=\"\",\"\",\"WTSYSTEMUSER\")","v":""},null,null,null,null,null,null,null,"",null,{"$f":"IF(BY5=\"\",\"\",\"AgencyEntityInsData Id 57\")","v":""},{"$f":"IF(BY5=\"\",\"\",\"AgencyEntityInstance Id 3\")","v":""},{"$f":"IF(BY5=\"\",\"\",\"cm_base_grad_T1T5_inch_label\")","v":""},{"$f":"IF(BY5=\"\",\"\",\"1\"\" (25.0 mm)\")","v":""},{"$f":"IF(BY5=\"\",\"\",TODAY())","v":""},{"$f":"IF(BY5=\"\",\"\",\"WTSYSTEMUSER\")","v":""},{"$f":"IF(BY5=\"\",\"\",TODAY())","v":""},{"$f":"IF(BY5=\"\",\"\",\"WTSYSTEMUSER\")","v":""}]
[null,"StatusLastModified Dt",{"$f":"TODAY()","v":"2024-01-05"},null,null,null,null,null,null,null,null,null,null,null,null,null,null,null,null,null,null,null,null,null,null,null,null,null,null,null,null,null,null,null,null,null,null,null,null,null,null,null,null,null,null,null,null,null,null,null,null,null,null,null,null,null,null,null,null,null,null,null,null,null,null,null,null,null,null,null,null,null,null,null,null,null,{"$f":"IF(AH22=\"\",\"\",\"AgencyEntityInstance Id 58\")","v":""},{"$f":"IF(BY52=\"\",\"\",VLOOKUP(\"CM_T27_List\",'Send Sync'!$K$56:$L$96,2,FALSE))","v":""},null,{"$f":"IF(BY52=\"\",\"\",\"AgencyEntityInstance Id 50\")","v":""},{"$f":"IF(BY52=\"\",\"\",CONCATENATE(\"<Data><cm_t27_list_inspecrow>\",CO520,\"</cm_t27_list_inspecrow><cm_t27_list_max>\",CO521,\"</cm_t27_list_max><cm_t27_list_min>\",CO522,\"</cm_t27_list_min><cm_t27_list_order>\",CO523,\"</cm_t27_list_order><cm_t27_list_pct_passing>\",CO524,\"</cm_t27_list_pct_passing><cm_t27_list_sieve>\",CO525,\"</cm_t27_list_sieve></Data>\"))","v":""},{"$f":"IF(BY52=\"\",\"\",TODAY())","v":""},{"$f":"IF(BY52=\"\",\"\",\"WTSYSTEMUSER\")","v":""},{"$f":"IF(BY52=\"\",\"\",TODAY())","v":""},{"$f":"IF(BY52=\"\",\"\",\"WTSYSTEMUSER\")","v":""},null,null,null,null,null,null,null,"",null,{"$f":"IF(BY5=\"\",\"\",\"AgencyEntityInsData Id 58\")","v":""},{"$f":"IF(BY5=\"\",\"\",\"AgencyEntityInstance Id 3\")","v":""},{"$f":"IF(BY5=\"\",\"\",\"cm_base_grad_T1T5_inch_max\")","v":""},{"$f":"IF(BY5=\"\",\"\",\"100\")","v":""},{"$f":"IF(BY5=\"\",\"\",TODAY())","v":""},{"$f":"IF(BY5=\"\",\"\",\"WTSYSTEMUSER\")","v":""},{"$f":"IF(BY5=\"\",\"\",TODAY())","v":""},{"$f":"IF(BY5=\"\",\"\",\"WTSYSTEMUSER\")","v":""}]
[null,"SampleSize",null,null,null,null,null,null,null,null,null,null,null,null,null,null,null,null,null,null,null,null,null,null,null,null,null,null,null,null,null,null,null,null,null,null,null,null,null,null,null,null,null,null,null,null,null,null,null,null,null,null,null,null,null,null,null,null,null,null,null,null,null,null,null,null,null,null,null,null,null,null,null,null,null,null,{"$f":"IF(AH22=\"\",\"\",\"AgencyEntityInstance Id 59\")","v":""},{"$f":"IF(BY52=\"\",\"\",VLOOKUP(\"CM_T27_List\",'Send Sync'!$K$56:$L$96,2,FALSE))","v":""},null,{"$f":"IF(BY52=\"\",\"\",\"AgencyEntityInstance Id 50\")","v":""},{"$f":"IF(BY52=\"\",\"\",CONCATENATE(\"<Data><cm_t27_list_inspecrow>\",CO526,\"</cm_t27_list_inspecrow><cm_t27_list_max>\",CO527,\"</cm_t27_list_max><cm_t27_list_min>\",CO528,\"</cm_t27_list_min><cm_t27_list_order>\",CO529,\"</cm_t27_list_order><cm_t27_list_pct_passing>\",CO530,\"</cm_t27_list_pct_passing><cm_t27_list_sieve>\",CO531,\"</cm_t27_list_sieve></Data>\"))","v":""},{"$f":"IF(BY52=\"\",\"\",TODAY())","v":""},{"$f":"IF(BY52=\"\",\"\",\"WTSYSTEMUSER\")","v":""},{"$f":"IF(BY52=\"\",\"\",TODAY())","v":""},{"$f":"IF(BY52=\"\",\"\",\"WTSYSTEMUSER\")","v":""},null,null,null,null,null,null,null,"",null,{"$f":"IF(BY5=\"\",\"\",\"AgencyEntityInsData Id 59\")","v":""},{"$f":"IF(BY5=\"\",\"\",\"AgencyEntityInstance Id 3\")","v":""},{"$f":"IF(BY5=\"\",\"\",\"cm_base_grad_T1T5_inch_min\")","v":""},{"$f":"IF(BY5=\"\",\"\",\"100\")","v":""},{"$f":"IF(BY5=\"\",\"\",TODAY())","v":""},{"$f":"IF(BY5=\"\",\"\",\"WTSYSTEMUSER\")","v":""},{"$f":"IF(BY5=\"\",\"\",TODAY())","v":""},{"$f":"IF(BY5=\"\",\"\",\"WTSYSTEMUSER\")","v":""}]
[null,"SampleRecordGroup ID","Sample Id",null,null,null,null,null,null,null,null,null,null,null,null,null,null,null,null,null,null,null,null,null,null,null,null,null,null,null,null,null,null,null,null,null,null,null,null,null,null,null,null,null,null,null,null,null,null,null,null,null,null,null,null,null,null,null,null,null,null,null,null,null,null,null,null,null,null,null,null,null,null,null,null,null,{"$f":"IF(AH22=\"\",\"\",\"AgencyEntityInstance Id 60\")","v":""},{"$f":"IF(BY52=\"\",\"\",VLOOKUP(\"CM_T27_List\",'Send Sync'!$K$56:$L$96,2,FALSE))","v":""},null,{"$f":"IF(BY52=\"\",\"\",\"AgencyEntityInstance Id 50\")","v":""},{"$f":"IF(BY52=\"\",\"\",CONCATENATE(\"<Data><cm_t27_list_inspecrow>\",CO532,\"</cm_t27_list_inspecrow><cm_t27_list_max>\",CO533,\"</cm_t27_list_max><cm_t27_list_min>\",CO534,\"</cm_t27_list_min><cm_t27_list_order>\",CO535,\"</cm_t27_list_order><cm_t27_list_pct_passing>\",CO536,\"</cm_t27_list_pct_passing><cm_t27_list_sieve>\",CO537,\"</cm_t27_list_sieve></Data>\"))","v":""},{"$f":"IF(BY52=\"\",\"\",TODAY())","v":""},{"$f":"IF(BY52=\"\",\"\",\"WTSYSTEMUSER\")","v":""},{"$f":"IF(BY52=\"\",\"\",TODAY())","v":""},{"$f":"IF(BY52=\"\",\"\",\"WTSYSTEMUSER\")","v":""},null,null,null,null,null,null,null,"",null,{"$f":"IF(BY5=\"\",\"\",\"AgencyEntityInsData Id 60\")","v":""},{"$f":"IF(BY5=\"\",\"\",\"AgencyEntityInstance Id 3\")","v":""},{"$f":"IF(BY5=\"\",\"\",\"cm_base_grad_T1T5_label_01_inch\")","v":""},{"$f":"IF(BY5=\"\",\"\",\"1\"\" (25.0 mm)\")","v":""},{"$f":"IF(BY5=\"\",\"\",TODAY())","v":""},{"$f":"IF(BY5=\"\",\"\",\"WTSYSTEMUSER\")","v":""},{"$f":"IF(BY5=\"\",\"\",TODAY())","v":""},{"$f":"IF(BY5=\"\",\"\",\"WTSYSTEMUSER\")","v":""}]
[null,"AdminOffModified Dt",null,null,null,null,null,null,null,null,null,null,null,null,null,null,null,null,null,null,null,null,null,null,null,null,null,null,null,null,null,null,null,null,null,null,null,null,null,null,null,null,null,null,null,null,null,null,null,null,null,null,null,null,null,null,null,null,null,null,null,null,null,null,null,null,null,null,null,null,null,null,null,null,null,null,{"$f":"IF(AH22=\"\",\"\",\"AgencyEntityInstance Id 61\")","v":""},{"$f":"IF(BY52=\"\",\"\",VLOOKUP(\"CM_T27_List\",'Send Sync'!$K$56:$L$96,2,FALSE))","v":""},null,{"$f":"IF(BY52=\"\",\"\",\"AgencyEntityInstance Id 50\")","v":""},{"$f":"IF(BY52=\"\",\"\",CONCATENATE(\"<Data><cm_t27_list_inspecrow>\",CO538,\"</cm_t27_list_inspecrow><cm_t27_list_max>\",CO539,\"</cm_t27_list_max><cm_t27_list_min>\",CO540,\"</cm_t27_list_min><cm_t27_list_order>\",CO541,\"</cm_t27_list_order><cm_t27_list_pct_passing>\",CO542,\"</cm_t27_list_pct_passing><cm_t27_list_sieve>\",CO543,\"</cm_t27_list_sieve></Data>\"))","v":""},{"$f":"IF(BY52=\"\",\"\",TODAY())","v":""},{"$f":"IF(BY52=\"\",\"\",\"WTSYSTEMUSER\")","v":""},{"$f":"IF(BY52=\"\",\"\",TODAY())","v":""},{"$f":"IF(BY52=\"\",\"\",\"WTSYSTEMUSER\")","v":""},null,null,null,null,null,null,null,"",null,{"$f":"IF(BY5=\"\",\"\",\"AgencyEntityInsData Id 61\")","v":""},{"$f":"IF(BY5=\"\",\"\",\"AgencyEntityInstance Id 3\")","v":""},{"$f":"IF(BY5=\"\",\"\",\"cm_base_grad_T1T5_label_02_half_inch\")","v":""},{"$f":"IF(BY5=\"\",\"\",\"1/2\"\" (12.5 mm)\")","v":""},{"$f":"IF(BY5=\"\",\"\",TODAY())","v":""},{"$f":"IF(BY5=\"\",\"\",\"WTSYSTEMUSER\")","v":""},{"$f":"IF(BY5=\"\",\"\",TODAY())","v":""},{"$f":"IF(BY5=\"\",\"\",\"WTSYSTEMUSER\")","v":""}]
[null,"AdimOffModifiedBy ID",null,null,null,null,null,null,null,null,null,null,null,null,null,null,null,null,null,null,null,null,null,null,null,null,null,null,null,null,null,null,null,null,null,null,null,null,null,null,null,null,null,null,null,null,null,null,null,null,null,null,null,null,null,null,null,null,null,null,null,null,null,null,null,null,null,null,null,null,null,null,null,null,null,null,{"$f":"IF(AH22=\"\",\"\",\"AgencyEntityInstance Id 62\")","v":""},{"$f":"IF(BY52=\"\",\"\",VLOOKUP(\"CM_T27_List\",'Send Sync'!$K$56:$L$96,2,FALSE))","v":""},null,{"$f":"IF(BY52=\"\",\"\",\"AgencyEntityInstance Id 50\")","v":""},{"$f":"IF(BY52=\"\",\"\",CONCATENATE(\"<Data><cm_t27_list_inspecrow>\",CO544,\"</cm_t27_list_inspecrow><cm_t27_list_max>\",CO545,\"</cm_t27_list_max><cm_t27_list_min>\",CO546,\"</cm_t27_list_min><cm_t27_list_order>\",CO547,\"</cm_t27_list_order><cm_t27_list_pct_passing>\",CO548,\"</cm_t27_list_pct_passing><cm_t27_list_sieve>\",CO549,\"</cm_t27_list_sieve></Data>\"))","v":""},{"$f":"IF(BY52=\"\",\"\",TODAY())","v":""},{"$f":"IF(BY52=\"\",\"\",\"WTSYSTEMUSER\")","v":""},{"$f":"IF(BY52=\"\",\"\",TODAY())","v":""},{"$f":"IF(BY52=\"\",\"\",\"WTSYSTEMUSER\")","v":""},null,null,null,null,null,null,null,"",null,{"$f":"IF(BY5=\"\",\"\",\"AgencyEntityInsData Id 62\")","v":""},{"$f":"IF(BY5=\"\",\"\",\"AgencyEntityInstance Id 3\")","v":""},{"$f":"IF(BY5=\"\",\"\",\"cm_base_grad_T1T5_label_03_no_4\")","v":""},{"$f":"IF(BY5=\"\",\"\",\"No. 4 (4.75 mm)\")","v":""},{"$f":"IF(BY5=\"\",\"\",TODAY())","v":""},{"$f":"IF(BY5=\"\",\"\",\"WTSYSTEMUSER\")","v":""},{"$f":"IF(BY5=\"\",\"\",TODAY())","v":""},{"$f":"IF(BY5=\"\",\"\",\"WTSYSTEMUSER\")","v":""}]
[null,"LinkedFrom",null,null,null,null,null,null,null,null,null,null,null,null,null,null,null,null,null,null,null,null,null,null,null,null,null,null,null,null,null,null,null,null,null,null,null,null,null,null,null,null,null,null,null,null,null,null,null,null,null,null,null,null,null,null,null,null,null,null,null,null,null,null,null,null,null,null,null,null,null,null,null,null,null,null,{"$f":"IF(AH22=\"\",\"\",\"AgencyEntityInstance Id 63\")","v":""},{"$f":"IF(BY52=\"\",\"\",VLOOKUP(\"CM_T27_List\",'Send Sync'!$K$56:$L$96,2,FALSE))","v":""},null,{"$f":"IF(BY52=\"\",\"\",\"AgencyEntityInstance Id 50\")","v":""},{"$f":"IF(BY52=\"\",\"\",CONCATENATE(\"<Data><cm_t27_list_inspecrow>\",CO550,\"</cm_t27_list_inspecrow><cm_t27_list_max>\",CO551,\"</cm_t27_list_max><cm_t27_list_min>\",CO552,\"</cm_t27_list_min><cm_t27_list_order>\",CO553,\"</cm_t27_list_order><cm_t27_list_pct_passing>\",CO554,\"</cm_t27_list_pct_passing><cm_t27_list_sieve>\",CO555,\"</cm_t27_list_sieve></Data>\"))","v":""},{"$f":"IF(BY52=\"\",\"\",TODAY())","v":""},{"$f":"IF(BY52=\"\",\"\",\"WTSYSTEMUSER\")","v":""},{"$f":"IF(BY52=\"\",\"\",TODAY())","v":""},{"$f":"IF(BY52=\"\",\"\",\"WTSYSTEMUSER\")","v":""},null,null,null,null,null,null,null,"",null,{"$f":"IF(BY5=\"\",\"\",\"AgencyEntityInsData Id 63\")","v":""},{"$f":"IF(BY5=\"\",\"\",\"AgencyEntityInstance Id 3\")","v":""},{"$f":"IF(BY5=\"\",\"\",\"cm_base_grad_T1T5_label_04_no_30\")","v":""},{"$f":"IF(BY5=\"\",\"\",\"No. 30 (600 microns)\")","v":""},{"$f":"IF(BY5=\"\",\"\",TODAY())","v":""},{"$f":"IF(BY5=\"\",\"\",\"WTSYSTEMUSER\")","v":""},{"$f":"IF(BY5=\"\",\"\",TODAY())","v":""},{"$f":"IF(BY5=\"\",\"\",\"WTSYSTEMUSER\")","v":""}]
[null,"STARTINGX",null,null,null,null,null,null,null,null,null,null,null,null,null,null,null,null,null,null,null,null,null,null,null,null,null,null,null,null,null,null,null,null,null,null,null,null,null,null,null,null,null,null,null,null,null,null,null,null,null,null,null,null,null,null,null,null,null,null,null,null,null,null,null,null,null,null,null,null,null,null,null,null,null,null,{"$f":"IF(AH22=\"\",\"\",\"AgencyEntityInstance Id 64\")","v":""},{"$f":"IF(BY52=\"\",\"\",VLOOKUP(\"CM_T27_List\",'Send Sync'!$K$56:$L$96,2,FALSE))","v":""},null,{"$f":"IF(BY52=\"\",\"\",\"AgencyEntityInstance Id 50\")","v":""},{"$f":"IF(BY52=\"\",\"\",CONCATENATE(\"<Data><cm_t27_list_inspecrow>\",CO556,\"</cm_t27_list_inspecrow><cm_t27_list_max>\",CO557,\"</cm_t27_list_max><cm_t27_list_min>\",CO558,\"</cm_t27_list_min><cm_t27_list_order>\",CO559,\"</cm_t27_list_order><cm_t27_list_pct_passing>\",CO560,\"</cm_t27_list_pct_passing><cm_t27_list_sieve>\",CO561,\"</cm_t27_list_sieve></Data>\"))","v":""},{"$f":"IF(BY52=\"\",\"\",TODAY())","v":""},{"$f":"IF(BY52=\"\",\"\",\"WTSYSTEMUSER\")","v":""},{"$f":"IF(BY52=\"\",\"\",TODAY())","v":""},{"$f":"IF(BY52=\"\",\"\",\"WTSYSTEMUSER\")","v":""},null,null,null,null,null,null,null,"",null,{"$f":"IF(BY5=\"\",\"\",\"AgencyEntityInsData Id 64\")","v":""},{"$f":"IF(BY5=\"\",\"\",\"AgencyEntityInstance Id 3\")","v":""},{"$f":"IF(BY5=\"\",\"\",\"cm_base_grad_T1T5_label_05_no_200\")","v":""},{"$f":"IF(BY5=\"\",\"\",\"No. 200 (75 microns)\")","v":""},{"$f":"IF(BY5=\"\",\"\",TODAY())","v":""},{"$f":"IF(BY5=\"\",\"\",\"WTSYSTEMUSER\")","v":""},{"$f":"IF(BY5=\"\",\"\",TODAY())","v":""},{"$f":"IF(BY5=\"\",\"\",\"WTSYSTEMUSER\")","v":""}]
[null,"STARTINGY",null,null,null,null,null,null,null,null,null,null,null,null,null,null,null,null,null,null,null,null,null,null,null,null,null,null,null,null,null,null,null,null,null,null,null,null,null,null,null,null,null,null,null,null,null,null,null,null,null,null,null,null,null,null,null,null,null,null,null,null,null,null,null,null,null,null,null,null,null,null,null,null,null,null,{"$f":"IF(AH22=\"\",\"\",\"AgencyEntityInstance Id 65\")","v":""},{"$f":"IF(BY52=\"\",\"\",VLOOKUP(\"CM_T27_List\",'Send Sync'!$K$56:$L$96,2,FALSE))","v":""},null,{"$f":"IF(BY52=\"\",\"\",\"AgencyEntityInstance Id 50\")","v":""},{"$f":"IF(BY52=\"\",\"\",CONCATENATE(\"<Data><cm_t27_list_inspecrow>\",CO562,\"</cm_t27_list_inspecrow><cm_t27_list_max>\",CO563,\"</cm_t27_list_max><cm_t27_list_min>\",CO564,\"</cm_t27_list_min><cm_t27_list_order>\",CO565,\"</cm_t27_list_order><cm_t27_list_pct_passing>\",CO566,\"</cm_t27_list_pct_passing><cm_t27_list_sieve>\",CO567,\"</cm_t27_list_sieve></Data>\"))","v":""},{"$f":"IF(BY52=\"\",\"\",TODAY())","v":""},{"$f":"IF(BY52=\"\",\"\",\"WTSYSTEMUSER\")","v":""},{"$f":"IF(BY52=\"\",\"\",TODAY())","v":""},{"$f":"IF(BY52=\"\",\"\",\"WTSYSTEMUSER\")","v":""},null,null,null,null,null,null,null,"",null,{"$f":"IF(BY5=\"\",\"\",\"AgencyEntityInsData Id 65\")","v":""},{"$f":"IF(BY5=\"\",\"\",\"AgencyEntityInstance Id 3\")","v":""},{"$f":"IF(BY5=\"\",\"\",\"cm_base_grad_T1T5_label_06\")","v":""},{"$f":"IF(BY5=\"\",\"\",\"Station\")","v":""},{"$f":"IF(BY5=\"\",\"\",TODAY())","v":""},{"$f":"IF(BY5=\"\",\"\",\"WTSYSTEMUSER\")","v":""},{"$f":"IF(BY5=\"\",\"\",TODAY())","v":""},{"$f":"IF(BY5=\"\",\"\",\"WTSYSTEMUSER\")","v":""}]
[null,"STARTINGZ",null,null,null,null,null,null,null,null,null,null,null,null,null,null,null,null,null,null,null,null,null,null,null,null,null,null,null,null,null,null,null,null,null,null,null,null,null,null,null,null,null,null,null,null,null,null,null,null,null,null,null,null,null,null,null,null,null,null,null,null,null,null,null,null,null,null,null,null,null,null,null,null,null,null,{"$f":"IF(AH23=\"\",\"\",\"AgencyEntityInstance Id 66\")","v":""},{"$f":"IF(BY68=\"\",\"\",VLOOKUP(\"CM_T27_Detail\",'Send Sync'!$K$56:$L$96,2,FALSE))","v":""},{"$f":"IF(BY68=\"\",\"\",\"SampleRecordTest Id 21\")","v":""},"",{"$f":"IF(BY68=\"\",\"\",CONCATENATE(\"<Data><cm_t27_detail_inspec>\",CO568,\"</cm_t27_detail_inspec></Data>\"))","v":""},{"$f":"IF(BY68=\"\",\"\",TODAY())","v":""},{"$f":"IF(BY68=\"\",\"\",\"WTSYSTEMUSER\")","v":""},{"$f":"IF(BY68=\"\",\"\",TODAY())","v":""},{"$f":"IF(BY68=\"\",\"\",\"WTSYSTEMUSER\")","v":""},null,null,null,null,null,null,null,{"$f":"IF(CT68=\"\",\"\",SUBSTITUTE(SUBSTITUTE(SUBSTITUTE(SUBSTITUTE(SUBSTITUTE(CT68,\"&\",\"&amp;\"),\">\",\"&gt;\"),\"<\",\"&lt;\"),\"'\",\"&#39;\"),\"\"\"\",\"&quot;\"))","v":""},null,{"$f":"IF(BY5=\"\",\"\",\"AgencyEntityInsData Id 66\")","v":""},{"$f":"IF(BY5=\"\",\"\",\"AgencyEntityInstance Id 3\")","v":""},{"$f":"IF(BY5=\"\",\"\",\"cm_base_grad_T1T5_label_07\")","v":""},{"$f":"IF(BY5=\"\",\"\",\"+\")","v":""},{"$f":"IF(BY5=\"\",\"\",TODAY())","v":""},{"$f":"IF(BY5=\"\",\"\",\"WTSYSTEMUSER\")","v":""},{"$f":"IF(BY5=\"\",\"\",TODAY())","v":""},{"$f":"IF(BY5=\"\",\"\",\"WTSYSTEMUSER\")","v":""}]
[null,"STARTINGLOCMETHOD",null,null,null,null,null,null,null,null,null,null,null,null,null,null,null,null,null,null,null,null,null,null,null,null,null,null,null,null,null,null,null,null,null,null,null,null,null,null,null,null,null,null,null,null,null,null,null,null,null,null,null,null,null,null,null,null,null,null,null,null,null,null,null,null,null,null,null,null,null,null,null,null,null,null,{"$f":"IF(AH23=\"\",\"\",\"AgencyEntityInstance Id 67\")","v":""},{"$f":"IF(BY68=\"\",\"\",VLOOKUP(\"CM_T27_List\",'Send Sync'!$K$56:$L$96,2,FALSE))","v":""},null,{"$f":"IF(BY68=\"\",\"\",\"AgencyEntityInstance Id 66\")","v":""},{"$f":"IF(BY68=\"\",\"\",CONCATENATE(\"<Data><cm_t27_list_inspecrow>\",CO569,\"</cm_t27_list_inspecrow><cm_t27_list_max>\",CO570,\"</cm_t27_list_max><cm_t27_list_min>\",CO571,\"</cm_t27_list_min><cm_t27_list_order>\",CO572,\"</cm_t27_list_order><cm_t27_list_pct_passing>\",CO573,\"</cm_t27_list_pct_passing><cm_t27_list_sieve>\",CO574,\"</cm_t27_list_sieve></Data>\"))","v":""},{"$f":"IF(BY68=\"\",\"\",TODAY())","v":""},{"$f":"IF(BY68=\"\",\"\",\"WTSYSTEMUSER\")","v":""},{"$f":"IF(BY68=\"\",\"\",TODAY())","v":""},{"$f":"IF(BY68=\"\",\"\",\"WTSYSTEMUSER\")","v":""},null,null,null,null,null,null,null,"",null,{"$f":"IF(BY5=\"\",\"\",\"AgencyEntityInsData Id 67\")","v":""},{"$f":"IF(BY5=\"\",\"\",\"AgencyEntityInstance Id 3\")","v":""},{"$f":"IF(BY5=\"\",\"\",\"cm_base_grad_T1T5_label_08\")","v":""},{"$f":"IF(BY5=\"\",\"\",\"Location R/L of Centerline\")","v":""},{"$f":"IF(BY5=\"\",\"\",TODAY())","v":""},{"$f":"IF(BY5=\"\",\"\",\"WTSYSTEMUSER\")","v":""},{"$f":"IF(BY5=\"\",\"\",TODAY())","v":""},{"$f":"IF(BY5=\"\",\"\",\"WTSYSTEMUSER\")","v":""}]
[null,"STARTINGLOCQUALITY",null,null,null,null,null,null,null,null,null,null,null,null,null,null,null,null,null,null,null,null,null,null,null,null,null,null,null,null,null,null,null,null,null,null,null,null,null,null,null,null,null,null,null,null,null,null,null,null,null,null,null,null,null,null,null,null,null,null,null,null,null,null,null,null,null,null,null,null,null,null,null,null,null,null,{"$f":"IF(AH23=\"\",\"\",\"AgencyEntityInstance Id 68\")","v":""},{"$f":"IF(BY68=\"\",\"\",VLOOKUP(\"CM_T27_List\",'Send Sync'!$K$56:$L$96,2,FALSE))","v":""},null,{"$f":"IF(BY68=\"\",\"\",\"AgencyEntityInstance Id 66\")","v":""},{"$f":"IF(BY68=\"\",\"\",CONCATENATE(\"<Data><cm_t27_list_inspecrow>\",CO575,\"</cm_t27_list_inspecrow><cm_t27_list_max>\",CO576,\"</cm_t27_list_max><cm_t27_list_min>\",CO577,\"</cm_t27_list_min><cm_t27_list_order>\",CO578,\"</cm_t27_list_order><cm_t27_list_pct_passing>\",CO579,\"</cm_t27_list_pct_passing><cm_t27_list_sieve>\",CO580,\"</cm_t27_list_sieve></Data>\"))","v":""},{"$f":"IF(BY68=\"\",\"\",TODAY())","v":""},{"$f":"IF(BY68=\"\",\"\",\"WTSYSTEMUSER\")","v":""},{"$f":"IF(BY68=\"\",\"\",TODAY())","v":""},{"$f":"IF(BY68=\"\",\"\",\"WTSYSTEMUSER\")","v":""},null,null,null,null,null,null,null,"",null,{"$f":"IF(BY5=\"\",\"\",\"AgencyEntityInsData Id 68\")","v":""},{"$f":"IF(BY5=\"\",\"\",\"AgencyEntityInstance Id 3\")","v":""},{"$f":"IF(BY5=\"\",\"\",\"cm_base_grad_T1T5_label_09\")","v":""},{"$f":"IF(BY5=\"\",\"\",\"Test Performed By\")","v":""},{"$f":"IF(BY5=\"\",\"\",TODAY())","v":""},{"$f":"IF(BY5=\"\",\"\",\"WTSYSTEMUSER\")","v":""},{"$f":"IF(BY5=\"\",\"\",TODAY())","v":""},{"$f":"IF(BY5=\"\",\"\",\"WTSYSTEMUSER\")","v":""}]
[null,"STARTINGLOCQUALUNIT",null,null,null,null,null,null,null,null,null,null,null,null,null,null,null,null,null,null,null,null,null,null,null,null,null,null,null,null,null,null,null,null,null,null,null,null,null,null,null,null,null,null,null,null,null,null,null,null,null,null,null,null,null,null,null,null,null,null,null,null,null,null,null,null,null,null,null,null,null,null,null,null,null,null,{"$f":"IF(AH23=\"\",\"\",\"AgencyEntityInstance Id 69\")","v":""},{"$f":"IF(BY68=\"\",\"\",VLOOKUP(\"CM_T27_List\",'Send Sync'!$K$56:$L$96,2,FALSE))","v":""},null,{"$f":"IF(BY68=\"\",\"\",\"AgencyEntityInstance Id 66\")","v":""},{"$f":"IF(BY68=\"\",\"\",CONCATENATE(\"<Data><cm_t27_list_inspecrow>\",CO581,\"</cm_t27_list_inspecrow><cm_t27_list_max>\",CO582,\"</cm_t27_list_max><cm_t27_list_min>\",CO583,\"</cm_t27_list_min><cm_t27_list_order>\",CO584,\"</cm_t27_list_order><cm_t27_list_pct_passing>\",CO585,\"</cm_t27_list_pct_passing><cm_t27_list_sieve>\",CO586,\"</cm_t27_list_sieve></Data>\"))","v":""},{"$f":"IF(BY68=\"\",\"\",TODAY())","v":""},{"$f":"IF(BY68=\"\",\"\",\"WTSYSTEMUSER\")","v":""},{"$f":"IF(BY68=\"\",\"\",TODAY())","v":""},{"$f":"IF(BY68=\"\",\"\",\"WTSYSTEMUSER\")","v":""},null,null,null,null,null,null,null,"",null,{"$f":"IF(BY5=\"\",\"\",\"AgencyEntityInsData Id 69\")","v":""},{"$f":"IF(BY5=\"\",\"\",\"AgencyEntityInstance Id 3\")","v":""},{"$f":"IF(BY5=\"\",\"\",\"cm_base_grad_T1T5_no_200_label\")","v":""},{"$f":"IF(BY5=\"\",\"\",\"No. 200 (75 microns)\")","v":""},{"$f":"IF(BY5=\"\",\"\",TODAY())","v":""},{"$f":"IF(BY5=\"\",\"\",\"WTSYSTEMUSER\")","v":""},{"$f":"IF(BY5=\"\",\"\",TODAY())","v":""},{"$f":"IF(BY5=\"\",\"\",\"WTSYSTEMUSER\")","v":""}]
[null,"STARTINGLOCATIONISSUE",null,null,null,null,null,null,null,null,null,null,null,null,null,null,null,null,null,null,null,null,null,null,null,null,null,null,null,null,null,null,null,null,null,null,null,null,null,null,null,null,null,null,null,null,null,null,null,null,null,null,null,null,null,null,null,null,null,null,null,null,null,null,null,null,null,null,null,null,null,null,null,null,null,null,{"$f":"IF(AH23=\"\",\"\",\"AgencyEntityInstance Id 70\")","v":""},{"$f":"IF(BY68=\"\",\"\",VLOOKUP(\"CM_T27_List\",'Send Sync'!$K$56:$L$96,2,FALSE))","v":""},null,{"$f":"IF(BY68=\"\",\"\",\"AgencyEntityInstance Id 66\")","v":""},{"$f":"IF(BY68=\"\",\"\",CONCATENATE(\"<Data><cm_t27_list_inspecrow>\",CO587,\"</cm_t27_list_inspecrow><cm_t27_list_max>\",CO588,\"</cm_t27_list_max><cm_t27_list_min>\",CO589,\"</cm_t27_list_min><cm_t27_list_order>\",CO590,\"</cm_t27_list_order><cm_t27_list_pct_passing>\",CO591,\"</cm_t27_list_pct_passing><cm_t27_list_sieve>\",CO592,\"</cm_t27_list_sieve></Data>\"))","v":""},{"$f":"IF(BY68=\"\",\"\",TODAY())","v":""},{"$f":"IF(BY68=\"\",\"\",\"WTSYSTEMUSER\")","v":""},{"$f":"IF(BY68=\"\",\"\",TODAY())","v":""},{"$f":"IF(BY68=\"\",\"\",\"WTSYSTEMUSER\")","v":""},null,null,null,null,null,null,null,"",null,{"$f":"IF(BY5=\"\",\"\",\"AgencyEntityInsData Id 70\")","v":""},{"$f":"IF(BY5=\"\",\"\",\"AgencyEntityInstance Id 3\")","v":""},{"$f":"IF(BY5=\"\",\"\",\"cm_base_grad_T1T5_no_200_max\")","v":""},{"$f":"IF(BY5=\"\",\"\",\"15\")","v":""},{"$f":"IF(BY5=\"\",\"\",TODAY())","v":""},{"$f":"IF(BY5=\"\",\"\",\"WTSYSTEMUSER\")","v":""},{"$f":"IF(BY5=\"\",\"\",TODAY())","v":""},{"$f":"IF(BY5=\"\",\"\",\"WTSYSTEMUSER\")","v":""}]
[null,"STARTINGLOCCRETDBYPRSINF_ID",null,null,null,null,null,null,null,null,null,null,null,null,null,null,null,null,null,null,null,null,null,null,null,null,null,null,null,null,null,null,null,null,null,null,null,null,null,null,null,null,null,null,null,null,null,null,null,null,null,null,null,null,null,null,null,null,null,null,null,null,null,null,null,null,null,null,null,null,null,null,null,null,null,null,{"$f":"IF(AH23=\"\",\"\",\"AgencyEntityInstance Id 71\")","v":""},{"$f":"IF(BY68=\"\",\"\",VLOOKUP(\"CM_T27_List\",'Send Sync'!$K$56:$L$96,2,FALSE))","v":""},null,{"$f":"IF(BY68=\"\",\"\",\"AgencyEntityInstance Id 66\")","v":""},{"$f":"IF(BY68=\"\",\"\",CONCATENATE(\"<Data><cm_t27_list_inspecrow>\",CO593,\"</cm_t27_list_inspecrow><cm_t27_list_max>\",CO594,\"</cm_t27_list_max><cm_t27_list_min>\",CO595,\"</cm_t27_list_min><cm_t27_list_order>\",CO596,\"</cm_t27_list_order><cm_t27_list_pct_passing>\",CO597,\"</cm_t27_list_pct_passing><cm_t27_list_sieve>\",CO598,\"</cm_t27_list_sieve></Data>\"))","v":""},{"$f":"IF(BY68=\"\",\"\",TODAY())","v":""},{"$f":"IF(BY68=\"\",\"\",\"WTSYSTEMUSER\")","v":""},{"$f":"IF(BY68=\"\",\"\",TODAY())","v":""},{"$f":"IF(BY68=\"\",\"\",\"WTSYSTEMUSER\")","v":""},null,null,null,null,null,null,null,"",null,{"$f":"IF(BY5=\"\",\"\",\"AgencyEntityInsData Id 71\")","v":""},{"$f":"IF(BY5=\"\",\"\",\"AgencyEntityInstance Id 3\")","v":""},{"$f":"IF(BY5=\"\",\"\",\"cm_base_grad_T1T5_no_200_min\")","v":""},{"$f":"IF(BY5=\"\",\"\",\"0\")","v":""},{"$f":"IF(BY5=\"\",\"\",TODAY())","v":""},{"$f":"IF(BY5=\"\",\"\",\"WTSYSTEMUSER\")","v":""},{"$f":"IF(BY5=\"\",\"\",TODAY())","v":""},{"$f":"IF(BY5=\"\",\"\",\"WTSYSTEMUSER\")","v":""}]
[null,"STARTINGLOCCREATED_DT",null,null,null,null,null,null,null,null,null,null,null,null,null,null,null,null,null,null,null,null,null,null,null,null,null,null,null,null,null,null,null,null,null,null,null,null,null,null,null,null,null,null,null,null,null,null,null,null,null,null,null,null,null,null,null,null,null,null,null,null,null,null,null,null,null,null,null,null,null,null,null,null,null,null,{"$f":"IF(AH23=\"\",\"\",\"AgencyEntityInstance Id 72\")","v":""},{"$f":"IF(BY68=\"\",\"\",VLOOKUP(\"CM_T27_List\",'Send Sync'!$K$56:$L$96,2,FALSE))","v":""},null,{"$f":"IF(BY68=\"\",\"\",\"AgencyEntityInstance Id 66\")","v":""},{"$f":"IF(BY68=\"\",\"\",CONCATENATE(\"<Data><cm_t27_list_inspecrow>\",CO599,\"</cm_t27_list_inspecrow><cm_t27_list_max>\",CO600,\"</cm_t27_list_max><cm_t27_list_min>\",CO601,\"</cm_t27_list_min><cm_t27_list_order>\",CO602,\"</cm_t27_list_order><cm_t27_list_pct_passing>\",CO603,\"</cm_t27_list_pct_passing><cm_t27_list_sieve>\",CO604,\"</cm_t27_list_sieve></Data>\"))","v":""},{"$f":"IF(BY68=\"\",\"\",TODAY())","v":""},{"$f":"IF(BY68=\"\",\"\",\"WTSYSTEMUSER\")","v":""},{"$f":"IF(BY68=\"\",\"\",TODAY())","v":""},{"$f":"IF(BY68=\"\",\"\",\"WTSYSTEMUSER\")","v":""},null,null,null,null,null,null,null,"",null,{"$f":"IF(BY5=\"\",\"\",\"AgencyEntityInsData Id 72\")","v":""},{"$f":"IF(BY5=\"\",\"\",\"AgencyEntityInstance Id 3\")","v":""},{"$f":"IF(BY5=\"\",\"\",\"cm_base_grad_T1T5_no_30_label\")","v":""},{"$f":"IF(BY5=\"\",\"\",\"No. 30 (600 microns)\")","v":""},{"$f":"IF(BY5=\"\",\"\",TODAY())","v":""},{"$f":"IF(BY5=\"\",\"\",\"WTSYSTEMUSER\")","v":""},{"$f":"IF(BY5=\"\",\"\",TODAY())","v":""},{"$f":"IF(BY5=\"\",\"\",\"WTSYSTEMUSER\")","v":""}]
[null,"STARTINGLOCUPDTDBYPRSINF_ID",null,null,null,null,null,null,null,null,null,null,null,null,null,null,null,null,null,null,null,null,null,null,null,null,null,null,null,null,null,null,null,null,null,null,null,null,null,null,null,null,null,null,null,null,null,null,null,null,null,null,null,null,null,null,null,null,null,null,null,null,null,null,null,null,null,null,null,null,null,null,null,null,null,null,{"$f":"IF(AH23=\"\",\"\",\"AgencyEntityInstance Id 73\")","v":""},{"$f":"IF(BY68=\"\",\"\",VLOOKUP(\"CM_T27_List\",'Send Sync'!$K$56:$L$96,2,FALSE))","v":""},null,{"$f":"IF(BY68=\"\",\"\",\"AgencyEntityInstance Id 66\")","v":""},{"$f":"IF(BY68=\"\",\"\",CONCATENATE(\"<Data><cm_t27_list_inspecrow>\",CO605,\"</cm_t27_list_inspecrow><cm_t27_list_max>\",CO606,\"</cm_t27_list_max><cm_t27_list_min>\",CO607,\"</cm_t27_list_min><cm_t27_list_order>\",CO608,\"</cm_t27_list_order><cm_t27_list_pct_passing>\",CO609,\"</cm_t27_list_pct_passing><cm_t27_list_sieve>\",CO610,\"</cm_t27_list_sieve></Data>\"))","v":""},{"$f":"IF(BY68=\"\",\"\",TODAY())","v":""},{"$f":"IF(BY68=\"\",\"\",\"WTSYSTEMUSER\")","v":""},{"$f":"IF(BY68=\"\",\"\",TODAY())","v":""},{"$f":"IF(BY68=\"\",\"\",\"WTSYSTEMUSER\")","v":""},null,null,null,null,null,null,null,"",null,{"$f":"IF(BY5=\"\",\"\",\"AgencyEntityInsData Id 73\")","v":""},{"$f":"IF(BY5=\"\",\"\",\"AgencyEntityInstance Id 3\")","v":""},{"$f":"IF(BY5=\"\",\"\",\"cm_base_grad_T1T5_no_30_max\")","v":""},{"$f":"IF(BY5=\"\",\"\",\"35\")","v":""},{"$f":"IF(BY5=\"\",\"\",TODAY())","v":""},{"$f":"IF(BY5=\"\",\"\",\"WTSYSTEMUSER\")","v":""},{"$f":"IF(BY5=\"\",\"\",TODAY())","v":""},{"$f":"IF(BY5=\"\",\"\",\"WTSYSTEMUSER\")","v":""}]
[null,"STARTINGLOCATIONUPDATED_DT",null,null,null,null,null,null,null,null,null,null,null,null,null,null,null,null,null,null,null,null,null,null,null,null,null,null,null,null,null,null,null,null,null,null,null,null,null,null,null,null,null,null,null,null,null,null,null,null,null,null,null,null,null,null,null,null,null,null,null,null,null,null,null,null,null,null,null,null,null,null,null,null,null,null,{"$f":"IF(AH23=\"\",\"\",\"AgencyEntityInstance Id 74\")","v":""},{"$f":"IF(BY68=\"\",\"\",VLOOKUP(\"CM_T27_List\",'Send Sync'!$K$56:$L$96,2,FALSE))","v":""},null,{"$f":"IF(BY68=\"\",\"\",\"AgencyEntityInstance Id 66\")","v":""},{"$f":"IF(BY68=\"\",\"\",CONCATENATE(\"<Data><cm_t27_list_inspecrow>\",CO611,\"</cm_t27_list_inspecrow><cm_t27_list_max>\",CO612,\"</cm_t27_list_max><cm_t27_list_min>\",CO613,\"</cm_t27_list_min><cm_t27_list_order>\",CO614,\"</cm_t27_list_order><cm_t27_list_pct_passing>\",CO615,\"</cm_t27_list_pct_passing><cm_t27_list_sieve>\",CO616,\"</cm_t27_list_sieve></Data>\"))","v":""},{"$f":"IF(BY68=\"\",\"\",TODAY())","v":""},{"$f":"IF(BY68=\"\",\"\",\"WTSYSTEMUSER\")","v":""},{"$f":"IF(BY68=\"\",\"\",TODAY())","v":""},{"$f":"IF(BY68=\"\",\"\",\"WTSYSTEMUSER\")","v":""},null,null,null,null,null,null,null,"",null,{"$f":"IF(BY5=\"\",\"\",\"AgencyEntityInsData Id 74\")","v":""},{"$f":"IF(BY5=\"\",\"\",\"AgencyEntityInstance Id 3\")","v":""},{"$f":"IF(BY5=\"\",\"\",\"cm_base_grad_T1T5_no_30_min\")","v":""},{"$f":"IF(BY5=\"\",\"\",\"10\")","v":""},{"$f":"IF(BY5=\"\",\"\",TODAY())","v":""},{"$f":"IF(BY5=\"\",\"\",\"WTSYSTEMUSER\")","v":""},{"$f":"IF(BY5=\"\",\"\",TODAY())","v":""},{"$f":"IF(BY5=\"\",\"\",\"WTSYSTEMUSER\")","v":""}]
[null,"STARTINGLOCENDACTIVE_DT",null,null,null,null,null,null,null,null,null,null,null,null,null,null,null,null,null,null,null,null,null,null,null,null,null,null,null,null,null,null,null,null,null,null,null,null,null,null,null,null,null,null,null,null,null,null,null,null,null,null,null,null,null,null,null,null,null,null,null,null,null,null,null,null,null,null,null,null,null,null,null,null,null,null,{"$f":"IF(AH23=\"\",\"\",\"AgencyEntityInstance Id 75\")","v":""},{"$f":"IF(BY68=\"\",\"\",VLOOKUP(\"CM_T27_List\",'Send Sync'!$K$56:$L$96,2,FALSE))","v":""},null,{"$f":"IF(BY68=\"\",\"\",\"AgencyEntityInstance Id 66\")","v":""},{"$f":"IF(BY68=\"\",\"\",CONCATENATE(\"<Data><cm_t27_list_inspecrow>\",CO617,\"</cm_t27_list_inspecrow><cm_t27_list_max>\",CO618,\"</cm_t27_list_max><cm_t27_list_min>\",CO619,\"</cm_t27_list_min><cm_t27_list_order>\",CO620,\"</cm_t27_list_order><cm_t27_list_pct_passing>\",CO621,\"</cm_t27_list_pct_passing><cm_t27_list_sieve>\",CO622,\"</cm_t27_list_sieve></Data>\"))","v":""},{"$f":"IF(BY68=\"\",\"\",TODAY())","v":""},{"$f":"IF(BY68=\"\",\"\",\"WTSYSTEMUSER\")","v":""},{"$f":"IF(BY68=\"\",\"\",TODAY())","v":""},{"$f":"IF(BY68=\"\",\"\",\"WTSYSTEMUSER\")","v":""},null,null,null,null,null,null,null,"",null,{"$f":"IF(BY5=\"\",\"\",\"AgencyEntityInsData Id 75\")","v":""},{"$f":"IF(BY5=\"\",\"\",\"AgencyEntityInstance Id 3\")","v":""},{"$f":"IF(BY5=\"\",\"\",\"cm_base_grad_T1T5_no_4_label\")","v":""},{"$f":"IF(BY5=\"\",\"\",\"No. 4 (4.75 mm)\")","v":""},{"$f":"IF(BY5=\"\",\"\",TODAY())","v":""},{"$f":"IF(BY5=\"\",\"\",\"WTSYSTEMUSER\")","v":""},{"$f":"IF(BY5=\"\",\"\",TODAY())","v":""},{"$f":"IF(BY5=\"\",\"\",\"WTSYSTEMUSER\")","v":""}]
[null,"ENDINGX",null,null,null,null,null,null,null,null,null,null,null,null,null,null,null,null,null,null,null,null,null,null,null,null,null,null,null,null,null,null,null,null,null,null,null,null,null,null,null,null,null,null,null,null,null,null,null,null,null,null,null,null,null,null,null,null,null,null,null,null,null,null,null,null,null,null,null,null,null,null,null,null,null,null,{"$f":"IF(AH23=\"\",\"\",\"AgencyEntityInstance Id 76\")","v":""},{"$f":"IF(BY68=\"\",\"\",VLOOKUP(\"CM_T27_List\",'Send Sync'!$K$56:$L$96,2,FALSE))","v":""},null,{"$f":"IF(BY68=\"\",\"\",\"AgencyEntityInstance Id 66\")","v":""},{"$f":"IF(BY68=\"\",\"\",CONCATENATE(\"<Data><cm_t27_list_inspecrow>\",CO623,\"</cm_t27_list_inspecrow><cm_t27_list_max>\",CO624,\"</cm_t27_list_max><cm_t27_list_min>\",CO625,\"</cm_t27_list_min><cm_t27_list_order>\",CO626,\"</cm_t27_list_order><cm_t27_list_pct_passing>\",CO627,\"</cm_t27_list_pct_passing><cm_t27_list_sieve>\",CO628,\"</cm_t27_list_sieve></Data>\"))","v":""},{"$f":"IF(BY68=\"\",\"\",TODAY())","v":""},{"$f":"IF(BY68=\"\",\"\",\"WTSYSTEMUSER\")","v":""},{"$f":"IF(BY68=\"\",\"\",TODAY())","v":""},{"$f":"IF(BY68=\"\",\"\",\"WTSYSTEMUSER\")","v":""},null,null,null,null,null,null,null,"",null,{"$f":"IF(BY5=\"\",\"\",\"AgencyEntityInsData Id 76\")","v":""},{"$f":"IF(BY5=\"\",\"\",\"AgencyEntityInstance Id 3\")","v":""},{"$f":"IF(BY5=\"\",\"\",\"cm_base_grad_T1T5_no_4_max\")","v":""},{"$f":"IF(BY5=\"\",\"\",\"60\")","v":""},{"$f":"IF(BY5=\"\",\"\",TODAY())","v":""},{"$f":"IF(BY5=\"\",\"\",\"WTSYSTEMUSER\")","v":""},{"$f":"IF(BY5=\"\",\"\",TODAY())","v":""},{"$f":"IF(BY5=\"\",\"\",\"WTSYSTEMUSER\")","v":""}]
[null,"ENDINGY",null,null,null,null,null,null,null,null,null,null,null,null,null,null,null,null,null,null,null,null,null,null,null,null,null,null,null,null,null,null,null,null,null,null,null,null,null,null,null,null,null,null,null,null,null,null,null,null,null,null,null,null,null,null,null,null,null,null,null,null,null,null,null,null,null,null,null,null,null,null,null,null,null,null,{"$f":"IF(AH23=\"\",\"\",\"AgencyEntityInstance Id 77\")","v":""},{"$f":"IF(BY68=\"\",\"\",VLOOKUP(\"CM_T27_List\",'Send Sync'!$K$56:$L$96,2,FALSE))","v":""},null,{"$f":"IF(BY68=\"\",\"\",\"AgencyEntityInstance Id 66\")","v":""},{"$f":"IF(BY68=\"\",\"\",CONCATENATE(\"<Data><cm_t27_list_inspecrow>\",CO629,\"</cm_t27_list_inspecrow><cm_t27_list_max>\",CO630,\"</cm_t27_list_max><cm_t27_list_min>\",CO631,\"</cm_t27_list_min><cm_t27_list_order>\",CO632,\"</cm_t27_list_order><cm_t27_list_pct_passing>\",CO633,\"</cm_t27_list_pct_passing><cm_t27_list_sieve>\",CO634,\"</cm_t27_list_sieve></Data>\"))","v":""},{"$f":"IF(BY68=\"\",\"\",TODAY())","v":""},{"$f":"IF(BY68=\"\",\"\",\"WTSYSTEMUSER\")","v":""},{"$f":"IF(BY68=\"\",\"\",TODAY())","v":""},{"$f":"IF(BY68=\"\",\"\",\"WTSYSTEMUSER\")","v":""},null,null,null,null,null,null,null,"",null,{"$f":"IF(BY5=\"\",\"\",\"AgencyEntityInsData Id 77\")","v":""},{"$f":"IF(BY5=\"\",\"\",\"AgencyEntityInstance Id 3\")","v":""},{"$f":"IF(BY5=\"\",\"\",\"cm_base_grad_T1T5_no_4_min\")","v":""},{"$f":"IF(BY5=\"\",\"\",\"35\")","v":""},{"$f":"IF(BY5=\"\",\"\",TODAY())","v":""},{"$f":"IF(BY5=\"\",\"\",\"WTSYSTEMUSER\")","v":""},{"$f":"IF(BY5=\"\",\"\",TODAY())","v":""},{"$f":"IF(BY5=\"\",\"\",\"WTSYSTEMUSER\")","v":""}]
[null,"ENDINGZ",null,null,null,null,null,null,null,null,null,null,null,null,null,null,null,null,null,null,null,null,null,null,null,null,null,null,null,null,null,null,null,null,null,null,null,null,null,null,null,null,null,null,null,null,null,null,null,null,null,null,null,null,null,null,null,null,null,null,null,null,null,null,null,null,null,null,null,null,null,null,null,null,null,null,{"$f":"IF(AH23=\"\",\"\",\"AgencyEntityInstance Id 78\")","v":""},{"$f":"IF(BY68=\"\",\"\",VLOOKUP(\"CM_T27_List\",'Send Sync'!$K$56:$L$96,2,FALSE))","v":""},null,{"$f":"IF(BY68=\"\",\"\",\"AgencyEntityInstance Id 66\")","v":""},{"$f":"IF(BY68=\"\",\"\",CONCATENATE(\"<Data><cm_t27_list_inspecrow>\",CO635,\"</cm_t27_list_inspecrow><cm_t27_list_max>\",CO636,\"</cm_t27_list_max><cm_t27_list_min>\",CO637,\"</cm_t27_list_min><cm_t27_list_order>\",CO638,\"</cm_t27_list_order><cm_t27_list_pct_passing>\",CO639,\"</cm_t27_list_pct_passing><cm_t27_list_sieve>\",CO640,\"</cm_t27_list_sieve></Data>\"))","v":""},{"$f":"IF(BY68=\"\",\"\",TODAY())","v":""},{"$f":"IF(BY68=\"\",\"\",\"WTSYSTEMUSER\")","v":""},{"$f":"IF(BY68=\"\",\"\",TODAY())","v":""},{"$f":"IF(BY68=\"\",\"\",\"WTSYSTEMUSER\")","v":""},null,null,null,null,null,null,null,"",null,{"$f":"IF(BY5=\"\",\"\",\"AgencyEntityInsData Id 78\")","v":""},{"$f":"IF(BY5=\"\",\"\",\"AgencyEntityInstance Id 3\")","v":""},{"$f":"IF(BY5=\"\",\"\",\"cm_base_grad_T1T5_spec_01_inch_max\")","v":""},{"$f":"IF(BY5=\"\",\"\",\"100\")","v":""},{"$f":"IF(BY5=\"\",\"\",TODAY())","v":""},{"$f":"IF(BY5=\"\",\"\",\"WTSYSTEMUSER\")","v":""},{"$f":"IF(BY5=\"\",\"\",TODAY())","v":""},{"$f":"IF(BY5=\"\",\"\",\"WTSYSTEMUSER\")","v":""}]
[null,"ENDINGLOCMETHOD",null,null,null,null,null,null,null,null,null,null,null,null,null,null,null,null,null,null,null,null,null,null,null,null,null,null,null,null,null,null,null,null,null,null,null,null,null,null,null,null,null,null,null,null,null,null,null,null,null,null,null,null,null,null,null,null,null,null,null,null,null,null,null,null,null,null,null,null,null,null,null,null,null,null,{"$f":"IF(AH23=\"\",\"\",\"AgencyEntityInstance Id 79\")","v":""},{"$f":"IF(BY68=\"\",\"\",VLOOKUP(\"CM_T27_List\",'Send Sync'!$K$56:$L$96,2,FALSE))","v":""},null,{"$f":"IF(BY68=\"\",\"\",\"AgencyEntityInstance Id 66\")","v":""},{"$f":"IF(BY68=\"\",\"\",CONCATENATE(\"<Data><cm_t27_list_inspecrow>\",CO641,\"</cm_t27_list_inspecrow><cm_t27_list_max>\",CO642,\"</cm_t27_list_max><cm_t27_list_min>\",CO643,\"</cm_t27_list_min><cm_t27_list_order>\",CO644,\"</cm_t27_list_order><cm_t27_list_pct_passing>\",CO645,\"</cm_t27_list_pct_passing><cm_t27_list_sieve>\",CO646,\"</cm_t27_list_sieve></Data>\"))","v":""},{"$f":"IF(BY68=\"\",\"\",TODAY())","v":""},{"$f":"IF(BY68=\"\",\"\",\"WTSYSTEMUSER\")","v":""},{"$f":"IF(BY68=\"\",\"\",TODAY())","v":""},{"$f":"IF(BY68=\"\",\"\",\"WTSYSTEMUSER\")","v":""},null,null,null,null,null,null,null,"",null,{"$f":"IF(BY5=\"\",\"\",\"AgencyEntityInsData Id 79\")","v":""},{"$f":"IF(BY5=\"\",\"\",\"AgencyEntityInstance Id 3\")","v":""},{"$f":"IF(BY5=\"\",\"\",\"cm_base_grad_T1T5_spec_01_inch_min\")","v":""},{"$f":"IF(BY5=\"\",\"\",\"100\")","v":""},{"$f":"IF(BY5=\"\",\"\",TODAY())","v":""},{"$f":"IF(BY5=\"\",\"\",\"WTSYSTEMUSER\")","v":""},{"$f":"IF(BY5=\"\",\"\",TODAY())","v":""},{"$f":"IF(BY5=\"\",\"\",\"WTSYSTEMUSER\")","v":""}]
[null,"ENDINGLOCQUALITY",null,null,null,null,null,null,null,null,null,null,null,null,null,null,null,null,null,null,null,null,null,null,null,null,null,null,null,null,null,null,null,null,null,null,null,null,null,null,null,null,null,null,null,null,null,null,null,null,null,null,null,null,null,null,null,null,null,null,null,null,null,null,null,null,null,null,null,null,null,null,null,null,null,null,{"$f":"IF(AH23=\"\",\"\",\"AgencyEntityInstance Id 80\")","v":""},{"$f":"IF(BY68=\"\",\"\",VLOOKUP(\"CM_T27_List\",'Send Sync'!$K$56:$L$96,2,FALSE))","v":""},null,{"$f":"IF(BY68=\"\",\"\",\"AgencyEntityInstance Id 66\")","v":""},{"$f":"IF(BY68=\"\",\"\",CONCATENATE(\"<Data><cm_t27_list_inspecrow>\",CO647,\"</cm_t27_list_inspecrow><cm_t27_list_max>\",CO648,\"</cm_t27_list_max><cm_t27_list_min>\",CO649,\"</cm_t27_list_min><cm_t27_list_order>\",CO650,\"</cm_t27_list_order><cm_t27_list_pct_passing>\",CO651,\"</cm_t27_list_pct_passing><cm_t27_list_sieve>\",CO652,\"</cm_t27_list_sieve></Data>\"))","v":""},{"$f":"IF(BY68=\"\",\"\",TODAY())","v":""},{"$f":"IF(BY68=\"\",\"\",\"WTSYSTEMUSER\")","v":""},{"$f":"IF(BY68=\"\",\"\",TODAY())","v":""},{"$f":"IF(BY68=\"\",\"\",\"WTSYSTEMUSER\")","v":""},null,null,null,null,null,null,null,"",null,{"$f":"IF(BY5=\"\",\"\",\"AgencyEntityInsData Id 80\")","v":""},{"$f":"IF(BY5=\"\",\"\",\"AgencyEntityInstance Id 3\")","v":""},{"$f":"IF(BY5=\"\",\"\",\"cm_base_grad_T1T5_spec_02_half_inch_max\")","v":""},{"$f":"IF(BY5=\"\",\"\",\"90\")","v":""},{"$f":"IF(BY5=\"\",\"\",TODAY())","v":""},{"$f":"IF(BY5=\"\",\"\",\"WTSYSTEMUSER\")","v":""},{"$f":"IF(BY5=\"\",\"\",TODAY())","v":""},{"$f":"IF(BY5=\"\",\"\",\"WTSYSTEMUSER\")","v":""}]
[null,"ENDINGLOCQUALUNIT",null,null,null,null,null,null,null,null,null,null,null,null,null,null,null,null,null,null,null,null,null,null,null,null,null,null,null,null,null,null,null,null,null,null,null,null,null,null,null,null,null,null,null,null,null,null,null,null,null,null,null,null,null,null,null,null,null,null,null,null,null,null,null,null,null,null,null,null,null,null,null,null,null,null,{"$f":"IF(AH23=\"\",\"\",\"AgencyEntityInstance Id 81\")","v":""},{"$f":"IF(BY68=\"\",\"\",VLOOKUP(\"CM_T27_List\",'Send Sync'!$K$56:$L$96,2,FALSE))","v":""},null,{"$f":"IF(BY68=\"\",\"\",\"AgencyEntityInstance Id 66\")","v":""},{"$f":"IF(BY68=\"\",\"\",CONCATENATE(\"<Data><cm_t27_list_inspecrow>\",CO653,\"</cm_t27_list_inspecrow><cm_t27_list_max>\",CO654,\"</cm_t27_list_max><cm_t27_list_min>\",CO655,\"</cm_t27_list_min><cm_t27_list_order>\",CO656,\"</cm_t27_list_order><cm_t27_list_pct_passing>\",CO657,\"</cm_t27_list_pct_passing><cm_t27_list_sieve>\",CO658,\"</cm_t27_list_sieve></Data>\"))","v":""},{"$f":"IF(BY68=\"\",\"\",TODAY())","v":""},{"$f":"IF(BY68=\"\",\"\",\"WTSYSTEMUSER\")","v":""},{"$f":"IF(BY68=\"\",\"\",TODAY())","v":""},{"$f":"IF(BY68=\"\",\"\",\"WTSYSTEMUSER\")","v":""},null,null,null,null,null,null,null,"",null,{"$f":"IF(BY5=\"\",\"\",\"AgencyEntityInsData Id 81\")","v":""},{"$f":"IF(BY5=\"\",\"\",\"AgencyEntityInstance Id 3\")","v":""},{"$f":"IF(BY5=\"\",\"\",\"cm_base_grad_T1T5_spec_02_half_inch_min\")","v":""},{"$f":"IF(BY5=\"\",\"\",\"60\")","v":""},{"$f":"IF(BY5=\"\",\"\",TODAY())","v":""},{"$f":"IF(BY5=\"\",\"\",\"WTSYSTEMUSER\")","v":""},{"$f":"IF(BY5=\"\",\"\",TODAY())","v":""},{"$f":"IF(BY5=\"\",\"\",\"WTSYSTEMUSER\")","v":""}]
[null,"ENDINGLOCATIONISSUE",null,null,null,null,null,null,null,null,null,null,null,null,null,null,null,null,null,null,null,null,null,null,null,null,null,null,null,null,null,null,null,null,null,null,null,null,null,null,null,null,null,null,null,null,null,null,null,null,null,null,null,null,null,null,null,null,null,null,null,null,null,null,null,null,null,null,null,null,null,null,null,null,null,null,{"$f":"IF(AH24=\"\",\"\",\"AgencyEntityInstance Id 82\")","v":""},{"$f":"IF(BY84=\"\",\"\",VLOOKUP(\"CM_T27_Detail\",'Send Sync'!$K$56:$L$96,2,FALSE))","v":""},{"$f":"IF(BY84=\"\",\"\",\"SampleRecordTest Id 22\")","v":""},"",{"$f":"IF(BY84=\"\",\"\",CONCATENATE(\"<Data><cm_t27_detail_inspec>\",CO659,\"</cm_t27_detail_inspec></Data>\"))","v":""},{"$f":"IF(BY84=\"\",\"\",TODAY())","v":""},{"$f":"IF(BY84=\"\",\"\",\"WTSYSTEMUSER\")","v":""},{"$f":"IF(BY84=\"\",\"\",TODAY())","v":""},{"$f":"IF(BY84=\"\",\"\",\"WTSYSTEMUSER\")","v":""},null,null,null,null,null,null,null,"",null,{"$f":"IF(BY5=\"\",\"\",\"AgencyEntityInsData Id 82\")","v":""},{"$f":"IF(BY5=\"\",\"\",\"AgencyEntityInstance Id 3\")","v":""},{"$f":"IF(BY5=\"\",\"\",\"cm_base_grad_T1T5_spec_03_no_4_max\")","v":""},{"$f":"IF(BY5=\"\",\"\",\"60\")","v":""},{"$f":"IF(BY5=\"\",\"\",TODAY())","v":""},{"$f":"IF(BY5=\"\",\"\",\"WTSYSTEMUSER\")","v":""},{"$f":"IF(BY5=\"\",\"\",TODAY())","v":""},{"$f":"IF(BY5=\"\",\"\",\"WTSYSTEMUSER\")","v":""}]
[null,"ENDINGLOCCREATEDBYPRSINF_ID",null,null,null,null,null,null,null,null,null,null,null,null,null,null,null,null,null,null,null,null,null,null,null,null,null,null,null,null,null,null,null,null,null,null,null,null,null,null,null,null,null,null,null,null,null,null,null,null,null,null,null,null,null,null,null,null,null,null,null,null,null,null,null,null,null,null,null,null,null,null,null,null,null,null,{"$f":"IF(AH24=\"\",\"\",\"AgencyEntityInstance Id 83\")","v":""},{"$f":"IF(BY84=\"\",\"\",VLOOKUP(\"CM_T27_List\",'Send Sync'!$K$56:$L$96,2,FALSE))","v":""},null,{"$f":"IF(BY84=\"\",\"\",\"AgencyEntityInstance Id 82\")","v":""},{"$f":"IF(BY84=\"\",\"\",CONCATENATE(\"<Data><cm_t27_list_inspecrow>\",CO660,\"</cm_t27_list_inspecrow><cm_t27_list_max>\",CO661,\"</cm_t27_list_max><cm_t27_list_min>\",CO662,\"</cm_t27_list_min><cm_t27_list_order>\",CO663,\"</cm_t27_list_order><cm_t27_list_pct_passing>\",CO664,\"</cm_t27_list_pct_passing><cm_t27_list_sieve>\",CO665,\"</cm_t27_list_sieve></Data>\"))","v":""},{"$f":"IF(BY84=\"\",\"\",TODAY())","v":""},{"$f":"IF(BY84=\"\",\"\",\"WTSYSTEMUSER\")","v":""},{"$f":"IF(BY84=\"\",\"\",TODAY())","v":""},{"$f":"IF(BY84=\"\",\"\",\"WTSYSTEMUSER\")","v":""},null,null,null,null,null,null,null,"",null,{"$f":"IF(BY5=\"\",\"\",\"AgencyEntityInsData Id 83\")","v":""},{"$f":"IF(BY5=\"\",\"\",\"AgencyEntityInstance Id 3\")","v":""},{"$f":"IF(BY5=\"\",\"\",\"cm_base_grad_T1T5_spec_03_no_4_min\")","v":""},{"$f":"IF(BY5=\"\",\"\",\"35\")","v":""},{"$f":"IF(BY5=\"\",\"\",TODAY())","v":""},{"$f":"IF(BY5=\"\",\"\",\"WTSYSTEMUSER\")","v":""},{"$f":"IF(BY5=\"\",\"\",TODAY())","v":""},{"$f":"IF(BY5=\"\",\"\",\"WTSYSTEMUSER\")","v":""}]
[null,"ENDINGLOCCREATED_DT",null,null,null,null,null,null,null,null,null,null,null,null,null,null,null,null,null,null,null,null,null,null,null,null,null,null,null,null,null,null,null,null,null,null,null,null,null,null,null,null,null,null,null,null,null,null,null,null,null,null,null,null,null,null,null,null,null,null,null,null,null,null,null,null,null,null,null,null,null,null,null,null,null,null,{"$f":"IF(AH24=\"\",\"\",\"AgencyEntityInstance Id 84\")","v":""},{"$f":"IF(BY84=\"\",\"\",VLOOKUP(\"CM_T27_List\",'Send Sync'!$K$56:$L$96,2,FALSE))","v":""},null,{"$f":"IF(BY84=\"\",\"\",\"AgencyEntityInstance Id 82\")","v":""},{"$f":"IF(BY84=\"\",\"\",CONCATENATE(\"<Data><cm_t27_list_inspecrow>\",CO666,\"</cm_t27_list_inspecrow><cm_t27_list_max>\",CO667,\"</cm_t27_list_max><cm_t27_list_min>\",CO668,\"</cm_t27_list_min><cm_t27_list_order>\",CO669,\"</cm_t27_list_order><cm_t27_list_pct_passing>\",CO670,\"</cm_t27_list_pct_passing><cm_t27_list_sieve>\",CO671,\"</cm_t27_list_sieve></Data>\"))","v":""},{"$f":"IF(BY84=\"\",\"\",TODAY())","v":""},{"$f":"IF(BY84=\"\",\"\",\"WTSYSTEMUSER\")","v":""},{"$f":"IF(BY84=\"\",\"\",TODAY())","v":""},{"$f":"IF(BY84=\"\",\"\",\"WTSYSTEMUSER\")","v":""},null,null,null,null,null,null,null,"",null,{"$f":"IF(BY5=\"\",\"\",\"AgencyEntityInsData Id 84\")","v":""},{"$f":"IF(BY5=\"\",\"\",\"AgencyEntityInstance Id 3\")","v":""},{"$f":"IF(BY5=\"\",\"\",\"cm_base_grad_T1T5_spec_04_no_30_max\")","v":""},{"$f":"IF(BY5=\"\",\"\",\"35\")","v":""},{"$f":"IF(BY5=\"\",\"\",TODAY())","v":""},{"$f":"IF(BY5=\"\",\"\",\"WTSYSTEMUSER\")","v":""},{"$f":"IF(BY5=\"\",\"\",TODAY())","v":""},{"$f":"IF(BY5=\"\",\"\",\"WTSYSTEMUSER\")","v":""}]
[null,"ENDINGLOCUPDATEDBYPRSINF_ID",null,null,null,null,null,null,null,null,null,null,null,null,null,null,null,null,null,null,null,null,null,null,null,null,null,null,null,null,null,null,null,null,null,null,null,null,null,null,null,null,null,null,null,null,null,null,null,null,null,null,null,null,null,null,null,null,null,null,null,null,null,null,null,null,null,null,null,null,null,null,null,null,null,null,{"$f":"IF(AH24=\"\",\"\",\"AgencyEntityInstance Id 85\")","v":""},{"$f":"IF(BY84=\"\",\"\",VLOOKUP(\"CM_T27_List\",'Send Sync'!$K$56:$L$96,2,FALSE))","v":""},null,{"$f":"IF(BY84=\"\",\"\",\"AgencyEntityInstance Id 82\")","v":""},{"$f":"IF(BY84=\"\",\"\",CONCATENATE(\"<Data><cm_t27_list_inspecrow>\",CO672,\"</cm_t27_list_inspecrow><cm_t27_list_max>\",CO673,\"</cm_t27_list_max><cm_t27_list_min>\",CO674,\"</cm_t27_list_min><cm_t27_list_order>\",CO675,\"</cm_t27_list_order><cm_t27_list_pct_passing>\",CO676,\"</cm_t27_list_pct_passing><cm_t27_list_sieve>\",CO677,\"</cm_t27_list_sieve></Data>\"))","v":""},{"$f":"IF(BY84=\"\",\"\",TODAY())","v":""},{"$f":"IF(BY84=\"\",\"\",\"WTSYSTEMUSER\")","v":""},{"$f":"IF(BY84=\"\",\"\",TODAY())","v":""},{"$f":"IF(BY84=\"\",\"\",\"WTSYSTEMUSER\")","v":""},null,null,null,null,null,null,null,"",null,{"$f":"IF(BY5=\"\",\"\",\"AgencyEntityInsData Id 85\")","v":""},{"$f":"IF(BY5=\"\",\"\",\"AgencyEntityInstance Id 3\")","v":""},{"$f":"IF(BY5=\"\",\"\",\"cm_base_grad_T1T5_spec_04_no_30_min\")","v":""},{"$f":"IF(BY5=\"\",\"\",\"10\")","v":""},{"$f":"IF(BY5=\"\",\"\",TODAY())","v":""},{"$f":"IF(BY5=\"\",\"\",\"WTSYSTEMUSER\")","v":""},{"$f":"IF(BY5=\"\",\"\",TODAY())","v":""},{"$f":"IF(BY5=\"\",\"\",\"WTSYSTEMUSER\")","v":""}]
[null,"ENDINGLOCATIONUPDATED_DT",null,null,null,null,null,null,null,null,null,null,null,null,null,null,null,null,null,null,null,null,null,null,null,null,null,null,null,null,null,null,null,null,null,null,null,null,null,null,null,null,null,null,null,null,null,null,null,null,null,null,null,null,null,null,null,null,null,null,null,null,null,null,null,null,null,null,null,null,null,null,null,null,null,null,{"$f":"IF(AH24=\"\",\"\",\"AgencyEntityInstance Id 86\")","v":""},{"$f":"IF(BY84=\"\",\"\",VLOOKUP(\"CM_T27_List\",'Send Sync'!$K$56:$L$96,2,FALSE))","v":""},null,{"$f":"IF(BY84=\"\",\"\",\"AgencyEntityInstance Id 82\")","v":""},{"$f":"IF(BY84=\"\",\"\",CONCATENATE(\"<Data><cm_t27_list_inspecrow>\",CO678,\"</cm_t27_list_inspecrow><cm_t27_list_max>\",CO679,\"</cm_t27_list_max><cm_t27_list_min>\",CO680,\"</cm_t27_list_min><cm_t27_list_order>\",CO681,\"</cm_t27_list_order><cm_t27_list_pct_passing>\",CO682,\"</cm_t27_list_pct_passing><cm_t27_list_sieve>\",CO683,\"</cm_t27_list_sieve></Data>\"))","v":""},{"$f":"IF(BY84=\"\",\"\",TODAY())","v":""},{"$f":"IF(BY84=\"\",\"\",\"WTSYSTEMUSER\")","v":""},{"$f":"IF(BY84=\"\",\"\",TODAY())","v":""},{"$f":"IF(BY84=\"\",\"\",\"WTSYSTEMUSER\")","v":""},null,null,null,null,null,null,null,"",null,{"$f":"IF(BY5=\"\",\"\",\"AgencyEntityInsData Id 86\")","v":""},{"$f":"IF(BY5=\"\",\"\",\"AgencyEntityInstance Id 3\")","v":""},{"$f":"IF(BY5=\"\",\"\",\"cm_base_grad_T1T5_spec_05_no_200_max\")","v":""},{"$f":"IF(BY5=\"\",\"\",\"15\")","v":""},{"$f":"IF(BY5=\"\",\"\",TODAY())","v":""},{"$f":"IF(BY5=\"\",\"\",\"WTSYSTEMUSER\")","v":""},{"$f":"IF(BY5=\"\",\"\",TODAY())","v":""},{"$f":"IF(BY5=\"\",\"\",\"WTSYSTEMUSER\")","v":""}]
[null,"ENDINGLOCATIONENDACTIVE_DT",null,null,null,null,null,null,null,null,null,null,null,null,null,null,null,null,null,null,null,null,null,null,null,null,null,null,null,null,null,null,null,null,null,null,null,null,null,null,null,null,null,null,null,null,null,null,null,null,null,null,null,null,null,null,null,null,null,null,null,null,null,null,null,null,null,null,null,null,null,null,null,null,null,null,{"$f":"IF(AH24=\"\",\"\",\"AgencyEntityInstance Id 87\")","v":""},{"$f":"IF(BY84=\"\",\"\",VLOOKUP(\"CM_T27_List\",'Send Sync'!$K$56:$L$96,2,FALSE))","v":""},null,{"$f":"IF(BY84=\"\",\"\",\"AgencyEntityInstance Id 82\")","v":""},{"$f":"IF(BY84=\"\",\"\",CONCATENATE(\"<Data><cm_t27_list_inspecrow>\",CO684,\"</cm_t27_list_inspecrow><cm_t27_list_max>\",CO685,\"</cm_t27_list_max><cm_t27_list_min>\",CO686,\"</cm_t27_list_min><cm_t27_list_order>\",CO687,\"</cm_t27_list_order><cm_t27_list_pct_passing>\",CO688,\"</cm_t27_list_pct_passing><cm_t27_list_sieve>\",CO689,\"</cm_t27_list_sieve></Data>\"))","v":""},{"$f":"IF(BY84=\"\",\"\",TODAY())","v":""},{"$f":"IF(BY84=\"\",\"\",\"WTSYSTEMUSER\")","v":""},{"$f":"IF(BY84=\"\",\"\",TODAY())","v":""},{"$f":"IF(BY84=\"\",\"\",\"WTSYSTEMUSER\")","v":""},null,null,null,null,null,null,null,"",null,{"$f":"IF(BY5=\"\",\"\",\"AgencyEntityInsData Id 87\")","v":""},{"$f":"IF(BY5=\"\",\"\",\"AgencyEntityInstance Id 3\")","v":""},{"$f":"IF(BY5=\"\",\"\",\"cm_base_grad_T1T5_spec_05_no_200_min\")","v":""},{"$f":"IF(BY5=\"\",\"\",\"0\")","v":""},{"$f":"IF(BY5=\"\",\"\",TODAY())","v":""},{"$f":"IF(BY5=\"\",\"\",\"WTSYSTEMUSER\")","v":""},{"$f":"IF(BY5=\"\",\"\",TODAY())","v":""},{"$f":"IF(BY5=\"\",\"\",\"WTSYSTEMUSER\")","v":""}]
[null,"COMMENT",null,null,null,null,null,null,null,null,null,null,null,null,null,null,null,null,null,null,null,null,null,null,null,null,null,null,null,null,null,null,null,null,null,null,null,null,null,null,null,null,null,null,null,null,null,null,null,null,null,null,null,null,null,null,null,null,null,null,null,null,null,null,null,null,null,null,null,null,null,null,null,null,null,null,{"$f":"IF(AH24=\"\",\"\",\"AgencyEntityInstance Id 88\")","v":""},{"$f":"IF(BY84=\"\",\"\",VLOOKUP(\"CM_T27_List\",'Send Sync'!$K$56:$L$96,2,FALSE))","v":""},null,{"$f":"IF(BY84=\"\",\"\",\"AgencyEntityInstance Id 82\")","v":""},{"$f":"IF(BY84=\"\",\"\",CONCATENATE(\"<Data><cm_t27_list_inspecrow>\",CO690,\"</cm_t27_list_inspecrow><cm_t27_list_max>\",CO691,\"</cm_t27_list_max><cm_t27_list_min>\",CO692,\"</cm_t27_list_min><cm_t27_list_order>\",CO693,\"</cm_t27_list_order><cm_t27_list_pct_passing>\",CO694,\"</cm_t27_list_pct_passing><cm_t27_list_sieve>\",CO695,\"</cm_t27_list_sieve></Data>\"))","v":""},{"$f":"IF(BY84=\"\",\"\",TODAY())","v":""},{"$f":"IF(BY84=\"\",\"\",\"WTSYSTEMUSER\")","v":""},{"$f":"IF(BY84=\"\",\"\",TODAY())","v":""},{"$f":"IF(BY84=\"\",\"\",\"WTSYSTEMUSER\")","v":""},null,null,null,null,null,null,null,"",null,{"$f":"IF(BY6=\"\",\"\",\"AgencyEntityInsData Id 88\")","v":""},{"$f":"IF(BY6=\"\",\"\",\"AgencyEntityInstance Id 4\")","v":""},{"$f":"IF(BY6=\"\",\"\",\"cm_base_grad_T1T5_01_inch\")","v":""},{"$f":"IF(BY6=\"\",\"\",IF('Test 1'!$AF25=0,\"\",'Test 1'!$AF25))","v":""},{"$f":"IF(BY6=\"\",\"\",TODAY())","v":""},{"$f":"IF(BY6=\"\",\"\",\"WTSYSTEMUSER\")","v":""},{"$f":"IF(BY6=\"\",\"\",TODAY())","v":""},{"$f":"IF(BY6=\"\",\"\",\"WTSYSTEMUSER\")","v":""}]
[null,"ISMOBILE",0,null,null,null,null,null,null,null,null,null,null,null,null,null,null,null,null,null,null,null,null,null,null,null,null,null,null,null,null,null,null,null,null,null,null,null,null,null,null,null,null,null,null,null,null,null,null,null,null,null,null,null,null,null,null,null,null,null,null,null,null,null,null,null,null,null,null,null,null,null,null,null,null,null,{"$f":"IF(AH24=\"\",\"\",\"AgencyEntityInstance Id 89\")","v":""},{"$f":"IF(BY84=\"\",\"\",VLOOKUP(\"CM_T27_List\",'Send Sync'!$K$56:$L$96,2,FALSE))","v":""},null,{"$f":"IF(BY84=\"\",\"\",\"AgencyEntityInstance Id 82\")","v":""},{"$f":"IF(BY84=\"\",\"\",CONCATENATE(\"<Data><cm_t27_list_inspecrow>\",CO696,\"</cm_t27_list_inspecrow><cm_t27_list_max>\",CO697,\"</cm_t27_list_max><cm_t27_list_min>\",CO698,\"</cm_t27_list_min><cm_t27_list_order>\",CO699,\"</cm_t27_list_order><cm_t27_list_pct_passing>\",CO700,\"</cm_t27_list_pct_passing><cm_t27_list_sieve>\",CO701,\"</cm_t27_list_sieve></Data>\"))","v":""},{"$f":"IF(BY84=\"\",\"\",TODAY())","v":""},{"$f":"IF(BY84=\"\",\"\",\"WTSYSTEMUSER\")","v":""},{"$f":"IF(BY84=\"\",\"\",TODAY())","v":""},{"$f":"IF(BY84=\"\",\"\",\"WTSYSTEMUSER\")","v":""},null,null,null,null,null,null,null,"",null,{"$f":"IF(BY6=\"\",\"\",\"AgencyEntityInsData Id 89\")","v":""},{"$f":"IF(BY6=\"\",\"\",\"AgencyEntityInstance Id 4\")","v":""},{"$f":"IF(BY6=\"\",\"\",\"cm_base_grad_T1T5_02_half_inch\")","v":""},{"$f":"IF(BY6=\"\",\"\",IF('Test 1'!$AF26=0,\"\",'Test 1'!$AF26))","v":""},{"$f":"IF(BY6=\"\",\"\",TODAY())","v":""},{"$f":"IF(BY6=\"\",\"\",\"WTSYSTEMUSER\")","v":""},{"$f":"IF(BY6=\"\",\"\",TODAY())","v":""},{"$f":"IF(BY6=\"\",\"\",\"WTSYSTEMUSER\")","v":""}]
[null,"SPLITSAMPLECHILD",0,null,null,null,null,null,null,null,null,null,null,null,null,null,null,null,null,null,null,null,null,null,null,null,null,null,null,null,null,null,null,null,null,null,null,null,null,null,null,null,null,null,null,null,null,null,null,null,null,null,null,null,null,null,null,null,null,null,null,null,null,null,null,null,null,null,null,null,null,null,null,null,null,null,{"$f":"IF(AH24=\"\",\"\",\"AgencyEntityInstance Id 90\")","v":""},{"$f":"IF(BY84=\"\",\"\",VLOOKUP(\"CM_T27_List\",'Send Sync'!$K$56:$L$96,2,FALSE))","v":""},null,{"$f":"IF(BY84=\"\",\"\",\"AgencyEntityInstance Id 82\")","v":""},{"$f":"IF(BY84=\"\",\"\",CONCATENATE(\"<Data><cm_t27_list_inspecrow>\",CO702,\"</cm_t27_list_inspecrow><cm_t27_list_max>\",CO703,\"</cm_t27_list_max><cm_t27_list_min>\",CO704,\"</cm_t27_list_min><cm_t27_list_order>\",CO705,\"</cm_t27_list_order><cm_t27_list_pct_passing>\",CO706,\"</cm_t27_list_pct_passing><cm_t27_list_sieve>\",CO707,\"</cm_t27_list_sieve></Data>\"))","v":""},{"$f":"IF(BY84=\"\",\"\",TODAY())","v":""},{"$f":"IF(BY84=\"\",\"\",\"WTSYSTEMUSER\")","v":""},{"$f":"IF(BY84=\"\",\"\",TODAY())","v":""},{"$f":"IF(BY84=\"\",\"\",\"WTSYSTEMUSER\")","v":""},null,null,null,null,null,null,null,"",null,{"$f":"IF(BY6=\"\",\"\",\"AgencyEntityInsData Id 90\")","v":""},{"$f":"IF(BY6=\"\",\"\",\"AgencyEntityInstance Id 4\")","v":""},{"$f":"IF(BY6=\"\",\"\",\"cm_base_grad_T1T5_03_no_4\")","v":""},{"$f":"IF(BY6=\"\",\"\",IF('Test 1'!$AF27=0,\"\",'Test 1'!$AF27))","v":""},{"$f":"IF(BY6=\"\",\"\",TODAY())","v":""},{"$f":"IF(BY6=\"\",\"\",\"WTSYSTEMUSER\")","v":""},{"$f":"IF(BY6=\"\",\"\",TODAY())","v":""},{"$f":"IF(BY6=\"\",\"\",\"WTSYSTEMUSER\")","v":""}]
[null,"BRAND_ID",null,null,null,null,null,null,null,null,null,null,null,null,null,null,null,null,null,null,null,null,null,null,null,null,null,null,null,null,null,null,null,null,null,null,null,null,null,null,null,null,null,null,null,null,null,null,null,null,null,null,null,null,null,null,null,null,null,null,null,null,null,null,null,null,null,null,null,null,null,null,null,null,null,null,{"$f":"IF(AH24=\"\",\"\",\"AgencyEntityInstance Id 91\")","v":""},{"$f":"IF(BY84=\"\",\"\",VLOOKUP(\"CM_T27_List\",'Send Sync'!$K$56:$L$96,2,FALSE))","v":""},null,{"$f":"IF(BY84=\"\",\"\",\"AgencyEntityInstance Id 82\")","v":""},{"$f":"IF(BY84=\"\",\"\",CONCATENATE(\"<Data><cm_t27_list_inspecrow>\",CO708,\"</cm_t27_list_inspecrow><cm_t27_list_max>\",CO709,\"</cm_t27_list_max><cm_t27_list_min>\",CO710,\"</cm_t27_list_min><cm_t27_list_order>\",CO711,\"</cm_t27_list_order><cm_t27_list_pct_passing>\",CO712,\"</cm_t27_list_pct_passing><cm_t27_list_sieve>\",CO713,\"</cm_t27_list_sieve></Data>\"))","v":""},{"$f":"IF(BY84=\"\",\"\",TODAY())","v":""},{"$f":"IF(BY84=\"\",\"\",\"WTSYSTEMUSER\")","v":""},{"$f":"IF(BY84=\"\",\"\",TODAY())","v":""},{"$f":"IF(BY84=\"\",\"\",\"WTSYSTEMUSER\")","v":""},null,null,null,null,null,null,null,"",null,{"$f":"IF(BY6=\"\",\"\",\"AgencyEntityInsData Id 91\")","v":""},{"$f":"IF(BY6=\"\",\"\",\"AgencyEntityInstance Id 4\")","v":""},{"$f":"IF(BY6=\"\",\"\",\"cm_base_grad_T1T5_04_no_30\")","v":""},{"$f":"IF(BY6=\"\",\"\",IF('Test 1'!$AF28=0,\"\",'Test 1'!$AF28))","v":""},{"$f":"IF(BY6=\"\",\"\",TODAY())","v":""},{"$f":"IF(BY6=\"\",\"\",\"WTSYSTEMUSER\")","v":""},{"$f":"IF(BY6=\"\",\"\",TODAY())","v":""},{"$f":"IF(BY6=\"\",\"\",\"WTSYSTEMUSER\")","v":""}]
[null,null,null,null,null,null,null,null,null,null,null,null,null,null,null,null,null,null,null,null,null,null,null,null,null,null,null,null,null,null,null,null,null,null,null,null,null,null,null,null,null,null,null,null,null,null,null,null,null,null,null,null,null,null,null,null,null,null,null,null,null,null,null,null,null,null,null,null,null,null,null,null,null,null,null,null,{"$f":"IF(AH24=\"\",\"\",\"AgencyEntityInstance Id 92\")","v":""},{"$f":"IF(BY84=\"\",\"\",VLOOKUP(\"CM_T27_List\",'Send Sync'!$K$56:$L$96,2,FALSE))","v":""},null,{"$f":"IF(BY84=\"\",\"\",\"AgencyEntityInstance Id 82\")","v":""},{"$f":"IF(BY84=\"\",\"\",CONCATENATE(\"<Data><cm_t27_list_inspecrow>\",CO714,\"</cm_t27_list_inspecrow><cm_t27_list_max>\",CO715,\"</cm_t27_list_max><cm_t27_list_min>\",CO716,\"</cm_t27_list_min><cm_t27_list_order>\",CO717,\"</cm_t27_list_order><cm_t27_list_pct_passing>\",CO718,\"</cm_t27_list_pct_passing><cm_t27_list_sieve>\",CO719,\"</cm_t27_list_sieve></Data>\"))","v":""},{"$f":"IF(BY84=\"\",\"\",TODAY())","v":""},{"$f":"IF(BY84=\"\",\"\",\"WTSYSTEMUSER\")","v":""},{"$f":"IF(BY84=\"\",\"\",TODAY())","v":""},{"$f":"IF(BY84=\"\",\"\",\"WTSYSTEMUSER\")","v":""},null,null,null,null,null,null,null,"",null,{"$f":"IF(BY6=\"\",\"\",\"AgencyEntityInsData Id 92\")","v":""},{"$f":"IF(BY6=\"\",\"\",\"AgencyEntityInstance Id 4\")","v":""},{"$f":"IF(BY6=\"\",\"\",\"cm_base_grad_T1T5_05_no_200\")","v":""},{"$f":"IF(BY6=\"\",\"\",IF('Test 1'!$AF29=0,\"\",'Test 1'!$AF29))","v":""},{"$f":"IF(BY6=\"\",\"\",TODAY())","v":""},{"$f":"IF(BY6=\"\",\"\",\"WTSYSTEMUSER\")","v":""},{"$f":"IF(BY6=\"\",\"\",TODAY())","v":""},{"$f":"IF(BY6=\"\",\"\",\"WTSYSTEMUSER\")","v":""}]
[null,null,null,null,null,null,null,null,null,null,null,null,null,null,null,null,null,null,null,null,null,null,null,null,null,null,null,null,null,null,null,null,null,null,null,null,null,null,null,null,null,null,null,null,null,null,null,null,null,null,null,null,null,null,null,null,null,null,null,null,null,null,null,null,null,null,null,null,null,null,null,null,null,null,null,null,{"$f":"IF(AH24=\"\",\"\",\"AgencyEntityInstance Id 93\")","v":""},{"$f":"IF(BY84=\"\",\"\",VLOOKUP(\"CM_T27_List\",'Send Sync'!$K$56:$L$96,2,FALSE))","v":""},null,{"$f":"IF(BY84=\"\",\"\",\"AgencyEntityInstance Id 82\")","v":""},{"$f":"IF(BY84=\"\",\"\",CONCATENATE(\"<Data><cm_t27_list_inspecrow>\",CO720,\"</cm_t27_list_inspecrow><cm_t27_list_max>\",CO721,\"</cm_t27_list_max><cm_t27_list_min>\",CO722,\"</cm_t27_list_min><cm_t27_list_order>\",CO723,\"</cm_t27_list_order><cm_t27_list_pct_passing>\",CO724,\"</cm_t27_list_pct_passing><cm_t27_list_sieve>\",CO725,\"</cm_t27_list_sieve></Data>\"))","v":""},{"$f":"IF(BY84=\"\",\"\",TODAY())","v":""},{"$f":"IF(BY84=\"\",\"\",\"WTSYSTEMUSER\")","v":""},{"$f":"IF(BY84=\"\",\"\",TODAY())","v":""},{"$f":"IF(BY84=\"\",\"\",\"WTSYSTEMUSER\")","v":""},null,null,null,null,null,null,null,"",null,{"$f":"IF(BY6=\"\",\"\",\"AgencyEntityInsData Id 93\")","v":""},{"$f":"IF(BY6=\"\",\"\",\"AgencyEntityInstance Id 4\")","v":""},{"$f":"IF(BY6=\"\",\"\",\"cm_base_grad_T1T5_08_station_1\")","v":""},{"$f":"IF(BY6=\"\",\"\",IF('Test 1'!F20=0,\"\",'Test 1'!F20))","v":""},{"$f":"IF(BY6=\"\",\"\",TODAY())","v":""},{"$f":"IF(BY6=\"\",\"\",\"WTSYSTEMUSER\")","v":""},{"$f":"IF(BY6=\"\",\"\",TODAY())","v":""},{"$f":"IF(BY6=\"\",\"\",\"WTSYSTEMUSER\")","v":""}]
[null,null,null,null,null,null,null,null,null,null,null,null,null,null,null,null,null,null,null,null,null,null,null,null,null,null,null,null,null,null,null,null,null,null,null,null,null,null,null,null,null,null,null,null,null,null,null,null,null,null,null,null,null,null,null,null,null,null,null,null,null,null,null,null,null,null,null,null,null,null,null,null,null,null,null,null,{"$f":"IF(AH24=\"\",\"\",\"AgencyEntityInstance Id 94\")","v":""},{"$f":"IF(BY84=\"\",\"\",VLOOKUP(\"CM_T27_List\",'Send Sync'!$K$56:$L$96,2,FALSE))","v":""},null,{"$f":"IF(BY84=\"\",\"\",\"AgencyEntityInstance Id 82\")","v":""},{"$f":"IF(BY84=\"\",\"\",CONCATENATE(\"<Data><cm_t27_list_inspecrow>\",CO726,\"</cm_t27_list_inspecrow><cm_t27_list_max>\",CO727,\"</cm_t27_list_max><cm_t27_list_min>\",CO728,\"</cm_t27_list_min><cm_t27_list_order>\",CO729,\"</cm_t27_list_order><cm_t27_list_pct_passing>\",CO730,\"</cm_t27_list_pct_passing><cm_t27_list_sieve>\",CO731,\"</cm_t27_list_sieve></Data>\"))","v":""},{"$f":"IF(BY84=\"\",\"\",TODAY())","v":""},{"$f":"IF(BY84=\"\",\"\",\"WTSYSTEMUSER\")","v":""},{"$f":"IF(BY84=\"\",\"\",TODAY())","v":""},{"$f":"IF(BY84=\"\",\"\",\"WTSYSTEMUSER\")","v":""},null,null,null,null,null,null,null,"",null,{"$f":"IF(BY6=\"\",\"\",\"AgencyEntityInsData Id 94\")","v":""},{"$f":"IF(BY6=\"\",\"\",\"AgencyEntityInstance Id 4\")","v":""},{"$f":"IF(BY6=\"\",\"\",\"cm_base_grad_T1T5_09_station_2\")","v":""},{"$f":"IF(BY6=\"\",\"\",IF('Test 1'!J20=0,\"\",'Test 1'!J20))","v":""},{"$f":"IF(BY6=\"\",\"\",TODAY())","v":""},{"$f":"IF(BY6=\"\",\"\",\"WTSYSTEMUSER\")","v":""},{"$f":"IF(BY6=\"\",\"\",TODAY())","v":""},{"$f":"IF(BY6=\"\",\"\",\"WTSYSTEMUSER\")","v":""}]
[null,null,null,null,null,null,null,null,null,null,null,null,null,null,null,null,null,null,null,null,null,null,null,null,null,null,null,null,null,null,null,null,null,null,null,null,null,null,null,null,null,null,null,null,null,null,null,null,null,null,null,null,null,null,null,null,null,null,null,null,null,null,null,null,null,null,null,null,null,null,null,null,null,null,null,null,{"$f":"IF(AH24=\"\",\"\",\"AgencyEntityInstance Id 95\")","v":""},{"$f":"IF(BY84=\"\",\"\",VLOOKUP(\"CM_T27_List\",'Send Sync'!$K$56:$L$96,2,FALSE))","v":""},null,{"$f":"IF(BY84=\"\",\"\",\"AgencyEntityInstance Id 82\")","v":""},{"$f":"IF(BY84=\"\",\"\",CONCATENATE(\"<Data><cm_t27_list_inspecrow>\",CO732,\"</cm_t27_list_inspecrow><cm_t27_list_max>\",CO733,\"</cm_t27_list_max><cm_t27_list_min>\",CO734,\"</cm_t27_list_min><cm_t27_list_order>\",CO735,\"</cm_t27_list_order><cm_t27_list_pct_passing>\",CO736,\"</cm_t27_list_pct_passing><cm_t27_list_sieve>\",CO737,\"</cm_t27_list_sieve></Data>\"))","v":""},{"$f":"IF(BY84=\"\",\"\",TODAY())","v":""},{"$f":"IF(BY84=\"\",\"\",\"WTSYSTEMUSER\")","v":""},{"$f":"IF(BY84=\"\",\"\",TODAY())","v":""},{"$f":"IF(BY84=\"\",\"\",\"WTSYSTEMUSER\")","v":""},null,null,null,null,null,null,null,"",null,{"$f":"IF(BY6=\"\",\"\",\"AgencyEntityInsData Id 95\")","v":""},{"$f":"IF(BY6=\"\",\"\",\"AgencyEntityInstance Id 4\")","v":""},{"$f":"IF(BY6=\"\",\"\",\"cm_base_grad_T1T5_10_centerline_location\")","v":""},{"$f":"IF(BY6=\"\",\"\",IF('Test 1'!I21=\"\",\"\",'Test 1'!I21))","v":""},{"$f":"IF(BY6=\"\",\"\",TODAY())","v":""},{"$f":"IF(BY6=\"\",\"\",\"WTSYSTEMUSER\")","v":""},{"$f":"IF(BY6=\"\",\"\",TODAY())","v":""},{"$f":"IF(BY6=\"\",\"\",\"WTSYSTEMUSER\")","v":""}]
[null,null,null,null,null,null,null,null,null,null,null,null,null,null,null,null,null,null,null,null,null,null,null,null,null,null,null,null,null,null,null,null,null,null,null,null,null,null,null,null,null,null,null,null,null,null,null,null,null,null,null,null,null,null,null,null,null,null,null,null,null,null,null,null,null,null,null,null,null,null,null,null,null,null,null,null,{"$f":"IF(AH24=\"\",\"\",\"AgencyEntityInstance Id 96\")","v":""},{"$f":"IF(BY84=\"\",\"\",VLOOKUP(\"CM_T27_List\",'Send Sync'!$K$56:$L$96,2,FALSE))","v":""},null,{"$f":"IF(BY84=\"\",\"\",\"AgencyEntityInstance Id 82\")","v":""},{"$f":"IF(BY84=\"\",\"\",CONCATENATE(\"<Data><cm_t27_list_inspecrow>\",CO738,\"</cm_t27_list_inspecrow><cm_t27_list_max>\",CO739,\"</cm_t27_list_max><cm_t27_list_min>\",CO740,\"</cm_t27_list_min><cm_t27_list_order>\",CO741,\"</cm_t27_list_order><cm_t27_list_pct_passing>\",CO742,\"</cm_t27_list_pct_passing><cm_t27_list_sieve>\",CO743,\"</cm_t27_list_sieve></Data>\"))","v":""},{"$f":"IF(BY84=\"\",\"\",TODAY())","v":""},{"$f":"IF(BY84=\"\",\"\",\"WTSYSTEMUSER\")","v":""},{"$f":"IF(BY84=\"\",\"\",TODAY())","v":""},{"$f":"IF(BY84=\"\",\"\",\"WTSYSTEMUSER\")","v":""},null,null,null,null,null,null,null,"",null,{"$f":"IF(BY6=\"\",\"\",\"AgencyEntityInsData Id 96\")","v":""},{"$f":"IF(BY6=\"\",\"\",\"AgencyEntityInstance Id 4\")","v":""},{"$f":"IF(BY6=\"\",\"\",\"cm_base_grad_T1T5_11_tested_by\")","v":""},{"$f":"IF(BY6=\"\",\"\",IF('Test 1'!H13=\"\",\"\",'Test 1'!H13))","v":""},{"$f":"IF(BY6=\"\",\"\",TODAY())","v":""},{"$f":"IF(BY6=\"\",\"\",\"WTSYSTEMUSER\")","v":""},{"$f":"IF(BY6=\"\",\"\",TODAY())","v":""},{"$f":"IF(BY6=\"\",\"\",\"WTSYSTEMUSER\")","v":""}]
[null,null,null,null,null,null,null,null,null,null,null,null,null,null,null,null,null,null,null,null,null,null,null,null,null,null,null,null,null,null,null,null,null,null,null,null,null,null,null,null,null,null,null,null,null,null,null,null,null,null,null,null,null,null,null,null,null,null,null,null,null,null,null,null,null,null,null,null,null,null,null,null,null,null,null,null,{"$f":"IF(AH24=\"\",\"\",\"AgencyEntityInstance Id 97\")","v":""},{"$f":"IF(BY84=\"\",\"\",VLOOKUP(\"CM_T27_List\",'Send Sync'!$K$56:$L$96,2,FALSE))","v":""},null,{"$f":"IF(BY84=\"\",\"\",\"AgencyEntityInstance Id 82\")","v":""},{"$f":"IF(BY84=\"\",\"\",CONCATENATE(\"<Data><cm_t27_list_inspecrow>\",CO744,\"</cm_t27_list_inspecrow><cm_t27_list_max>\",CO745,\"</cm_t27_list_max><cm_t27_list_min>\",CO746,\"</cm_t27_list_min><cm_t27_list_order>\",CO747,\"</cm_t27_list_order><cm_t27_list_pct_passing>\",CO748,\"</cm_t27_list_pct_passing><cm_t27_list_sieve>\",CO749,\"</cm_t27_list_sieve></Data>\"))","v":""},{"$f":"IF(BY84=\"\",\"\",TODAY())","v":""},{"$f":"IF(BY84=\"\",\"\",\"WTSYSTEMUSER\")","v":""},{"$f":"IF(BY84=\"\",\"\",TODAY())","v":""},{"$f":"IF(BY84=\"\",\"\",\"WTSYSTEMUSER\")","v":""},null,null,null,null,null,null,null,"",null,{"$f":"IF(BY6=\"\",\"\",\"AgencyEntityInsData Id 97\")","v":""},{"$f":"IF(BY6=\"\",\"\",\"AgencyEntityInstance Id 4\")","v":""},{"$f":"IF(BY6=\"\",\"\",\"cm_base_grad_T1T5_half_inch_label\")","v":""},{"$f":"IF(BY6=\"\",\"\",\"1/2\"\" (12.5 mm)\")","v":""},{"$f":"IF(BY6=\"\",\"\",TODAY())","v":""},{"$f":"IF(BY6=\"\",\"\",\"WTSYSTEMUSER\")","v":""},{"$f":"IF(BY6=\"\",\"\",TODAY())","v":""},{"$f":"IF(BY6=\"\",\"\",\"WTSYSTEMUSER\")","v":""}]
[null,null,null,null,null,null,null,null,null,null,null,null,null,null,null,null,null,null,null,null,null,null,null,null,null,null,null,null,null,null,null,null,null,null,null,null,null,null,null,null,null,null,null,null,null,null,null,null,null,null,null,null,null,null,null,null,null,null,null,null,null,null,null,null,null,null,null,null,null,null,null,null,null,null,null,null,{"$f":"IF(AH25=\"\",\"\",\"AgencyEntityInstance Id 98\")","v":""},{"$f":"IF(BY100=\"\",\"\",VLOOKUP(\"CM_T85Abs\",'Send Sync'!$K$56:$L$96,2,FALSE))","v":""},{"$f":"IF(BY100=\"\",\"\",\"SampleRecordTest Id 23\")","v":""},"",{"$f":"IF(BY100=\"\",\"\",CONCATENATE(\"<Data><CM_T85Abs_Absorption>\",CO750,\"</CM_T85Abs_Absorption><CM_T85Abs_DryWt>\",CO751,\"</CM_T85Abs_DryWt><CM_T85Abs_Label_AASHTO_T85>\",CO752,\"</CM_T85Abs_Label_AASHTO_T85><CM_T85Abs_PlaceHolder1>\",CO753,\"</CM_T85Abs_PlaceHolder1><CM_T85Abs_PlaceHolder2>\",CO754,\"</CM_T85Abs_PlaceHolder2><CM_T85Abs_PlaceHolder3>\",CO755,\"</CM_T85Abs_PlaceHolder3><CM_T85Abs_PlaceHolder4>\",CO756,\"</CM_T85Abs_PlaceHolder4><CM_T85Abs_PlaceHolder5>\",CO757,\"</CM_T85Abs_PlaceHolder5><CM_T85Abs_PlaceHolder6>\",CO758,\"</CM_T85Abs_PlaceHolder6><CM_T85Abs_SurfaceDryWt>\",CO759,\"</CM_T85Abs_SurfaceDryWt><CM_T85Abs_Title_Label>\",CO760,\"</CM_T85Abs_Title_Label></Data>\"))","v":""},{"$f":"IF(BY100=\"\",\"\",TODAY())","v":""},{"$f":"IF(BY100=\"\",\"\",\"WTSYSTEMUSER\")","v":""},{"$f":"IF(BY100=\"\",\"\",TODAY())","v":""},{"$f":"IF(BY100=\"\",\"\",\"WTSYSTEMUSER\")","v":""},null,null,null,null,null,null,null,"",null,{"$f":"IF(BY6=\"\",\"\",\"AgencyEntityInsData Id 98\")","v":""},{"$f":"IF(BY6=\"\",\"\",\"AgencyEntityInstance Id 4\")","v":""},{"$f":"IF(BY6=\"\",\"\",\"cm_base_grad_T1T5_half_inch_max\")","v":""},{"$f":"IF(BY6=\"\",\"\",\"90\")","v":""},{"$f":"IF(BY6=\"\",\"\",TODAY())","v":""},{"$f":"IF(BY6=\"\",\"\",\"WTSYSTEMUSER\")","v":""},{"$f":"IF(BY6=\"\",\"\",TODAY())","v":""},{"$f":"IF(BY6=\"\",\"\",\"WTSYSTEMUSER\")","v":""}]
[null,null,null,null,null,null,null,null,null,null,null,null,null,null,null,null,null,null,null,null,null,null,null,null,null,null,null,null,null,null,null,null,null,null,null,null,null,null,null,null,null,null,null,null,null,null,null,null,null,null,null,null,null,null,null,null,null,null,null,null,null,null,null,null,null,null,null,null,null,null,null,null,null,null,null,null,{"$f":"IF(AH26=\"\",\"\",\"AgencyEntityInstance Id 99\")","v":""},{"$f":"IF(BY101=\"\",\"\",VLOOKUP(\"CM_T85Abs\",'Send Sync'!$K$56:$L$96,2,FALSE))","v":""},{"$f":"IF(BY101=\"\",\"\",\"SampleRecordTest Id 24\")","v":""},"",{"$f":"IF(BY101=\"\",\"\",CONCATENATE(\"<Data><CM_T85Abs_Absorption>\",CO761,\"</CM_T85Abs_Absorption><CM_T85Abs_DryWt>\",CO762,\"</CM_T85Abs_DryWt><CM_T85Abs_Label_AASHTO_T85>\",CO763,\"</CM_T85Abs_Label_AASHTO_T85><CM_T85Abs_PlaceHolder1>\",CO764,\"</CM_T85Abs_PlaceHolder1><CM_T85Abs_PlaceHolder2>\",CO765,\"</CM_T85Abs_PlaceHolder2><CM_T85Abs_PlaceHolder3>\",CO766,\"</CM_T85Abs_PlaceHolder3><CM_T85Abs_PlaceHolder4>\",CO767,\"</CM_T85Abs_PlaceHolder4><CM_T85Abs_PlaceHolder5>\",CO768,\"</CM_T85Abs_PlaceHolder5><CM_T85Abs_PlaceHolder6>\",CO769,\"</CM_T85Abs_PlaceHolder6><CM_T85Abs_SurfaceDryWt>\",CO770,\"</CM_T85Abs_SurfaceDryWt><CM_T85Abs_Title_Label>\",CO771,\"</CM_T85Abs_Title_Label></Data>\"))","v":""},"","","","",null,null,null,null,null,null,null,"",null,{"$f":"IF(BY6=\"\",\"\",\"AgencyEntityInsData Id 99\")","v":""},{"$f":"IF(BY6=\"\",\"\",\"AgencyEntityInstance Id 4\")","v":""},{"$f":"IF(BY6=\"\",\"\",\"cm_base_grad_T1T5_half_inch_min\")","v":""},{"$f":"IF(BY6=\"\",\"\",\"60\")","v":""},{"$f":"IF(BY6=\"\",\"\",TODAY())","v":""},{"$f":"IF(BY6=\"\",\"\",\"WTSYSTEMUSER\")","v":""},{"$f":"IF(BY6=\"\",\"\",TODAY())","v":""},{"$f":"IF(BY6=\"\",\"\",\"WTSYSTEMUSER\")","v":""}]
[null,null,null,null,null,null,null,null,null,null,null,null,null,null,null,null,null,null,null,null,null,null,null,null,null,null,null,null,null,null,null,null,null,null,null,null,null,null,null,null,null,null,null,null,null,null,null,null,null,null,null,null,null,null,null,null,null,null,null,null,null,null,null,null,null,null,null,null,null,null,null,null,null,null,null,null,{"$f":"IF(AH27=\"\",\"\",\"AgencyEntityInstance Id 100\")","v":""},{"$f":"IF(BY102=\"\",\"\",VLOOKUP(\"CM_T85Abs\",'Send Sync'!$K$56:$L$96,2,FALSE))","v":""},{"$f":"IF(BY102=\"\",\"\",\"SampleRecordTest Id 25\")","v":""},"",{"$f":"IF(BY102=\"\",\"\",CONCATENATE(\"<Data><CM_T85Abs_Absorption>\",CO772,\"</CM_T85Abs_Absorption><CM_T85Abs_DryWt>\",CO773,\"</CM_T85Abs_DryWt><CM_T85Abs_Label_AASHTO_T85>\",CO774,\"</CM_T85Abs_Label_AASHTO_T85><CM_T85Abs_PlaceHolder1>\",CO775,\"</CM_T85Abs_PlaceHolder1><CM_T85Abs_PlaceHolder2>\",CO776,\"</CM_T85Abs_PlaceHolder2><CM_T85Abs_PlaceHolder3>\",CO777,\"</CM_T85Abs_PlaceHolder3><CM_T85Abs_PlaceHolder4>\",CO778,\"</CM_T85Abs_PlaceHolder4><CM_T85Abs_PlaceHolder5>\",CO779,\"</CM_T85Abs_PlaceHolder5><CM_T85Abs_PlaceHolder6>\",CO780,\"</CM_T85Abs_PlaceHolder6><CM_T85Abs_SurfaceDryWt>\",CO781,\"</CM_T85Abs_SurfaceDryWt><CM_T85Abs_Title_Label>\",CO782,\"</CM_T85Abs_Title_Label></Data>\"))","v":""},"","","","",null,null,null,null,null,null,null,"",null,{"$f":"IF(BY6=\"\",\"\",\"AgencyEntityInsData Id 100\")","v":""},{"$f":"IF(BY6=\"\",\"\",\"AgencyEntityInstance Id 4\")","v":""},{"$f":"IF(BY6=\"\",\"\",\"cm_base_grad_T1T5_inch_label\")","v":""},{"$f":"IF(BY6=\"\",\"\",\"1\"\" (25.0 mm)\")","v":""},{"$f":"IF(BY6=\"\",\"\",TODAY())","v":""},{"$f":"IF(BY6=\"\",\"\",\"WTSYSTEMUSER\")","v":""},{"$f":"IF(BY6=\"\",\"\",TODAY())","v":""},{"$f":"IF(BY6=\"\",\"\",\"WTSYSTEMUSER\")","v":""}]
[null,null,null,null,null,null,null,null,null,null,null,null,null,null,null,null,null,null,null,null,null,null,null,null,null,null,null,null,null,null,null,null,null,null,null,null,null,null,null,null,null,null,null,null,null,null,null,null,null,null,null,null,null,null,null,null,null,null,null,null,null,null,null,null,null,null,null,null,null,null,null,null,null,null,null,null,{"$f":"IF(AH28=\"\",\"\",\"AgencyEntityInstance Id 101\")","v":""},{"$f":"IF(BY103=\"\",\"\",VLOOKUP(\"CM_T85Abs\",'Send Sync'!$K$56:$L$96,2,FALSE))","v":""},{"$f":"IF(BY103=\"\",\"\",\"SampleRecordTest Id 26\")","v":""},"",{"$f":"IF(BY103=\"\",\"\",CONCATENATE(\"<Data><CM_T85Abs_Absorption>\",CO783,\"</CM_T85Abs_Absorption><CM_T85Abs_DryWt>\",CO784,\"</CM_T85Abs_DryWt><CM_T85Abs_Label_AASHTO_T85>\",CO785,\"</CM_T85Abs_Label_AASHTO_T85><CM_T85Abs_PlaceHolder1>\",CO786,\"</CM_T85Abs_PlaceHolder1><CM_T85Abs_PlaceHolder2>\",CO787,\"</CM_T85Abs_PlaceHolder2><CM_T85Abs_PlaceHolder3>\",CO788,\"</CM_T85Abs_PlaceHolder3><CM_T85Abs_PlaceHolder4>\",CO789,\"</CM_T85Abs_PlaceHolder4><CM_T85Abs_PlaceHolder5>\",CO790,\"</CM_T85Abs_PlaceHolder5><CM_T85Abs_PlaceHolder6>\",CO791,\"</CM_T85Abs_PlaceHolder6><CM_T85Abs_SurfaceDryWt>\",CO792,\"</CM_T85Abs_SurfaceDryWt><CM_T85Abs_Title_Label>\",CO793,\"</CM_T85Abs_Title_Label></Data>\"))","v":""},"","","","",null,null,null,null,null,null,null,"",null,{"$f":"IF(BY6=\"\",\"\",\"AgencyEntityInsData Id 101\")","v":""},{"$f":"IF(BY6=\"\",\"\",\"AgencyEntityInstance Id 4\")","v":""},{"$f":"IF(BY6=\"\",\"\",\"cm_base_grad_T1T5_inch_max\")","v":""},{"$f":"IF(BY6=\"\",\"\",\"100\")","v":""},{"$f":"IF(BY6=\"\",\"\",TODAY())","v":""},{"$f":"IF(BY6=\"\",\"\",\"WTSYSTEMUSER\")","v":""},{"$f":"IF(BY6=\"\",\"\",TODAY())","v":""},{"$f":"IF(BY6=\"\",\"\",\"WTSYSTEMUSER\")","v":""}]
[null,null,null,null,null,null,null,null,null,null,null,null,null,null,null,null,null,null,null,null,null,null,null,null,null,null,null,null,null,null,null,null,null,null,null,null,null,null,null,null,null,null,null,null,null,null,null,null,null,null,null,null,null,null,null,null,null,null,null,null,null,null,null,null,null,null,null,null,null,null,null,null,null,null,null,null,{"$f":"IF(AH29=\"\",\"\",\"AgencyEntityInstance Id 102\")","v":""},{"$f":"IF(BY104=\"\",\"\",VLOOKUP(\"CM_T85Abs\",'Send Sync'!$K$56:$L$96,2,FALSE))","v":""},{"$f":"IF(BY104=\"\",\"\",\"SampleRecordTest Id 27\")","v":""},"",{"$f":"IF(BY104=\"\",\"\",CONCATENATE(\"<Data><CM_T85Abs_Absorption>\",CO794,\"</CM_T85Abs_Absorption><CM_T85Abs_DryWt>\",CO795,\"</CM_T85Abs_DryWt><CM_T85Abs_Label_AASHTO_T85>\",CO796,\"</CM_T85Abs_Label_AASHTO_T85><CM_T85Abs_PlaceHolder1>\",CO797,\"</CM_T85Abs_PlaceHolder1><CM_T85Abs_PlaceHolder2>\",CO798,\"</CM_T85Abs_PlaceHolder2><CM_T85Abs_PlaceHolder3>\",CO799,\"</CM_T85Abs_PlaceHolder3><CM_T85Abs_PlaceHolder4>\",CO800,\"</CM_T85Abs_PlaceHolder4><CM_T85Abs_PlaceHolder5>\",CO801,\"</CM_T85Abs_PlaceHolder5><CM_T85Abs_PlaceHolder6>\",CO802,\"</CM_T85Abs_PlaceHolder6><CM_T85Abs_SurfaceDryWt>\",CO803,\"</CM_T85Abs_SurfaceDryWt><CM_T85Abs_Title_Label>\",CO804,\"</CM_T85Abs_Title_Label></Data>\"))","v":""},"","","","",null,null,null,null,null,null,null,"",null,{"$f":"IF(BY6=\"\",\"\",\"AgencyEntityInsData Id 102\")","v":""},{"$f":"IF(BY6=\"\",\"\",\"AgencyEntityInstance Id 4\")","v":""},{"$f":"IF(BY6=\"\",\"\",\"cm_base_grad_T1T5_inch_min\")","v":""},{"$f":"IF(BY6=\"\",\"\",\"100\")","v":""},{"$f":"IF(BY6=\"\",\"\",TODAY())","v":""},{"$f":"IF(BY6=\"\",\"\",\"WTSYSTEMUSER\")","v":""},{"$f":"IF(BY6=\"\",\"\",TODAY())","v":""},{"$f":"IF(BY6=\"\",\"\",\"WTSYSTEMUSER\")","v":""}]
[null,null,null,null,null,null,null,null,null,null,null,null,null,null,null,null,null,null,null,null,null,null,null,null,null,null,null,null,null,null,null,null,null,null,null,null,null,null,null,null,null,null,null,null,null,null,null,null,null,null,null,null,null,null,null,null,null,null,null,null,null,null,null,null,null,null,null,null,null,null,null,null,null,null,null,null,{"$f":"IF(AH30=\"\",\"\",\"AgencyEntityInstance Id 103\")","v":""},{"$f":"IF(BY105=\"\",\"\",VLOOKUP(\"CM_Del\",'Send Sync'!$K$56:$L$96,2,FALSE))","v":""},{"$f":"IF(BY105=\"\",\"\",\"SampleRecordTest Id 28\")","v":""},"",{"$f":"IF(BY105=\"\",\"\",CONCATENATE(\"<Data><del_ca_200>\",CO805,\"</del_ca_200><del_ca_chert>\",CO806,\"</del_ca_chert><del_ca_clay>\",CO807,\"</del_ca_clay><del_ca_mud>\",CO808,\"</del_ca_mud><del_ca_mud_sh>\",CO809,\"</del_ca_mud_sh><del_ca_ofm>\",CO810,\"</del_ca_ofm><del_ca_rock>\",CO811,\"</del_ca_rock><del_ca_rock_sh>\",CO812,\"</del_ca_rock_sh><del_ca_sh>\",CO813,\"</del_ca_sh><del_fa_clay_sh>\",CO814,\"</del_fa_clay_sh><del_fa_coal>\",CO815,\"</del_fa_coal><del_fa_lw>\",CO816,\"</del_fa_lw><del_fa_other>\",CO817,\"</del_fa_other><del_man_sand>\",CO818,\"</del_man_sand><del_material>\",CO819,\"</del_material><del_nat_sand>\",CO820,\"</del_nat_sand><del_tot_del>\",CO821,\"</del_tot_del></Data>\"))","v":""},"","","","",null,null,null,null,null,null,null,"",null,{"$f":"IF(BY6=\"\",\"\",\"AgencyEntityInsData Id 103\")","v":""},{"$f":"IF(BY6=\"\",\"\",\"AgencyEntityInstance Id 4\")","v":""},{"$f":"IF(BY6=\"\",\"\",\"cm_base_grad_T1T5_label_01_inch\")","v":""},{"$f":"IF(BY6=\"\",\"\",\"1\"\" (25.0 mm)\")","v":""},{"$f":"IF(BY6=\"\",\"\",TODAY())","v":""},{"$f":"IF(BY6=\"\",\"\",\"WTSYSTEMUSER\")","v":""},{"$f":"IF(BY6=\"\",\"\",TODAY())","v":""},{"$f":"IF(BY6=\"\",\"\",\"WTSYSTEMUSER\")","v":""}]
[null,null,null,null,null,null,null,null,null,null,null,null,null,null,null,null,null,null,null,null,null,null,null,null,null,null,null,null,null,null,null,null,null,null,null,null,null,null,null,null,null,null,null,null,null,null,null,null,null,null,null,null,null,null,null,null,null,null,null,null,null,null,null,null,null,null,null,null,null,null,null,null,null,null,null,null,{"$f":"IF(AH31=\"\",\"\",\"AgencyEntityInstance Id 104\")","v":""},{"$f":"IF(BY106=\"\",\"\",VLOOKUP(\"CM_Del\",'Send Sync'!$K$56:$L$96,2,FALSE))","v":""},{"$f":"IF(BY106=\"\",\"\",\"SampleRecordTest Id 29\")","v":""},"",{"$f":"IF(BY106=\"\",\"\",CONCATENATE(\"<Data><del_ca_200>\",CO822,\"</del_ca_200><del_ca_chert>\",CO823,\"</del_ca_chert><del_ca_clay>\",CO824,\"</del_ca_clay><del_ca_mud>\",CO825,\"</del_ca_mud><del_ca_mud_sh>\",CO826,\"</del_ca_mud_sh><del_ca_ofm>\",CO827,\"</del_ca_ofm><del_ca_rock>\",CO828,\"</del_ca_rock><del_ca_rock_sh>\",CO829,\"</del_ca_rock_sh><del_ca_sh>\",CO830,\"</del_ca_sh><del_fa_clay_sh>\",CO831,\"</del_fa_clay_sh><del_fa_coal>\",CO832,\"</del_fa_coal><del_fa_lw>\",CO833,\"</del_fa_lw><del_fa_other>\",CO834,\"</del_fa_other><del_man_sand>\",CO835,\"</del_man_sand><del_material>\",CO836,\"</del_material><del_nat_sand>\",CO837,\"</del_nat_sand><del_tot_del>\",CO838,\"</del_tot_del></Data>\"))","v":""},"","","","",null,null,null,null,null,null,null,"",null,{"$f":"IF(BY6=\"\",\"\",\"AgencyEntityInsData Id 104\")","v":""},{"$f":"IF(BY6=\"\",\"\",\"AgencyEntityInstance Id 4\")","v":""},{"$f":"IF(BY6=\"\",\"\",\"cm_base_grad_T1T5_label_02_half_inch\")","v":""},{"$f":"IF(BY6=\"\",\"\",\"1/2\"\" (12.5 mm)\")","v":""},{"$f":"IF(BY6=\"\",\"\",TODAY())","v":""},{"$f":"IF(BY6=\"\",\"\",\"WTSYSTEMUSER\")","v":""},{"$f":"IF(BY6=\"\",\"\",TODAY())","v":""},{"$f":"IF(BY6=\"\",\"\",\"WTSYSTEMUSER\")","v":""}]
[null,null,null,null,null,null,null,null,null,null,null,null,null,null,null,null,null,null,null,null,null,null,null,null,null,null,null,null,null,null,null,null,null,null,null,null,null,null,null,null,null,null,null,null,null,null,null,null,null,null,null,null,null,null,null,null,null,null,null,null,null,null,null,null,null,null,null,null,null,null,null,null,null,null,null,null,{"$f":"IF(AH32=\"\",\"\",\"AgencyEntityInstance Id 105\")","v":""},{"$f":"IF(BY107=\"\",\"\",VLOOKUP(\"CM_Del\",'Send Sync'!$K$56:$L$96,2,FALSE))","v":""},{"$f":"IF(BY107=\"\",\"\",\"SampleRecordTest Id 30\")","v":""},"",{"$f":"IF(BY107=\"\",\"\",CONCATENATE(\"<Data><del_ca_200>\",CO839,\"</del_ca_200><del_ca_chert>\",CO840,\"</del_ca_chert><del_ca_clay>\",CO841,\"</del_ca_clay><del_ca_mud>\",CO842,\"</del_ca_mud><del_ca_mud_sh>\",CO843,\"</del_ca_mud_sh><del_ca_ofm>\",CO844,\"</del_ca_ofm><del_ca_rock>\",CO845,\"</del_ca_rock><del_ca_rock_sh>\",CO846,\"</del_ca_rock_sh><del_ca_sh>\",CO847,\"</del_ca_sh><del_fa_clay_sh>\",CO848,\"</del_fa_clay_sh><del_fa_coal>\",CO849,\"</del_fa_coal><del_fa_lw>\",CO850,\"</del_fa_lw><del_fa_other>\",CO851,\"</del_fa_other><del_man_sand>\",CO852,\"</del_man_sand><del_material>\",CO853,\"</del_material><del_nat_sand>\",CO854,\"</del_nat_sand><del_tot_del>\",CO855,\"</del_tot_del></Data>\"))","v":""},"","","","",null,null,null,null,null,null,null,"",null,{"$f":"IF(BY6=\"\",\"\",\"AgencyEntityInsData Id 105\")","v":""},{"$f":"IF(BY6=\"\",\"\",\"AgencyEntityInstance Id 4\")","v":""},{"$f":"IF(BY6=\"\",\"\",\"cm_base_grad_T1T5_label_03_no_4\")","v":""},{"$f":"IF(BY6=\"\",\"\",\"No. 4 (4.75 mm)\")","v":""},{"$f":"IF(BY6=\"\",\"\",TODAY())","v":""},{"$f":"IF(BY6=\"\",\"\",\"WTSYSTEMUSER\")","v":""},{"$f":"IF(BY6=\"\",\"\",TODAY())","v":""},{"$f":"IF(BY6=\"\",\"\",\"WTSYSTEMUSER\")","v":""}]
[null,null,null,null,null,null,null,null,null,null,null,null,null,null,null,null,null,null,null,null,null,null,null,null,null,null,null,null,null,null,null,null,null,null,null,null,null,null,null,null,null,null,null,null,null,null,null,null,null,null,null,null,null,null,null,null,null,null,null,null,null,null,null,null,null,null,null,null,null,null,null,null,null,null,null,null,{"$f":"IF(AH33=\"\",\"\",\"AgencyEntityInstance Id 106\")","v":""},{"$f":"IF(BY108=\"\",\"\",VLOOKUP(\"CM_Del\",'Send Sync'!$K$56:$L$96,2,FALSE))","v":""},{"$f":"IF(BY108=\"\",\"\",\"SampleRecordTest Id 31\")","v":""},"",{"$f":"IF(BY108=\"\",\"\",CONCATENATE(\"<Data><del_ca_200>\",CO856,\"</del_ca_200><del_ca_chert>\",CO857,\"</del_ca_chert><del_ca_clay>\",CO858,\"</del_ca_clay><del_ca_mud>\",CO859,\"</del_ca_mud><del_ca_mud_sh>\",CO860,\"</del_ca_mud_sh><del_ca_ofm>\",CO861,\"</del_ca_ofm><del_ca_rock>\",CO862,\"</del_ca_rock><del_ca_rock_sh>\",CO863,\"</del_ca_rock_sh><del_ca_sh>\",CO864,\"</del_ca_sh><del_fa_clay_sh>\",CO865,\"</del_fa_clay_sh><del_fa_coal>\",CO866,\"</del_fa_coal><del_fa_lw>\",CO867,\"</del_fa_lw><del_fa_other>\",CO868,\"</del_fa_other><del_man_sand>\",CO869,\"</del_man_sand><del_material>\",CO870,\"</del_material><del_nat_sand>\",CO871,\"</del_nat_sand><del_tot_del>\",CO872,\"</del_tot_del></Data>\"))","v":""},"","","","",null,null,null,null,null,null,null,"",null,{"$f":"IF(BY6=\"\",\"\",\"AgencyEntityInsData Id 106\")","v":""},{"$f":"IF(BY6=\"\",\"\",\"AgencyEntityInstance Id 4\")","v":""},{"$f":"IF(BY6=\"\",\"\",\"cm_base_grad_T1T5_label_04_no_30\")","v":""},{"$f":"IF(BY6=\"\",\"\",\"No. 30 (600 microns)\")","v":""},{"$f":"IF(BY6=\"\",\"\",TODAY())","v":""},{"$f":"IF(BY6=\"\",\"\",\"WTSYSTEMUSER\")","v":""},{"$f":"IF(BY6=\"\",\"\",TODAY())","v":""},{"$f":"IF(BY6=\"\",\"\",\"WTSYSTEMUSER\")","v":""}]
[null,null,null,null,null,null,null,null,null,null,null,null,null,null,null,null,null,null,null,null,null,null,null,null,null,null,null,null,null,null,null,null,null,null,null,null,null,null,null,null,null,null,null,null,null,null,null,null,null,null,null,null,null,null,null,null,null,null,null,null,null,null,null,null,null,null,null,null,null,null,null,null,null,null,null,null,{"$f":"IF(AH34=\"\",\"\",\"AgencyEntityInstance Id 107\")","v":""},{"$f":"IF(BY109=\"\",\"\",VLOOKUP(\"CM_Del\",'Send Sync'!$K$56:$L$96,2,FALSE))","v":""},{"$f":"IF(BY109=\"\",\"\",\"SampleRecordTest Id 32\")","v":""},"",{"$f":"IF(BY109=\"\",\"\",CONCATENATE(\"<Data><del_ca_200>\",CO873,\"</del_ca_200><del_ca_chert>\",CO874,\"</del_ca_chert><del_ca_clay>\",CO875,\"</del_ca_clay><del_ca_mud>\",CO876,\"</del_ca_mud><del_ca_mud_sh>\",CO877,\"</del_ca_mud_sh><del_ca_ofm>\",CO878,\"</del_ca_ofm><del_ca_rock>\",CO879,\"</del_ca_rock><del_ca_rock_sh>\",CO880,\"</del_ca_rock_sh><del_ca_sh>\",CO881,\"</del_ca_sh><del_fa_clay_sh>\",CO882,\"</del_fa_clay_sh><del_fa_coal>\",CO883,\"</del_fa_coal><del_fa_lw>\",CO884,\"</del_fa_lw><del_fa_other>\",CO885,\"</del_fa_other><del_man_sand>\",CO886,\"</del_man_sand><del_material>\",CO887,\"</del_material><del_nat_sand>\",CO888,\"</del_nat_sand><del_tot_del>\",CO889,\"</del_tot_del></Data>\"))","v":""},"","","","",null,null,null,null,null,null,null,"",null,{"$f":"IF(BY6=\"\",\"\",\"AgencyEntityInsData Id 107\")","v":""},{"$f":"IF(BY6=\"\",\"\",\"AgencyEntityInstance Id 4\")","v":""},{"$f":"IF(BY6=\"\",\"\",\"cm_base_grad_T1T5_label_05_no_200\")","v":""},{"$f":"IF(BY6=\"\",\"\",\"No. 200 (75 microns)\")","v":""},{"$f":"IF(BY6=\"\",\"\",TODAY())","v":""},{"$f":"IF(BY6=\"\",\"\",\"WTSYSTEMUSER\")","v":""},{"$f":"IF(BY6=\"\",\"\",TODAY())","v":""},{"$f":"IF(BY6=\"\",\"\",\"WTSYSTEMUSER\")","v":""}]
[null,null,null,null,null,null,null,null,null,null,null,null,null,null,null,null,null,null,null,null,null,null,null,null,null,null,null,null,null,null,null,null,null,null,null,null,null,null,null,null,null,null,null,null,null,null,null,null,null,null,null,null,null,null,null,null,null,null,null,null,null,null,null,null,null,null,null,null,null,null,null,null,null,null,null,null,{"$f":"IF(AH35=\"\",\"\",\"AgencyEntityInstance Id 108\")","v":""},{"$f":"IF(BY110=\"\",\"\",VLOOKUP(\"CM_T27_Detail\",'Send Sync'!$K$56:$L$96,2,FALSE))","v":""},{"$f":"IF(BY110=\"\",\"\",\"SampleRecordTest Id 33\")","v":""},"",{"$f":"IF(BY110=\"\",\"\",CONCATENATE(\"<Data><cm_t27_detail_inspec>\",CO890,\"</cm_t27_detail_inspec></Data>\"))","v":""},"","","","",null,null,null,null,null,null,null,"",null,{"$f":"IF(BY6=\"\",\"\",\"AgencyEntityInsData Id 108\")","v":""},{"$f":"IF(BY6=\"\",\"\",\"AgencyEntityInstance Id 4\")","v":""},{"$f":"IF(BY6=\"\",\"\",\"cm_base_grad_T1T5_label_06\")","v":""},{"$f":"IF(BY6=\"\",\"\",\"Station\")","v":""},{"$f":"IF(BY6=\"\",\"\",TODAY())","v":""},{"$f":"IF(BY6=\"\",\"\",\"WTSYSTEMUSER\")","v":""},{"$f":"IF(BY6=\"\",\"\",TODAY())","v":""},{"$f":"IF(BY6=\"\",\"\",\"WTSYSTEMUSER\")","v":""}]
[null,null,null,null,null,null,null,null,null,null,null,null,null,null,null,null,null,null,null,null,null,null,null,null,null,null,null,null,null,null,null,null,null,null,null,null,null,null,null,null,null,null,null,null,null,null,null,null,null,null,null,null,null,null,null,null,null,null,null,null,null,null,null,null,null,null,null,null,null,null,null,null,null,null,null,null,{"$f":"IF(AH35=\"\",\"\",\"AgencyEntityInstance Id 109\")","v":""},{"$f":"IF(BY110=\"\",\"\",VLOOKUP(\"CM_T27_List\",'Send Sync'!$K$56:$L$96,2,FALSE))","v":""},null,{"$f":"IF(BY110=\"\",\"\",\"AgencyEntityInstance Id 108\")","v":""},{"$f":"IF(BY110=\"\",\"\",CONCATENATE(\"<Data><cm_t27_list_inspecrow>\",CO891,\"</cm_t27_list_inspecrow><cm_t27_list_max>\",CO892,\"</cm_t27_list_max><cm_t27_list_min>\",CO893,\"</cm_t27_list_min><cm_t27_list_order>\",CO894,\"</cm_t27_list_order><cm_t27_list_pct_passing>\",CO895,\"</cm_t27_list_pct_passing><cm_t27_list_sieve>\",CO896,\"</cm_t27_list_sieve></Data>\"))","v":""},{"$f":"IF(BY110=\"\",\"\",TODAY())","v":""},{"$f":"IF(BY110=\"\",\"\",\"WTSYSTEMUSER\")","v":""},{"$f":"IF(BY110=\"\",\"\",TODAY())","v":""},{"$f":"IF(BY110=\"\",\"\",\"WTSYSTEMUSER\")","v":""},null,null,null,null,null,null,null,"",null,{"$f":"IF(BY6=\"\",\"\",\"AgencyEntityInsData Id 109\")","v":""},{"$f":"IF(BY6=\"\",\"\",\"AgencyEntityInstance Id 4\")","v":""},{"$f":"IF(BY6=\"\",\"\",\"cm_base_grad_T1T5_label_07\")","v":""},{"$f":"IF(BY6=\"\",\"\",\"+\")","v":""},{"$f":"IF(BY6=\"\",\"\",TODAY())","v":""},{"$f":"IF(BY6=\"\",\"\",\"WTSYSTEMUSER\")","v":""},{"$f":"IF(BY6=\"\",\"\",TODAY())","v":""},{"$f":"IF(BY6=\"\",\"\",\"WTSYSTEMUSER\")","v":""}]
[null,null,null,null,null,null,null,null,null,null,null,null,null,null,null,null,null,null,null,null,null,null,null,null,null,null,null,null,null,null,null,null,null,null,null,null,null,null,null,null,null,null,null,null,null,null,null,null,null,null,null,null,null,null,null,null,null,null,null,null,null,null,null,null,null,null,null,null,null,null,null,null,null,null,null,null,{"$f":"IF(AH35=\"\",\"\",\"AgencyEntityInstance Id 110\")","v":""},{"$f":"IF(BY110=\"\",\"\",VLOOKUP(\"CM_T27_List\",'Send Sync'!$K$56:$L$96,2,FALSE))","v":""},null,{"$f":"IF(BY110=\"\",\"\",\"AgencyEntityInstance Id 108\")","v":""},{"$f":"IF(BY110=\"\",\"\",CONCATENATE(\"<Data><cm_t27_list_inspecrow>\",CO897,\"</cm_t27_list_inspecrow><cm_t27_list_max>\",CO898,\"</cm_t27_list_max><cm_t27_list_min>\",CO899,\"</cm_t27_list_min><cm_t27_list_order>\",CO900,\"</cm_t27_list_order><cm_t27_list_pct_passing>\",CO901,\"</cm_t27_list_pct_passing><cm_t27_list_sieve>\",CO902,\"</cm_t27_list_sieve></Data>\"))","v":""},{"$f":"IF(BY110=\"\",\"\",TODAY())","v":""},{"$f":"IF(BY110=\"\",\"\",\"WTSYSTEMUSER\")","v":""},{"$f":"IF(BY110=\"\",\"\",TODAY())","v":""},{"$f":"IF(BY110=\"\",\"\",\"WTSYSTEMUSER\")","v":""},null,null,null,null,null,null,null,"",null,{"$f":"IF(BY6=\"\",\"\",\"AgencyEntityInsData Id 110\")","v":""},{"$f":"IF(BY6=\"\",\"\",\"AgencyEntityInstance Id 4\")","v":""},{"$f":"IF(BY6=\"\",\"\",\"cm_base_grad_T1T5_label_08\")","v":""},{"$f":"IF(BY6=\"\",\"\",\"Location R/L of Centerline\")","v":""},{"$f":"IF(BY6=\"\",\"\",TODAY())","v":""},{"$f":"IF(BY6=\"\",\"\",\"WTSYSTEMUSER\")","v":""},{"$f":"IF(BY6=\"\",\"\",TODAY())","v":""},{"$f":"IF(BY6=\"\",\"\",\"WTSYSTEMUSER\")","v":""}]
[null,null,null,null,null,null,null,null,null,null,null,null,null,null,null,null,null,null,null,null,null,null,null,null,null,null,null,null,null,null,null,null,null,null,null,null,null,null,null,null,null,null,null,null,null,null,null,null,null,null,null,null,null,null,null,null,null,null,null,null,null,null,null,null,null,null,null,null,null,null,null,null,null,null,null,null,{"$f":"IF(AH35=\"\",\"\",\"AgencyEntityInstance Id 111\")","v":""},{"$f":"IF(BY110=\"\",\"\",VLOOKUP(\"CM_T27_List\",'Send Sync'!$K$56:$L$96,2,FALSE))","v":""},null,{"$f":"IF(BY110=\"\",\"\",\"AgencyEntityInstance Id 108\")","v":""},{"$f":"IF(BY110=\"\",\"\",CONCATENATE(\"<Data><cm_t27_list_inspecrow>\",CO903,\"</cm_t27_list_inspecrow><cm_t27_list_max>\",CO904,\"</cm_t27_list_max><cm_t27_list_min>\",CO905,\"</cm_t27_list_min><cm_t27_list_order>\",CO906,\"</cm_t27_list_order><cm_t27_list_pct_passing>\",CO907,\"</cm_t27_list_pct_passing><cm_t27_list_sieve>\",CO908,\"</cm_t27_list_sieve></Data>\"))","v":""},{"$f":"IF(BY110=\"\",\"\",TODAY())","v":""},{"$f":"IF(BY110=\"\",\"\",\"WTSYSTEMUSER\")","v":""},{"$f":"IF(BY110=\"\",\"\",TODAY())","v":""},{"$f":"IF(BY110=\"\",\"\",\"WTSYSTEMUSER\")","v":""},null,null,null,null,null,null,null,"",null,{"$f":"IF(BY6=\"\",\"\",\"AgencyEntityInsData Id 111\")","v":""},{"$f":"IF(BY6=\"\",\"\",\"AgencyEntityInstance Id 4\")","v":""},{"$f":"IF(BY6=\"\",\"\",\"cm_base_grad_T1T5_label_09\")","v":""},{"$f":"IF(BY6=\"\",\"\",\"Test Performed By\")","v":""},{"$f":"IF(BY6=\"\",\"\",TODAY())","v":""},{"$f":"IF(BY6=\"\",\"\",\"WTSYSTEMUSER\")","v":""},{"$f":"IF(BY6=\"\",\"\",TODAY())","v":""},{"$f":"IF(BY6=\"\",\"\",\"WTSYSTEMUSER\")","v":""}]
[null,null,null,null,null,null,null,null,null,null,null,null,null,null,null,null,null,null,null,null,null,null,null,null,null,null,null,null,null,null,null,null,null,null,null,null,null,null,null,null,null,null,null,null,null,null,null,null,null,null,null,null,null,null,null,null,null,null,null,null,null,null,null,null,null,null,null,null,null,null,null,null,null,null,null,null,{"$f":"IF(AH35=\"\",\"\",\"AgencyEntityInstance Id 112\")","v":""},{"$f":"IF(BY110=\"\",\"\",VLOOKUP(\"CM_T27_List\",'Send Sync'!$K$56:$L$96,2,FALSE))","v":""},null,{"$f":"IF(BY110=\"\",\"\",\"AgencyEntityInstance Id 108\")","v":""},{"$f":"IF(BY110=\"\",\"\",CONCATENATE(\"<Data><cm_t27_list_inspecrow>\",CO909,\"</cm_t27_list_inspecrow><cm_t27_list_max>\",CO910,\"</cm_t27_list_max><cm_t27_list_min>\",CO911,\"</cm_t27_list_min><cm_t27_list_order>\",CO912,\"</cm_t27_list_order><cm_t27_list_pct_passing>\",CO913,\"</cm_t27_list_pct_passing><cm_t27_list_sieve>\",CO914,\"</cm_t27_list_sieve></Data>\"))","v":""},{"$f":"IF(BY110=\"\",\"\",TODAY())","v":""},{"$f":"IF(BY110=\"\",\"\",\"WTSYSTEMUSER\")","v":""},{"$f":"IF(BY110=\"\",\"\",TODAY())","v":""},{"$f":"IF(BY110=\"\",\"\",\"WTSYSTEMUSER\")","v":""},null,null,null,null,null,null,null,"",null,{"$f":"IF(BY6=\"\",\"\",\"AgencyEntityInsData Id 112\")","v":""},{"$f":"IF(BY6=\"\",\"\",\"AgencyEntityInstance Id 4\")","v":""},{"$f":"IF(BY6=\"\",\"\",\"cm_base_grad_T1T5_no_200_label\")","v":""},{"$f":"IF(BY6=\"\",\"\",\"No. 200 (75 microns)\")","v":""},{"$f":"IF(BY6=\"\",\"\",TODAY())","v":""},{"$f":"IF(BY6=\"\",\"\",\"WTSYSTEMUSER\")","v":""},{"$f":"IF(BY6=\"\",\"\",TODAY())","v":""},{"$f":"IF(BY6=\"\",\"\",\"WTSYSTEMUSER\")","v":""}]
[null,null,null,null,null,null,null,null,null,null,null,null,null,null,null,null,null,null,null,null,null,null,null,null,null,null,null,null,null,null,null,null,null,null,null,null,null,null,null,null,null,null,null,null,null,null,null,null,null,null,null,null,null,null,null,null,null,null,null,null,null,null,null,null,null,null,null,null,null,null,null,null,null,null,null,null,{"$f":"IF(AH35=\"\",\"\",\"AgencyEntityInstance Id 113\")","v":""},{"$f":"IF(BY110=\"\",\"\",VLOOKUP(\"CM_T27_List\",'Send Sync'!$K$56:$L$96,2,FALSE))","v":""},null,{"$f":"IF(BY110=\"\",\"\",\"AgencyEntityInstance Id 108\")","v":""},{"$f":"IF(BY110=\"\",\"\",CONCATENATE(\"<Data><cm_t27_list_inspecrow>\",CO915,\"</cm_t27_list_inspecrow><cm_t27_list_max>\",CO916,\"</cm_t27_list_max><cm_t27_list_min>\",CO917,\"</cm_t27_list_min><cm_t27_list_order>\",CO918,\"</cm_t27_list_order><cm_t27_list_pct_passing>\",CO919,\"</cm_t27_list_pct_passing><cm_t27_list_sieve>\",CO920,\"</cm_t27_list_sieve></Data>\"))","v":""},{"$f":"IF(BY110=\"\",\"\",TODAY())","v":""},{"$f":"IF(BY110=\"\",\"\",\"WTSYSTEMUSER\")","v":""},{"$f":"IF(BY110=\"\",\"\",TODAY())","v":""},{"$f":"IF(BY110=\"\",\"\",\"WTSYSTEMUSER\")","v":""},null,null,null,null,null,null,null,"",null,{"$f":"IF(BY6=\"\",\"\",\"AgencyEntityInsData Id 113\")","v":""},{"$f":"IF(BY6=\"\",\"\",\"AgencyEntityInstance Id 4\")","v":""},{"$f":"IF(BY6=\"\",\"\",\"cm_base_grad_T1T5_no_200_max\")","v":""},{"$f":"IF(BY6=\"\",\"\",\"15\")","v":""},{"$f":"IF(BY6=\"\",\"\",TODAY())","v":""},{"$f":"IF(BY6=\"\",\"\",\"WTSYSTEMUSER\")","v":""},{"$f":"IF(BY6=\"\",\"\",TODAY())","v":""},{"$f":"IF(BY6=\"\",\"\",\"WTSYSTEMUSER\")","v":""}]
[null,null,null,null,null,null,null,null,null,null,null,null,null,null,null,null,null,null,null,null,null,null,null,null,null,null,null,null,null,null,null,null,null,null,null,null,null,null,null,null,null,null,null,null,null,null,null,null,null,null,null,null,null,null,null,null,null,null,null,null,null,null,null,null,null,null,null,null,null,null,null,null,null,null,null,null,{"$f":"IF(AH35=\"\",\"\",\"AgencyEntityInstance Id 114\")","v":""},{"$f":"IF(BY110=\"\",\"\",VLOOKUP(\"CM_T27_List\",'Send Sync'!$K$56:$L$96,2,FALSE))","v":""},null,{"$f":"IF(BY110=\"\",\"\",\"AgencyEntityInstance Id 108\")","v":""},{"$f":"IF(BY110=\"\",\"\",CONCATENATE(\"<Data><cm_t27_list_inspecrow>\",CO921,\"</cm_t27_list_inspecrow><cm_t27_list_max>\",CO922,\"</cm_t27_list_max><cm_t27_list_min>\",CO923,\"</cm_t27_list_min><cm_t27_list_order>\",CO924,\"</cm_t27_list_order><cm_t27_list_pct_passing>\",CO925,\"</cm_t27_list_pct_passing><cm_t27_list_sieve>\",CO926,\"</cm_t27_list_sieve></Data>\"))","v":""},{"$f":"IF(BY110=\"\",\"\",TODAY())","v":""},{"$f":"IF(BY110=\"\",\"\",\"WTSYSTEMUSER\")","v":""},{"$f":"IF(BY110=\"\",\"\",TODAY())","v":""},{"$f":"IF(BY110=\"\",\"\",\"WTSYSTEMUSER\")","v":""},null,null,null,null,null,null,null,"",null,{"$f":"IF(BY6=\"\",\"\",\"AgencyEntityInsData Id 114\")","v":""},{"$f":"IF(BY6=\"\",\"\",\"AgencyEntityInstance Id 4\")","v":""},{"$f":"IF(BY6=\"\",\"\",\"cm_base_grad_T1T5_no_200_min\")","v":""},{"$f":"IF(BY6=\"\",\"\",\"0\")","v":""},{"$f":"IF(BY6=\"\",\"\",TODAY())","v":""},{"$f":"IF(BY6=\"\",\"\",\"WTSYSTEMUSER\")","v":""},{"$f":"IF(BY6=\"\",\"\",TODAY())","v":""},{"$f":"IF(BY6=\"\",\"\",\"WTSYSTEMUSER\")","v":""}]
[null,null,null,null,null,null,null,null,null,null,null,null,null,null,null,null,null,null,null,null,null,null,null,null,null,null,null,null,null,null,null,null,null,null,null,null,null,null,null,null,null,null,null,null,null,null,null,null,null,null,null,null,null,null,null,null,null,null,null,null,null,null,null,null,null,null,null,null,null,null,null,null,null,null,null,null,{"$f":"IF(AH35=\"\",\"\",\"AgencyEntityInstance Id 115\")","v":""},{"$f":"IF(BY110=\"\",\"\",VLOOKUP(\"CM_T27_List\",'Send Sync'!$K$56:$L$96,2,FALSE))","v":""},null,{"$f":"IF(BY110=\"\",\"\",\"AgencyEntityInstance Id 108\")","v":""},{"$f":"IF(BY110=\"\",\"\",CONCATENATE(\"<Data><cm_t27_list_inspecrow>\",CO927,\"</cm_t27_list_inspecrow><cm_t27_list_max>\",CO928,\"</cm_t27_list_max><cm_t27_list_min>\",CO929,\"</cm_t27_list_min><cm_t27_list_order>\",CO930,\"</cm_t27_list_order><cm_t27_list_pct_passing>\",CO931,\"</cm_t27_list_pct_passing><cm_t27_list_sieve>\",CO932,\"</cm_t27_list_sieve></Data>\"))","v":""},{"$f":"IF(BY110=\"\",\"\",TODAY())","v":""},{"$f":"IF(BY110=\"\",\"\",\"WTSYSTEMUSER\")","v":""},{"$f":"IF(BY110=\"\",\"\",TODAY())","v":""},{"$f":"IF(BY110=\"\",\"\",\"WTSYSTEMUSER\")","v":""},null,null,null,null,null,null,null,"",null,{"$f":"IF(BY6=\"\",\"\",\"AgencyEntityInsData Id 115\")","v":""},{"$f":"IF(BY6=\"\",\"\",\"AgencyEntityInstance Id 4\")","v":""},{"$f":"IF(BY6=\"\",\"\",\"cm_base_grad_T1T5_no_30_label\")","v":""},{"$f":"IF(BY6=\"\",\"\",\"No. 30 (600 microns)\")","v":""},{"$f":"IF(BY6=\"\",\"\",TODAY())","v":""},{"$f":"IF(BY6=\"\",\"\",\"WTSYSTEMUSER\")","v":""},{"$f":"IF(BY6=\"\",\"\",TODAY())","v":""},{"$f":"IF(BY6=\"\",\"\",\"WTSYSTEMUSER\")","v":""}]
[null,null,null,null,null,null,null,null,null,null,null,null,null,null,null,null,null,null,null,null,null,null,null,null,null,null,null,null,null,null,null,null,null,null,null,null,null,null,null,null,null,null,null,null,null,null,null,null,null,null,null,null,null,null,null,null,null,null,null,null,null,null,null,null,null,null,null,null,null,null,null,null,null,null,null,null,{"$f":"IF(AH35=\"\",\"\",\"AgencyEntityInstance Id 116\")","v":""},{"$f":"IF(BY110=\"\",\"\",VLOOKUP(\"CM_T27_List\",'Send Sync'!$K$56:$L$96,2,FALSE))","v":""},null,{"$f":"IF(BY110=\"\",\"\",\"AgencyEntityInstance Id 108\")","v":""},{"$f":"IF(BY110=\"\",\"\",CONCATENATE(\"<Data><cm_t27_list_inspecrow>\",CO933,\"</cm_t27_list_inspecrow><cm_t27_list_max>\",CO934,\"</cm_t27_list_max><cm_t27_list_min>\",CO935,\"</cm_t27_list_min><cm_t27_list_order>\",CO936,\"</cm_t27_list_order><cm_t27_list_pct_passing>\",CO937,\"</cm_t27_list_pct_passing><cm_t27_list_sieve>\",CO938,\"</cm_t27_list_sieve></Data>\"))","v":""},{"$f":"IF(BY110=\"\",\"\",TODAY())","v":""},{"$f":"IF(BY110=\"\",\"\",\"WTSYSTEMUSER\")","v":""},{"$f":"IF(BY110=\"\",\"\",TODAY())","v":""},{"$f":"IF(BY110=\"\",\"\",\"WTSYSTEMUSER\")","v":""},null,null,null,null,null,null,null,"",null,{"$f":"IF(BY6=\"\",\"\",\"AgencyEntityInsData Id 116\")","v":""},{"$f":"IF(BY6=\"\",\"\",\"AgencyEntityInstance Id 4\")","v":""},{"$f":"IF(BY6=\"\",\"\",\"cm_base_grad_T1T5_no_30_max\")","v":""},{"$f":"IF(BY6=\"\",\"\",\"35\")","v":""},{"$f":"IF(BY6=\"\",\"\",TODAY())","v":""},{"$f":"IF(BY6=\"\",\"\",\"WTSYSTEMUSER\")","v":""},{"$f":"IF(BY6=\"\",\"\",TODAY())","v":""},{"$f":"IF(BY6=\"\",\"\",\"WTSYSTEMUSER\")","v":""}]
[null,null,null,null,null,null,null,null,null,null,null,null,null,null,null,null,null,null,null,null,null,null,null,null,null,null,null,null,null,null,null,null,null,null,null,null,null,null,null,null,null,null,null,null,null,null,null,null,null,null,null,null,null,null,null,null,null,null,null,null,null,null,null,null,null,null,null,null,null,null,null,null,null,null,null,null,{"$f":"IF(AH35=\"\",\"\",\"AgencyEntityInstance Id 117\")","v":""},{"$f":"IF(BY110=\"\",\"\",VLOOKUP(\"CM_T27_List\",'Send Sync'!$K$56:$L$96,2,FALSE))","v":""},null,{"$f":"IF(BY110=\"\",\"\",\"AgencyEntityInstance Id 108\")","v":""},{"$f":"IF(BY110=\"\",\"\",CONCATENATE(\"<Data><cm_t27_list_inspecrow>\",CO939,\"</cm_t27_list_inspecrow><cm_t27_list_max>\",CO940,\"</cm_t27_list_max><cm_t27_list_min>\",CO941,\"</cm_t27_list_min><cm_t27_list_order>\",CO942,\"</cm_t27_list_order><cm_t27_list_pct_passing>\",CO943,\"</cm_t27_list_pct_passing><cm_t27_list_sieve>\",CO944,\"</cm_t27_list_sieve></Data>\"))","v":""},{"$f":"IF(BY110=\"\",\"\",TODAY())","v":""},{"$f":"IF(BY110=\"\",\"\",\"WTSYSTEMUSER\")","v":""},{"$f":"IF(BY110=\"\",\"\",TODAY())","v":""},{"$f":"IF(BY110=\"\",\"\",\"WTSYSTEMUSER\")","v":""},null,null,null,null,null,null,null,"",null,{"$f":"IF(BY6=\"\",\"\",\"AgencyEntityInsData Id 117\")","v":""},{"$f":"IF(BY6=\"\",\"\",\"AgencyEntityInstance Id 4\")","v":""},{"$f":"IF(BY6=\"\",\"\",\"cm_base_grad_T1T5_no_30_min\")","v":""},{"$f":"IF(BY6=\"\",\"\",\"10\")","v":""},{"$f":"IF(BY6=\"\",\"\",TODAY())","v":""},{"$f":"IF(BY6=\"\",\"\",\"WTSYSTEMUSER\")","v":""},{"$f":"IF(BY6=\"\",\"\",TODAY())","v":""},{"$f":"IF(BY6=\"\",\"\",\"WTSYSTEMUSER\")","v":""}]
[null,null,null,null,null,null,null,null,null,null,null,null,null,null,null,null,null,null,null,null,null,null,null,null,null,null,null,null,null,null,null,null,null,null,null,null,null,null,null,null,null,null,null,null,null,null,null,null,null,null,null,null,null,null,null,null,null,null,null,null,null,null,null,null,null,null,null,null,null,null,null,null,null,null,null,null,{"$f":"IF(AH35=\"\",\"\",\"AgencyEntityInstance Id 118\")","v":""},{"$f":"IF(BY110=\"\",\"\",VLOOKUP(\"CM_T27_List\",'Send Sync'!$K$56:$L$96,2,FALSE))","v":""},null,{"$f":"IF(BY110=\"\",\"\",\"AgencyEntityInstance Id 108\")","v":""},{"$f":"IF(BY110=\"\",\"\",CONCATENATE(\"<Data><cm_t27_list_inspecrow>\",CO945,\"</cm_t27_list_inspecrow><cm_t27_list_max>\",CO946,\"</cm_t27_list_max><cm_t27_list_min>\",CO947,\"</cm_t27_list_min><cm_t27_list_order>\",CO948,\"</cm_t27_list_order><cm_t27_list_pct_passing>\",CO949,\"</cm_t27_list_pct_passing><cm_t27_list_sieve>\",CO950,\"</cm_t27_list_sieve></Data>\"))","v":""},{"$f":"IF(BY110=\"\",\"\",TODAY())","v":""},{"$f":"IF(BY110=\"\",\"\",\"WTSYSTEMUSER\")","v":""},{"$f":"IF(BY110=\"\",\"\",TODAY())","v":""},{"$f":"IF(BY110=\"\",\"\",\"WTSYSTEMUSER\")","v":""},null,null,null,null,null,null,null,"",null,{"$f":"IF(BY6=\"\",\"\",\"AgencyEntityInsData Id 118\")","v":""},{"$f":"IF(BY6=\"\",\"\",\"AgencyEntityInstance Id 4\")","v":""},{"$f":"IF(BY6=\"\",\"\",\"cm_base_grad_T1T5_no_4_label\")","v":""},{"$f":"IF(BY6=\"\",\"\",\"No. 4 (4.75 mm)\")","v":""},{"$f":"IF(BY6=\"\",\"\",TODAY())","v":""},{"$f":"IF(BY6=\"\",\"\",\"WTSYSTEMUSER\")","v":""},{"$f":"IF(BY6=\"\",\"\",TODAY())","v":""},{"$f":"IF(BY6=\"\",\"\",\"WTSYSTEMUSER\")","v":""}]
[null,null,null,null,null,null,null,null,null,null,null,null,null,null,null,null,null,null,null,null,null,null,null,null,null,null,null,null,null,null,null,null,null,null,null,null,null,null,null,null,null,null,null,null,null,null,null,null,null,null,null,null,null,null,null,null,null,null,null,null,null,null,null,null,null,null,null,null,null,null,null,null,null,null,null,null,{"$f":"IF(AH35=\"\",\"\",\"AgencyEntityInstance Id 119\")","v":""},{"$f":"IF(BY110=\"\",\"\",VLOOKUP(\"CM_T27_List\",'Send Sync'!$K$56:$L$96,2,FALSE))","v":""},null,{"$f":"IF(BY110=\"\",\"\",\"AgencyEntityInstance Id 108\")","v":""},{"$f":"IF(BY110=\"\",\"\",CONCATENATE(\"<Data><cm_t27_list_inspecrow>\",CO951,\"</cm_t27_list_inspecrow><cm_t27_list_max>\",CO952,\"</cm_t27_list_max><cm_t27_list_min>\",CO953,\"</cm_t27_list_min><cm_t27_list_order>\",CO954,\"</cm_t27_list_order><cm_t27_list_pct_passing>\",CO955,\"</cm_t27_list_pct_passing><cm_t27_list_sieve>\",CO956,\"</cm_t27_list_sieve></Data>\"))","v":""},{"$f":"IF(BY110=\"\",\"\",TODAY())","v":""},{"$f":"IF(BY110=\"\",\"\",\"WTSYSTEMUSER\")","v":""},{"$f":"IF(BY110=\"\",\"\",TODAY())","v":""},{"$f":"IF(BY110=\"\",\"\",\"WTSYSTEMUSER\")","v":""},null,null,null,null,null,null,null,"",null,{"$f":"IF(BY6=\"\",\"\",\"AgencyEntityInsData Id 119\")","v":""},{"$f":"IF(BY6=\"\",\"\",\"AgencyEntityInstance Id 4\")","v":""},{"$f":"IF(BY6=\"\",\"\",\"cm_base_grad_T1T5_no_4_max\")","v":""},{"$f":"IF(BY6=\"\",\"\",\"60\")","v":""},{"$f":"IF(BY6=\"\",\"\",TODAY())","v":""},{"$f":"IF(BY6=\"\",\"\",\"WTSYSTEMUSER\")","v":""},{"$f":"IF(BY6=\"\",\"\",TODAY())","v":""},{"$f":"IF(BY6=\"\",\"\",\"WTSYSTEMUSER\")","v":""}]
[null,null,null,null,null,null,null,null,null,null,null,null,null,null,null,null,null,null,null,null,null,null,null,null,null,null,null,null,null,null,null,null,null,null,null,null,null,null,null,null,null,null,null,null,null,null,null,null,null,null,null,null,null,null,null,null,null,null,null,null,null,null,null,null,null,null,null,null,null,null,null,null,null,null,null,null,{"$f":"IF(AH35=\"\",\"\",\"AgencyEntityInstance Id 120\")","v":""},{"$f":"IF(BY110=\"\",\"\",VLOOKUP(\"CM_T27_List\",'Send Sync'!$K$56:$L$96,2,FALSE))","v":""},null,{"$f":"IF(BY110=\"\",\"\",\"AgencyEntityInstance Id 108\")","v":""},{"$f":"IF(BY110=\"\",\"\",CONCATENATE(\"<Data><cm_t27_list_inspecrow>\",CO957,\"</cm_t27_list_inspecrow><cm_t27_list_max>\",CO958,\"</cm_t27_list_max><cm_t27_list_min>\",CO959,\"</cm_t27_list_min><cm_t27_list_order>\",CO960,\"</cm_t27_list_order><cm_t27_list_pct_passing>\",CO961,\"</cm_t27_list_pct_passing><cm_t27_list_sieve>\",CO962,\"</cm_t27_list_sieve></Data>\"))","v":""},{"$f":"IF(BY110=\"\",\"\",TODAY())","v":""},{"$f":"IF(BY110=\"\",\"\",\"WTSYSTEMUSER\")","v":""},{"$f":"IF(BY110=\"\",\"\",TODAY())","v":""},{"$f":"IF(BY110=\"\",\"\",\"WTSYSTEMUSER\")","v":""},null,null,null,null,null,null,null,"",null,{"$f":"IF(BY6=\"\",\"\",\"AgencyEntityInsData Id 120\")","v":""},{"$f":"IF(BY6=\"\",\"\",\"AgencyEntityInstance Id 4\")","v":""},{"$f":"IF(BY6=\"\",\"\",\"cm_base_grad_T1T5_no_4_min\")","v":""},{"$f":"IF(BY6=\"\",\"\",\"35\")","v":""},{"$f":"IF(BY6=\"\",\"\",TODAY())","v":""},{"$f":"IF(BY6=\"\",\"\",\"WTSYSTEMUSER\")","v":""},{"$f":"IF(BY6=\"\",\"\",TODAY())","v":""},{"$f":"IF(BY6=\"\",\"\",\"WTSYSTEMUSER\")","v":""}]
[null,null,null,null,null,null,null,null,null,null,null,null,null,null,null,null,null,null,null,null,null,null,null,null,null,null,null,null,null,null,null,null,null,null,null,null,null,null,null,null,null,null,null,null,null,null,null,null,null,null,null,null,null,null,null,null,null,null,null,null,null,null,null,null,null,null,null,null,null,null,null,null,null,null,null,null,{"$f":"IF(AH35=\"\",\"\",\"AgencyEntityInstance Id 121\")","v":""},{"$f":"IF(BY110=\"\",\"\",VLOOKUP(\"CM_T27_List\",'Send Sync'!$K$56:$L$96,2,FALSE))","v":""},null,{"$f":"IF(BY110=\"\",\"\",\"AgencyEntityInstance Id 108\")","v":""},{"$f":"IF(BY110=\"\",\"\",CONCATENATE(\"<Data><cm_t27_list_inspecrow>\",CO963,\"</cm_t27_list_inspecrow><cm_t27_list_max>\",CO964,\"</cm_t27_list_max><cm_t27_list_min>\",CO965,\"</cm_t27_list_min><cm_t27_list_order>\",CO966,\"</cm_t27_list_order><cm_t27_list_pct_passing>\",CO967,\"</cm_t27_list_pct_passing><cm_t27_list_sieve>\",CO968,\"</cm_t27_list_sieve></Data>\"))","v":""},{"$f":"IF(BY110=\"\",\"\",TODAY())","v":""},{"$f":"IF(BY110=\"\",\"\",\"WTSYSTEMUSER\")","v":""},{"$f":"IF(BY110=\"\",\"\",TODAY())","v":""},{"$f":"IF(BY110=\"\",\"\",\"WTSYSTEMUSER\")","v":""},null,null,null,null,null,null,null,"",null,{"$f":"IF(BY6=\"\",\"\",\"AgencyEntityInsData Id 121\")","v":""},{"$f":"IF(BY6=\"\",\"\",\"AgencyEntityInstance Id 4\")","v":""},{"$f":"IF(BY6=\"\",\"\",\"cm_base_grad_T1T5_spec_01_inch_max\")","v":""},{"$f":"IF(BY6=\"\",\"\",\"100\")","v":""},{"$f":"IF(BY6=\"\",\"\",TODAY())","v":""},{"$f":"IF(BY6=\"\",\"\",\"WTSYSTEMUSER\")","v":""},{"$f":"IF(BY6=\"\",\"\",TODAY())","v":""},{"$f":"IF(BY6=\"\",\"\",\"WTSYSTEMUSER\")","v":""}]
[null,null,null,null,null,null,null,null,null,null,null,null,null,null,null,null,null,null,null,null,null,null,null,null,null,null,null,null,null,null,null,null,null,null,null,null,null,null,null,null,null,null,null,null,null,null,null,null,null,null,null,null,null,null,null,null,null,null,null,null,null,null,null,null,null,null,null,null,null,null,null,null,null,null,null,null,{"$f":"IF(AH35=\"\",\"\",\"AgencyEntityInstance Id 122\")","v":""},{"$f":"IF(BY110=\"\",\"\",VLOOKUP(\"CM_T27_List\",'Send Sync'!$K$56:$L$96,2,FALSE))","v":""},null,{"$f":"IF(BY110=\"\",\"\",\"AgencyEntityInstance Id 108\")","v":""},{"$f":"IF(BY110=\"\",\"\",CONCATENATE(\"<Data><cm_t27_list_inspecrow>\",CO969,\"</cm_t27_list_inspecrow><cm_t27_list_max>\",CO970,\"</cm_t27_list_max><cm_t27_list_min>\",CO971,\"</cm_t27_list_min><cm_t27_list_order>\",CO972,\"</cm_t27_list_order><cm_t27_list_pct_passing>\",CO973,\"</cm_t27_list_pct_passing><cm_t27_list_sieve>\",CO974,\"</cm_t27_list_sieve></Data>\"))","v":""},{"$f":"IF(BY110=\"\",\"\",TODAY())","v":""},{"$f":"IF(BY110=\"\",\"\",\"WTSYSTEMUSER\")","v":""},{"$f":"IF(BY110=\"\",\"\",TODAY())","v":""},{"$f":"IF(BY110=\"\",\"\",\"WTSYSTEMUSER\")","v":""},null,null,null,null,null,null,null,"",null,{"$f":"IF(BY6=\"\",\"\",\"AgencyEntityInsData Id 122\")","v":""},{"$f":"IF(BY6=\"\",\"\",\"AgencyEntityInstance Id 4\")","v":""},{"$f":"IF(BY6=\"\",\"\",\"cm_base_grad_T1T5_spec_01_inch_min\")","v":""},{"$f":"IF(BY6=\"\",\"\",\"100\")","v":""},{"$f":"IF(BY6=\"\",\"\",TODAY())","v":""},{"$f":"IF(BY6=\"\",\"\",\"WTSYSTEMUSER\")","v":""},{"$f":"IF(BY6=\"\",\"\",TODAY())","v":""},{"$f":"IF(BY6=\"\",\"\",\"WTSYSTEMUSER\")","v":""}]
[null,null,null,null,null,null,null,null,null,null,null,null,null,null,null,null,null,null,null,null,null,null,null,null,null,null,null,null,null,null,null,null,null,null,null,null,null,null,null,null,null,null,null,null,null,null,null,null,null,null,null,null,null,null,null,null,null,null,null,null,null,null,null,null,null,null,null,null,null,null,null,null,null,null,null,null,{"$f":"IF(AH35=\"\",\"\",\"AgencyEntityInstance Id 123\")","v":""},{"$f":"IF(BY110=\"\",\"\",VLOOKUP(\"CM_T27_List\",'Send Sync'!$K$56:$L$96,2,FALSE))","v":""},null,{"$f":"IF(BY110=\"\",\"\",\"AgencyEntityInstance Id 108\")","v":""},{"$f":"IF(BY110=\"\",\"\",CONCATENATE(\"<Data><cm_t27_list_inspecrow>\",CO975,\"</cm_t27_list_inspecrow><cm_t27_list_max>\",CO976,\"</cm_t27_list_max><cm_t27_list_min>\",CO977,\"</cm_t27_list_min><cm_t27_list_order>\",CO978,\"</cm_t27_list_order><cm_t27_list_pct_passing>\",CO979,\"</cm_t27_list_pct_passing><cm_t27_list_sieve>\",CO980,\"</cm_t27_list_sieve></Data>\"))","v":""},{"$f":"IF(BY110=\"\",\"\",TODAY())","v":""},{"$f":"IF(BY110=\"\",\"\",\"WTSYSTEMUSER\")","v":""},{"$f":"IF(BY110=\"\",\"\",TODAY())","v":""},{"$f":"IF(BY110=\"\",\"\",\"WTSYSTEMUSER\")","v":""},null,null,null,null,null,null,null,"",null,{"$f":"IF(BY6=\"\",\"\",\"AgencyEntityInsData Id 123\")","v":""},{"$f":"IF(BY6=\"\",\"\",\"AgencyEntityInstance Id 4\")","v":""},{"$f":"IF(BY6=\"\",\"\",\"cm_base_grad_T1T5_spec_02_half_inch_max\")","v":""},{"$f":"IF(BY6=\"\",\"\",\"90\")","v":""},{"$f":"IF(BY6=\"\",\"\",TODAY())","v":""},{"$f":"IF(BY6=\"\",\"\",\"WTSYSTEMUSER\")","v":""},{"$f":"IF(BY6=\"\",\"\",TODAY())","v":""},{"$f":"IF(BY6=\"\",\"\",\"WTSYSTEMUSER\")","v":""}]
[null,null,null,null,null,null,null,null,null,null,null,null,null,null,null,null,null,null,null,null,null,null,null,null,null,null,null,null,null,null,null,null,null,null,null,null,null,null,null,null,null,null,null,null,null,null,null,null,null,null,null,null,null,null,null,null,null,null,null,null,null,null,null,null,null,null,null,null,null,null,null,null,null,null,null,null,{"$f":"IF(AH35=\"\",\"\",\"AgencyEntityInstance Id 124\")","v":""},{"$f":"IF(BY110=\"\",\"\",VLOOKUP(\"CM_T27_List\",'Send Sync'!$K$56:$L$96,2,FALSE))","v":""},null,{"$f":"IF(BY110=\"\",\"\",\"AgencyEntityInstance Id 108\")","v":""},{"$f":"IF(BY110=\"\",\"\",CONCATENATE(\"<Data><cm_t27_list_inspecrow>\",CO981,\"</cm_t27_list_inspecrow><cm_t27_list_max>\",CO982,\"</cm_t27_list_max><cm_t27_list_min>\",CO983,\"</cm_t27_list_min><cm_t27_list_order>\",CO984,\"</cm_t27_list_order><cm_t27_list_pct_passing>\",CO985,\"</cm_t27_list_pct_passing><cm_t27_list_sieve>\",CO986,\"</cm_t27_list_sieve></Data>\"))","v":""},{"$f":"IF(BY110=\"\",\"\",TODAY())","v":""},{"$f":"IF(BY110=\"\",\"\",\"WTSYSTEMUSER\")","v":""},{"$f":"IF(BY110=\"\",\"\",TODAY())","v":""},{"$f":"IF(BY110=\"\",\"\",\"WTSYSTEMUSER\")","v":""},null,null,null,null,null,null,null,"",null,{"$f":"IF(BY6=\"\",\"\",\"AgencyEntityInsData Id 124\")","v":""},{"$f":"IF(BY6=\"\",\"\",\"AgencyEntityInstance Id 4\")","v":""},{"$f":"IF(BY6=\"\",\"\",\"cm_base_grad_T1T5_spec_02_half_inch_min\")","v":""},{"$f":"IF(BY6=\"\",\"\",\"60\")","v":""},{"$f":"IF(BY6=\"\",\"\",TODAY())","v":""},{"$f":"IF(BY6=\"\",\"\",\"WTSYSTEMUSER\")","v":""},{"$f":"IF(BY6=\"\",\"\",TODAY())","v":""},{"$f":"IF(BY6=\"\",\"\",\"WTSYSTEMUSER\")","v":""}]
[null,null,null,null,null,null,null,null,null,null,null,null,null,null,null,null,null,null,null,null,null,null,null,null,null,null,null,null,null,null,null,null,null,null,null,null,null,null,null,null,null,null,null,null,null,null,null,null,null,null,null,null,null,null,null,null,null,null,null,null,null,null,null,null,null,null,null,null,null,null,null,null,null,null,null,null,{"$f":"IF(AH36=\"\",\"\",\"AgencyEntityInstance Id 125\")","v":""},{"$f":"IF(BY127=\"\",\"\",VLOOKUP(\"CM_T27_Detail\",'Send Sync'!$K$56:$L$96,2,FALSE))","v":""},{"$f":"IF(BY127=\"\",\"\",\"SampleRecordTest Id 34\")","v":""},"",{"$f":"IF(BY127=\"\",\"\",CONCATENATE(\"<Data><cm_t27_detail_inspec>\",CO987,\"</cm_t27_detail_inspec></Data>\"))","v":""},{"$f":"IF(BY127=\"\",\"\",TODAY())","v":""},{"$f":"IF(BY127=\"\",\"\",\"WTSYSTEMUSER\")","v":""},{"$f":"IF(BY127=\"\",\"\",TODAY())","v":""},{"$f":"IF(BY127=\"\",\"\",\"WTSYSTEMUSER\")","v":""},null,null,null,null,null,null,null,"",null,{"$f":"IF(BY6=\"\",\"\",\"AgencyEntityInsData Id 125\")","v":""},{"$f":"IF(BY6=\"\",\"\",\"AgencyEntityInstance Id 4\")","v":""},{"$f":"IF(BY6=\"\",\"\",\"cm_base_grad_T1T5_spec_03_no_4_max\")","v":""},{"$f":"IF(BY6=\"\",\"\",\"60\")","v":""},{"$f":"IF(BY6=\"\",\"\",TODAY())","v":""},{"$f":"IF(BY6=\"\",\"\",\"WTSYSTEMUSER\")","v":""},{"$f":"IF(BY6=\"\",\"\",TODAY())","v":""},{"$f":"IF(BY6=\"\",\"\",\"WTSYSTEMUSER\")","v":""}]
[null,null,null,null,null,null,null,null,null,null,null,null,null,null,null,null,null,null,null,null,null,null,null,null,null,null,null,null,null,null,null,null,null,null,null,null,null,null,null,null,null,null,null,null,null,null,null,null,null,null,null,null,null,null,null,null,null,null,null,null,null,null,null,null,null,null,null,null,null,null,null,null,null,null,null,null,{"$f":"IF(AH36=\"\",\"\",\"AgencyEntityInstance Id 126\")","v":""},{"$f":"IF(BY127=\"\",\"\",VLOOKUP(\"CM_T27_List\",'Send Sync'!$K$56:$L$96,2,FALSE))","v":""},null,{"$f":"IF(BY127=\"\",\"\",\"AgencyEntityInstance Id 125\")","v":""},{"$f":"IF(BY127=\"\",\"\",CONCATENATE(\"<Data><cm_t27_list_inspecrow>\",CO988,\"</cm_t27_list_inspecrow><cm_t27_list_max>\",CO989,\"</cm_t27_list_max><cm_t27_list_min>\",CO990,\"</cm_t27_list_min><cm_t27_list_order>\",CO991,\"</cm_t27_list_order><cm_t27_list_pct_passing>\",CO992,\"</cm_t27_list_pct_passing><cm_t27_list_sieve>\",CO993,\"</cm_t27_list_sieve></Data>\"))","v":""},{"$f":"IF(BY127=\"\",\"\",TODAY())","v":""},{"$f":"IF(BY127=\"\",\"\",\"WTSYSTEMUSER\")","v":""},{"$f":"IF(BY127=\"\",\"\",TODAY())","v":""},{"$f":"IF(BY127=\"\",\"\",\"WTSYSTEMUSER\")","v":""},null,null,null,null,null,null,null,"",null,{"$f":"IF(BY6=\"\",\"\",\"AgencyEntityInsData Id 126\")","v":""},{"$f":"IF(BY6=\"\",\"\",\"AgencyEntityInstance Id 4\")","v":""},{"$f":"IF(BY6=\"\",\"\",\"cm_base_grad_T1T5_spec_03_no_4_min\")","v":""},{"$f":"IF(BY6=\"\",\"\",\"35\")","v":""},{"$f":"IF(BY6=\"\",\"\",TODAY())","v":""},{"$f":"IF(BY6=\"\",\"\",\"WTSYSTEMUSER\")","v":""},{"$f":"IF(BY6=\"\",\"\",TODAY())","v":""},{"$f":"IF(BY6=\"\",\"\",\"WTSYSTEMUSER\")","v":""}]
[null,null,null,null,null,null,null,null,null,null,null,null,null,null,null,null,null,null,null,null,null,null,null,null,null,null,null,null,null,null,null,null,null,null,null,null,null,null,null,null,null,null,null,null,null,null,null,null,null,null,null,null,null,null,null,null,null,null,null,null,null,null,null,null,null,null,null,null,null,null,null,null,null,null,null,null,{"$f":"IF(AH36=\"\",\"\",\"AgencyEntityInstance Id 127\")","v":""},{"$f":"IF(BY127=\"\",\"\",VLOOKUP(\"CM_T27_List\",'Send Sync'!$K$56:$L$96,2,FALSE))","v":""},null,{"$f":"IF(BY127=\"\",\"\",\"AgencyEntityInstance Id 125\")","v":""},{"$f":"IF(BY127=\"\",\"\",CONCATENATE(\"<Data><cm_t27_list_inspecrow>\",CO994,\"</cm_t27_list_inspecrow><cm_t27_list_max>\",CO995,\"</cm_t27_list_max><cm_t27_list_min>\",CO996,\"</cm_t27_list_min><cm_t27_list_order>\",CO997,\"</cm_t27_list_order><cm_t27_list_pct_passing>\",CO998,\"</cm_t27_list_pct_passing><cm_t27_list_sieve>\",CO999,\"</cm_t27_list_sieve></Data>\"))","v":""},{"$f":"IF(BY127=\"\",\"\",TODAY())","v":""},{"$f":"IF(BY127=\"\",\"\",\"WTSYSTEMUSER\")","v":""},{"$f":"IF(BY127=\"\",\"\",TODAY())","v":""},{"$f":"IF(BY127=\"\",\"\",\"WTSYSTEMUSER\")","v":""},null,null,null,null,null,null,null,"",null,{"$f":"IF(BY6=\"\",\"\",\"AgencyEntityInsData Id 127\")","v":""},{"$f":"IF(BY6=\"\",\"\",\"AgencyEntityInstance Id 4\")","v":""},{"$f":"IF(BY6=\"\",\"\",\"cm_base_grad_T1T5_spec_04_no_30_max\")","v":""},{"$f":"IF(BY6=\"\",\"\",\"35\")","v":""},{"$f":"IF(BY6=\"\",\"\",TODAY())","v":""},{"$f":"IF(BY6=\"\",\"\",\"WTSYSTEMUSER\")","v":""},{"$f":"IF(BY6=\"\",\"\",TODAY())","v":""},{"$f":"IF(BY6=\"\",\"\",\"WTSYSTEMUSER\")","v":""}]
[null,null,null,null,null,null,null,null,null,null,null,null,null,null,null,null,null,null,null,null,null,null,null,null,null,null,null,null,null,null,null,null,null,null,null,null,null,null,null,null,null,null,null,null,null,null,null,null,null,null,null,null,null,null,null,null,null,null,null,null,null,null,null,null,null,null,null,null,null,null,null,null,null,null,null,null,{"$f":"IF(AH36=\"\",\"\",\"AgencyEntityInstance Id 128\")","v":""},{"$f":"IF(BY127=\"\",\"\",VLOOKUP(\"CM_T27_List\",'Send Sync'!$K$56:$L$96,2,FALSE))","v":""},null,{"$f":"IF(BY127=\"\",\"\",\"AgencyEntityInstance Id 125\")","v":""},{"$f":"IF(BY127=\"\",\"\",CONCATENATE(\"<Data><cm_t27_list_inspecrow>\",CO1000,\"</cm_t27_list_inspecrow><cm_t27_list_max>\",CO1001,\"</cm_t27_list_max><cm_t27_list_min>\",CO1002,\"</cm_t27_list_min><cm_t27_list_order>\",CO1003,\"</cm_t27_list_order><cm_t27_list_pct_passing>\",CO1004,\"</cm_t27_list_pct_passing><cm_t27_list_sieve>\",CO1005,\"</cm_t27_list_sieve></Data>\"))","v":""},{"$f":"IF(BY127=\"\",\"\",TODAY())","v":""},{"$f":"IF(BY127=\"\",\"\",\"WTSYSTEMUSER\")","v":""},{"$f":"IF(BY127=\"\",\"\",TODAY())","v":""},{"$f":"IF(BY127=\"\",\"\",\"WTSYSTEMUSER\")","v":""},null,null,null,null,null,null,null,"",null,{"$f":"IF(BY6=\"\",\"\",\"AgencyEntityInsData Id 128\")","v":""},{"$f":"IF(BY6=\"\",\"\",\"AgencyEntityInstance Id 4\")","v":""},{"$f":"IF(BY6=\"\",\"\",\"cm_base_grad_T1T5_spec_04_no_30_min\")","v":""},{"$f":"IF(BY6=\"\",\"\",\"10\")","v":""},{"$f":"IF(BY6=\"\",\"\",TODAY())","v":""},{"$f":"IF(BY6=\"\",\"\",\"WTSYSTEMUSER\")","v":""},{"$f":"IF(BY6=\"\",\"\",TODAY())","v":""},{"$f":"IF(BY6=\"\",\"\",\"WTSYSTEMUSER\")","v":""}]
[null,null,null,null,null,null,null,null,null,null,null,null,null,null,null,null,null,null,null,null,null,null,null,null,null,null,null,null,null,null,null,null,null,null,null,null,null,null,null,null,null,null,null,null,null,null,null,null,null,null,null,null,null,null,null,null,null,null,null,null,null,null,null,null,null,null,null,null,null,null,null,null,null,null,null,null,{"$f":"IF(AH36=\"\",\"\",\"AgencyEntityInstance Id 129\")","v":""},{"$f":"IF(BY127=\"\",\"\",VLOOKUP(\"CM_T27_List\",'Send Sync'!$K$56:$L$96,2,FALSE))","v":""},null,{"$f":"IF(BY127=\"\",\"\",\"AgencyEntityInstance Id 125\")","v":""},{"$f":"IF(BY127=\"\",\"\",CONCATENATE(\"<Data><cm_t27_list_inspecrow>\",CO1006,\"</cm_t27_list_inspecrow><cm_t27_list_max>\",CO1007,\"</cm_t27_list_max><cm_t27_list_min>\",CO1008,\"</cm_t27_list_min><cm_t27_list_order>\",CO1009,\"</cm_t27_list_order><cm_t27_list_pct_passing>\",CO1010,\"</cm_t27_list_pct_passing><cm_t27_list_sieve>\",CO1011,\"</cm_t27_list_sieve></Data>\"))","v":""},{"$f":"IF(BY127=\"\",\"\",TODAY())","v":""},{"$f":"IF(BY127=\"\",\"\",\"WTSYSTEMUSER\")","v":""},{"$f":"IF(BY127=\"\",\"\",TODAY())","v":""},{"$f":"IF(BY127=\"\",\"\",\"WTSYSTEMUSER\")","v":""},null,null,null,null,null,null,null,"",null,{"$f":"IF(BY6=\"\",\"\",\"AgencyEntityInsData Id 129\")","v":""},{"$f":"IF(BY6=\"\",\"\",\"AgencyEntityInstance Id 4\")","v":""},{"$f":"IF(BY6=\"\",\"\",\"cm_base_grad_T1T5_spec_05_no_200_max\")","v":""},{"$f":"IF(BY6=\"\",\"\",\"15\")","v":""},{"$f":"IF(BY6=\"\",\"\",TODAY())","v":""},{"$f":"IF(BY6=\"\",\"\",\"WTSYSTEMUSER\")","v":""},{"$f":"IF(BY6=\"\",\"\",TODAY())","v":""},{"$f":"IF(BY6=\"\",\"\",\"WTSYSTEMUSER\")","v":""}]
[null,null,null,null,null,null,null,null,null,null,null,null,null,null,null,null,null,null,null,null,null,null,null,null,null,null,null,null,null,null,null,null,null,null,null,null,null,null,null,null,null,null,null,null,null,null,null,null,null,null,null,null,null,null,null,null,null,null,null,null,null,null,null,null,null,null,null,null,null,null,null,null,null,null,null,null,{"$f":"IF(AH36=\"\",\"\",\"AgencyEntityInstance Id 130\")","v":""},{"$f":"IF(BY127=\"\",\"\",VLOOKUP(\"CM_T27_List\",'Send Sync'!$K$56:$L$96,2,FALSE))","v":""},null,{"$f":"IF(BY127=\"\",\"\",\"AgencyEntityInstance Id 125\")","v":""},{"$f":"IF(BY127=\"\",\"\",CONCATENATE(\"<Data><cm_t27_list_inspecrow>\",CO1012,\"</cm_t27_list_inspecrow><cm_t27_list_max>\",CO1013,\"</cm_t27_list_max><cm_t27_list_min>\",CO1014,\"</cm_t27_list_min><cm_t27_list_order>\",CO1015,\"</cm_t27_list_order><cm_t27_list_pct_passing>\",CO1016,\"</cm_t27_list_pct_passing><cm_t27_list_sieve>\",CO1017,\"</cm_t27_list_sieve></Data>\"))","v":""},{"$f":"IF(BY127=\"\",\"\",TODAY())","v":""},{"$f":"IF(BY127=\"\",\"\",\"WTSYSTEMUSER\")","v":""},{"$f":"IF(BY127=\"\",\"\",TODAY())","v":""},{"$f":"IF(BY127=\"\",\"\",\"WTSYSTEMUSER\")","v":""},null,null,null,null,null,null,null,{"$f":"IF(CT132=\"\",\"\",SUBSTITUTE(SUBSTITUTE(SUBSTITUTE(SUBSTITUTE(SUBSTITUTE(CT132,\"&\",\"&amp;\"),\">\",\"&gt;\"),\"<\",\"&lt;\"),\"'\",\"&#39;\"),\"\"\"\",\"&quot;\"))","v":""},null,{"$f":"IF(BY6=\"\",\"\",\"AgencyEntityInsData Id 130\")","v":""},{"$f":"IF(BY6=\"\",\"\",\"AgencyEntityInstance Id 4\")","v":""},{"$f":"IF(BY6=\"\",\"\",\"cm_base_grad_T1T5_spec_05_no_200_min\")","v":""},{"$f":"IF(BY6=\"\",\"\",\"0\")","v":""},{"$f":"IF(BY6=\"\",\"\",TODAY())","v":""},{"$f":"IF(BY6=\"\",\"\",\"WTSYSTEMUSER\")","v":""},{"$f":"IF(BY6=\"\",\"\",TODAY())","v":""},{"$f":"IF(BY6=\"\",\"\",\"WTSYSTEMUSER\")","v":""}]
[null,null,null,null,null,null,null,null,null,null,null,null,null,null,null,null,null,null,null,null,null,null,null,null,null,null,null,null,null,null,null,null,null,null,null,null,null,null,null,null,null,null,null,null,null,null,null,null,null,null,null,null,null,null,null,null,null,null,null,null,null,null,null,null,null,null,null,null,null,null,null,null,null,null,null,null,{"$f":"IF(AH36=\"\",\"\",\"AgencyEntityInstance Id 131\")","v":""},{"$f":"IF(BY127=\"\",\"\",VLOOKUP(\"CM_T27_List\",'Send Sync'!$K$56:$L$96,2,FALSE))","v":""},null,{"$f":"IF(BY127=\"\",\"\",\"AgencyEntityInstance Id 125\")","v":""},{"$f":"IF(BY127=\"\",\"\",CONCATENATE(\"<Data><cm_t27_list_inspecrow>\",CO1018,\"</cm_t27_list_inspecrow><cm_t27_list_max>\",CO1019,\"</cm_t27_list_max><cm_t27_list_min>\",CO1020,\"</cm_t27_list_min><cm_t27_list_order>\",CO1021,\"</cm_t27_list_order><cm_t27_list_pct_passing>\",CO1022,\"</cm_t27_list_pct_passing><cm_t27_list_sieve>\",CO1023,\"</cm_t27_list_sieve></Data>\"))","v":""},{"$f":"IF(BY127=\"\",\"\",TODAY())","v":""},{"$f":"IF(BY127=\"\",\"\",\"WTSYSTEMUSER\")","v":""},{"$f":"IF(BY127=\"\",\"\",TODAY())","v":""},{"$f":"IF(BY127=\"\",\"\",\"WTSYSTEMUSER\")","v":""},null,null,null,null,null,null,null,"",null,{"$f":"IF(BY7=\"\",\"\",\"AgencyEntityInsData Id 131\")","v":""},{"$f":"IF(BY7=\"\",\"\",\"AgencyEntityInstance Id 5\")","v":""},{"$f":"IF(BY7=\"\",\"\",\"cm_base_grad_T7_01_1pt5_inch\")","v":""},{"$f":"IF(BY7=\"\",\"\",IF('Test 1'!$AG25=0,\"\",'Test 1'!$AG25))","v":""},{"$f":"IF(BY7=\"\",\"\",TODAY())","v":""},{"$f":"IF(BY7=\"\",\"\",\"WTSYSTEMUSER\")","v":""},{"$f":"IF(BY7=\"\",\"\",TODAY())","v":""},{"$f":"IF(BY7=\"\",\"\",\"WTSYSTEMUSER\")","v":""}]
[null,null,null,null,null,null,null,null,null,null,null,null,null,null,null,null,null,null,null,null,null,null,null,null,null,null,null,null,null,null,null,null,null,null,null,null,null,null,null,null,null,null,null,null,null,null,null,null,null,null,null,null,null,null,null,null,null,null,null,null,null,null,null,null,null,null,null,null,null,null,null,null,null,null,null,null,{"$f":"IF(AH36=\"\",\"\",\"AgencyEntityInstance Id 132\")","v":""},{"$f":"IF(BY127=\"\",\"\",VLOOKUP(\"CM_T27_List\",'Send Sync'!$K$56:$L$96,2,FALSE))","v":""},null,{"$f":"IF(BY127=\"\",\"\",\"AgencyEntityInstance Id 125\")","v":""},{"$f":"IF(BY127=\"\",\"\",CONCATENATE(\"<Data><cm_t27_list_inspecrow>\",CO1024,\"</cm_t27_list_inspecrow><cm_t27_list_max>\",CO1025,\"</cm_t27_list_max><cm_t27_list_min>\",CO1026,\"</cm_t27_list_min><cm_t27_list_order>\",CO1027,\"</cm_t27_list_order><cm_t27_list_pct_passing>\",CO1028,\"</cm_t27_list_pct_passing><cm_t27_list_sieve>\",CO1029,\"</cm_t27_list_sieve></Data>\"))","v":""},{"$f":"IF(BY127=\"\",\"\",TODAY())","v":""},{"$f":"IF(BY127=\"\",\"\",\"WTSYSTEMUSER\")","v":""},{"$f":"IF(BY127=\"\",\"\",TODAY())","v":""},{"$f":"IF(BY127=\"\",\"\",\"WTSYSTEMUSER\")","v":""},null,null,null,null,null,null,null,"",null,{"$f":"IF(BY7=\"\",\"\",\"AgencyEntityInsData Id 132\")","v":""},{"$f":"IF(BY7=\"\",\"\",\"AgencyEntityInstance Id 5\")","v":""},{"$f":"IF(BY7=\"\",\"\",\"cm_base_grad_T7_02_inch\")","v":""},{"$f":"IF(BY7=\"\",\"\",IF('Test 1'!$AG26=0,\"\",'Test 1'!$AG26))","v":""},{"$f":"IF(BY7=\"\",\"\",TODAY())","v":""},{"$f":"IF(BY7=\"\",\"\",\"WTSYSTEMUSER\")","v":""},{"$f":"IF(BY7=\"\",\"\",TODAY())","v":""},{"$f":"IF(BY7=\"\",\"\",\"WTSYSTEMUSER\")","v":""}]
[null,null,null,null,null,null,null,null,null,null,null,null,null,null,null,null,null,null,null,null,null,null,null,null,null,null,null,null,null,null,null,null,null,null,null,null,null,null,null,null,null,null,null,null,null,null,null,null,null,null,null,null,null,null,null,null,null,null,null,null,null,null,null,null,null,null,null,null,null,null,null,null,null,null,null,null,{"$f":"IF(AH36=\"\",\"\",\"AgencyEntityInstance Id 133\")","v":""},{"$f":"IF(BY127=\"\",\"\",VLOOKUP(\"CM_T27_List\",'Send Sync'!$K$56:$L$96,2,FALSE))","v":""},null,{"$f":"IF(BY127=\"\",\"\",\"AgencyEntityInstance Id 125\")","v":""},{"$f":"IF(BY127=\"\",\"\",CONCATENATE(\"<Data><cm_t27_list_inspecrow>\",CO1030,\"</cm_t27_list_inspecrow><cm_t27_list_max>\",CO1031,\"</cm_t27_list_max><cm_t27_list_min>\",CO1032,\"</cm_t27_list_min><cm_t27_list_order>\",CO1033,\"</cm_t27_list_order><cm_t27_list_pct_passing>\",CO1034,\"</cm_t27_list_pct_passing><cm_t27_list_sieve>\",CO1035,\"</cm_t27_list_sieve></Data>\"))","v":""},{"$f":"IF(BY127=\"\",\"\",TODAY())","v":""},{"$f":"IF(BY127=\"\",\"\",\"WTSYSTEMUSER\")","v":""},{"$f":"IF(BY127=\"\",\"\",TODAY())","v":""},{"$f":"IF(BY127=\"\",\"\",\"WTSYSTEMUSER\")","v":""},null,null,null,null,null,null,null,"",null,{"$f":"IF(BY7=\"\",\"\",\"AgencyEntityInsData Id 133\")","v":""},{"$f":"IF(BY7=\"\",\"\",\"AgencyEntityInstance Id 5\")","v":""},{"$f":"IF(BY7=\"\",\"\",\"cm_base_grad_T7_03_no_8\")","v":""},{"$f":"IF(BY7=\"\",\"\",IF('Test 1'!$AG27=0,\"\",'Test 1'!$AG27))","v":""},{"$f":"IF(BY7=\"\",\"\",TODAY())","v":""},{"$f":"IF(BY7=\"\",\"\",\"WTSYSTEMUSER\")","v":""},{"$f":"IF(BY7=\"\",\"\",TODAY())","v":""},{"$f":"IF(BY7=\"\",\"\",\"WTSYSTEMUSER\")","v":""}]
[null,null,null,null,null,null,null,null,null,null,null,null,null,null,null,null,null,null,null,null,null,null,null,null,null,null,null,null,null,null,null,null,null,null,null,null,null,null,null,null,null,null,null,null,null,null,null,null,null,null,null,null,null,null,null,null,null,null,null,null,null,null,null,null,null,null,null,null,null,null,null,null,null,null,null,null,{"$f":"IF(AH36=\"\",\"\",\"AgencyEntityInstance Id 134\")","v":""},{"$f":"IF(BY127=\"\",\"\",VLOOKUP(\"CM_T27_List\",'Send Sync'!$K$56:$L$96,2,FALSE))","v":""},null,{"$f":"IF(BY127=\"\",\"\",\"AgencyEntityInstance Id 125\")","v":""},{"$f":"IF(BY127=\"\",\"\",CONCATENATE(\"<Data><cm_t27_list_inspecrow>\",CO1036,\"</cm_t27_list_inspecrow><cm_t27_list_max>\",CO1037,\"</cm_t27_list_max><cm_t27_list_min>\",CO1038,\"</cm_t27_list_min><cm_t27_list_order>\",CO1039,\"</cm_t27_list_order><cm_t27_list_pct_passing>\",CO1040,\"</cm_t27_list_pct_passing><cm_t27_list_sieve>\",CO1041,\"</cm_t27_list_sieve></Data>\"))","v":""},{"$f":"IF(BY127=\"\",\"\",TODAY())","v":""},{"$f":"IF(BY127=\"\",\"\",\"WTSYSTEMUSER\")","v":""},{"$f":"IF(BY127=\"\",\"\",TODAY())","v":""},{"$f":"IF(BY127=\"\",\"\",\"WTSYSTEMUSER\")","v":""},null,null,null,null,null,null,null,"",null,{"$f":"IF(BY7=\"\",\"\",\"AgencyEntityInsData Id 134\")","v":""},{"$f":"IF(BY7=\"\",\"\",\"AgencyEntityInstance Id 5\")","v":""},{"$f":"IF(BY7=\"\",\"\",\"cm_base_grad_T7_05_no_200\")","v":""},{"$f":"IF(BY7=\"\",\"\",IF('Test 1'!$AG28=0,\"\",'Test 1'!$AG28))","v":""},{"$f":"IF(BY7=\"\",\"\",TODAY())","v":""},{"$f":"IF(BY7=\"\",\"\",\"WTSYSTEMUSER\")","v":""},{"$f":"IF(BY7=\"\",\"\",TODAY())","v":""},{"$f":"IF(BY7=\"\",\"\",\"WTSYSTEMUSER\")","v":""}]
[null,null,null,null,null,null,null,null,null,null,null,null,null,null,null,null,null,null,null,null,null,null,null,null,null,null,null,null,null,null,null,null,null,null,null,null,null,null,null,null,null,null,null,null,null,null,null,null,null,null,null,null,null,null,null,null,null,null,null,null,null,null,null,null,null,null,null,null,null,null,null,null,null,null,null,null,{"$f":"IF(AH36=\"\",\"\",\"AgencyEntityInstance Id 135\")","v":""},{"$f":"IF(BY127=\"\",\"\",VLOOKUP(\"CM_T27_List\",'Send Sync'!$K$56:$L$96,2,FALSE))","v":""},null,{"$f":"IF(BY127=\"\",\"\",\"AgencyEntityInstance Id 125\")","v":""},{"$f":"IF(BY127=\"\",\"\",CONCATENATE(\"<Data><cm_t27_list_inspecrow>\",CO1042,\"</cm_t27_list_inspecrow><cm_t27_list_max>\",CO1043,\"</cm_t27_list_max><cm_t27_list_min>\",CO1044,\"</cm_t27_list_min><cm_t27_list_order>\",CO1045,\"</cm_t27_list_order><cm_t27_list_pct_passing>\",CO1046,\"</cm_t27_list_pct_passing><cm_t27_list_sieve>\",CO1047,\"</cm_t27_list_sieve></Data>\"))","v":""},{"$f":"IF(BY127=\"\",\"\",TODAY())","v":""},{"$f":"IF(BY127=\"\",\"\",\"WTSYSTEMUSER\")","v":""},{"$f":"IF(BY127=\"\",\"\",TODAY())","v":""},{"$f":"IF(BY127=\"\",\"\",\"WTSYSTEMUSER\")","v":""},null,null,null,null,null,null,null,"",null,{"$f":"IF(BY7=\"\",\"\",\"AgencyEntityInsData Id 135\")","v":""},{"$f":"IF(BY7=\"\",\"\",\"AgencyEntityInstance Id 5\")","v":""},{"$f":"IF(BY7=\"\",\"\",\"cm_base_grad_T7_08_station_1\")","v":""},{"$f":"IF(BY7=\"\",\"\",IF('Test 1'!$F16=0,\"\",'Test 1'!$F16))","v":""},{"$f":"IF(BY7=\"\",\"\",TODAY())","v":""},{"$f":"IF(BY7=\"\",\"\",\"WTSYSTEMUSER\")","v":""},{"$f":"IF(BY7=\"\",\"\",TODAY())","v":""},{"$f":"IF(BY7=\"\",\"\",\"WTSYSTEMUSER\")","v":""}]
[null,null,null,null,null,null,null,null,null,null,null,null,null,null,null,null,null,null,null,null,null,null,null,null,null,null,null,null,null,null,null,null,null,null,null,null,null,null,null,null,null,null,null,null,null,null,null,null,null,null,null,null,null,null,null,null,null,null,null,null,null,null,null,null,null,null,null,null,null,null,null,null,null,null,null,null,{"$f":"IF(AH36=\"\",\"\",\"AgencyEntityInstance Id 136\")","v":""},{"$f":"IF(BY127=\"\",\"\",VLOOKUP(\"CM_T27_List\",'Send Sync'!$K$56:$L$96,2,FALSE))","v":""},null,{"$f":"IF(BY127=\"\",\"\",\"AgencyEntityInstance Id 125\")","v":""},{"$f":"IF(BY127=\"\",\"\",CONCATENATE(\"<Data><cm_t27_list_inspecrow>\",CO1048,\"</cm_t27_list_inspecrow><cm_t27_list_max>\",CO1049,\"</cm_t27_list_max><cm_t27_list_min>\",CO1050,\"</cm_t27_list_min><cm_t27_list_order>\",CO1051,\"</cm_t27_list_order><cm_t27_list_pct_passing>\",CO1052,\"</cm_t27_list_pct_passing><cm_t27_list_sieve>\",CO1053,\"</cm_t27_list_sieve></Data>\"))","v":""},{"$f":"IF(BY127=\"\",\"\",TODAY())","v":""},{"$f":"IF(BY127=\"\",\"\",\"WTSYSTEMUSER\")","v":""},{"$f":"IF(BY127=\"\",\"\",TODAY())","v":""},{"$f":"IF(BY127=\"\",\"\",\"WTSYSTEMUSER\")","v":""},null,null,null,null,null,null,null,"",null,{"$f":"IF(BY7=\"\",\"\",\"AgencyEntityInsData Id 136\")","v":""},{"$f":"IF(BY7=\"\",\"\",\"AgencyEntityInstance Id 5\")","v":""},{"$f":"IF(BY7=\"\",\"\",\"cm_base_grad_T7_09_station_2\")","v":""},{"$f":"IF(BY7=\"\",\"\",IF('Test 1'!$J16=0,\"\",'Test 1'!$J16))","v":""},{"$f":"IF(BY7=\"\",\"\",TODAY())","v":""},{"$f":"IF(BY7=\"\",\"\",\"WTSYSTEMUSER\")","v":""},{"$f":"IF(BY7=\"\",\"\",TODAY())","v":""},{"$f":"IF(BY7=\"\",\"\",\"WTSYSTEMUSER\")","v":""}]
[null,null,null,null,null,null,null,null,null,null,null,null,null,null,null,null,null,null,null,null,null,null,null,null,null,null,null,null,null,null,null,null,null,null,null,null,null,null,null,null,null,null,null,null,null,null,null,null,null,null,null,null,null,null,null,null,null,null,null,null,null,null,null,null,null,null,null,null,null,null,null,null,null,null,null,null,{"$f":"IF(AH36=\"\",\"\",\"AgencyEntityInstance Id 137\")","v":""},{"$f":"IF(BY127=\"\",\"\",VLOOKUP(\"CM_T27_List\",'Send Sync'!$K$56:$L$96,2,FALSE))","v":""},null,{"$f":"IF(BY127=\"\",\"\",\"AgencyEntityInstance Id 125\")","v":""},{"$f":"IF(BY127=\"\",\"\",CONCATENATE(\"<Data><cm_t27_list_inspecrow>\",CO1054,\"</cm_t27_list_inspecrow><cm_t27_list_max>\",CO1055,\"</cm_t27_list_max><cm_t27_list_min>\",CO1056,\"</cm_t27_list_min><cm_t27_list_order>\",CO1057,\"</cm_t27_list_order><cm_t27_list_pct_passing>\",CO1058,\"</cm_t27_list_pct_passing><cm_t27_list_sieve>\",CO1059,\"</cm_t27_list_sieve></Data>\"))","v":""},{"$f":"IF(BY127=\"\",\"\",TODAY())","v":""},{"$f":"IF(BY127=\"\",\"\",\"WTSYSTEMUSER\")","v":""},{"$f":"IF(BY127=\"\",\"\",TODAY())","v":""},{"$f":"IF(BY127=\"\",\"\",\"WTSYSTEMUSER\")","v":""},null,null,null,null,null,null,null,"",null,{"$f":"IF(BY7=\"\",\"\",\"AgencyEntityInsData Id 137\")","v":""},{"$f":"IF(BY7=\"\",\"\",\"AgencyEntityInstance Id 5\")","v":""},{"$f":"IF(BY7=\"\",\"\",\"cm_base_grad_T7_10_centerline_location\")","v":""},{"$f":"IF(BY7=\"\",\"\",IF('Test 1'!I17=\"\",\"\",'Test 1'!I17))","v":""},{"$f":"IF(BY7=\"\",\"\",TODAY())","v":""},{"$f":"IF(BY7=\"\",\"\",\"WTSYSTEMUSER\")","v":""},{"$f":"IF(BY7=\"\",\"\",TODAY())","v":""},{"$f":"IF(BY7=\"\",\"\",\"WTSYSTEMUSER\")","v":""}]
[null,null,null,null,null,null,null,null,null,null,null,null,null,null,null,null,null,null,null,null,null,null,null,null,null,null,null,null,null,null,null,null,null,null,null,null,null,null,null,null,null,null,null,null,null,null,null,null,null,null,null,null,null,null,null,null,null,null,null,null,null,null,null,null,null,null,null,null,null,null,null,null,null,null,null,null,{"$f":"IF(AH36=\"\",\"\",\"AgencyEntityInstance Id 138\")","v":""},{"$f":"IF(BY127=\"\",\"\",VLOOKUP(\"CM_T27_List\",'Send Sync'!$K$56:$L$96,2,FALSE))","v":""},null,{"$f":"IF(BY127=\"\",\"\",\"AgencyEntityInstance Id 125\")","v":""},{"$f":"IF(BY127=\"\",\"\",CONCATENATE(\"<Data><cm_t27_list_inspecrow>\",CO1060,\"</cm_t27_list_inspecrow><cm_t27_list_max>\",CO1061,\"</cm_t27_list_max><cm_t27_list_min>\",CO1062,\"</cm_t27_list_min><cm_t27_list_order>\",CO1063,\"</cm_t27_list_order><cm_t27_list_pct_passing>\",CO1064,\"</cm_t27_list_pct_passing><cm_t27_list_sieve>\",CO1065,\"</cm_t27_list_sieve></Data>\"))","v":""},{"$f":"IF(BY127=\"\",\"\",TODAY())","v":""},{"$f":"IF(BY127=\"\",\"\",\"WTSYSTEMUSER\")","v":""},{"$f":"IF(BY127=\"\",\"\",TODAY())","v":""},{"$f":"IF(BY127=\"\",\"\",\"WTSYSTEMUSER\")","v":""},null,null,null,null,null,null,null,"",null,{"$f":"IF(BY7=\"\",\"\",\"AgencyEntityInsData Id 138\")","v":""},{"$f":"IF(BY7=\"\",\"\",\"AgencyEntityInstance Id 5\")","v":""},{"$f":"IF(BY7=\"\",\"\",\"cm_base_grad_T7_11_tested_by\")","v":""},{"$f":"IF(BY7=\"\",\"\",IF('Test 1'!H13=\"\",\"\",'Test 1'!H13))","v":""},{"$f":"IF(BY7=\"\",\"\",TODAY())","v":""},{"$f":"IF(BY7=\"\",\"\",\"WTSYSTEMUSER\")","v":""},{"$f":"IF(BY7=\"\",\"\",TODAY())","v":""},{"$f":"IF(BY7=\"\",\"\",\"WTSYSTEMUSER\")","v":""}]
[null,null,null,null,null,null,null,null,null,null,null,null,null,null,null,null,null,null,null,null,null,null,null,null,null,null,null,null,null,null,null,null,null,null,null,null,null,null,null,null,null,null,null,null,null,null,null,null,null,null,null,null,null,null,null,null,null,null,null,null,null,null,null,null,null,null,null,null,null,null,null,null,null,null,null,null,{"$f":"IF(AH36=\"\",\"\",\"AgencyEntityInstance Id 139\")","v":""},{"$f":"IF(BY127=\"\",\"\",VLOOKUP(\"CM_T27_List\",'Send Sync'!$K$56:$L$96,2,FALSE))","v":""},null,{"$f":"IF(BY127=\"\",\"\",\"AgencyEntityInstance Id 125\")","v":""},{"$f":"IF(BY127=\"\",\"\",CONCATENATE(\"<Data><cm_t27_list_inspecrow>\",CO1066,\"</cm_t27_list_inspecrow><cm_t27_list_max>\",CO1067,\"</cm_t27_list_max><cm_t27_list_min>\",CO1068,\"</cm_t27_list_min><cm_t27_list_order>\",CO1069,\"</cm_t27_list_order><cm_t27_list_pct_passing>\",CO1070,\"</cm_t27_list_pct_passing><cm_t27_list_sieve>\",CO1071,\"</cm_t27_list_sieve></Data>\"))","v":""},{"$f":"IF(BY127=\"\",\"\",TODAY())","v":""},{"$f":"IF(BY127=\"\",\"\",\"WTSYSTEMUSER\")","v":""},{"$f":"IF(BY127=\"\",\"\",TODAY())","v":""},{"$f":"IF(BY127=\"\",\"\",\"WTSYSTEMUSER\")","v":""},null,null,null,null,null,null,null,"",null,{"$f":"IF(BY7=\"\",\"\",\"AgencyEntityInsData Id 139\")","v":""},{"$f":"IF(BY7=\"\",\"\",\"AgencyEntityInstance Id 5\")","v":""},{"$f":"IF(BY7=\"\",\"\",\"cm_base_grad_T7_label_01_1pt5_inch\")","v":""},{"$f":"IF(BY7=\"\",\"\",\"1 1/2\"\" (37.5 mm)\")","v":""},{"$f":"IF(BY7=\"\",\"\",TODAY())","v":""},{"$f":"IF(BY7=\"\",\"\",\"WTSYSTEMUSER\")","v":""},{"$f":"IF(BY7=\"\",\"\",TODAY())","v":""},{"$f":"IF(BY7=\"\",\"\",\"WTSYSTEMUSER\")","v":""}]
[null,null,null,null,null,null,null,null,null,null,null,null,null,null,null,null,null,null,null,null,null,null,null,null,null,null,null,null,null,null,null,null,null,null,null,null,null,null,null,null,null,null,null,null,null,null,null,null,null,null,null,null,null,null,null,null,null,null,null,null,null,null,null,null,null,null,null,null,null,null,null,null,null,null,null,null,{"$f":"IF(AH36=\"\",\"\",\"AgencyEntityInstance Id 140\")","v":""},{"$f":"IF(BY127=\"\",\"\",VLOOKUP(\"CM_T27_List\",'Send Sync'!$K$56:$L$96,2,FALSE))","v":""},null,{"$f":"IF(BY127=\"\",\"\",\"AgencyEntityInstance Id 125\")","v":""},{"$f":"IF(BY127=\"\",\"\",CONCATENATE(\"<Data><cm_t27_list_inspecrow>\",CO1072,\"</cm_t27_list_inspecrow><cm_t27_list_max>\",CO1073,\"</cm_t27_list_max><cm_t27_list_min>\",CO1074,\"</cm_t27_list_min><cm_t27_list_order>\",CO1075,\"</cm_t27_list_order><cm_t27_list_pct_passing>\",CO1076,\"</cm_t27_list_pct_passing><cm_t27_list_sieve>\",CO1077,\"</cm_t27_list_sieve></Data>\"))","v":""},{"$f":"IF(BY127=\"\",\"\",TODAY())","v":""},{"$f":"IF(BY127=\"\",\"\",\"WTSYSTEMUSER\")","v":""},{"$f":"IF(BY127=\"\",\"\",TODAY())","v":""},{"$f":"IF(BY127=\"\",\"\",\"WTSYSTEMUSER\")","v":""},null,null,null,null,null,null,null,"",null,{"$f":"IF(BY7=\"\",\"\",\"AgencyEntityInsData Id 140\")","v":""},{"$f":"IF(BY7=\"\",\"\",\"AgencyEntityInstance Id 5\")","v":""},{"$f":"IF(BY7=\"\",\"\",\"cm_base_grad_T7_label_02_inch\")","v":""},{"$f":"IF(BY7=\"\",\"\",\"1\"\" (25.0 mm)\")","v":""},{"$f":"IF(BY7=\"\",\"\",TODAY())","v":""},{"$f":"IF(BY7=\"\",\"\",\"WTSYSTEMUSER\")","v":""},{"$f":"IF(BY7=\"\",\"\",TODAY())","v":""},{"$f":"IF(BY7=\"\",\"\",\"WTSYSTEMUSER\")","v":""}]
[null,null,null,null,null,null,null,null,null,null,null,null,null,null,null,null,null,null,null,null,null,null,null,null,null,null,null,null,null,null,null,null,null,null,null,null,null,null,null,null,null,null,null,null,null,null,null,null,null,null,null,null,null,null,null,null,null,null,null,null,null,null,null,null,null,null,null,null,null,null,null,null,null,null,null,null,{"$f":"IF(AH36=\"\",\"\",\"AgencyEntityInstance Id 141\")","v":""},{"$f":"IF(BY127=\"\",\"\",VLOOKUP(\"CM_T27_List\",'Send Sync'!$K$56:$L$96,2,FALSE))","v":""},null,{"$f":"IF(BY127=\"\",\"\",\"AgencyEntityInstance Id 125\")","v":""},{"$f":"IF(BY127=\"\",\"\",CONCATENATE(\"<Data><cm_t27_list_inspecrow>\",CO1078,\"</cm_t27_list_inspecrow><cm_t27_list_max>\",CO1079,\"</cm_t27_list_max><cm_t27_list_min>\",CO1080,\"</cm_t27_list_min><cm_t27_list_order>\",CO1081,\"</cm_t27_list_order><cm_t27_list_pct_passing>\",CO1082,\"</cm_t27_list_pct_passing><cm_t27_list_sieve>\",CO1083,\"</cm_t27_list_sieve></Data>\"))","v":""},{"$f":"IF(BY127=\"\",\"\",TODAY())","v":""},{"$f":"IF(BY127=\"\",\"\",\"WTSYSTEMUSER\")","v":""},{"$f":"IF(BY127=\"\",\"\",TODAY())","v":""},{"$f":"IF(BY127=\"\",\"\",\"WTSYSTEMUSER\")","v":""},null,null,null,null,null,null,null,"",null,{"$f":"IF(BY7=\"\",\"\",\"AgencyEntityInsData Id 141\")","v":""},{"$f":"IF(BY7=\"\",\"\",\"AgencyEntityInstance Id 5\")","v":""},{"$f":"IF(BY7=\"\",\"\",\"cm_base_grad_T7_label_03_no_8\")","v":""},{"$f":"IF(BY7=\"\",\"\",\"No. 8 (2.36 mm)\")","v":""},{"$f":"IF(BY7=\"\",\"\",TODAY())","v":""},{"$f":"IF(BY7=\"\",\"\",\"WTSYSTEMUSER\")","v":""},{"$f":"IF(BY7=\"\",\"\",TODAY())","v":""},{"$f":"IF(BY7=\"\",\"\",\"WTSYSTEMUSER\")","v":""}]
[null,null,null,null,null,null,null,null,null,null,null,null,null,null,null,null,null,null,null,null,null,null,null,null,null,null,null,null,null,null,null,null,null,null,null,null,null,null,null,null,null,null,null,null,null,null,null,null,null,null,null,null,null,null,null,null,null,null,null,null,null,null,null,null,null,null,null,null,null,null,null,null,null,null,null,null,{"$f":"IF(AH37=\"\",\"\",\"AgencyEntityInstance Id 142\")","v":""},{"$f":"IF(BY144=\"\",\"\",VLOOKUP(\"CM_Field_Resistivity\",'Send Sync'!$K$56:$L$96,2,FALSE))","v":""},{"$f":"IF(BY144=\"\",\"\",\"SampleRecordTest Id 35\")","v":""},"",{"$f":"IF(BY144=\"\",\"\",CONCATENATE(\"<Data><cm_field_resistivity_01_resistivity>\",CO1084,\"</cm_field_resistivity_01_resistivity></Data>\"))","v":""},{"$f":"IF(BY144=\"\",\"\",TODAY())","v":""},{"$f":"IF(BY144=\"\",\"\",\"WTSYSTEMUSER\")","v":""},{"$f":"IF(BY144=\"\",\"\",TODAY())","v":""},{"$f":"IF(BY144=\"\",\"\",\"WTSYSTEMUSER\")","v":""},null,null,null,null,null,null,null,"",null,{"$f":"IF(BY7=\"\",\"\",\"AgencyEntityInsData Id 142\")","v":""},{"$f":"IF(BY7=\"\",\"\",\"AgencyEntityInstance Id 5\")","v":""},{"$f":"IF(BY7=\"\",\"\",\"cm_base_grad_T7_label_05_no_200\")","v":""},{"$f":"IF(BY7=\"\",\"\",\"No. 200 (75 microns)\")","v":""},{"$f":"IF(BY7=\"\",\"\",TODAY())","v":""},{"$f":"IF(BY7=\"\",\"\",\"WTSYSTEMUSER\")","v":""},{"$f":"IF(BY7=\"\",\"\",TODAY())","v":""},{"$f":"IF(BY7=\"\",\"\",\"WTSYSTEMUSER\")","v":""}]
[null,null,null,null,null,null,null,null,null,null,null,null,null,null,null,null,null,null,null,null,null,null,null,null,null,null,null,null,null,null,null,null,null,null,null,null,null,null,null,null,null,null,null,null,null,null,null,null,null,null,null,null,null,null,null,null,null,null,null,null,null,null,null,null,null,null,null,null,null,null,null,null,null,null,null,null,{"$f":"IF(AH38=\"\",\"\",\"AgencyEntityInstance Id 143\")","v":""},{"$f":"IF(BY145=\"\",\"\",VLOOKUP(\"CM_Field_Resistivity\",'Send Sync'!$K$56:$L$96,2,FALSE))","v":""},{"$f":"IF(BY145=\"\",\"\",\"SampleRecordTest Id 36\")","v":""},"",{"$f":"IF(BY145=\"\",\"\",CONCATENATE(\"<Data><cm_field_resistivity_01_resistivity>\",CO1085,\"</cm_field_resistivity_01_resistivity></Data>\"))","v":""},{"$f":"IF(BY145=\"\",\"\",TODAY())","v":""},{"$f":"IF(BY145=\"\",\"\",\"WTSYSTEMUSER\")","v":""},{"$f":"IF(BY145=\"\",\"\",TODAY())","v":""},{"$f":"IF(BY145=\"\",\"\",\"WTSYSTEMUSER\")","v":""},null,null,null,null,null,null,null,"",null,{"$f":"IF(BY7=\"\",\"\",\"AgencyEntityInsData Id 143\")","v":""},{"$f":"IF(BY7=\"\",\"\",\"AgencyEntityInstance Id 5\")","v":""},{"$f":"IF(BY7=\"\",\"\",\"cm_base_grad_T7_label_06\")","v":""},{"$f":"IF(BY7=\"\",\"\",\"Station\")","v":""},{"$f":"IF(BY7=\"\",\"\",TODAY())","v":""},{"$f":"IF(BY7=\"\",\"\",\"WTSYSTEMUSER\")","v":""},{"$f":"IF(BY7=\"\",\"\",TODAY())","v":""},{"$f":"IF(BY7=\"\",\"\",\"WTSYSTEMUSER\")","v":""}]
[null,null,null,null,null,null,null,null,null,null,null,null,null,null,null,null,null,null,null,null,null,null,null,null,null,null,null,null,null,null,null,null,null,null,null,null,null,null,null,null,null,null,null,null,null,null,null,null,null,null,null,null,null,null,null,null,null,null,null,null,null,null,null,null,null,null,null,null,null,null,null,null,null,null,null,null,{"$f":"IF(AH39=\"\",\"\",\"AgencyEntityInstance Id 144\")","v":""},{"$f":"IF(BY146=\"\",\"\",VLOOKUP(\"CM_T255_MoistureCont\",'Send Sync'!$K$56:$L$96,2,FALSE))","v":""},{"$f":"IF(BY146=\"\",\"\",\"SampleRecordTest Id 37\")","v":""},null,{"$f":"IF(BY146=\"\",\"\",CONCATENATE(\"<Data><CM_T255_MoistureCont_DryWt>\",CO1086,\"</CM_T255_MoistureCont_DryWt><CM_T255_MoistureCont_OriginalWt>\",CO1087,\"</CM_T255_MoistureCont_OriginalWt><CM_T255_MoistureCont_PH1>\",CO1088,\"</CM_T255_MoistureCont_PH1><CM_T255_MoistureCont_PH2>\",CO1089,\"</CM_T255_MoistureCont_PH2><CM_T255_MoistureCont_PH3>\",CO1090,\"</CM_T255_MoistureCont_PH3><CM_T255_MoistureCont_PH4>\",CO1091,\"</CM_T255_MoistureCont_PH4><CM_T255_MoistureCont_PH5>\",CO1092,\"</CM_T255_MoistureCont_PH5><CM_T255_MoistureCont_Result>\",CO1093,\"</CM_T255_MoistureCont_Result><CM_T255_MoistureCont_Title_Label>\",CO1094,\"</CM_T255_MoistureCont_Title_Label><CM_T255_MoistureCont_UserID>\",CO1095,\"</CM_T255_MoistureCont_UserID></Data>\"))","v":""},{"$f":"IF(BY146=\"\",\"\",TODAY())","v":""},{"$f":"IF(BY146=\"\",\"\",\"WTSYSTEMUSER\")","v":""},{"$f":"IF(BY146=\"\",\"\",TODAY())","v":""},{"$f":"IF(BY146=\"\",\"\",\"WTSYSTEMUSER\")","v":""},null,null,null,null,null,null,null,"",null,{"$f":"IF(BY7=\"\",\"\",\"AgencyEntityInsData Id 144\")","v":""},{"$f":"IF(BY7=\"\",\"\",\"AgencyEntityInstance Id 5\")","v":""},{"$f":"IF(BY7=\"\",\"\",\"cm_base_grad_T7_label_07\")","v":""},{"$f":"IF(BY7=\"\",\"\",\"+\")","v":""},{"$f":"IF(BY7=\"\",\"\",TODAY())","v":""},{"$f":"IF(BY7=\"\",\"\",\"WTSYSTEMUSER\")","v":""},{"$f":"IF(BY7=\"\",\"\",TODAY())","v":""},{"$f":"IF(BY7=\"\",\"\",\"WTSYSTEMUSER\")","v":""}]
[null,null,null,null,null,null,null,null,null,null,null,null,null,null,null,null,null,null,null,null,null,null,null,null,null,null,null,null,null,null,null,null,null,null,null,null,null,null,null,null,null,null,null,null,null,null,null,null,null,null,null,null,null,null,null,null,null,null,null,null,null,null,null,null,null,null,null,null,null,null,null,null,null,null,null,null,{"$f":"IF(AH40=\"\",\"\",\"AgencyEntityInstance Id 145\")","v":""},{"$f":"IF(BY147=\"\",\"\",VLOOKUP(\"CM_T255_MoistureCont\",'Send Sync'!$K$56:$L$96,2,FALSE))","v":""},{"$f":"IF(BY147=\"\",\"\",\"SampleRecordTest Id 38\")","v":""},null,{"$f":"IF(BY147=\"\",\"\",CONCATENATE(\"<Data><CM_T255_MoistureCont_DryWt>\",CO1096,\"</CM_T255_MoistureCont_DryWt><CM_T255_MoistureCont_OriginalWt>\",CO1097,\"</CM_T255_MoistureCont_OriginalWt><CM_T255_MoistureCont_PH1>\",CO1098,\"</CM_T255_MoistureCont_PH1><CM_T255_MoistureCont_PH2>\",CO1099,\"</CM_T255_MoistureCont_PH2><CM_T255_MoistureCont_PH3>\",CO1100,\"</CM_T255_MoistureCont_PH3><CM_T255_MoistureCont_PH4>\",CO1101,\"</CM_T255_MoistureCont_PH4><CM_T255_MoistureCont_PH5>\",CO1102,\"</CM_T255_MoistureCont_PH5><CM_T255_MoistureCont_Result>\",CO1103,\"</CM_T255_MoistureCont_Result><CM_T255_MoistureCont_Title_Label>\",CO1104,\"</CM_T255_MoistureCont_Title_Label><CM_T255_MoistureCont_UserID>\",CO1105,\"</CM_T255_MoistureCont_UserID></Data>\"))","v":""},"","","","",null,null,null,null,null,null,null,"",null,{"$f":"IF(BY7=\"\",\"\",\"AgencyEntityInsData Id 145\")","v":""},{"$f":"IF(BY7=\"\",\"\",\"AgencyEntityInstance Id 5\")","v":""},{"$f":"IF(BY7=\"\",\"\",\"cm_base_grad_T7_label_08\")","v":""},{"$f":"IF(BY7=\"\",\"\",\"Location R/L of Centerline\")","v":""},{"$f":"IF(BY7=\"\",\"\",TODAY())","v":""},{"$f":"IF(BY7=\"\",\"\",\"WTSYSTEMUSER\")","v":""},{"$f":"IF(BY7=\"\",\"\",TODAY())","v":""},{"$f":"IF(BY7=\"\",\"\",\"WTSYSTEMUSER\")","v":""}]
[null,null,null,null,null,null,null,null,null,null,null,null,null,null,null,null,null,null,null,null,null,null,null,null,null,null,null,null,null,null,null,null,null,null,null,null,null,null,null,null,null,null,null,null,null,null,null,null,null,null,null,null,null,null,null,null,null,null,null,null,null,null,null,null,null,null,null,null,null,null,null,null,null,null,null,null,{"$f":"IF(AH41=\"\",\"\",\"AgencyEntityInstance Id 146\")","v":""},{"$f":"IF(BY148=\"\",\"\",VLOOKUP(\"CM_T255_MoistureCont\",'Send Sync'!$K$56:$L$96,2,FALSE))","v":""},{"$f":"IF(BY148=\"\",\"\",\"SampleRecordTest Id 39\")","v":""},null,{"$f":"IF(BY148=\"\",\"\",CONCATENATE(\"<Data><CM_T255_MoistureCont_DryWt>\",CO1106,\"</CM_T255_MoistureCont_DryWt><CM_T255_MoistureCont_OriginalWt>\",CO1107,\"</CM_T255_MoistureCont_OriginalWt><CM_T255_MoistureCont_PH1>\",CO1108,\"</CM_T255_MoistureCont_PH1><CM_T255_MoistureCont_PH2>\",CO1109,\"</CM_T255_MoistureCont_PH2><CM_T255_MoistureCont_PH3>\",CO1110,\"</CM_T255_MoistureCont_PH3><CM_T255_MoistureCont_PH4>\",CO1111,\"</CM_T255_MoistureCont_PH4><CM_T255_MoistureCont_PH5>\",CO1112,\"</CM_T255_MoistureCont_PH5><CM_T255_MoistureCont_Result>\",CO1113,\"</CM_T255_MoistureCont_Result><CM_T255_MoistureCont_Title_Label>\",CO1114,\"</CM_T255_MoistureCont_Title_Label><CM_T255_MoistureCont_UserID>\",CO1115,\"</CM_T255_MoistureCont_UserID></Data>\"))","v":""},"","","","",null,null,null,null,null,null,null,"",null,{"$f":"IF(BY7=\"\",\"\",\"AgencyEntityInsData Id 146\")","v":""},{"$f":"IF(BY7=\"\",\"\",\"AgencyEntityInstance Id 5\")","v":""},{"$f":"IF(BY7=\"\",\"\",\"cm_base_grad_T7_label_09\")","v":""},{"$f":"IF(BY7=\"\",\"\",\"Test Performed By\")","v":""},{"$f":"IF(BY7=\"\",\"\",TODAY())","v":""},{"$f":"IF(BY7=\"\",\"\",\"WTSYSTEMUSER\")","v":""},{"$f":"IF(BY7=\"\",\"\",TODAY())","v":""},{"$f":"IF(BY7=\"\",\"\",\"WTSYSTEMUSER\")","v":""}]
[null,null,null,null,null,null,null,null,null,null,null,null,null,null,null,null,null,null,null,null,null,null,null,null,null,null,null,null,null,null,null,null,null,null,null,null,null,null,null,null,null,null,null,null,null,null,null,null,null,null,null,null,null,null,null,null,null,null,null,null,null,null,null,null,null,null,null,null,null,null,null,null,null,null,null,null,{"$f":"IF(AH42=\"\",\"\",\"AgencyEntityInstance Id 147\")","v":""},{"$f":"IF(BY149=\"\",\"\",VLOOKUP(\"CM_D4791_Flat_Elong\",'Send Sync'!$K$56:$L$96,2,FALSE))","v":""},{"$f":"IF(BY149=\"\",\"\",\"SampleRecordTest Id 40\")","v":""},null,{"$f":"IF(BY149=\"\",\"\",CONCATENATE(\"<Data><cm_d4791_flat_elong_five_to_one>\",CO1116,\"</cm_d4791_flat_elong_five_to_one><cm_d4791_flat_elong_three_to_one>\",CO1117,\"</cm_d4791_flat_elong_three_to_one><cm_d4791_flat_elong_type>\",CO1118,\"</cm_d4791_flat_elong_type></Data>\"))","v":""},{"$f":"IF(BY149=\"\",\"\",TODAY())","v":""},{"$f":"IF(BY149=\"\",\"\",\"WTSYSTEMUSER\")","v":""},{"$f":"IF(BY149=\"\",\"\",TODAY())","v":""},{"$f":"IF(BY149=\"\",\"\",\"WTSYSTEMUSER\")","v":""},null,null,null,null,null,null,null,"",null,{"$f":"IF(BY7=\"\",\"\",\"AgencyEntityInsData Id 147\")","v":""},{"$f":"IF(BY7=\"\",\"\",\"AgencyEntityInstance Id 5\")","v":""},{"$f":"IF(BY7=\"\",\"\",\"cm_base_grad_T7_spec_01_1pt5_inch_max\")","v":""},{"$f":"IF(BY7=\"\",\"\",\"100\")","v":""},{"$f":"IF(BY7=\"\",\"\",TODAY())","v":""},{"$f":"IF(BY7=\"\",\"\",\"WTSYSTEMUSER\")","v":""},{"$f":"IF(BY7=\"\",\"\",TODAY())","v":""},{"$f":"IF(BY7=\"\",\"\",\"WTSYSTEMUSER\")","v":""}]
[null,null,null,null,null,null,null,null,null,null,null,null,null,null,null,null,null,null,null,null,null,null,null,null,null,null,null,null,null,null,null,null,null,null,null,null,null,null,null,null,null,null,null,null,null,null,null,null,null,null,null,null,null,null,null,null,null,null,null,null,null,null,null,null,null,null,null,null,null,null,null,null,null,null,null,null,{"$f":"IF(AH43=\"\",\"\",\"AgencyEntityInstance Id 148\")","v":""},{"$f":"IF(BY150=\"\",\"\",VLOOKUP(\"CM_D4791_Flat_Elong\",'Send Sync'!$K$56:$L$96,2,FALSE))","v":""},{"$f":"IF(BY150=\"\",\"\",\"SampleRecordTest Id 41\")","v":""},null,{"$f":"IF(BY150=\"\",\"\",CONCATENATE(\"<Data><cm_d4791_flat_elong_five_to_one>\",CO1119,\"</cm_d4791_flat_elong_five_to_one><cm_d4791_flat_elong_three_to_one>\",CO1120,\"</cm_d4791_flat_elong_three_to_one><cm_d4791_flat_elong_type>\",CO1121,\"</cm_d4791_flat_elong_type></Data>\"))","v":""},"","","","",null,null,null,null,null,null,null,"",null,{"$f":"IF(BY7=\"\",\"\",\"AgencyEntityInsData Id 148\")","v":""},{"$f":"IF(BY7=\"\",\"\",\"AgencyEntityInstance Id 5\")","v":""},{"$f":"IF(BY7=\"\",\"\",\"cm_base_grad_T7_spec_01_1pt5_inch_min\")","v":""},{"$f":"IF(BY7=\"\",\"\",\"100\")","v":""},{"$f":"IF(BY7=\"\",\"\",TODAY())","v":""},{"$f":"IF(BY7=\"\",\"\",\"WTSYSTEMUSER\")","v":""},{"$f":"IF(BY7=\"\",\"\",TODAY())","v":""},{"$f":"IF(BY7=\"\",\"\",\"WTSYSTEMUSER\")","v":""}]
[null,null,null,null,null,null,null,null,null,null,null,null,null,null,null,null,null,null,null,null,null,null,null,null,null,null,null,null,null,null,null,null,null,null,null,null,null,null,null,null,null,null,null,null,null,null,null,null,null,null,null,null,null,null,null,null,null,null,null,null,null,"",null,null,null,null,null,null,null,null,null,null,null,null,null,null,{"$f":"IF(AH44=\"\",\"\",\"AgencyEntityInstance Id 149\")","v":""},{"$f":"IF(BY151=\"\",\"\",VLOOKUP(\"CM_D4791_Flat_Elong\",'Send Sync'!$K$56:$L$96,2,FALSE))","v":""},{"$f":"IF(BY151=\"\",\"\",\"SampleRecordTest Id 42\")","v":""},null,{"$f":"IF(BY151=\"\",\"\",CONCATENATE(\"<Data><cm_d4791_flat_elong_five_to_one>\",CO1122,\"</cm_d4791_flat_elong_five_to_one><cm_d4791_flat_elong_three_to_one>\",CO1123,\"</cm_d4791_flat_elong_three_to_one><cm_d4791_flat_elong_type>\",CO1124,\"</cm_d4791_flat_elong_type></Data>\"))","v":""},"","","","",null,null,null,null,null,null,null,"",null,{"$f":"IF(BY7=\"\",\"\",\"AgencyEntityInsData Id 149\")","v":""},{"$f":"IF(BY7=\"\",\"\",\"AgencyEntityInstance Id 5\")","v":""},{"$f":"IF(BY7=\"\",\"\",\"cm_base_grad_T7_spec_02_inch_max\")","v":""},{"$f":"IF(BY7=\"\",\"\",\"100\")","v":""},{"$f":"IF(BY7=\"\",\"\",TODAY())","v":""},{"$f":"IF(BY7=\"\",\"\",\"WTSYSTEMUSER\")","v":""},{"$f":"IF(BY7=\"\",\"\",TODAY())","v":""},{"$f":"IF(BY7=\"\",\"\",\"WTSYSTEMUSER\")","v":""}]
[null,null,null,null,null,null,null,null,null,null,null,null,null,null,null,null,null,null,null,null,null,null,null,null,null,null,null,null,null,null,null,null,null,null,null,null,null,null,null,null,null,null,null,null,null,null,null,null,null,null,null,null,null,null,null,null,null,null,null,null,null,"",null,null,null,null,null,null,null,null,null,null,null,null,null,null,{"$f":"IF(AH45=\"\",\"\",\"AgencyEntityInstance Id 150\")","v":""},{"$f":"IF(BY152=\"\",\"\",VLOOKUP(\"CM_D4791_Flat_Elong\",'Send Sync'!$K$56:$L$96,2,FALSE))","v":""},{"$f":"IF(BY152=\"\",\"\",\"SampleRecordTest Id 43\")","v":""},null,{"$f":"IF(BY152=\"\",\"\",CONCATENATE(\"<Data><cm_d4791_flat_elong_five_to_one>\",CO1125,\"</cm_d4791_flat_elong_five_to_one><cm_d4791_flat_elong_three_to_one>\",CO1126,\"</cm_d4791_flat_elong_three_to_one><cm_d4791_flat_elong_type>\",CO1127,\"</cm_d4791_flat_elong_type></Data>\"))","v":""},"","","","",null,null,null,null,null,null,null,"",null,{"$f":"IF(BY7=\"\",\"\",\"AgencyEntityInsData Id 150\")","v":""},{"$f":"IF(BY7=\"\",\"\",\"AgencyEntityInstance Id 5\")","v":""},{"$f":"IF(BY7=\"\",\"\",\"cm_base_grad_T7_spec_02_inch_min\")","v":""},{"$f":"IF(BY7=\"\",\"\",\"70\")","v":""},{"$f":"IF(BY7=\"\",\"\",TODAY())","v":""},{"$f":"IF(BY7=\"\",\"\",\"WTSYSTEMUSER\")","v":""},{"$f":"IF(BY7=\"\",\"\",TODAY())","v":""},{"$f":"IF(BY7=\"\",\"\",\"WTSYSTEMUSER\")","v":""}]
[null,null,null,null,null,null,null,null,null,null,null,null,null,null,null,null,null,null,null,null,null,null,null,null,null,null,null,null,null,null,null,null,null,null,null,null,null,null,null,null,null,null,null,null,null,null,null,null,null,null,null,null,null,null,null,null,null,null,null,null,null,null,null,null,null,null,null,null,null,null,null,null,null,null,null,null,{"$f":"IF(AH46=\"\",\"\",\"AgencyEntityInstance Id 151\")","v":""},{"$f":"IF(BY153=\"\",\"\",VLOOKUP(\"CM_D4791_Flat_Elong\",'Send Sync'!$K$56:$L$96,2,FALSE))","v":""},{"$f":"IF(BY153=\"\",\"\",\"SampleRecordTest Id 44\")","v":""},null,{"$f":"IF(BY153=\"\",\"\",CONCATENATE(\"<Data><cm_d4791_flat_elong_five_to_one>\",CO1128,\"</cm_d4791_flat_elong_five_to_one><cm_d4791_flat_elong_three_to_one>\",CO1129,\"</cm_d4791_flat_elong_three_to_one><cm_d4791_flat_elong_type>\",CO1130,\"</cm_d4791_flat_elong_type></Data>\"))","v":""},"","","","",null,null,null,null,null,null,null,"",null,{"$f":"IF(BY7=\"\",\"\",\"AgencyEntityInsData Id 151\")","v":""},{"$f":"IF(BY7=\"\",\"\",\"AgencyEntityInstance Id 5\")","v":""},{"$f":"IF(BY7=\"\",\"\",\"cm_base_grad_T7_spec_03_no_8_max\")","v":""},{"$f":"IF(BY7=\"\",\"\",\"50\")","v":""},{"$f":"IF(BY7=\"\",\"\",TODAY())","v":""},{"$f":"IF(BY7=\"\",\"\",\"WTSYSTEMUSER\")","v":""},{"$f":"IF(BY7=\"\",\"\",TODAY())","v":""},{"$f":"IF(BY7=\"\",\"\",\"WTSYSTEMUSER\")","v":""}]
[null,null,null,null,null,null,null,null,null,null,null,null,null,null,null,null,null,null,null,null,null,null,null,null,null,null,null,null,null,null,null,null,null,null,null,null,null,null,null,null,null,null,null,null,null,null,null,null,null,null,null,null,null,null,null,null,null,null,null,null,null,null,null,null,null,null,null,null,null,null,null,null,null,null,null,null,{"$f":"IF(AH47=\"\",\"\",\"AgencyEntityInstance Id 152\")","v":""},{"$f":"IF(BY154=\"\",\"\",VLOOKUP(\"CM_QARetainedCompar\",'Send Sync'!$K$56:$L$96,2,FALSE))","v":""},{"$f":"IF(BY154=\"\",\"\",\"SampleRecordTest Id 45\")","v":""},null,{"$f":"IF(BY154=\"\",\"\",_xlfn.CONCAT(\"<Data><CM_QARetainedCompar_100Diff>\",CO1131,\"</CM_QARetainedCompar_100Diff><CM_QARetainedCompar_100QA>\",CO1132,\"</CM_QARetainedCompar_100QA><CM_QARetainedCompar_100QC>\",CO1133,\"</CM_QARetainedCompar_100QC><CM_QARetainedCompar_10Diff>\",CO1134,\"</CM_QARetainedCompar_10Diff><CM_QARetainedCompar_10QA>\",CO1135,\"</CM_QARetainedCompar_10QA><CM_QARetainedCompar_10QC>\",CO1136,\"</CM_QARetainedCompar_10QC><CM_QARetainedCompar_16Diff>\",CO1137,\"</CM_QARetainedCompar_16Diff><CM_QARetainedCompar_16QA>\",CO1138,\"</CM_QARetainedCompar_16QA><CM_QARetainedCompar_16QC>\",CO1139,\"</CM_QARetainedCompar_16QC><CM_QARetainedCompar_1and1HalfDiff>\",CO1140,\"</CM_QARetainedCompar_1and1HalfDiff><CM_QARetainedCompar_1and1HalfQA>\",CO1141,\"</CM_QARetainedCompar_1and1HalfQA><CM_QARetainedCompar_1and1HalfQC>\",CO1142,\"</CM_QARetainedCompar_1and1HalfQC><CM_QARetainedCompar_1halfDiff>\",CO1143,\"</CM_QARetainedCompar_1halfDiff><CM_QARetainedCompar_1halfQA>\",CO1144,\"</CM_QARetainedCompar_1halfQA><CM_QARetainedCompar_1halfQC>\",CO1145,\"</CM_QARetainedCompar_1halfQC><CM_QARetainedCompar_1inchDiff>\",CO1146,\"</CM_QARetainedCompar_1inchDiff><CM_QARetainedCompar_1inchQA>\",CO1147,\"</CM_QARetainedCompar_1inchQA><CM_QARetainedCompar_1inchQC>\",CO1148,\"</CM_QARetainedCompar_1inchQC><CM_QARetainedCompar_200Diff>\",CO1149,\"</CM_QARetainedCompar_200Diff><CM_QARetainedCompar_200QA>\",CO1150,\"</CM_QARetainedCompar_200QA><CM_QARetainedCompar_200QC>\",CO1151,\"</CM_QARetainedCompar_200QC><CM_QARetainedCompar_20Diff>\",CO1152,\"</CM_QARetainedCompar_20Diff><CM_QARetainedCompar_20QA>\",CO1153,\"</CM_QARetainedCompar_20QA><CM_QARetainedCompar_20QC>\",CO1154,\"</CM_QARetainedCompar_20QC><CM_QARetainedCompar_30Diff>\",CO1155,\"</CM_QARetainedCompar_30Diff><CM_QARetainedCompar_30QA>\",CO1156,\"</CM_QARetainedCompar_30QA><CM_QARetainedCompar_30QC>\",CO1157,\"</CM_QARetainedCompar_30QC><CM_QARetainedCompar_3eightsDiff>\",CO1158,\"</CM_QARetainedCompar_3eightsDiff><CM_QARetainedCompar_3eightsQA>\",CO1159,\"</CM_QARetainedCompar_3eightsQA><CM_QARetainedCompar_3eightsQC>\",CO1160,\"</CM_QARetainedCompar_3eightsQC><CM_QARetainedCompar_40Diff>\",CO1161,\"</CM_QARetainedCompar_40Diff><CM_QARetainedCompar_40QA>\",CO1162,\"</CM_QARetainedCompar_40QA><CM_QARetainedCompar_40QC>\",CO1163,\"</CM_QARetainedCompar_40QC><CM_QARetainedCompar_4Diff>\",CO1164,\"</CM_QARetainedCompar_4Diff><CM_QARetainedCompar_4QA>\",CO1165,\"</CM_QARetainedCompar_4QA><CM_QARetainedCompar_4QC>\",CO1166,\"</CM_QARetainedCompar_4QC><CM_QARetainedCompar_50Diff>\",CO1167,\"</CM_QARetainedCompar_50Diff><CM_QARetainedCompar_50QA>\",CO1168,\"</CM_QARetainedCompar_50QA><CM_QARetainedCompar_50QC>\",CO1169,\"</CM_QARetainedCompar_50QC><CM_QARetainedCompar_8Diff>\",CO1170,\"</CM_QARetainedCompar_8Diff><CM_QARetainedCompar_8QA>\",CO1171,\"</CM_QARetainedCompar_8QA><CM_QARetainedCompar_8QC>\",CO1172,\"</CM_QARetainedCompar_8QC><CM_QARetainedCompar_Title_Label>\",CO1173,\"</CM_QARetainedCompar_Title_Label><CM_QARetainedCompar3quarterDiff>\",CO1174,\"</CM_QARetainedCompar3quarterDiff><CM_QARetainedCompar3quarterQA>\",CO1175,\"</CM_QARetainedCompar3quarterQA><CM_QARetainedCompar3quarterQC>\",CO1176,\"</CM_QARetainedCompar3quarterQC><CM_QARetainedComparPH1></CM_QARetainedComparPH1><CM_QARetainedComparPH10></CM_QARetainedComparPH10><CM_QARetainedComparPH11></CM_QARetainedComparPH11><CM_QARetainedComparPH12></CM_QARetainedComparPH12>\",\"<CM_QARetainedComparPH13></CM_QARetainedComparPH13><CM_QARetainedComparPH14></CM_QARetainedComparPH14><CM_QARetainedComparPH15></CM_QARetainedComparPH15><CM_QARetainedComparPH16></CM_QARetainedComparPH16><CM_QARetainedComparPH17>\",\"</CM_QARetainedComparPH17><CM_QARetainedComparPH2></CM_QARetainedComparPH2><CM_QARetainedComparPH3></CM_QARetainedComparPH3><CM_QARetainedComparPH4></CM_QARetainedComparPH4><CM_QARetainedComparPH5>\",\"</CM_QARetainedComparPH5><CM_QARetainedComparPH6></CM_QARetainedComparPH6><CM_QARetainedComparPH7></CM_QARetainedComparPH7><CM_QARetainedComparPH8></CM_QARetainedComparPH8><CM_QARetainedComparPH9></CM_QARetainedComparPH9></Data>\"))","v":""},{"$f":"IF(BY154=\"\",\"\",TODAY())","v":""},{"$f":"IF(BY154=\"\",\"\",\"WTSYSTEMUSER\")","v":""},{"$f":"IF(BY154=\"\",\"\",TODAY())","v":""},{"$f":"IF(BY154=\"\",\"\",\"WTSYSTEMUSER\")","v":""},null,null,null,null,null,null,null,"",null,{"$f":"IF(BY7=\"\",\"\",\"AgencyEntityInsData Id 152\")","v":""},{"$f":"IF(BY7=\"\",\"\",\"AgencyEntityInstance Id 5\")","v":""},{"$f":"IF(BY7=\"\",\"\",\"cm_base_grad_T7_spec_03_no_8_min\")","v":""},{"$f":"IF(BY7=\"\",\"\",\"15\")","v":""},{"$f":"IF(BY7=\"\",\"\",TODAY())","v":""},{"$f":"IF(BY7=\"\",\"\",\"WTSYSTEMUSER\")","v":""},{"$f":"IF(BY7=\"\",\"\",TODAY())","v":""},{"$f":"IF(BY7=\"\",\"\",\"WTSYSTEMUSER\")","v":""}]
[null,null,null,null,null,null,null,null,null,null,null,null,null,null,null,null,null,null,null,null,null,null,null,null,null,null,null,null,null,null,null,null,null,null,null,null,null,null,null,null,null,null,null,null,null,null,null,null,null,null,null,null,null,null,null,null,null,null,null,null,null,null,null,null,null,null,null,null,null,null,null,null,null,null,null,null,{"$f":"IF(AH48=\"\",\"\",\"AgencyEntityInstance Id 153\")","v":""},{"$f":"IF(BY155=\"\",\"\",VLOOKUP(\"CM_QARetainedCompar\",'Send Sync'!$K$56:$L$96,2,FALSE))","v":""},{"$f":"IF(BY155=\"\",\"\",\"SampleRecordTest Id 46\")","v":""},null,{"$f":"IF(BY155=\"\",\"\",_xlfn.CONCAT(\"<Data><CM_QARetainedCompar_100Diff>\",CO1194,\"</CM_QARetainedCompar_100Diff><CM_QARetainedCompar_100QA>\",CO1195,\"</CM_QARetainedCompar_100QA><CM_QARetainedCompar_100QC>\",CO1196,\"</CM_QARetainedCompar_100QC><CM_QARetainedCompar_10Diff>\",CO1197,\"</CM_QARetainedCompar_10Diff><CM_QARetainedCompar_10QA>\",CO1198,\"</CM_QARetainedCompar_10QA><CM_QARetainedCompar_10QC>\",CO1199,\"</CM_QARetainedCompar_10QC><CM_QARetainedCompar_16Diff>\",CO1200,\"</CM_QARetainedCompar_16Diff><CM_QARetainedCompar_16QA>\",CO1201,\"</CM_QARetainedCompar_16QA><CM_QARetainedCompar_16QC>\",CO1202,\"</CM_QARetainedCompar_16QC><CM_QARetainedCompar_1and1HalfDiff>\",CO1203,\"</CM_QARetainedCompar_1and1HalfDiff><CM_QARetainedCompar_1and1HalfQA>\",CO1204,\"</CM_QARetainedCompar_1and1HalfQA><CM_QARetainedCompar_1and1HalfQC>\",CO1205,\"</CM_QARetainedCompar_1and1HalfQC><CM_QARetainedCompar_1halfDiff>\",CO1206,\"</CM_QARetainedCompar_1halfDiff><CM_QARetainedCompar_1halfQA>\",CO1207,\"</CM_QARetainedCompar_1halfQA><CM_QARetainedCompar_1halfQC>\",CO1208,\"</CM_QARetainedCompar_1halfQC><CM_QARetainedCompar_1inchDiff>\",CO1209,\"</CM_QARetainedCompar_1inchDiff><CM_QARetainedCompar_1inchQA>\",CO1210,\"</CM_QARetainedCompar_1inchQA><CM_QARetainedCompar_1inchQC>\",CO1211,\"</CM_QARetainedCompar_1inchQC><CM_QARetainedCompar_200Diff>\",CO1212,\"</CM_QARetainedCompar_200Diff><CM_QARetainedCompar_200QA>\",CO1213,\"</CM_QARetainedCompar_200QA><CM_QARetainedCompar_200QC>\",CO1214,\"</CM_QARetainedCompar_200QC><CM_QARetainedCompar_20Diff>\",CO1215,\"</CM_QARetainedCompar_20Diff><CM_QARetainedCompar_20QA>\",CO1216,\"</CM_QARetainedCompar_20QA><CM_QARetainedCompar_20QC>\",CO1217,\"</CM_QARetainedCompar_20QC><CM_QARetainedCompar_30Diff>\",CO1218,\"</CM_QARetainedCompar_30Diff><CM_QARetainedCompar_30QA>\",CO1219,\"</CM_QARetainedCompar_30QA><CM_QARetainedCompar_30QC>\",CO1220,\"</CM_QARetainedCompar_30QC><CM_QARetainedCompar_3eightsDiff>\",CO1221,\"</CM_QARetainedCompar_3eightsDiff><CM_QARetainedCompar_3eightsQA>\",CO1222,\"</CM_QARetainedCompar_3eightsQA><CM_QARetainedCompar_3eightsQC>\",CO1223,\"</CM_QARetainedCompar_3eightsQC><CM_QARetainedCompar_40Diff>\",CO1224,\"</CM_QARetainedCompar_40Diff><CM_QARetainedCompar_40QA>\",CO1225,\"</CM_QARetainedCompar_40QA><CM_QARetainedCompar_40QC>\",CO1226,\"</CM_QARetainedCompar_40QC><CM_QARetainedCompar_4Diff>\",CO1227,\"</CM_QARetainedCompar_4Diff><CM_QARetainedCompar_4QA>\",CO1228,\"</CM_QARetainedCompar_4QA><CM_QARetainedCompar_4QC>\",CO1229,\"</CM_QARetainedCompar_4QC><CM_QARetainedCompar_50Diff>\",CO1230,\"</CM_QARetainedCompar_50Diff><CM_QARetainedCompar_50QA>\",CO1231,\"</CM_QARetainedCompar_50QA><CM_QARetainedCompar_50QC>\",CO1232,\"</CM_QARetainedCompar_50QC><CM_QARetainedCompar_8Diff>\",CO1233,\"</CM_QARetainedCompar_8Diff><CM_QARetainedCompar_8QA>\",CO1234,\"</CM_QARetainedCompar_8QA><CM_QARetainedCompar_8QC>\",CO1235,\"</CM_QARetainedCompar_8QC><CM_QARetainedCompar_Title_Label>\",CO1236,\"</CM_QARetainedCompar_Title_Label><CM_QARetainedCompar3quarterDiff>\",CO1237,\"</CM_QARetainedCompar3quarterDiff><CM_QARetainedCompar3quarterQA>\",CO1238,\"</CM_QARetainedCompar3quarterQA><CM_QARetainedCompar3quarterQC>\",CO1239,\"</CM_QARetainedCompar3quarterQC><CM_QARetainedComparPH1>\",\"</CM_QARetainedComparPH1><CM_QARetainedComparPH10>\",\"</CM_QARetainedComparPH10><CM_QARetainedComparPH11>\",\"</CM_QARetainedComparPH11><CM_QARetainedComparPH12>\",\"</CM_QARetainedComparPH12><CM_QARetainedComparPH13>\",\"</CM_QARetainedComparPH13><CM_QARetainedComparPH14>\",\"</CM_QARetainedComparPH14><CM_QARetainedComparPH15>\",\"</CM_QARetainedComparPH15><CM_QARetainedComparPH16>\",\"</CM_QARetainedComparPH16><CM_QARetainedComparPH17>\",\"</CM_QARetainedComparPH17><CM_QARetainedComparPH2>\",\"</CM_QARetainedComparPH2><CM_QARetainedComparPH3>\",\"</CM_QARetainedComparPH3><CM_QARetainedComparPH4>\",\"</CM_QARetainedComparPH4><CM_QARetainedComparPH5>\",\"</CM_QARetainedComparPH5><CM_QARetainedComparPH6>\",\"</CM_QARetainedComparPH6><CM_QARetainedComparPH7>\",\"</CM_QARetainedComparPH7><CM_QARetainedComparPH8>\",\"</CM_QARetainedComparPH8><CM_QARetainedComparPH9>\",\"</CM_QARetainedComparPH9></Data>\"))","v":""},"","","","",null,null,null,null,null,null,null,"",null,{"$f":"IF(BY7=\"\",\"\",\"AgencyEntityInsData Id 153\")","v":""},{"$f":"IF(BY7=\"\",\"\",\"AgencyEntityInstance Id 5\")","v":""},{"$f":"IF(BY7=\"\",\"\",\"cm_base_grad_T7_spec_05_no_200_max\")","v":""},{"$f":"IF(BY7=\"\",\"\",\"12\")","v":""},{"$f":"IF(BY7=\"\",\"\",TODAY())","v":""},{"$f":"IF(BY7=\"\",\"\",\"WTSYSTEMUSER\")","v":""},{"$f":"IF(BY7=\"\",\"\",TODAY())","v":""},{"$f":"IF(BY7=\"\",\"\",\"WTSYSTEMUSER\")","v":""}]
[null,null,null,null,null,null,null,null,null,null,null,null,null,null,null,null,null,null,null,null,null,null,null,null,null,null,null,null,null,null,null,null,null,null,null,null,null,null,null,null,null,null,null,null,null,null,null,null,null,null,null,null,null,null,null,null,null,null,null,null,null,null,null,null,null,null,null,null,null,null,null,null,null,null,null,null,{"$f":"IF(AH49=\"\",\"\",\"AgencyEntityInstance Id 154\")","v":""},{"$f":"IF(BY156=\"\",\"\",VLOOKUP(\"CM_QARetainedDel\",'Send Sync'!$K$56:$L$96,2,FALSE))","v":""},{"$f":"IF(BY156=\"\",\"\",\"SampleRecordTest Id 47\")","v":""},null,{"$f":"IF(BY156=\"\",\"\",_xlfn.CONCAT(\"<Data><CM_QARetainedDel_200Diff>\",CO1257,\"</CM_QARetainedDel_200Diff><CM_QARetainedDel_200Lab>\",CO1258,\"</CM_QARetainedDel_200Lab><CM_QARetainedDel_200QA>\",CO1259,\"</CM_QARetainedDel_200QA><CM_QARetainedDel_ChertDiff>\",CO1260,\"</CM_QARetainedDel_ChertDiff><CM_QARetainedDel_ChertLab>\",CO1261,\"</CM_QARetainedDel_ChertLab><CM_QARetainedDel_ChertQA>\",CO1262,\"</CM_QARetainedDel_ChertQA><CM_QARetainedDel_ClaySHDiff>\",CO1263,\"</CM_QARetainedDel_ClaySHDiff><CM_QARetainedDel_ClaySHLab>\",CO1264,\"</CM_QARetainedDel_ClaySHLab><CM_QARetainedDel_ClaySHQA>\",CO1265,\"</CM_QARetainedDel_ClaySHQA><CM_QARetainedDel_CLDiff>\",CO1266,\"</CM_QARetainedDel_CLDiff><CM_QARetainedDel_CLLab>\",CO1267,\"</CM_QARetainedDel_CLLab><CM_QARetainedDel_CLQA>\",CO1268,\"</CM_QARetainedDel_CLQA><CM_QARetainedDel_CUDDiff>\",CO1269,\"</CM_QARetainedDel_CUDDiff><CM_QARetainedDel_CUDLab>\",CO1270,\"</CM_QARetainedDel_CUDLab><CM_QARetainedDel_CUDQA>\",CO1271,\"</CM_QARetainedDel_CUDQA><CM_QARetainedDel_DelRockDiff>\",CO1272,\"</CM_QARetainedDel_DelRockDiff><CM_QARetainedDel_DelRockLab>\",CO1273,\"</CM_QARetainedDel_DelRockLab><CM_QARetainedDel_DelRockQA>\",CO1274,\"</CM_QARetainedDel_DelRockQA><CM_QARetainedDel_MbShDiff>\",CO1275,\"</CM_QARetainedDel_MbShDiff><CM_QARetainedDel_MbShLab>\",CO1276,\"</CM_QARetainedDel_MbShLab><CM_QARetainedDel_MbShQA>\",CO1277,\"</CM_QARetainedDel_MbShQA><CM_QARetainedDel_Note>\",CO1278,\"</CM_QARetainedDel_Note><CM_QARetainedDel_OFMDiff>\",CO1279,\"</CM_QARetainedDel_OFMDiff><CM_QARetainedDel_OFMLab>\",CO1280,\"</CM_QARetainedDel_OFMLab><CM_QARetainedDel_OFMQA>\",CO1281,\"</CM_QARetainedDel_OFMQA><CM_QARetainedDel_PH1>\",CO1282,\"</CM_QARetainedDel_PH1><CM_QARetainedDel_PH2>\",CO1283,\"</CM_QARetainedDel_PH2><CM_QARetainedDel_PH3>\",CO1284,\"</CM_QARetainedDel_PH3><CM_QARetainedDel_PH4>\",CO1285,\"</CM_QARetainedDel_PH4><CM_QARetainedDel_ShaleDiff>\",CO1286,\"</CM_QARetainedDel_ShaleDiff><CM_QARetainedDel_ShaleLab>\",CO1287,\"</CM_QARetainedDel_ShaleLab><CM_QARetainedDel_ShaleQA>\",CO1288,\"</CM_QARetainedDel_ShaleQA><CM_QARetainedDel_TDelDiff>\",CO1289,\"</CM_QARetainedDel_TDelDiff><CM_QARetainedDel_TDelLab>\",CO1290,\"</CM_QARetainedDel_TDelLab><CM_QARetainedDel_TDelQA>\",CO1291,\"</CM_QARetainedDel_TDelQA><CM_QARetainedDel_TEDiff>\",CO1292,\"</CM_QARetainedDel_TEDiff><CM_QARetainedDel_TELab>\",CO1293,\"</CM_QARetainedDel_TELab><CM_QARetainedDel_TEQA>\",CO1294,\"</CM_QARetainedDel_TEQA><CM_QARetainedDel_Title_Label>\",CO1295,\"</CM_QARetainedDel_Title_Label><CM_QARetainedDel_TotalLwDiff>\",CO1296,\"</CM_QARetainedDel_TotalLwDiff><CM_QARetainedDel_TotalLwLab>\",CO1297,\"</CM_QARetainedDel_TotalLwLab><CM_QARetainedDel_TotalLwQA>\",CO1298,\"</CM_QARetainedDel_TotalLwQA></Data>\"))","v":""},"","","","",null,null,null,null,null,null,null,"",null,{"$f":"IF(BY7=\"\",\"\",\"AgencyEntityInsData Id 154\")","v":""},{"$f":"IF(BY7=\"\",\"\",\"AgencyEntityInstance Id 5\")","v":""},{"$f":"IF(BY7=\"\",\"\",\"cm_base_grad_T7_spec_05_no_200_min\")","v":""},{"$f":"IF(BY7=\"\",\"\",\"0\")","v":""},{"$f":"IF(BY7=\"\",\"\",TODAY())","v":""},{"$f":"IF(BY7=\"\",\"\",\"WTSYSTEMUSER\")","v":""},{"$f":"IF(BY7=\"\",\"\",TODAY())","v":""},{"$f":"IF(BY7=\"\",\"\",\"WTSYSTEMUSER\")","v":""}]
[null,null,null,null,null,null,null,null,null,null,null,null,null,null,null,null,null,null,null,null,null,null,null,null,null,null,null,null,null,null,null,null,null,null,null,null,null,null,null,null,null,null,null,null,null,null,null,null,null,null,null,null,null,null,null,null,null,null,null,null,null,null,null,null,null,null,null,null,null,null,null,null,null,null,null,null,{"$f":"IF(AH50=\"\",\"\",\"AgencyEntityInstance Id 155\")","v":""},{"$f":"IF(BY157=\"\",\"\",VLOOKUP(\"CM_QARetainedDel\",'Send Sync'!$K$56:$L$96,2,FALSE))","v":""},{"$f":"IF(BY157=\"\",\"\",\"SampleRecordTest Id 48\")","v":""},null,{"$f":"IF(BY157=\"\",\"\",_xlfn.CONCAT(\"<Data><CM_QARetainedDel_200Diff>\",CO1299,\"</CM_QARetainedDel_200Diff><CM_QARetainedDel_200Lab>\",CO1300,\"</CM_QARetainedDel_200Lab><CM_QARetainedDel_200QA>\",CO1301,\"</CM_QARetainedDel_200QA><CM_QARetainedDel_ChertDiff>\",CO1302,\"</CM_QARetainedDel_ChertDiff><CM_QARetainedDel_ChertLab>\",CO1303,\"</CM_QARetainedDel_ChertLab><CM_QARetainedDel_ChertQA>\",CO1304,\"</CM_QARetainedDel_ChertQA><CM_QARetainedDel_ClaySHDiff>\",CO1305,\"</CM_QARetainedDel_ClaySHDiff><CM_QARetainedDel_ClaySHLab>\",CO1306,\"</CM_QARetainedDel_ClaySHLab><CM_QARetainedDel_ClaySHQA>\",CO1307,\"</CM_QARetainedDel_ClaySHQA><CM_QARetainedDel_CLDiff>\",CO1308,\"</CM_QARetainedDel_CLDiff><CM_QARetainedDel_CLLab>\",CO1309,\"</CM_QARetainedDel_CLLab><CM_QARetainedDel_CLQA>\",CO1310,\"</CM_QARetainedDel_CLQA><CM_QARetainedDel_CUDDiff>\",CO1311,\"</CM_QARetainedDel_CUDDiff><CM_QARetainedDel_CUDLab>\",CO1312,\"</CM_QARetainedDel_CUDLab><CM_QARetainedDel_CUDQA>\",CO1313,\"</CM_QARetainedDel_CUDQA><CM_QARetainedDel_DelRockDiff>\",CO1314,\"</CM_QARetainedDel_DelRockDiff><CM_QARetainedDel_DelRockLab>\",CO1315,\"</CM_QARetainedDel_DelRockLab><CM_QARetainedDel_DelRockQA>\",CO1316,\"</CM_QARetainedDel_DelRockQA><CM_QARetainedDel_MbShDiff>\",CO1317,\"</CM_QARetainedDel_MbShDiff><CM_QARetainedDel_MbShLab>\",CO1318,\"</CM_QARetainedDel_MbShLab><CM_QARetainedDel_MbShQA>\",CO1319,\"</CM_QARetainedDel_MbShQA><CM_QARetainedDel_Note>\",CO1320,\"</CM_QARetainedDel_Note><CM_QARetainedDel_OFMDiff>\",CO1321,\"</CM_QARetainedDel_OFMDiff><CM_QARetainedDel_OFMLab>\",CO1322,\"</CM_QARetainedDel_OFMLab><CM_QARetainedDel_OFMQA>\",CO1323,\"</CM_QARetainedDel_OFMQA><CM_QARetainedDel_PH1>\",CO1324,\"</CM_QARetainedDel_PH1><CM_QARetainedDel_PH2>\",CO1325,\"</CM_QARetainedDel_PH2><CM_QARetainedDel_PH3>\",CO1326,\"</CM_QARetainedDel_PH3><CM_QARetainedDel_PH4>\",CO1327,\"</CM_QARetainedDel_PH4><CM_QARetainedDel_ShaleDiff>\",CO1328,\"</CM_QARetainedDel_ShaleDiff><CM_QARetainedDel_ShaleLab>\",CO1329,\"</CM_QARetainedDel_ShaleLab><CM_QARetainedDel_ShaleQA>\",CO1330,\"</CM_QARetainedDel_ShaleQA><CM_QARetainedDel_TDelDiff>\",CO1331,\"</CM_QARetainedDel_TDelDiff><CM_QARetainedDel_TDelLab>\",CO1332,\"</CM_QARetainedDel_TDelLab><CM_QARetainedDel_TDelQA>\",CO1333,\"</CM_QARetainedDel_TDelQA><CM_QARetainedDel_TEDiff>\",CO1334,\"</CM_QARetainedDel_TEDiff><CM_QARetainedDel_TELab>\",CO1335,\"</CM_QARetainedDel_TELab><CM_QARetainedDel_TEQA>\",CO1336,\"</CM_QARetainedDel_TEQA><CM_QARetainedDel_Title_Label>\",CO1337,\"</CM_QARetainedDel_Title_Label><CM_QARetainedDel_TotalLwDiff>\",CO1338,\"</CM_QARetainedDel_TotalLwDiff><CM_QARetainedDel_TotalLwLab>\",CO1339,\"</CM_QARetainedDel_TotalLwLab><CM_QARetainedDel_TotalLwQA>\",CO1340,\"</CM_QARetainedDel_TotalLwQA></Data>\"))","v":""},"","","","",null,null,null,null,null,null,null,"",null,{"$f":"IF(BY8=\"\",\"\",\"AgencyEntityInsData Id 155\")","v":""},{"$f":"IF(BY8=\"\",\"\",\"AgencyEntityInstance Id 6\")","v":""},{"$f":"IF(BY8=\"\",\"\",\"cm_base_grad_T7_01_1pt5_inch\")","v":""},{"$f":"IF(BY8=\"\",\"\",IF('Test 1'!$AH25=0,\"\",'Test 1'!$AH25))","v":""},{"$f":"IF(BY8=\"\",\"\",TODAY())","v":""},{"$f":"IF(BY8=\"\",\"\",\"WTSYSTEMUSER\")","v":""},{"$f":"IF(BY8=\"\",\"\",TODAY())","v":""},{"$f":"IF(BY8=\"\",\"\",\"WTSYSTEMUSER\")","v":""}]
[null,null,null,null,null,null,null,null,null,null,null,null,null,null,null,null,null,null,null,null,null,null,null,null,null,null,null,null,null,null,null,null,null,null,null,null,null,null,null,null,null,null,null,null,null,null,null,null,null,null,null,null,null,null,null,null,null,null,null,null,null,null,null,null,null,null,null,null,null,null,null,null,null,null,null,null,{"$f":"IF(AH51=\"\",\"\",\"AgencyEntityInstance Id 156\")","v":""},{"$f":"IF(BY158=\"\",\"\",VLOOKUP(\"CM_QCQA_AbsComp\",'Send Sync'!$K$56:$L$96,2,FALSE))","v":""},{"$f":"IF(BY158=\"\",\"\",\"SampleRecordTest Id 49\")","v":""},null,{"$f":"IF(BY158=\"\",\"\",_xlfn.CONCAT(\"<Data><CM_QCQA_AbsComp_Abs_QA>\",CO1341,\"</CM_QCQA_AbsComp_Abs_QA><CM_QCQA_AbsComp_Abs_QC>\",CO1342,\"</CM_QCQA_AbsComp_Abs_QC><CM_QCQA_AbsComp_Diff>\",CO1343,\"</CM_QCQA_AbsComp_Diff><CM_QCQA_AbsComp_MaterialType>\",CO1344,\"</CM_QCQA_AbsComp_MaterialType><CM_QCQA_AbsComp_PH1>\",CO1345,\"</CM_QCQA_AbsComp_PH1><CM_QCQA_AbsComp_PH2>\",CO1346,\"</CM_QCQA_AbsComp_PH2><CM_QCQA_AbsComp_PH3>\",CO1347,\"</CM_QCQA_AbsComp_PH3><CM_QCQA_AbsComp_PH4>\",CO1348,\"</CM_QCQA_AbsComp_PH4><CM_QCQA_AbsComp_PH5>\",CO1349,\"</CM_QCQA_AbsComp_PH5><CM_QCQA_AbsComp_PH6>\",CO1350,\"</CM_QCQA_AbsComp_PH6><CM_QCQA_AbsComp_Title_Label>\",CO1351,\"</CM_QCQA_AbsComp_Title_Label><CM_QCQA_AbsComp_WtDryQA>\",CO1352,\"</CM_QCQA_AbsComp_WtDryQA><CM_QCQA_AbsComp_WtDryQC>\",CO1353,\"</CM_QCQA_AbsComp_WtDryQC><CM_QCQA_AbsComp_WtSurfDryQA>\",CO1354,\"</CM_QCQA_AbsComp_WtSurfDryQA><CM_QCQA_AbsComp_WtSurfDryQC>\",CO1355,\"</CM_QCQA_AbsComp_WtSurfDryQC></Data>\"))","v":""},"","","","",null,null,null,null,null,null,null,"",null,{"$f":"IF(BY8=\"\",\"\",\"AgencyEntityInsData Id 156\")","v":""},{"$f":"IF(BY8=\"\",\"\",\"AgencyEntityInstance Id 6\")","v":""},{"$f":"IF(BY8=\"\",\"\",\"cm_base_grad_T7_02_inch\")","v":""},{"$f":"IF(BY8=\"\",\"\",IF('Test 1'!$AH26=0,\"\",'Test 1'!$AH26))","v":""},{"$f":"IF(BY8=\"\",\"\",TODAY())","v":""},{"$f":"IF(BY8=\"\",\"\",\"WTSYSTEMUSER\")","v":""},{"$f":"IF(BY8=\"\",\"\",TODAY())","v":""},{"$f":"IF(BY8=\"\",\"\",\"WTSYSTEMUSER\")","v":""}]
[null,null,null,null,null,null,null,null,null,null,null,null,null,null,null,null,null,null,null,null,null,null,null,null,null,null,null,null,null,null,null,null,null,null,null,null,null,null,null,null,null,null,null,null,null,null,null,null,null,null,null,null,null,null,null,null,null,null,null,null,null,null,null,null,null,null,null,null,null,null,null,null,null,null,null,null,{"$f":"IF(AH52=\"\",\"\",\"AgencyEntityInstance Id 157\")","v":""},{"$f":"IF(BY159=\"\",\"\",VLOOKUP(\"CM_QCQA_AbsComp\",'Send Sync'!$K$56:$L$96,2,FALSE))","v":""},{"$f":"IF(BY159=\"\",\"\",\"SampleRecordTest Id 50\")","v":""},null,{"$f":"IF(BY159=\"\",\"\",_xlfn.CONCAT(\"<Data><CM_QCQA_AbsComp_Abs_QA>\",CO1356,\"</CM_QCQA_AbsComp_Abs_QA><CM_QCQA_AbsComp_Abs_QC>\",CO1357,\"</CM_QCQA_AbsComp_Abs_QC><CM_QCQA_AbsComp_Diff>\",CO1358,\"</CM_QCQA_AbsComp_Diff><CM_QCQA_AbsComp_MaterialType>\",CO1359,\"</CM_QCQA_AbsComp_MaterialType><CM_QCQA_AbsComp_PH1>\",CO1360,\"</CM_QCQA_AbsComp_PH1><CM_QCQA_AbsComp_PH2>\",CO1361,\"</CM_QCQA_AbsComp_PH2><CM_QCQA_AbsComp_PH3>\",CO1362,\"</CM_QCQA_AbsComp_PH3><CM_QCQA_AbsComp_PH4>\",CO1363,\"</CM_QCQA_AbsComp_PH4><CM_QCQA_AbsComp_PH5>\",CO1364,\"</CM_QCQA_AbsComp_PH5><CM_QCQA_AbsComp_PH6>\",CO1365,\"</CM_QCQA_AbsComp_PH6><CM_QCQA_AbsComp_Title_Label>\",CO1366,\"</CM_QCQA_AbsComp_Title_Label><CM_QCQA_AbsComp_WtDryQA>\",CO1367,\"</CM_QCQA_AbsComp_WtDryQA><CM_QCQA_AbsComp_WtDryQC>\",CO1368,\"</CM_QCQA_AbsComp_WtDryQC><CM_QCQA_AbsComp_WtSurfDryQA>\",CO1369,\"</CM_QCQA_AbsComp_WtSurfDryQA><CM_QCQA_AbsComp_WtSurfDryQC>\",CO1370,\"</CM_QCQA_AbsComp_WtSurfDryQC></Data>\"))","v":""},"","","","",null,null,null,null,null,null,null,"",null,{"$f":"IF(BY8=\"\",\"\",\"AgencyEntityInsData Id 157\")","v":""},{"$f":"IF(BY8=\"\",\"\",\"AgencyEntityInstance Id 6\")","v":""},{"$f":"IF(BY8=\"\",\"\",\"cm_base_grad_T7_03_no_8\")","v":""},{"$f":"IF(BY8=\"\",\"\",IF('Test 1'!$AH27=0,\"\",'Test 1'!$AH27))","v":""},{"$f":"IF(BY8=\"\",\"\",TODAY())","v":""},{"$f":"IF(BY8=\"\",\"\",\"WTSYSTEMUSER\")","v":""},{"$f":"IF(BY8=\"\",\"\",TODAY())","v":""},{"$f":"IF(BY8=\"\",\"\",\"WTSYSTEMUSER\")","v":""}]
[null,null,null,null,null,null,null,null,null,null,null,null,null,null,null,null,null,null,null,null,null,null,null,null,null,null,null,null,null,null,null,null,null,null,null,null,null,null,null,null,null,null,null,null,null,null,null,null,null,null,null,null,null,null,null,null,null,null,null,null,null,null,null,null,null,null,null,null,null,null,null,null,null,null,null,null,{"$f":"IF(AH53=\"\",\"\",\"AgencyEntityInstance Id 158\")","v":""},{"$f":"IF(BY160=\"\",\"\",VLOOKUP(\"CM_QCQABaseCompData\",'Send Sync'!$K$56:$L$96,2,FALSE))","v":""},{"$f":"IF(BY160=\"\",\"\",\"SampleRecordTest Id 51\")","v":""},null,{"$f":"IF(BY160=\"\",\"\",_xlfn.CONCAT(\"<Data><CM_QCQABaseCompData1_Diff>\",CO1371,\"</CM_QCQABaseCompData1_Diff><CM_QCQABaseCompData1_QA>\",CO1372,\"</CM_QCQABaseCompData1_QA><CM_QCQABaseCompData1_QC>\",CO1373,\"</CM_QCQABaseCompData1_QC><CM_QCQABaseCompData1and1half_Diff>\",CO1374,\"</CM_QCQABaseCompData1and1half_Diff><CM_QCQABaseCompData1and1half_QA>\",CO1375,\"</CM_QCQABaseCompData1and1half_QA><CM_QCQABaseCompData1and1half_QC>\",CO1376,\"</CM_QCQABaseCompData1and1half_QC><CM_QCQABaseCompData1half_Diff>\",CO1377,\"</CM_QCQABaseCompData1half_Diff><CM_QCQABaseCompData1half_QA>\",CO1378,\"</CM_QCQABaseCompData1half_QA><CM_QCQABaseCompData1half_QC>\",CO1379,\"</CM_QCQABaseCompData1half_QC><CM_QCQABaseCompData3Quarters_Diff>\",CO1380,\"</CM_QCQABaseCompData3Quarters_Diff><CM_QCQABaseCompData3Quarters_QA>\",CO1381,\"</CM_QCQABaseCompData3Quarters_QA><CM_QCQABaseCompData3Quarters_QC>\",CO1382,\"</CM_QCQABaseCompData3Quarters_QC><CM_QCQABaseCompDataNum100_Diff>\",CO1383,\"</CM_QCQABaseCompDataNum100_Diff><CM_QCQABaseCompDataNum100_QA>\",CO1384,\"</CM_QCQABaseCompDataNum100_QA><CM_QCQABaseCompDataNum100_QC>\",CO1385,\"</CM_QCQABaseCompDataNum100_QC><CM_QCQABaseCompDataNum10_Diff>\",CO1386,\"</CM_QCQABaseCompDataNum10_Diff><CM_QCQABaseCompDataNum10_QA>\",CO1387,\"</CM_QCQABaseCompDataNum10_QA><CM_QCQABaseCompDataNum10_QC>\",CO1388,\"</CM_QCQABaseCompDataNum10_QC><CM_QCQABaseCompDataNum200_Diff>\",CO1389,\"</CM_QCQABaseCompDataNum200_Diff><CM_QCQABaseCompDataNum200_QA>\",CO1390,\"</CM_QCQABaseCompDataNum200_QA><CM_QCQABaseCompDataNum200_QC>\",CO1391,\"</CM_QCQABaseCompDataNum200_QC><CM_QCQABaseCompDataNum30_Diff>\",CO1392,\"</CM_QCQABaseCompDataNum30_Diff><CM_QCQABaseCompDataNum30_QA>\",CO1393,\"</CM_QCQABaseCompDataNum30_QA><CM_QCQABaseCompDataNum30_QC>\",CO1394,\"</CM_QCQABaseCompDataNum30_QC><CM_QCQABaseCompDataNum40_Diff>\",CO1395,\"</CM_QCQABaseCompDataNum40_Diff><CM_QCQABaseCompDataNum40_QA>\",CO1396,\"</CM_QCQABaseCompDataNum40_QA><CM_QCQABaseCompDataNum40_QC>\",CO1397,\"</CM_QCQABaseCompDataNum40_QC><CM_QCQABaseCompDataNum4_Diff>\",CO1398,\"</CM_QCQABaseCompDataNum4_Diff><CM_QCQABaseCompDataNum4_QA>\",CO1399,\"</CM_QCQABaseCompDataNum4_QA><CM_QCQABaseCompDataNum4_QC>\",CO1400,\"</CM_QCQABaseCompDataNum4_QC><CM_QCQABaseCompDataNum8_Diff>\",CO1401,\"</CM_QCQABaseCompDataNum8_Diff><CM_QCQABaseCompDataNum8_QA>\",CO1402,\"</CM_QCQABaseCompDataNum8_QA><CM_QCQABaseCompDataNum8_QC>\",CO1403,\"</CM_QCQABaseCompDataNum8_QC><CM_QCQABaseCompData_1Placeholder>\",CO1404,\"</CM_QCQABaseCompData_1Placeholder><CM_QCQABaseCompData_2Placeholder>\",CO1405,\"</CM_QCQABaseCompData_2Placeholder><CM_QCQABaseCompData_3Placeholder>\",CO1406,\"</CM_QCQABaseCompData_3Placeholder><CM_QCQABaseCompData_4Placeholder>\",CO1407,\"</CM_QCQABaseCompData_4Placeholder><CM_QCQABaseCompData_5Placeholder>\",CO1408,\"</CM_QCQABaseCompData_5Placeholder><CM_QCQABaseCompData_6Placeholder>\",CO1409,\"</CM_QCQABaseCompData_6Placeholder><CM_QCQABaseCompData_7Placeholder>\",CO1410,\"</CM_QCQABaseCompData_7Placeholder><CM_QCQABaseCompData_8Placeholder>\",CO1411,\"</CM_QCQABaseCompData_8Placeholder><CM_QCQABaseCompData_Del_Diff>\",CO1412,\"</CM_QCQABaseCompData_Del_Diff><CM_QCQABaseCompData_Del_QA>\",CO1413,\"</CM_QCQABaseCompData_Del_QA><CM_QCQABaseCompData_Del_QC>\",CO1414,\"</CM_QCQABaseCompData_Del_QC><CM_QCQABaseCompData_DensityDiff>\",CO1415,\"</CM_QCQABaseCompData_DensityDiff><CM_QCQABaseCompData_DensityQA>\",CO1416,\"</CM_QCQABaseCompData_DensityQA><CM_QCQABaseCompData_DensityQC>\",CO1417,\"</CM_QCQABaseCompData_DensityQC><CM_QCQABaseCompData_Moisture_QA>\",CO1418,\"</CM_QCQABaseCompData_Moisture_QA><CM_QCQABaseCompData_Moisture_QC>\",CO1419,\"</CM_QCQABaseCompData_Moisture_QC><CM_QCQABaseCompData_PI_Diff>\",CO1420,\"</CM_QCQABaseCompData_PI_Diff><CM_QCQABaseCompData_PI_QA>\",CO1421,\"</CM_QCQABaseCompData_PI_QA><CM_QCQABaseCompData_PI_QC>\",CO1422,\"</CM_QCQABaseCompData_PI_QC><CM_QCQABaseCompData_Subtitle_CompStd>\",CO1423,\"</CM_QCQABaseCompData_Subtitle_CompStd><CM_QCQABaseCompData_Subtitle_Del>\",CO1424,\"</CM_QCQABaseCompData_Subtitle_Del><CM_QCQABaseCompData_Subtitle_PI>\",CO1425,\"</CM_QCQABaseCompData_Subtitle_PI><CM_QCQABaseCompData_Subtitle_SieveAnalysis>\",CO1426,\"</CM_QCQABaseCompData_Subtitle_SieveAnalysis><CM_QCQABaseCompData_Title_Label>\",CO1427,\"</CM_QCQABaseCompData_Title_Label><CM_QCQABaseCompData_Tolerance1>\",CO1428,\"</CM_QCQABaseCompData_Tolerance1><CM_QCQABaseCompData_Tolerance10>\",CO1429,\"</CM_QCQABaseCompData_Tolerance10><CM_QCQABaseCompData_Tolerance11>\",CO1430,\"</CM_QCQABaseCompData_Tolerance11><CM_QCQABaseCompData_Tolerance12>\",CO1431,\"</CM_QCQABaseCompData_Tolerance12><CM_QCQABaseCompData_Tolerance13>\",CO1432,\"</CM_QCQABaseCompData_Tolerance13><CM_QCQABaseCompData_Tolerance14>\",CO1433,\"</CM_QCQABaseCompData_Tolerance14><CM_QCQABaseCompData_Tolerance2>\",CO1434,\"</CM_QCQABaseCompData_Tolerance2><CM_QCQABaseCompData_Tolerance3>\",CO1435,\"</CM_QCQABaseCompData_Tolerance3><CM_QCQABaseCompData_Tolerance4>\",CO1436,\"</CM_QCQABaseCompData_Tolerance4><CM_QCQABaseCompData_Tolerance5>\",CO1437,\"</CM_QCQABaseCompData_Tolerance5><CM_QCQABaseCompData_Tolerance6>\",CO1438,\"</CM_QCQABaseCompData_Tolerance6><CM_QCQABaseCompData_Tolerance7>\",CO1439,\"</CM_QCQABaseCompData_Tolerance7><CM_QCQABaseCompData_Tolerance8>\",CO1440,\"</CM_QCQABaseCompData_Tolerance8><CM_QCQABaseCompData_Tolerance9>\",CO1441,\"</CM_QCQABaseCompData_Tolerance9></Data>\"))","v":""},"","","","",null,null,null,null,null,null,null,"",null,{"$f":"IF(BY8=\"\",\"\",\"AgencyEntityInsData Id 158\")","v":""},{"$f":"IF(BY8=\"\",\"\",\"AgencyEntityInstance Id 6\")","v":""},{"$f":"IF(BY8=\"\",\"\",\"cm_base_grad_T7_05_no_200\")","v":""},{"$f":"IF(BY8=\"\",\"\",IF('Test 1'!$AH28=0,\"\",'Test 1'!$AH28))","v":""},{"$f":"IF(BY8=\"\",\"\",TODAY())","v":""},{"$f":"IF(BY8=\"\",\"\",\"WTSYSTEMUSER\")","v":""},{"$f":"IF(BY8=\"\",\"\",TODAY())","v":""},{"$f":"IF(BY8=\"\",\"\",\"WTSYSTEMUSER\")","v":""}]
[null,null,null,null,null,null,null,null,null,null,null,null,null,null,null,null,null,null,null,null,null,null,null,null,null,null,null,null,null,null,null,null,null,null,null,null,null,null,null,null,null,null,null,null,null,null,null,null,null,null,null,null,null,null,null,null,null,null,null,null,null,null,null,null,null,null,null,null,null,null,null,null,null,null,null,null,{"$f":"IF(AH54=\"\",\"\",\"AgencyEntityInstance Id 159\")","v":""},{"$f":"IF(BY161=\"\",\"\",VLOOKUP(\"CM_QCQABaseCompData\",'Send Sync'!$K$56:$L$96,2,FALSE))","v":""},{"$f":"IF(BY161=\"\",\"\",\"SampleRecordTest Id 52\")","v":""},null,{"$f":"IF(BY161=\"\",\"\",_xlfn.CONCAT(\"<Data><CM_QCQABaseCompData1_Diff>\",CO1442,\"</CM_QCQABaseCompData1_Diff><CM_QCQABaseCompData1_QA>\",CO1443,\"</CM_QCQABaseCompData1_QA><CM_QCQABaseCompData1_QC>\",CO1444,\"</CM_QCQABaseCompData1_QC><CM_QCQABaseCompData1and1half_Diff>\",CO1445,\"</CM_QCQABaseCompData1and1half_Diff><CM_QCQABaseCompData1and1half_QA>\",CO1446,\"</CM_QCQABaseCompData1and1half_QA><CM_QCQABaseCompData1and1half_QC>\",CO1447,\"</CM_QCQABaseCompData1and1half_QC><CM_QCQABaseCompData1half_Diff>\",CO1448,\"</CM_QCQABaseCompData1half_Diff><CM_QCQABaseCompData1half_QA>\",CO1449,\"</CM_QCQABaseCompData1half_QA><CM_QCQABaseCompData1half_QC>\",CO1450,\"</CM_QCQABaseCompData1half_QC><CM_QCQABaseCompData3Quarters_Diff>\",CO1451,\"</CM_QCQABaseCompData3Quarters_Diff><CM_QCQABaseCompData3Quarters_QA>\",CO1452,\"</CM_QCQABaseCompData3Quarters_QA><CM_QCQABaseCompData3Quarters_QC>\",CO1453,\"</CM_QCQABaseCompData3Quarters_QC><CM_QCQABaseCompDataNum100_Diff>\",CO1454,\"</CM_QCQABaseCompDataNum100_Diff><CM_QCQABaseCompDataNum100_QA>\",CO1455,\"</CM_QCQABaseCompDataNum100_QA><CM_QCQABaseCompDataNum100_QC>\",CO1456,\"</CM_QCQABaseCompDataNum100_QC><CM_QCQABaseCompDataNum10_Diff>\",CO1457,\"</CM_QCQABaseCompDataNum10_Diff><CM_QCQABaseCompDataNum10_QA>\",CO1458,\"</CM_QCQABaseCompDataNum10_QA><CM_QCQABaseCompDataNum10_QC>\",CO1459,\"</CM_QCQABaseCompDataNum10_QC><CM_QCQABaseCompDataNum200_Diff>\",CO1460,\"</CM_QCQABaseCompDataNum200_Diff><CM_QCQABaseCompDataNum200_QA>\",CO1461,\"</CM_QCQABaseCompDataNum200_QA><CM_QCQABaseCompDataNum200_QC>\",CO1462,\"</CM_QCQABaseCompDataNum200_QC><CM_QCQABaseCompDataNum30_Diff>\",CO1463,\"</CM_QCQABaseCompDataNum30_Diff><CM_QCQABaseCompDataNum30_QA>\",CO1464,\"</CM_QCQABaseCompDataNum30_QA><CM_QCQABaseCompDataNum30_QC>\",CO1465,\"</CM_QCQABaseCompDataNum30_QC><CM_QCQABaseCompDataNum40_Diff>\",CO1466,\"</CM_QCQABaseCompDataNum40_Diff><CM_QCQABaseCompDataNum40_QA>\",CO1467,\"</CM_QCQABaseCompDataNum40_QA><CM_QCQABaseCompDataNum40_QC>\",CO1468,\"</CM_QCQABaseCompDataNum40_QC><CM_QCQABaseCompDataNum4_Diff>\",CO1469,\"</CM_QCQABaseCompDataNum4_Diff><CM_QCQABaseCompDataNum4_QA>\",CO1470,\"</CM_QCQABaseCompDataNum4_QA><CM_QCQABaseCompDataNum4_QC>\",CO1471,\"</CM_QCQABaseCompDataNum4_QC><CM_QCQABaseCompDataNum8_Diff>\",CO1472,\"</CM_QCQABaseCompDataNum8_Diff><CM_QCQABaseCompDataNum8_QA>\",CO1473,\"</CM_QCQABaseCompDataNum8_QA><CM_QCQABaseCompDataNum8_QC>\",CO1474,\"</CM_QCQABaseCompDataNum8_QC><CM_QCQABaseCompData_1Placeholder>\",CO1475,\"</CM_QCQABaseCompData_1Placeholder><CM_QCQABaseCompData_2Placeholder>\",CO1476,\"</CM_QCQABaseCompData_2Placeholder><CM_QCQABaseCompData_3Placeholder>\",CO1477,\"</CM_QCQABaseCompData_3Placeholder><CM_QCQABaseCompData_4Placeholder>\",CO1478,\"</CM_QCQABaseCompData_4Placeholder><CM_QCQABaseCompData_5Placeholder>\",CO1479,\"</CM_QCQABaseCompData_5Placeholder><CM_QCQABaseCompData_6Placeholder>\",CO1480,\"</CM_QCQABaseCompData_6Placeholder><CM_QCQABaseCompData_7Placeholder>\",CO1481,\"</CM_QCQABaseCompData_7Placeholder><CM_QCQABaseCompData_8Placeholder>\",CO1482,\"</CM_QCQABaseCompData_8Placeholder><CM_QCQABaseCompData_Del_Diff>\",CO1483,\"</CM_QCQABaseCompData_Del_Diff><CM_QCQABaseCompData_Del_QA>\",CO1484,\"</CM_QCQABaseCompData_Del_QA><CM_QCQABaseCompData_Del_QC>\",CO1485,\"</CM_QCQABaseCompData_Del_QC><CM_QCQABaseCompData_DensityDiff>\",CO1486,\"</CM_QCQABaseCompData_DensityDiff><CM_QCQABaseCompData_DensityQA>\",CO1487,\"</CM_QCQABaseCompData_DensityQA><CM_QCQABaseCompData_DensityQC>\",CO1488,\"</CM_QCQABaseCompData_DensityQC><CM_QCQABaseCompData_Moisture_QA>\",CO1489,\"</CM_QCQABaseCompData_Moisture_QA><CM_QCQABaseCompData_Moisture_QC>\",CO1490,\"</CM_QCQABaseCompData_Moisture_QC><CM_QCQABaseCompData_PI_Diff>\",CO1491,\"</CM_QCQABaseCompData_PI_Diff><CM_QCQABaseCompData_PI_QA>\",CO1492,\"</CM_QCQABaseCompData_PI_QA><CM_QCQABaseCompData_PI_QC>\",CO1493,\"</CM_QCQABaseCompData_PI_QC><CM_QCQABaseCompData_Subtitle_CompStd>\",CO1494,\"</CM_QCQABaseCompData_Subtitle_CompStd><CM_QCQABaseCompData_Subtitle_Del>\",CO1495,\"</CM_QCQABaseCompData_Subtitle_Del><CM_QCQABaseCompData_Subtitle_PI>\",CO1496,\"</CM_QCQABaseCompData_Subtitle_PI><CM_QCQABaseCompData_Subtitle_SieveAnalysis>\",CO1497,\"</CM_QCQABaseCompData_Subtitle_SieveAnalysis><CM_QCQABaseCompData_Title_Label>\",CO1498,\"</CM_QCQABaseCompData_Title_Label><CM_QCQABaseCompData_Tolerance1>\",CO1499,\"</CM_QCQABaseCompData_Tolerance1><CM_QCQABaseCompData_Tolerance10>\",CO1500,\"</CM_QCQABaseCompData_Tolerance10><CM_QCQABaseCompData_Tolerance11>\",CO1501,\"</CM_QCQABaseCompData_Tolerance11><CM_QCQABaseCompData_Tolerance12>\",CO1502,\"</CM_QCQABaseCompData_Tolerance12><CM_QCQABaseCompData_Tolerance13>\",CO1503,\"</CM_QCQABaseCompData_Tolerance13><CM_QCQABaseCompData_Tolerance14>\",CO1504,\"</CM_QCQABaseCompData_Tolerance14><CM_QCQABaseCompData_Tolerance2>\",CO1505,\"</CM_QCQABaseCompData_Tolerance2><CM_QCQABaseCompData_Tolerance3>\",CO1506,\"</CM_QCQABaseCompData_Tolerance3><CM_QCQABaseCompData_Tolerance4>\",CO1507,\"</CM_QCQABaseCompData_Tolerance4><CM_QCQABaseCompData_Tolerance5>\",CO1508,\"</CM_QCQABaseCompData_Tolerance5><CM_QCQABaseCompData_Tolerance6>\",CO1509,\"</CM_QCQABaseCompData_Tolerance6><CM_QCQABaseCompData_Tolerance7>\",CO1510,\"</CM_QCQABaseCompData_Tolerance7><CM_QCQABaseCompData_Tolerance8>\",CO1511,\"</CM_QCQABaseCompData_Tolerance8><CM_QCQABaseCompData_Tolerance9>\",CO1512,\"</CM_QCQABaseCompData_Tolerance9></Data>\"))","v":""},"","","","",null,null,null,null,null,null,null,"",null,{"$f":"IF(BY8=\"\",\"\",\"AgencyEntityInsData Id 159\")","v":""},{"$f":"IF(BY8=\"\",\"\",\"AgencyEntityInstance Id 6\")","v":""},{"$f":"IF(BY8=\"\",\"\",\"cm_base_grad_T7_08_station_1\")","v":""},{"$f":"IF(BY8=\"\",\"\",IF('Test 1'!F18=0,\"\",'Test 1'!F18))","v":""},{"$f":"IF(BY8=\"\",\"\",TODAY())","v":""},{"$f":"IF(BY8=\"\",\"\",\"WTSYSTEMUSER\")","v":""},{"$f":"IF(BY8=\"\",\"\",TODAY())","v":""},{"$f":"IF(BY8=\"\",\"\",\"WTSYSTEMUSER\")","v":""}]
[null,null,null,null,null,null,null,null,null,null,null,null,null,null,null,null,null,null,null,null,null,null,null,null,null,null,null,null,null,null,null,null,null,null,null,null,null,null,null,null,null,null,null,null,null,null,null,null,null,null,null,null,null,null,null,null,null,null,null,null,null,null,null,null,null,null,null,null,null,null,null,null,null,null,null,null,null,null,null,null,null,{"$f":"IF(BY162=\"\",\"\",TODAY())","v":""},{"$f":"IF(BY162=\"\",\"\",\"WTSYSTEMUSER\")","v":""},{"$f":"IF(BY162=\"\",\"\",TODAY())","v":""},{"$f":"IF(BY162=\"\",\"\",\"WTSYSTEMUSER\")","v":""},null,null,null,null,null,null,null,"",null,{"$f":"IF(BY8=\"\",\"\",\"AgencyEntityInsData Id 160\")","v":""},{"$f":"IF(BY8=\"\",\"\",\"AgencyEntityInstance Id 6\")","v":""},{"$f":"IF(BY8=\"\",\"\",\"cm_base_grad_T7_09_station_2\")","v":""},{"$f":"IF(BY8=\"\",\"\",IF('Test 1'!J18=0,\"\",'Test 1'!J18))","v":""},{"$f":"IF(BY8=\"\",\"\",TODAY())","v":""},{"$f":"IF(BY8=\"\",\"\",\"WTSYSTEMUSER\")","v":""},{"$f":"IF(BY8=\"\",\"\",TODAY())","v":""},{"$f":"IF(BY8=\"\",\"\",\"WTSYSTEMUSER\")","v":""}]
[null,null,null,null,null,null,null,null,null,null,null,null,null,null,null,null,null,null,null,null,null,null,null,null,null,null,null,null,null,null,null,null,null,null,null,null,null,null,null,null,null,null,null,null,null,null,null,null,null,null,null,null,null,null,null,null,null,null,null,null,null,null,null,null,null,null,null,null,null,null,null,null,null,null,null,null,null,null,null,null,null,null,null,null,null,null,null,null,null,null,null,null,"",null,{"$f":"IF(BY8=\"\",\"\",\"AgencyEntityInsData Id 161\")","v":""},{"$f":"IF(BY8=\"\",\"\",\"AgencyEntityInstance Id 6\")","v":""},{"$f":"IF(BY8=\"\",\"\",\"cm_base_grad_T7_10_centerline_location\")","v":""},{"$f":"IF(BY8=\"\",\"\",IF('Test 1'!I19=\"\",\"\",'Test 1'!I19))","v":""},{"$f":"IF(BY8=\"\",\"\",TODAY())","v":""},{"$f":"IF(BY8=\"\",\"\",\"WTSYSTEMUSER\")","v":""},{"$f":"IF(BY8=\"\",\"\",TODAY())","v":""},{"$f":"IF(BY8=\"\",\"\",\"WTSYSTEMUSER\")","v":""}]
[null,null,null,null,null,null,null,null,null,null,null,null,null,null,null,null,null,null,null,null,null,null,null,null,null,null,null,null,null,null,null,null,null,null,null,null,null,null,null,null,null,null,null,null,null,null,null,null,null,null,null,null,null,null,null,null,null,null,null,null,null,null,null,null,null,null,null,null,null,null,null,null,null,null,null,null,null,null,null,null,null,null,null,null,null,null,null,null,null,null,null,null,"",null,{"$f":"IF(BY8=\"\",\"\",\"AgencyEntityInsData Id 162\")","v":""},{"$f":"IF(BY8=\"\",\"\",\"AgencyEntityInstance Id 6\")","v":""},{"$f":"IF(BY8=\"\",\"\",\"cm_base_grad_T7_11_tested_by\")","v":""},{"$f":"IF(BY8=\"\",\"\",IF('Test 1'!H13=\"\",\"\",'Test 1'!H13))","v":""},{"$f":"IF(BY8=\"\",\"\",TODAY())","v":""},{"$f":"IF(BY8=\"\",\"\",\"WTSYSTEMUSER\")","v":""},{"$f":"IF(BY8=\"\",\"\",TODAY())","v":""},{"$f":"IF(BY8=\"\",\"\",\"WTSYSTEMUSER\")","v":""}]
[null,null,null,null,null,null,null,null,null,null,null,null,null,null,null,null,null,null,null,null,null,null,null,null,null,null,null,null,null,null,null,null,null,null,null,null,null,null,null,null,null,null,null,null,null,null,null,null,null,null,null,null,null,null,null,null,null,null,null,null,null,null,null,null,null,null,null,null,null,null,null,null,null,null,null,null,null,null,null,null,null,null,null,null,null,null,null,null,null,null,null,null,"",null,{"$f":"IF(BY8=\"\",\"\",\"AgencyEntityInsData Id 163\")","v":""},{"$f":"IF(BY8=\"\",\"\",\"AgencyEntityInstance Id 6\")","v":""},{"$f":"IF(BY8=\"\",\"\",\"cm_base_grad_T7_label_01_1pt5_inch\")","v":""},{"$f":"IF(BY8=\"\",\"\",\"1 1/2\"\" (37.5 mm)\")","v":""},{"$f":"IF(BY8=\"\",\"\",TODAY())","v":""},{"$f":"IF(BY8=\"\",\"\",\"WTSYSTEMUSER\")","v":""},{"$f":"IF(BY8=\"\",\"\",TODAY())","v":""},{"$f":"IF(BY8=\"\",\"\",\"WTSYSTEMUSER\")","v":""}]
[null,null,null,null,null,null,null,null,null,null,null,null,null,null,null,null,null,null,null,null,null,null,null,null,null,null,null,null,null,null,null,null,null,null,null,null,null,null,null,null,null,null,null,null,null,null,null,null,null,null,null,null,null,null,null,null,null,null,null,null,null,null,null,null,null,null,null,null,null,null,null,null,null,null,null,null,null,null,null,null,null,null,null,null,null,null,null,null,null,null,null,null,"",null,{"$f":"IF(BY8=\"\",\"\",\"AgencyEntityInsData Id 164\")","v":""},{"$f":"IF(BY8=\"\",\"\",\"AgencyEntityInstance Id 6\")","v":""},{"$f":"IF(BY8=\"\",\"\",\"cm_base_grad_T7_label_02_inch\")","v":""},{"$f":"IF(BY8=\"\",\"\",\"1\"\" (25.0 mm)\")","v":""},{"$f":"IF(BY8=\"\",\"\",TODAY())","v":""},{"$f":"IF(BY8=\"\",\"\",\"WTSYSTEMUSER\")","v":""},{"$f":"IF(BY8=\"\",\"\",TODAY())","v":""},{"$f":"IF(BY8=\"\",\"\",\"WTSYSTEMUSER\")","v":""}]
[null,null,null,null,null,null,null,null,null,null,null,null,null,null,null,null,null,null,null,null,null,null,null,null,null,null,null,null,null,null,null,null,null,null,null,null,null,null,null,null,null,null,null,null,null,null,null,null,null,null,null,null,null,null,null,null,null,null,null,null,null,null,null,null,null,null,null,null,null,null,null,null,null,null,null,null,null,null,null,null,null,null,null,null,null,null,null,null,null,null,null,null,"",null,{"$f":"IF(BY8=\"\",\"\",\"AgencyEntityInsData Id 165\")","v":""},{"$f":"IF(BY8=\"\",\"\",\"AgencyEntityInstance Id 6\")","v":""},{"$f":"IF(BY8=\"\",\"\",\"cm_base_grad_T7_label_03_no_8\")","v":""},{"$f":"IF(BY8=\"\",\"\",\"No. 8 (2.36 mm)\")","v":""},{"$f":"IF(BY8=\"\",\"\",TODAY())","v":""},{"$f":"IF(BY8=\"\",\"\",\"WTSYSTEMUSER\")","v":""},{"$f":"IF(BY8=\"\",\"\",TODAY())","v":""},{"$f":"IF(BY8=\"\",\"\",\"WTSYSTEMUSER\")","v":""}]
[null,null,null,null,null,null,null,null,null,null,null,null,null,null,null,null,null,null,null,null,null,null,null,null,null,null,null,null,null,null,null,null,null,null,null,null,null,null,null,null,null,null,null,null,null,null,null,null,null,null,null,null,null,null,null,null,null,null,null,null,null,null,null,null,null,null,null,null,null,null,null,null,null,null,null,null,null,null,null,null,null,null,null,null,null,null,null,null,null,null,null,null,"",null,{"$f":"IF(BY8=\"\",\"\",\"AgencyEntityInsData Id 166\")","v":""},{"$f":"IF(BY8=\"\",\"\",\"AgencyEntityInstance Id 6\")","v":""},{"$f":"IF(BY8=\"\",\"\",\"cm_base_grad_T7_label_05_no_200\")","v":""},{"$f":"IF(BY8=\"\",\"\",\"No. 200 (75 microns)\")","v":""},{"$f":"IF(BY8=\"\",\"\",TODAY())","v":""},{"$f":"IF(BY8=\"\",\"\",\"WTSYSTEMUSER\")","v":""},{"$f":"IF(BY8=\"\",\"\",TODAY())","v":""},{"$f":"IF(BY8=\"\",\"\",\"WTSYSTEMUSER\")","v":""}]
[null,null,null,null,null,null,null,null,null,null,null,null,null,null,null,null,null,null,null,null,null,null,null,null,null,null,null,null,null,null,null,null,null,null,null,null,null,null,null,null,null,null,null,null,null,null,null,null,null,null,null,null,null,null,null,null,null,null,null,null,null,null,null,null,null,null,null,null,null,null,null,null,null,null,null,null,null,null,null,null,null,null,null,null,null,null,null,null,null,null,null,null,"",null,{"$f":"IF(BY8=\"\",\"\",\"AgencyEntityInsData Id 167\")","v":""},{"$f":"IF(BY8=\"\",\"\",\"AgencyEntityInstance Id 6\")","v":""},{"$f":"IF(BY8=\"\",\"\",\"cm_base_grad_T7_label_06\")","v":""},{"$f":"IF(BY8=\"\",\"\",\"Station\")","v":""},{"$f":"IF(BY8=\"\",\"\",TODAY())","v":""},{"$f":"IF(BY8=\"\",\"\",\"WTSYSTEMUSER\")","v":""},{"$f":"IF(BY8=\"\",\"\",TODAY())","v":""},{"$f":"IF(BY8=\"\",\"\",\"WTSYSTEMUSER\")","v":""}]
[null,null,null,null,null,null,null,null,null,null,null,null,null,null,null,null,null,null,null,null,null,null,null,null,null,null,null,null,null,null,null,null,null,null,null,null,null,null,null,null,null,null,null,null,null,null,null,null,null,null,null,null,null,null,null,null,null,null,null,null,null,null,null,null,null,null,null,null,null,null,null,null,null,null,null,null,null,null,null,null,null,null,null,null,null,null,null,null,null,null,null,null,"",null,{"$f":"IF(BY8=\"\",\"\",\"AgencyEntityInsData Id 168\")","v":""},{"$f":"IF(BY8=\"\",\"\",\"AgencyEntityInstance Id 6\")","v":""},{"$f":"IF(BY8=\"\",\"\",\"cm_base_grad_T7_label_07\")","v":""},{"$f":"IF(BY8=\"\",\"\",\"+\")","v":""},{"$f":"IF(BY8=\"\",\"\",TODAY())","v":""},{"$f":"IF(BY8=\"\",\"\",\"WTSYSTEMUSER\")","v":""},{"$f":"IF(BY8=\"\",\"\",TODAY())","v":""},{"$f":"IF(BY8=\"\",\"\",\"WTSYSTEMUSER\")","v":""}]
[null,null,null,null,null,null,null,null,null,null,null,null,null,null,null,null,null,null,null,null,null,null,null,null,null,null,null,null,null,null,null,null,null,null,null,null,null,null,null,null,null,null,null,null,null,null,null,null,null,null,null,null,null,null,null,null,null,null,null,null,null,null,null,null,null,null,null,null,null,null,null,null,null,null,null,null,null,null,null,null,null,null,null,null,null,null,null,null,null,null,null,null,"",null,{"$f":"IF(BY8=\"\",\"\",\"AgencyEntityInsData Id 169\")","v":""},{"$f":"IF(BY8=\"\",\"\",\"AgencyEntityInstance Id 6\")","v":""},{"$f":"IF(BY8=\"\",\"\",\"cm_base_grad_T7_label_08\")","v":""},{"$f":"IF(BY8=\"\",\"\",\"Location R/L of Centerline\")","v":""},{"$f":"IF(BY8=\"\",\"\",TODAY())","v":""},{"$f":"IF(BY8=\"\",\"\",\"WTSYSTEMUSER\")","v":""},{"$f":"IF(BY8=\"\",\"\",TODAY())","v":""},{"$f":"IF(BY8=\"\",\"\",\"WTSYSTEMUSER\")","v":""}]
[null,null,null,null,null,null,null,null,null,null,null,null,null,null,null,null,null,null,null,null,null,null,null,null,null,null,null,null,null,null,null,null,null,null,null,null,null,null,null,null,null,null,null,null,null,null,null,null,null,null,null,null,null,null,null,null,null,null,null,null,null,null,null,null,null,null,null,null,null,null,null,null,null,null,null,null,null,null,null,null,null,null,null,null,null,null,null,null,null,null,null,null,"",null,{"$f":"IF(BY8=\"\",\"\",\"AgencyEntityInsData Id 170\")","v":""},{"$f":"IF(BY8=\"\",\"\",\"AgencyEntityInstance Id 6\")","v":""},{"$f":"IF(BY8=\"\",\"\",\"cm_base_grad_T7_label_09\")","v":""},{"$f":"IF(BY8=\"\",\"\",\"Test Performed By\")","v":""},{"$f":"IF(BY8=\"\",\"\",TODAY())","v":""},{"$f":"IF(BY8=\"\",\"\",\"WTSYSTEMUSER\")","v":""},{"$f":"IF(BY8=\"\",\"\",TODAY())","v":""},{"$f":"IF(BY8=\"\",\"\",\"WTSYSTEMUSER\")","v":""}]
[null,null,null,null,null,null,null,null,null,null,null,null,null,null,null,null,null,null,null,null,null,null,null,null,null,null,null,null,null,null,null,null,null,null,null,null,null,null,null,null,null,null,null,null,null,null,null,null,null,null,null,null,null,null,null,null,null,null,null,null,null,null,null,null,null,null,null,null,null,null,null,null,null,null,null,null,null,null,null,null,null,null,null,null,null,null,null,null,null,null,null,null,"",null,{"$f":"IF(BY8=\"\",\"\",\"AgencyEntityInsData Id 171\")","v":""},{"$f":"IF(BY8=\"\",\"\",\"AgencyEntityInstance Id 6\")","v":""},{"$f":"IF(BY8=\"\",\"\",\"cm_base_grad_T7_spec_01_1pt5_inch_max\")","v":""},{"$f":"IF(BY8=\"\",\"\",\"100\")","v":""},{"$f":"IF(BY8=\"\",\"\",TODAY())","v":""},{"$f":"IF(BY8=\"\",\"\",\"WTSYSTEMUSER\")","v":""},{"$f":"IF(BY8=\"\",\"\",TODAY())","v":""},{"$f":"IF(BY8=\"\",\"\",\"WTSYSTEMUSER\")","v":""}]
[null,null,null,null,null,null,null,null,null,null,null,null,null,null,null,null,null,null,null,null,null,null,null,null,null,null,null,null,null,null,null,null,null,null,null,null,null,null,null,null,null,null,null,null,null,null,null,null,null,null,null,null,null,null,null,null,null,null,null,null,null,null,null,null,null,null,null,null,null,null,null,null,null,null,null,null,null,null,null,null,null,null,null,null,null,null,null,null,null,null,null,null,"",null,{"$f":"IF(BY8=\"\",\"\",\"AgencyEntityInsData Id 172\")","v":""},{"$f":"IF(BY8=\"\",\"\",\"AgencyEntityInstance Id 6\")","v":""},{"$f":"IF(BY8=\"\",\"\",\"cm_base_grad_T7_spec_01_1pt5_inch_min\")","v":""},{"$f":"IF(BY8=\"\",\"\",\"100\")","v":""},{"$f":"IF(BY8=\"\",\"\",TODAY())","v":""},{"$f":"IF(BY8=\"\",\"\",\"WTSYSTEMUSER\")","v":""},{"$f":"IF(BY8=\"\",\"\",TODAY())","v":""},{"$f":"IF(BY8=\"\",\"\",\"WTSYSTEMUSER\")","v":""}]
[null,null,null,null,null,null,null,null,null,null,null,null,null,null,null,null,null,null,null,null,null,null,null,null,null,null,null,null,null,null,null,null,null,null,null,null,null,null,null,null,null,null,null,null,null,null,null,null,null,null,null,null,null,null,null,null,null,null,null,null,null,null,null,null,null,null,null,null,null,null,null,null,null,null,null,null,null,null,null,null,null,null,null,null,null,null,null,null,null,null,null,null,"",null,{"$f":"IF(BY8=\"\",\"\",\"AgencyEntityInsData Id 173\")","v":""},{"$f":"IF(BY8=\"\",\"\",\"AgencyEntityInstance Id 6\")","v":""},{"$f":"IF(BY8=\"\",\"\",\"cm_base_grad_T7_spec_02_inch_max\")","v":""},{"$f":"IF(BY8=\"\",\"\",\"100\")","v":""},{"$f":"IF(BY8=\"\",\"\",TODAY())","v":""},{"$f":"IF(BY8=\"\",\"\",\"WTSYSTEMUSER\")","v":""},{"$f":"IF(BY8=\"\",\"\",TODAY())","v":""},{"$f":"IF(BY8=\"\",\"\",\"WTSYSTEMUSER\")","v":""}]
[null,null,null,null,null,null,null,null,null,null,null,null,null,null,null,null,null,null,null,null,null,null,null,null,null,null,null,null,null,null,null,null,null,null,null,null,null,null,null,null,null,null,null,null,null,null,null,null,null,null,null,null,null,null,null,null,null,null,null,null,null,null,null,null,null,null,null,null,null,null,null,null,null,null,null,null,null,null,null,null,null,null,null,null,null,null,null,null,null,null,null,null,"",null,{"$f":"IF(BY8=\"\",\"\",\"AgencyEntityInsData Id 174\")","v":""},{"$f":"IF(BY8=\"\",\"\",\"AgencyEntityInstance Id 6\")","v":""},{"$f":"IF(BY8=\"\",\"\",\"cm_base_grad_T7_spec_02_inch_min\")","v":""},{"$f":"IF(BY8=\"\",\"\",\"70\")","v":""},{"$f":"IF(BY8=\"\",\"\",TODAY())","v":""},{"$f":"IF(BY8=\"\",\"\",\"WTSYSTEMUSER\")","v":""},{"$f":"IF(BY8=\"\",\"\",TODAY())","v":""},{"$f":"IF(BY8=\"\",\"\",\"WTSYSTEMUSER\")","v":""}]
[null,null,null,null,null,null,null,null,null,null,null,null,null,null,null,null,null,null,null,null,null,null,null,null,null,null,null,null,null,null,null,null,null,null,null,null,null,null,null,null,null,null,null,null,null,null,null,null,null,null,null,null,null,null,null,null,null,null,null,null,null,null,null,null,null,null,null,null,null,null,null,null,null,null,null,null,null,null,null,null,null,null,null,null,null,null,null,null,null,null,null,null,"",null,{"$f":"IF(BY8=\"\",\"\",\"AgencyEntityInsData Id 175\")","v":""},{"$f":"IF(BY8=\"\",\"\",\"AgencyEntityInstance Id 6\")","v":""},{"$f":"IF(BY8=\"\",\"\",\"cm_base_grad_T7_spec_03_no_8_max\")","v":""},{"$f":"IF(BY8=\"\",\"\",\"50\")","v":""},{"$f":"IF(BY8=\"\",\"\",TODAY())","v":""},{"$f":"IF(BY8=\"\",\"\",\"WTSYSTEMUSER\")","v":""},{"$f":"IF(BY8=\"\",\"\",TODAY())","v":""},{"$f":"IF(BY8=\"\",\"\",\"WTSYSTEMUSER\")","v":""}]
[null,null,null,null,null,null,null,null,null,null,null,null,null,null,null,null,null,null,null,null,null,null,null,null,null,null,null,null,null,null,null,null,null,null,null,null,null,null,null,null,null,null,null,null,null,null,null,null,null,null,null,null,null,null,null,null,null,null,null,null,null,null,null,null,null,null,null,null,null,null,null,null,null,null,null,null,null,null,null,null,null,null,null,null,null,null,null,null,null,null,null,null,"",null,{"$f":"IF(BY8=\"\",\"\",\"AgencyEntityInsData Id 176\")","v":""},{"$f":"IF(BY8=\"\",\"\",\"AgencyEntityInstance Id 6\")","v":""},{"$f":"IF(BY8=\"\",\"\",\"cm_base_grad_T7_spec_03_no_8_min\")","v":""},{"$f":"IF(BY8=\"\",\"\",\"15\")","v":""},{"$f":"IF(BY8=\"\",\"\",TODAY())","v":""},{"$f":"IF(BY8=\"\",\"\",\"WTSYSTEMUSER\")","v":""},{"$f":"IF(BY8=\"\",\"\",TODAY())","v":""},{"$f":"IF(BY8=\"\",\"\",\"WTSYSTEMUSER\")","v":""}]
[null,null,null,null,null,null,null,null,null,null,null,null,null,null,null,null,null,null,null,null,null,null,null,null,null,null,null,null,null,null,null,null,null,null,null,null,null,null,null,null,null,null,null,null,null,null,null,null,null,null,null,null,null,null,null,null,null,null,null,null,null,null,null,null,null,null,null,null,null,null,null,null,null,null,null,null,null,null,null,null,null,null,null,null,null,null,null,null,null,null,null,null,"",null,{"$f":"IF(BY8=\"\",\"\",\"AgencyEntityInsData Id 177\")","v":""},{"$f":"IF(BY8=\"\",\"\",\"AgencyEntityInstance Id 6\")","v":""},{"$f":"IF(BY8=\"\",\"\",\"cm_base_grad_T7_spec_05_no_200_max\")","v":""},{"$f":"IF(BY8=\"\",\"\",\"12\")","v":""},{"$f":"IF(BY8=\"\",\"\",TODAY())","v":""},{"$f":"IF(BY8=\"\",\"\",\"WTSYSTEMUSER\")","v":""},{"$f":"IF(BY8=\"\",\"\",TODAY())","v":""},{"$f":"IF(BY8=\"\",\"\",\"WTSYSTEMUSER\")","v":""}]
[null,null,null,null,null,null,null,null,null,null,null,null,null,null,null,null,null,null,null,null,null,null,null,null,null,null,null,null,null,null,null,null,null,null,null,null,null,null,null,null,null,null,null,null,null,null,null,null,null,null,null,null,null,null,null,null,null,null,null,null,null,null,null,null,null,null,null,null,null,null,null,null,null,null,null,null,null,null,null,null,null,null,null,null,null,null,null,null,null,null,null,null,"",null,{"$f":"IF(BY8=\"\",\"\",\"AgencyEntityInsData Id 178\")","v":""},{"$f":"IF(BY8=\"\",\"\",\"AgencyEntityInstance Id 6\")","v":""},{"$f":"IF(BY8=\"\",\"\",\"cm_base_grad_T7_spec_05_no_200_min\")","v":""},{"$f":"IF(BY8=\"\",\"\",\"0\")","v":""},{"$f":"IF(BY8=\"\",\"\",TODAY())","v":""},{"$f":"IF(BY8=\"\",\"\",\"WTSYSTEMUSER\")","v":""},{"$f":"IF(BY8=\"\",\"\",TODAY())","v":""},{"$f":"IF(BY8=\"\",\"\",\"WTSYSTEMUSER\")","v":""}]
[null,null,null,null,null,null,null,null,null,null,null,null,null,null,null,null,null,null,null,null,null,null,null,null,null,null,null,null,null,null,null,null,null,null,null,null,null,null,null,null,null,null,null,null,null,null,null,null,null,null,null,null,null,null,null,null,null,null,null,null,null,null,null,null,null,null,null,null,null,null,null,null,null,null,null,null,null,null,null,null,null,null,null,null,null,null,null,null,null,null,null,null,"",null,{"$f":"IF(BY9=\"\",\"\",\"AgencyEntityInsData Id 179\")","v":""},{"$f":"IF(BY9=\"\",\"\",\"AgencyEntityInstance Id 7\")","v":""},{"$f":"IF(BY9=\"\",\"\",\"cm_base_grad_T7_01_1pt5_inch\")","v":""},{"$f":"IF(BY9=\"\",\"\",IF('Test 1'!$AI25=0,\"\",'Test 1'!$AI25))","v":""},{"$f":"IF(BY9=\"\",\"\",TODAY())","v":""},{"$f":"IF(BY9=\"\",\"\",\"WTSYSTEMUSER\")","v":""},{"$f":"IF(BY9=\"\",\"\",TODAY())","v":""},{"$f":"IF(BY9=\"\",\"\",\"WTSYSTEMUSER\")","v":""}]
[null,null,null,null,null,null,null,null,null,null,null,null,null,null,null,null,null,null,null,null,null,null,null,null,null,null,null,null,null,null,null,null,null,null,null,null,null,null,null,null,null,null,null,null,null,null,null,null,null,null,null,null,null,null,null,null,null,null,null,null,null,null,null,null,null,null,null,null,null,null,null,null,null,null,null,null,null,null,null,null,null,null,null,null,null,null,null,null,null,null,null,null,"",null,{"$f":"IF(BY9=\"\",\"\",\"AgencyEntityInsData Id 180\")","v":""},{"$f":"IF(BY9=\"\",\"\",\"AgencyEntityInstance Id 7\")","v":""},{"$f":"IF(BY9=\"\",\"\",\"cm_base_grad_T7_02_inch\")","v":""},{"$f":"IF(BY9=\"\",\"\",IF('Test 1'!$AI26=0,\"\",'Test 1'!$AI26))","v":""},{"$f":"IF(BY9=\"\",\"\",TODAY())","v":""},{"$f":"IF(BY9=\"\",\"\",\"WTSYSTEMUSER\")","v":""},{"$f":"IF(BY9=\"\",\"\",TODAY())","v":""},{"$f":"IF(BY9=\"\",\"\",\"WTSYSTEMUSER\")","v":""}]
[null,null,null,null,null,null,null,null,null,null,null,null,null,null,null,null,null,null,null,null,null,null,null,null,null,null,null,null,null,null,null,null,null,null,null,null,null,null,null,null,null,null,null,null,null,null,null,null,null,null,null,null,null,null,null,null,null,null,null,null,null,null,null,null,null,null,null,null,null,null,null,null,null,null,null,null,null,null,null,null,null,null,null,null,null,null,null,null,null,null,null,null,"",null,{"$f":"IF(BY9=\"\",\"\",\"AgencyEntityInsData Id 181\")","v":""},{"$f":"IF(BY9=\"\",\"\",\"AgencyEntityInstance Id 7\")","v":""},{"$f":"IF(BY9=\"\",\"\",\"cm_base_grad_T7_03_no_8\")","v":""},{"$f":"IF(BY9=\"\",\"\",IF('Test 1'!$AI27=0,\"\",'Test 1'!$AI27))","v":""},{"$f":"IF(BY9=\"\",\"\",TODAY())","v":""},{"$f":"IF(BY9=\"\",\"\",\"WTSYSTEMUSER\")","v":""},{"$f":"IF(BY9=\"\",\"\",TODAY())","v":""},{"$f":"IF(BY9=\"\",\"\",\"WTSYSTEMUSER\")","v":""}]
[null,null,null,null,null,null,null,null,null,null,null,null,null,null,null,null,null,null,null,null,null,null,null,null,null,null,null,null,null,null,null,null,null,null,null,null,null,null,null,null,null,null,null,null,null,null,null,null,null,null,null,null,null,null,null,null,null,null,null,null,null,null,null,null,null,null,null,null,null,null,null,null,null,null,null,null,null,null,null,null,null,null,null,null,null,null,null,null,null,null,null,null,"",null,{"$f":"IF(BY9=\"\",\"\",\"AgencyEntityInsData Id 182\")","v":""},{"$f":"IF(BY9=\"\",\"\",\"AgencyEntityInstance Id 7\")","v":""},{"$f":"IF(BY9=\"\",\"\",\"cm_base_grad_T7_05_no_200\")","v":""},{"$f":"IF(BY9=\"\",\"\",IF('Test 1'!$AI28=0,\"\",'Test 1'!$AI28))","v":""},{"$f":"IF(BY9=\"\",\"\",TODAY())","v":""},{"$f":"IF(BY9=\"\",\"\",\"WTSYSTEMUSER\")","v":""},{"$f":"IF(BY9=\"\",\"\",TODAY())","v":""},{"$f":"IF(BY9=\"\",\"\",\"WTSYSTEMUSER\")","v":""}]
[null,null,null,null,null,null,null,null,null,null,null,null,null,null,null,null,null,null,null,null,null,null,null,null,null,null,null,null,null,null,null,null,null,null,null,null,null,null,null,null,null,null,null,null,null,null,null,null,null,null,null,null,null,null,null,null,null,null,null,null,null,null,null,null,null,null,null,null,null,null,null,null,null,null,null,null,null,null,null,null,null,null,null,null,null,null,null,null,null,null,null,null,"",null,{"$f":"IF(BY9=\"\",\"\",\"AgencyEntityInsData Id 183\")","v":""},{"$f":"IF(BY9=\"\",\"\",\"AgencyEntityInstance Id 7\")","v":""},{"$f":"IF(BY9=\"\",\"\",\"cm_base_grad_T7_08_station_1\")","v":""},{"$f":"IF(BY9=\"\",\"\",IF('Test 1'!$F20=0,\"\",'Test 1'!$F20))","v":""},{"$f":"IF(BY9=\"\",\"\",TODAY())","v":""},{"$f":"IF(BY9=\"\",\"\",\"WTSYSTEMUSER\")","v":""},{"$f":"IF(BY9=\"\",\"\",TODAY())","v":""},{"$f":"IF(BY9=\"\",\"\",\"WTSYSTEMUSER\")","v":""}]
[null,null,null,null,null,null,null,null,null,null,null,null,null,null,null,null,null,null,null,null,null,null,null,null,null,null,null,null,null,null,null,null,null,null,null,null,null,null,null,null,null,null,null,null,null,null,null,null,null,null,null,null,null,null,null,null,null,null,null,null,null,null,null,null,null,null,null,null,null,null,null,null,null,null,null,null,null,null,null,null,null,null,null,null,null,null,null,null,null,null,null,null,"",null,{"$f":"IF(BY9=\"\",\"\",\"AgencyEntityInsData Id 184\")","v":""},{"$f":"IF(BY9=\"\",\"\",\"AgencyEntityInstance Id 7\")","v":""},{"$f":"IF(BY9=\"\",\"\",\"cm_base_grad_T7_09_station_2\")","v":""},{"$f":"IF(BY9=\"\",\"\",IF('Test 1'!J20=0,\"\",'Test 1'!J20))","v":""},{"$f":"IF(BY9=\"\",\"\",TODAY())","v":""},{"$f":"IF(BY9=\"\",\"\",\"WTSYSTEMUSER\")","v":""},{"$f":"IF(BY9=\"\",\"\",TODAY())","v":""},{"$f":"IF(BY9=\"\",\"\",\"WTSYSTEMUSER\")","v":""}]
[null,null,null,null,null,null,null,null,null,null,null,null,null,null,null,null,null,null,null,null,null,null,null,null,null,null,null,null,null,null,null,null,null,null,null,null,null,null,null,null,null,null,null,null,null,null,null,null,null,null,null,null,null,null,null,null,null,null,null,null,null,null,null,null,null,null,null,null,null,null,null,null,null,null,null,null,null,null,null,null,null,null,null,null,null,null,null,null,null,null,null,null,"",null,{"$f":"IF(BY9=\"\",\"\",\"AgencyEntityInsData Id 185\")","v":""},{"$f":"IF(BY9=\"\",\"\",\"AgencyEntityInstance Id 7\")","v":""},{"$f":"IF(BY9=\"\",\"\",\"cm_base_grad_T7_10_centerline_location\")","v":""},{"$f":"IF(BY9=\"\",\"\",IF('Test 1'!I21=\"\",\"\",'Test 1'!I21))","v":""},{"$f":"IF(BY9=\"\",\"\",TODAY())","v":""},{"$f":"IF(BY9=\"\",\"\",\"WTSYSTEMUSER\")","v":""},{"$f":"IF(BY9=\"\",\"\",TODAY())","v":""},{"$f":"IF(BY9=\"\",\"\",\"WTSYSTEMUSER\")","v":""}]
[null,null,null,null,null,null,null,null,null,null,null,null,null,null,null,null,null,null,null,null,null,null,null,null,null,null,null,null,null,null,null,null,null,null,null,null,null,null,null,null,null,null,null,null,null,null,null,null,null,null,null,null,null,null,null,null,null,null,null,null,null,null,null,null,null,null,null,null,null,null,null,null,null,null,null,null,null,null,null,null,null,null,null,null,null,null,null,null,null,null,null,null,"",null,{"$f":"IF(BY9=\"\",\"\",\"AgencyEntityInsData Id 186\")","v":""},{"$f":"IF(BY9=\"\",\"\",\"AgencyEntityInstance Id 7\")","v":""},{"$f":"IF(BY9=\"\",\"\",\"cm_base_grad_T7_11_tested_by\")","v":""},{"$f":"IF(BY9=\"\",\"\",IF('Test 1'!H13=\"\",\"\",'Test 1'!H13))","v":""},{"$f":"IF(BY9=\"\",\"\",TODAY())","v":""},{"$f":"IF(BY9=\"\",\"\",\"WTSYSTEMUSER\")","v":""},{"$f":"IF(BY9=\"\",\"\",TODAY())","v":""},{"$f":"IF(BY9=\"\",\"\",\"WTSYSTEMUSER\")","v":""}]
[null,null,null,null,null,null,null,null,null,null,null,null,null,null,null,null,null,null,null,null,null,null,null,null,null,null,null,null,null,null,null,null,null,null,null,null,null,null,null,null,null,null,null,null,null,null,null,null,null,null,null,null,null,null,null,null,null,null,null,null,null,null,null,null,null,null,null,null,null,null,null,null,null,null,null,null,null,null,null,null,null,null,null,null,null,null,null,null,null,null,null,null,"",null,{"$f":"IF(BY9=\"\",\"\",\"AgencyEntityInsData Id 187\")","v":""},{"$f":"IF(BY9=\"\",\"\",\"AgencyEntityInstance Id 7\")","v":""},{"$f":"IF(BY9=\"\",\"\",\"cm_base_grad_T7_label_01_1pt5_inch\")","v":""},{"$f":"IF(BY9=\"\",\"\",\"1 1/2\"\" (37.5 mm)\")","v":""},{"$f":"IF(BY9=\"\",\"\",TODAY())","v":""},{"$f":"IF(BY9=\"\",\"\",\"WTSYSTEMUSER\")","v":""},{"$f":"IF(BY9=\"\",\"\",TODAY())","v":""},{"$f":"IF(BY9=\"\",\"\",\"WTSYSTEMUSER\")","v":""}]
[null,null,null,null,null,null,null,null,null,null,null,null,null,null,null,null,null,null,null,null,null,null,null,null,null,null,null,null,null,null,null,null,null,null,null,null,null,null,null,null,null,null,null,null,null,null,null,null,null,null,null,null,null,null,null,null,null,null,null,null,null,null,null,null,null,null,null,null,null,null,null,null,null,null,null,null,null,null,null,null,null,null,null,null,null,null,null,null,null,null,null,null,"",null,{"$f":"IF(BY9=\"\",\"\",\"AgencyEntityInsData Id 188\")","v":""},{"$f":"IF(BY9=\"\",\"\",\"AgencyEntityInstance Id 7\")","v":""},{"$f":"IF(BY9=\"\",\"\",\"cm_base_grad_T7_label_02_inch\")","v":""},{"$f":"IF(BY9=\"\",\"\",\"1\"\" (25.0 mm)\")","v":""},{"$f":"IF(BY9=\"\",\"\",TODAY())","v":""},{"$f":"IF(BY9=\"\",\"\",\"WTSYSTEMUSER\")","v":""},{"$f":"IF(BY9=\"\",\"\",TODAY())","v":""},{"$f":"IF(BY9=\"\",\"\",\"WTSYSTEMUSER\")","v":""}]
[null,null,null,null,null,null,null,null,null,null,null,null,null,null,null,null,null,null,null,null,null,null,null,null,null,null,null,null,null,null,null,null,null,null,null,null,null,null,null,null,null,null,null,null,null,null,null,null,null,null,null,null,null,null,null,null,null,null,null,null,null,null,null,null,null,null,null,null,null,null,null,null,null,null,null,null,null,null,null,null,null,null,null,null,null,null,null,null,null,null,null,null,"",null,{"$f":"IF(BY9=\"\",\"\",\"AgencyEntityInsData Id 189\")","v":""},{"$f":"IF(BY9=\"\",\"\",\"AgencyEntityInstance Id 7\")","v":""},{"$f":"IF(BY9=\"\",\"\",\"cm_base_grad_T7_label_03_no_8\")","v":""},{"$f":"IF(BY9=\"\",\"\",\"No. 8 (2.36 mm)\")","v":""},{"$f":"IF(BY9=\"\",\"\",TODAY())","v":""},{"$f":"IF(BY9=\"\",\"\",\"WTSYSTEMUSER\")","v":""},{"$f":"IF(BY9=\"\",\"\",TODAY())","v":""},{"$f":"IF(BY9=\"\",\"\",\"WTSYSTEMUSER\")","v":""}]
[null,null,null,null,null,null,null,null,null,null,null,null,null,null,null,null,null,null,null,null,null,null,null,null,null,null,null,null,null,null,null,null,null,null,null,null,null,null,null,null,null,null,null,null,null,null,null,null,null,null,null,null,null,null,null,null,null,null,null,null,null,null,null,null,null,null,null,null,null,null,null,null,null,null,null,null,null,null,null,null,null,null,null,null,null,null,null,null,null,null,null,null,"",null,{"$f":"IF(BY9=\"\",\"\",\"AgencyEntityInsData Id 190\")","v":""},{"$f":"IF(BY9=\"\",\"\",\"AgencyEntityInstance Id 7\")","v":""},{"$f":"IF(BY9=\"\",\"\",\"cm_base_grad_T7_label_05_no_200\")","v":""},{"$f":"IF(BY9=\"\",\"\",\"No. 200 (75 microns)\")","v":""},{"$f":"IF(BY9=\"\",\"\",TODAY())","v":""},{"$f":"IF(BY9=\"\",\"\",\"WTSYSTEMUSER\")","v":""},{"$f":"IF(BY9=\"\",\"\",TODAY())","v":""},{"$f":"IF(BY9=\"\",\"\",\"WTSYSTEMUSER\")","v":""}]
[null,null,null,null,null,null,null,null,null,null,null,null,null,null,null,null,null,null,null,null,null,null,null,null,null,null,null,null,null,null,null,null,null,null,null,null,null,null,null,null,null,null,null,null,null,null,null,null,null,null,null,null,null,null,null,null,null,null,null,null,null,null,null,null,null,null,null,null,null,null,null,null,null,null,null,null,null,null,null,null,null,null,null,null,null,null,null,null,null,null,null,null,"",null,{"$f":"IF(BY9=\"\",\"\",\"AgencyEntityInsData Id 191\")","v":""},{"$f":"IF(BY9=\"\",\"\",\"AgencyEntityInstance Id 7\")","v":""},{"$f":"IF(BY9=\"\",\"\",\"cm_base_grad_T7_label_06\")","v":""},{"$f":"IF(BY9=\"\",\"\",\"Station\")","v":""},{"$f":"IF(BY9=\"\",\"\",TODAY())","v":""},{"$f":"IF(BY9=\"\",\"\",\"WTSYSTEMUSER\")","v":""},{"$f":"IF(BY9=\"\",\"\",TODAY())","v":""},{"$f":"IF(BY9=\"\",\"\",\"WTSYSTEMUSER\")","v":""}]
[null,null,null,null,null,null,null,null,null,null,null,null,null,null,null,null,null,null,null,null,null,null,null,null,null,null,null,null,null,null,null,null,null,null,null,null,null,null,null,null,null,null,null,null,null,null,null,null,null,null,null,null,null,null,null,null,null,null,null,null,null,null,null,null,null,null,null,null,null,null,null,null,null,null,null,null,null,null,null,null,null,null,null,null,null,null,null,null,null,null,null,null,"",null,{"$f":"IF(BY9=\"\",\"\",\"AgencyEntityInsData Id 192\")","v":""},{"$f":"IF(BY9=\"\",\"\",\"AgencyEntityInstance Id 7\")","v":""},{"$f":"IF(BY9=\"\",\"\",\"cm_base_grad_T7_label_07\")","v":""},{"$f":"IF(BY9=\"\",\"\",\"+\")","v":""},{"$f":"IF(BY9=\"\",\"\",TODAY())","v":""},{"$f":"IF(BY9=\"\",\"\",\"WTSYSTEMUSER\")","v":""},{"$f":"IF(BY9=\"\",\"\",TODAY())","v":""},{"$f":"IF(BY9=\"\",\"\",\"WTSYSTEMUSER\")","v":""}]
[null,null,null,null,null,null,null,null,null,null,null,null,null,null,null,null,null,null,null,null,null,null,null,null,null,null,null,null,null,null,null,null,null,null,null,null,null,null,null,null,null,null,null,null,null,null,null,null,null,null,null,null,null,null,null,null,null,null,null,null,null,null,null,null,null,null,null,null,null,null,null,null,null,null,null,null,null,null,null,null,null,null,null,null,null,null,null,null,null,null,null,null,"",null,{"$f":"IF(BY9=\"\",\"\",\"AgencyEntityInsData Id 193\")","v":""},{"$f":"IF(BY9=\"\",\"\",\"AgencyEntityInstance Id 7\")","v":""},{"$f":"IF(BY9=\"\",\"\",\"cm_base_grad_T7_label_08\")","v":""},{"$f":"IF(BY9=\"\",\"\",\"Location R/L of Centerline\")","v":""},{"$f":"IF(BY9=\"\",\"\",TODAY())","v":""},{"$f":"IF(BY9=\"\",\"\",\"WTSYSTEMUSER\")","v":""},{"$f":"IF(BY9=\"\",\"\",TODAY())","v":""},{"$f":"IF(BY9=\"\",\"\",\"WTSYSTEMUSER\")","v":""}]
[null,null,null,null,null,null,null,null,null,null,null,null,null,null,null,null,null,null,null,null,null,null,null,null,null,null,null,null,null,null,null,null,null,null,null,null,null,null,null,null,null,null,null,null,null,null,null,null,null,null,null,null,null,null,null,null,null,null,null,null,null,null,null,null,null,null,null,null,null,null,null,null,null,null,null,null,null,null,null,null,null,null,null,null,null,null,null,null,null,null,null,null,{"$f":"IF(CT196=\"\",\"\",SUBSTITUTE(SUBSTITUTE(SUBSTITUTE(SUBSTITUTE(SUBSTITUTE(CT196,\"&\",\"&amp;\"),\">\",\"&gt;\"),\"<\",\"&lt;\"),\"'\",\"&#39;\"),\"\"\"\",\"&quot;\"))","v":""},null,{"$f":"IF(BY9=\"\",\"\",\"AgencyEntityInsData Id 194\")","v":""},{"$f":"IF(BY9=\"\",\"\",\"AgencyEntityInstance Id 7\")","v":""},{"$f":"IF(BY9=\"\",\"\",\"cm_base_grad_T7_label_09\")","v":""},{"$f":"IF(BY9=\"\",\"\",\"Test Performed By\")","v":""},{"$f":"IF(BY9=\"\",\"\",TODAY())","v":""},{"$f":"IF(BY9=\"\",\"\",\"WTSYSTEMUSER\")","v":""},{"$f":"IF(BY9=\"\",\"\",TODAY())","v":""},{"$f":"IF(BY9=\"\",\"\",\"WTSYSTEMUSER\")","v":""}]
[null,null,null,null,null,null,null,null,null,null,null,null,null,null,null,null,null,null,null,null,null,null,null,null,null,null,null,null,null,null,null,null,null,null,null,null,null,null,null,null,null,null,null,null,null,null,null,null,null,null,null,null,null,null,null,null,null,null,null,null,null,null,null,null,null,null,null,null,null,null,null,null,null,null,null,null,null,null,null,null,null,null,null,null,null,null,null,null,null,null,null,null,"",null,{"$f":"IF(BY9=\"\",\"\",\"AgencyEntityInsData Id 195\")","v":""},{"$f":"IF(BY9=\"\",\"\",\"AgencyEntityInstance Id 7\")","v":""},{"$f":"IF(BY9=\"\",\"\",\"cm_base_grad_T7_spec_01_1pt5_inch_max\")","v":""},{"$f":"IF(BY9=\"\",\"\",\"100\")","v":""},{"$f":"IF(BY9=\"\",\"\",TODAY())","v":""},{"$f":"IF(BY9=\"\",\"\",\"WTSYSTEMUSER\")","v":""},{"$f":"IF(BY9=\"\",\"\",TODAY())","v":""},{"$f":"IF(BY9=\"\",\"\",\"WTSYSTEMUSER\")","v":""}]
[null,null,null,null,null,null,null,null,null,null,null,null,null,null,null,null,null,null,null,null,null,null,null,null,null,null,null,null,null,null,null,null,null,null,null,null,null,null,null,null,null,null,null,null,null,null,null,null,null,null,null,null,null,null,null,null,null,null,null,null,null,null,null,null,null,null,null,null,null,null,null,null,null,null,null,null,null,null,null,null,null,null,null,null,null,null,null,null,null,null,null,null,"",null,{"$f":"IF(BY9=\"\",\"\",\"AgencyEntityInsData Id 196\")","v":""},{"$f":"IF(BY9=\"\",\"\",\"AgencyEntityInstance Id 7\")","v":""},{"$f":"IF(BY9=\"\",\"\",\"cm_base_grad_T7_spec_01_1pt5_inch_min\")","v":""},{"$f":"IF(BY9=\"\",\"\",\"100\")","v":""},{"$f":"IF(BY9=\"\",\"\",TODAY())","v":""},{"$f":"IF(BY9=\"\",\"\",\"WTSYSTEMUSER\")","v":""},{"$f":"IF(BY9=\"\",\"\",TODAY())","v":""},{"$f":"IF(BY9=\"\",\"\",\"WTSYSTEMUSER\")","v":""}]
[null,null,null,null,null,null,null,null,null,null,null,null,null,null,null,null,null,null,null,null,null,null,null,null,null,null,null,null,null,null,null,null,null,null,null,null,null,null,null,null,null,null,null,null,null,null,null,null,null,null,null,null,null,null,null,null,null,null,null,null,null,null,null,null,null,null,null,null,null,null,null,null,null,null,null,null,null,null,null,null,null,null,null,null,null,null,null,null,null,null,null,null,"",null,{"$f":"IF(BY9=\"\",\"\",\"AgencyEntityInsData Id 197\")","v":""},{"$f":"IF(BY9=\"\",\"\",\"AgencyEntityInstance Id 7\")","v":""},{"$f":"IF(BY9=\"\",\"\",\"cm_base_grad_T7_spec_02_inch_max\")","v":""},{"$f":"IF(BY9=\"\",\"\",\"100\")","v":""},{"$f":"IF(BY9=\"\",\"\",TODAY())","v":""},{"$f":"IF(BY9=\"\",\"\",\"WTSYSTEMUSER\")","v":""},{"$f":"IF(BY9=\"\",\"\",TODAY())","v":""},{"$f":"IF(BY9=\"\",\"\",\"WTSYSTEMUSER\")","v":""}]
[null,null,null,null,null,null,null,null,null,null,null,null,null,null,null,null,null,null,null,null,null,null,null,null,null,null,null,null,null,null,null,null,null,null,null,null,null,null,null,null,null,null,null,null,null,null,null,null,null,null,null,null,null,null,null,null,null,null,null,null,null,null,null,null,null,null,null,null,null,null,null,null,null,null,null,null,null,null,null,null,null,null,null,null,null,null,null,null,null,null,null,null,"",null,{"$f":"IF(BY9=\"\",\"\",\"AgencyEntityInsData Id 198\")","v":""},{"$f":"IF(BY9=\"\",\"\",\"AgencyEntityInstance Id 7\")","v":""},{"$f":"IF(BY9=\"\",\"\",\"cm_base_grad_T7_spec_02_inch_min\")","v":""},{"$f":"IF(BY9=\"\",\"\",\"70\")","v":""},{"$f":"IF(BY9=\"\",\"\",TODAY())","v":""},{"$f":"IF(BY9=\"\",\"\",\"WTSYSTEMUSER\")","v":""},{"$f":"IF(BY9=\"\",\"\",TODAY())","v":""},{"$f":"IF(BY9=\"\",\"\",\"WTSYSTEMUSER\")","v":""}]
[null,null,null,null,null,null,null,null,null,null,null,null,null,null,null,null,null,null,null,null,null,null,null,null,null,null,null,null,null,null,null,null,null,null,null,null,null,null,null,null,null,null,null,null,null,null,null,null,null,null,null,null,null,null,null,null,null,null,null,null,null,null,null,null,null,null,null,null,null,null,null,null,null,null,null,null,null,null,null,null,null,null,null,null,null,null,null,null,null,null,null,null,"",null,{"$f":"IF(BY9=\"\",\"\",\"AgencyEntityInsData Id 199\")","v":""},{"$f":"IF(BY9=\"\",\"\",\"AgencyEntityInstance Id 7\")","v":""},{"$f":"IF(BY9=\"\",\"\",\"cm_base_grad_T7_spec_03_no_8_max\")","v":""},{"$f":"IF(BY9=\"\",\"\",\"50\")","v":""},{"$f":"IF(BY9=\"\",\"\",TODAY())","v":""},{"$f":"IF(BY9=\"\",\"\",\"WTSYSTEMUSER\")","v":""},{"$f":"IF(BY9=\"\",\"\",TODAY())","v":""},{"$f":"IF(BY9=\"\",\"\",\"WTSYSTEMUSER\")","v":""}]
[null,null,null,null,null,null,null,null,null,null,null,null,null,null,null,null,null,null,null,null,null,null,null,null,null,null,null,null,null,null,null,null,null,null,null,null,null,null,null,null,null,null,null,null,null,null,null,null,null,null,null,null,null,null,null,null,null,null,null,null,null,null,null,null,null,null,null,null,null,null,null,null,null,null,null,null,null,null,null,null,null,null,null,null,null,null,null,null,null,null,null,null,"",null,{"$f":"IF(BY9=\"\",\"\",\"AgencyEntityInsData Id 200\")","v":""},{"$f":"IF(BY9=\"\",\"\",\"AgencyEntityInstance Id 7\")","v":""},{"$f":"IF(BY9=\"\",\"\",\"cm_base_grad_T7_spec_03_no_8_min\")","v":""},{"$f":"IF(BY9=\"\",\"\",\"15\")","v":""},{"$f":"IF(BY9=\"\",\"\",TODAY())","v":""},{"$f":"IF(BY9=\"\",\"\",\"WTSYSTEMUSER\")","v":""},{"$f":"IF(BY9=\"\",\"\",TODAY())","v":""},{"$f":"IF(BY9=\"\",\"\",\"WTSYSTEMUSER\")","v":""}]
[null,null,null,null,null,null,null,null,null,null,null,null,null,null,null,null,null,null,null,null,null,null,null,null,null,null,null,null,null,null,null,null,null,null,null,null,null,null,null,null,null,null,null,null,null,null,null,null,null,null,null,null,null,null,null,null,null,null,null,null,null,null,null,null,null,null,null,null,null,null,null,null,null,null,null,null,null,null,null,null,null,null,null,null,null,null,null,null,null,null,null,null,"",null,{"$f":"IF(BY9=\"\",\"\",\"AgencyEntityInsData Id 201\")","v":""},{"$f":"IF(BY9=\"\",\"\",\"AgencyEntityInstance Id 7\")","v":""},{"$f":"IF(BY9=\"\",\"\",\"cm_base_grad_T7_spec_05_no_200_max\")","v":""},{"$f":"IF(BY9=\"\",\"\",\"12\")","v":""},{"$f":"IF(BY9=\"\",\"\",TODAY())","v":""},{"$f":"IF(BY9=\"\",\"\",\"WTSYSTEMUSER\")","v":""},{"$f":"IF(BY9=\"\",\"\",TODAY())","v":""},{"$f":"IF(BY9=\"\",\"\",\"WTSYSTEMUSER\")","v":""}]
[null,null,null,null,null,null,null,null,null,null,null,null,null,null,null,null,null,null,null,null,null,null,null,null,null,null,null,null,null,null,null,null,null,null,null,null,null,null,null,null,null,null,null,null,null,null,null,null,null,null,null,null,null,null,null,null,null,null,null,null,null,null,null,null,null,null,null,null,null,null,null,null,null,null,null,null,null,null,null,null,null,null,null,null,null,null,null,null,null,null,null,null,"",null,{"$f":"IF(BY9=\"\",\"\",\"AgencyEntityInsData Id 202\")","v":""},{"$f":"IF(BY9=\"\",\"\",\"AgencyEntityInstance Id 7\")","v":""},{"$f":"IF(BY9=\"\",\"\",\"cm_base_grad_T7_spec_05_no_200_min\")","v":""},{"$f":"IF(BY9=\"\",\"\",\"0\")","v":""},{"$f":"IF(BY9=\"\",\"\",TODAY())","v":""},{"$f":"IF(BY9=\"\",\"\",\"WTSYSTEMUSER\")","v":""},{"$f":"IF(BY9=\"\",\"\",TODAY())","v":""},{"$f":"IF(BY9=\"\",\"\",\"WTSYSTEMUSER\")","v":""}]
[null,null,null,null,null,null,null,null,null,null,null,null,null,null,null,null,null,null,null,null,null,null,null,null,null,null,null,null,null,null,null,null,null,null,null,null,null,null,null,null,null,null,null,null,null,null,null,null,null,null,null,null,null,null,null,null,null,null,null,null,null,null,null,null,null,null,null,null,null,null,null,null,null,null,null,null,null,null,null,null,null,null,null,null,null,null,null,null,null,null,null,null,"",null,{"$f":"IF(BY10=\"\",\"\",\"AgencyEntityInsData Id 203\")","v":""},{"$f":"IF(BY10=\"\",\"\",\"AgencyEntityInstance Id 8\")","v":""},{"$f":"IF(BY10=\"\",\"\",\"CM_PlasticityIndex_Base_TestResults\")","v":""},{"$f":"IF(BY10=\"\",\"\",IF(LEFT(Main!F14,4)=\"1007\",IF('Test 1'!E44=\"\",\"\",'Test 1'!E44),IF(LEFT(Main!F14,4)=\"1010\",IF('Test 3'!Q13=\"\",\"\",'Test 3'!Q13),IF('Test 2'!D37=\"\",\"\",'Test 2'!D37))))","v":""},"","","",""]
[null,null,null,null,null,null,null,null,null,null,null,null,null,null,null,null,null,null,null,null,null,null,null,null,null,null,null,null,null,null,null,null,null,null,null,null,null,null,null,null,null,null,null,null,null,null,null,null,null,null,null,null,null,null,null,null,null,null,null,null,null,null,null,null,null,null,null,null,null,null,null,null,null,null,null,null,null,null,null,null,null,null,null,null,null,null,null,null,null,null,null,null,"",null,{"$f":"IF(BY11=\"\",\"\",\"AgencyEntityInsData Id 204\")","v":""},{"$f":"IF(BY11=\"\",\"\",\"AgencyEntityInstance Id 9\")","v":""},{"$f":"IF(BY11=\"\",\"\",\"CM_PlasticityIndex_Base_TestResults\")","v":""},{"$f":"IF(BY11=\"\",\"\",IF(LEFT(Main!F14,4)=\"1007\",IF('Test 1'!I44=\"\",\"\",'Test 1'!I44),IF(LEFT(Main!F14,4)=\"1010\",IF('Test 3'!U13=\"\",\"\",'Test 3'!U13),IF('Test 2'!H37=\"\",\"\",'Test 2'!H37))))","v":""},"","","",""]
[null,null,null,null,null,null,null,null,null,null,null,null,null,null,null,null,null,null,null,null,null,null,null,null,null,null,null,null,null,null,null,null,null,null,null,null,null,null,null,null,null,null,null,null,null,null,null,null,null,null,null,null,null,null,null,null,null,null,null,null,null,null,null,null,null,null,null,null,null,null,null,null,null,null,null,null,null,null,null,null,null,null,null,null,null,null,null,null,null,null,null,null,"",null,{"$f":"IF(BY12=\"\",\"\",\"AgencyEntityInsData Id 205\")","v":""},{"$f":"IF(BY12=\"\",\"\",\"AgencyEntityInstance Id 10\")","v":""},{"$f":"IF(BY12=\"\",\"\",\"CM_PlasticityIndex_Base_TestResults\")","v":""},{"$f":"IF(BY12=\"\",\"\",IF(LEFT(Main!F14,4)=\"1007\",IF('Test 1'!M44=\"\",\"\",'Test 1'!M44),IF(LEFT(Main!F14,4)=\"1010\",\"\",IF('Test 2'!L37=\"\",\"\",'Test 2'!L37))))","v":""},"","","",""]
[null,null,null,null,null,null,null,null,null,null,null,null,null,null,null,null,null,null,null,null,null,null,null,null,null,null,null,null,null,null,null,null,null,null,null,null,null,null,null,null,null,null,null,null,null,null,null,null,null,null,null,null,null,null,null,null,null,null,null,null,null,null,null,null,null,null,null,null,null,null,null,null,null,null,null,null,null,null,null,null,null,null,null,null,null,null,null,null,null,null,null,null,"",null,{"$f":"IF(BY13=\"\",\"\",\"AgencyEntityInsData Id 206\")","v":""},{"$f":"IF(BY13=\"\",\"\",\"AgencyEntityInstance Id 11\")","v":""},{"$f":"IF(BY13=\"\",\"\",\"CM_PlasticityIndex_Base_TestResults\")","v":""},{"$f":"IF(BY13=\"\",\"\",IF(LEFT(Main!F14,4)=\"1007\",\"\",IF(LEFT(Main!F14,4)=\"1010\",\"\",IF('Test 2'!P37=\"\",\"\",'Test 2'!P37))))","v":""},"","","",""]
[null,null,null,null,null,null,null,null,null,null,null,null,null,null,null,null,null,null,null,null,null,null,null,null,null,null,null,null,null,null,null,null,null,null,null,null,null,null,null,null,null,null,null,null,null,null,null,null,null,null,null,null,null,null,null,null,null,null,null,null,null,null,null,null,null,null,null,null,null,null,null,null,null,null,null,null,null,null,null,null,null,null,null,null,null,null,null,null,null,null,null,null,"",null,{"$f":"IF(BY14=\"\",\"\",\"AgencyEntityInsData Id 207\")","v":""},{"$f":"IF(BY14=\"\",\"\",\"AgencyEntityInstance Id 12\")","v":""},{"$f":"IF(BY14=\"\",\"\",\"CM_PlasticityIndex_Base_TestResults\")","v":""},{"$f":"IF(BY14=\"\",\"\",IF(LEFT(Main!F14,4)=\"1007\",\"\",IF(LEFT(Main!F14,4)=\"1010\",\"\",IF('Test 2'!T37=\"\",\"\",'Test 2'!T37))))","v":""},"","","",""]
[null,null,null,null,null,null,null,null,null,null,null,null,null,null,null,null,null,null,null,null,null,null,null,null,null,null,null,null,null,null,null,null,null,null,null,null,null,null,null,null,null,null,null,null,null,null,null,null,null,null,null,null,null,null,null,null,null,null,null,null,null,null,null,null,null,null,null,null,null,null,null,null,null,null,null,null,null,null,null,null,null,null,null,null,null,null,null,null,null,null,null,null,"",null,{"$f":"IF(BY15=\"\",\"\",\"AgencyEntityInsData Id 208\")","v":""},{"$f":"IF(BY15=\"\",\"\",\"AgencyEntityInstance Id 13\")","v":""},{"$f":"IF(BY15=\"\",\"\",\"del_ca_200\")","v":""},{"$f":"IF(BY15=\"\",\"\",IF(LEFT(Main!F14,4)=\"1007\",\"\",IF(LEFT(Main!F14,4)=\"1003\",IF('Test 2'!AD48=0,\"\",'Test 2'!AD48),IF(LEFT(Main!F14,4)=\"1010\",\"\",IF('Test 2'!AD48=0,\"\",'Test 2'!AD48)))))","v":""},"","","",""]
[null,null,null,null,null,null,null,null,null,null,null,null,null,null,null,null,null,null,null,null,null,null,null,null,null,null,null,null,null,null,null,null,null,null,null,null,null,null,null,null,null,null,null,null,null,null,null,null,null,null,null,null,null,null,null,null,null,null,null,null,null,null,null,null,null,null,null,null,null,null,null,null,null,null,null,null,null,null,null,null,null,null,null,null,null,null,null,null,null,null,null,null,"",null,{"$f":"IF(BY15=\"\",\"\",\"AgencyEntityInsData Id 209\")","v":""},{"$f":"IF(BY15=\"\",\"\",\"AgencyEntityInstance Id 13\")","v":""},{"$f":"IF(BY15=\"\",\"\",\"del_ca_chert\")","v":""},{"$f":"IF(BY15=\"\",\"\",IF(LEFT(Main!F14,4)=\"1007\",\"\",IF(LEFT(Main!F14,4)=\"1003\",\"\",IF(LEFT(Main!F14,4)=\"1010\",\"\",IF('Test 2'!AD46=0,\"\",'Test 2'!AD46)))))","v":""},{"$f":"IF(BY15=\"\",\"\",TODAY())","v":""},{"$f":"IF(BY15=\"\",\"\",\"WTSYSTEMUSER\")","v":""},{"$f":"IF(BY15=\"\",\"\",TODAY())","v":""},{"$f":"IF(BY15=\"\",\"\",\"WTSYSTEMUSER\")","v":""}]
[null,null,null,null,null,null,null,null,null,null,null,null,null,null,null,null,null,null,null,null,null,null,null,null,null,null,null,null,null,null,null,null,null,null,null,null,null,null,null,null,null,null,null,null,null,null,null,null,null,null,null,null,null,null,null,null,null,null,null,null,null,null,null,null,null,null,null,null,null,null,null,null,null,null,null,null,null,null,null,null,null,null,null,null,null,null,null,null,null,null,null,null,"",null,{"$f":"IF(BY15=\"\",\"\",\"AgencyEntityInsData Id 210\")","v":""},{"$f":"IF(BY15=\"\",\"\",\"AgencyEntityInstance Id 13\")","v":""},{"$f":"IF(BY15=\"\",\"\",\"del_ca_clay\")","v":""},{"$f":"IF(BY15=\"\",\"\",IF(LEFT(Main!F14,4)=\"1007\",\"\",IF(LEFT(Main!F14,4)=\"1003\",\"\",IF(LEFT(Main!F14,4)=\"1010\",\"\",\"\"))))","v":""},{"$f":"IF(BY15=\"\",\"\",TODAY())","v":""},{"$f":"IF(BY15=\"\",\"\",\"WTSYSTEMUSER\")","v":""},{"$f":"IF(BY15=\"\",\"\",TODAY())","v":""},{"$f":"IF(BY15=\"\",\"\",\"WTSYSTEMUSER\")","v":""}]
[null,null,null,null,null,null,null,null,null,null,null,null,null,null,null,null,null,null,null,null,null,null,null,null,null,null,null,null,null,null,null,null,null,null,null,null,null,null,null,null,null,null,null,null,null,null,null,null,null,null,null,null,null,null,null,null,null,null,null,null,null,null,null,null,null,null,null,null,null,null,null,null,null,null,null,null,null,null,null,null,null,null,null,null,null,null,null,null,null,null,null,null,"",null,{"$f":"IF(BY15=\"\",\"\",\"AgencyEntityInsData Id 211\")","v":""},{"$f":"IF(BY15=\"\",\"\",\"AgencyEntityInstance Id 13\")","v":""},{"$f":"IF(BY15=\"\",\"\",\"del_ca_mud\")","v":""},{"$f":"IF(BY15=\"\",\"\",IF(LEFT(Main!F14,4)=\"1007\",\"\",IF(LEFT(Main!F14,4)=\"1003\",\"\",IF(LEFT(Main!F14,4)=\"1010\",\"\",\"\"))))","v":""},{"$f":"IF(BY15=\"\",\"\",TODAY())","v":""},{"$f":"IF(BY15=\"\",\"\",\"WTSYSTEMUSER\")","v":""},{"$f":"IF(BY15=\"\",\"\",TODAY())","v":""},{"$f":"IF(BY15=\"\",\"\",\"WTSYSTEMUSER\")","v":""}]
[null,null,null,null,null,null,null,null,null,null,null,null,null,null,null,null,null,null,null,null,null,null,null,null,null,null,null,null,null,null,null,null,null,null,null,null,null,null,null,null,null,null,null,null,null,null,null,null,null,null,null,null,null,null,null,null,null,null,null,null,null,null,null,null,null,null,null,null,null,null,null,null,null,null,null,null,null,null,null,null,null,null,null,null,null,null,null,null,null,null,null,null,"",null,{"$f":"IF(BY15=\"\",\"\",\"AgencyEntityInsData Id 212\")","v":""},{"$f":"IF(BY15=\"\",\"\",\"AgencyEntityInstance Id 13\")","v":""},{"$f":"IF(BY15=\"\",\"\",\"del_ca_mud_sh\")","v":""},{"$f":"IF(BY15=\"\",\"\",IF(LEFT(Main!F14,4)=\"1007\",\"\",IF(LEFT(Main!F14,4)=\"1003\",\"\",IF(LEFT(Main!F14,4)=\"1010\",\"\",\"\"))))","v":""},{"$f":"IF(BY15=\"\",\"\",TODAY())","v":""},{"$f":"IF(BY15=\"\",\"\",\"WTSYSTEMUSER\")","v":""},{"$f":"IF(BY15=\"\",\"\",TODAY())","v":""},{"$f":"IF(BY15=\"\",\"\",\"WTSYSTEMUSER\")","v":""}]
[null,null,null,null,null,null,null,null,null,null,null,null,null,null,null,null,null,null,null,null,null,null,null,null,null,null,null,null,null,null,null,null,null,null,null,null,null,null,null,null,null,null,null,null,null,null,null,null,null,null,null,null,null,null,null,null,null,null,null,null,null,null,null,null,null,null,null,null,null,null,null,null,null,null,null,null,null,null,null,null,null,null,null,null,null,null,null,null,null,null,null,null,"",null,{"$f":"IF(BY15=\"\",\"\",\"AgencyEntityInsData Id 213\")","v":""},{"$f":"IF(BY15=\"\",\"\",\"AgencyEntityInstance Id 13\")","v":""},{"$f":"IF(BY15=\"\",\"\",\"del_ca_ofm\")","v":""},{"$f":"IF(BY15=\"\",\"\",IF(LEFT(Main!F14,4)=\"1007\",\"\",IF(LEFT(Main!F14,4)=\"1003\",IF('Test 2'!AD47=0,\"\",'Test 2'!AD47),IF(LEFT(Main!F14,4)=\"1010\",\"\",IF('Test 2'!AD47=0,\"\",'Test 2'!AD47)))))","v":""},{"$f":"IF(BY15=\"\",\"\",TODAY())","v":""},{"$f":"IF(BY15=\"\",\"\",\"WTSYSTEMUSER\")","v":""},{"$f":"IF(BY15=\"\",\"\",TODAY())","v":""},{"$f":"IF(BY15=\"\",\"\",\"WTSYSTEMUSER\")","v":""}]
[null,null,null,null,null,null,null,null,null,null,null,null,null,null,null,null,null,null,null,null,null,null,null,null,null,null,null,null,null,null,null,null,null,null,null,null,null,null,null,null,null,null,null,null,null,null,null,null,null,null,null,null,null,null,null,null,null,null,null,null,null,null,null,null,null,null,null,null,null,null,null,null,null,null,null,null,null,null,null,null,null,null,null,null,null,null,null,null,null,null,null,null,"",null,{"$f":"IF(BY15=\"\",\"\",\"AgencyEntityInsData Id 214\")","v":""},{"$f":"IF(BY15=\"\",\"\",\"AgencyEntityInstance Id 13\")","v":""},{"$f":"IF(BY15=\"\",\"\",\"del_ca_rock\")","v":""},{"$f":"IF(BY15=\"\",\"\",IF(LEFT(Main!F14,4)=\"1007\",\"\",IF(LEFT(Main!F14,4)=\"1003\",IF('Test 2'!AD44=0,\"\",'Test 2'!AD44),IF(LEFT(Main!F14,4)=\"1010\",\"\",IF('Test 2'!AD44=0,\"\",'Test 2'!AD44)))))","v":""},{"$f":"IF(BY15=\"\",\"\",TODAY())","v":""},{"$f":"IF(BY15=\"\",\"\",\"WTSYSTEMUSER\")","v":""},{"$f":"IF(BY15=\"\",\"\",TODAY())","v":""},{"$f":"IF(BY15=\"\",\"\",\"WTSYSTEMUSER\")","v":""}]
[null,null,null,null,null,null,null,null,null,null,null,null,null,null,null,null,null,null,null,null,null,null,null,null,null,null,null,null,null,null,null,null,null,null,null,null,null,null,null,null,null,null,null,null,null,null,null,null,null,null,null,null,null,null,null,null,null,null,null,null,null,null,null,null,null,null,null,null,null,null,null,null,null,null,null,null,null,null,null,null,null,null,null,null,null,null,null,null,null,null,null,null,"",null,{"$f":"IF(BY15=\"\",\"\",\"AgencyEntityInsData Id 215\")","v":""},{"$f":"IF(BY15=\"\",\"\",\"AgencyEntityInstance Id 13\")","v":""},{"$f":"IF(BY15=\"\",\"\",\"del_ca_rock_sh\")","v":""},{"$f":"IF(BY15=\"\",\"\",IF(LEFT(Main!F14,4)=\"1007\",IF('Test 1'!AD36=0,\"\",'Test 1'!AD36),IF(LEFT(Main!F14,4)=\"1003\",\"\",IF(LEFT(Main!F14,4)=\"1010\",\"\",\"\"))))","v":""},{"$f":"IF(BY15=\"\",\"\",TODAY())","v":""},{"$f":"IF(BY15=\"\",\"\",\"WTSYSTEMUSER\")","v":""},{"$f":"IF(BY15=\"\",\"\",TODAY())","v":""},{"$f":"IF(BY15=\"\",\"\",\"WTSYSTEMUSER\")","v":""}]
[null,null,null,null,null,null,null,null,null,null,null,null,null,null,null,null,null,null,null,null,null,null,null,null,null,null,null,null,null,null,null,null,null,null,null,null,null,null,null,null,null,null,null,null,null,null,null,null,null,null,null,null,null,null,null,null,null,null,null,null,null,null,null,null,null,null,null,null,null,null,null,null,null,null,null,null,null,null,null,null,null,null,null,null,null,null,null,null,null,null,null,null,"",null,{"$f":"IF(BY15=\"\",\"\",\"AgencyEntityInsData Id 216\")","v":""},{"$f":"IF(BY15=\"\",\"\",\"AgencyEntityInstance Id 13\")","v":""},{"$f":"IF(BY15=\"\",\"\",\"del_ca_sh\")","v":""},{"$f":"IF(BY15=\"\",\"\",IF(LEFT(Main!F14,4)=\"1007\",\"\",IF(LEFT(Main!F14,4)=\"1003\",IF('Test 2'!AD45=0,\"\",'Test 2'!AD45),IF(LEFT(Main!F14,4)=\"1010\",\"\",IF('Test 2'!AD45=0,\"\",'Test 2'!AD45)))))","v":""},{"$f":"IF(BY15=\"\",\"\",TODAY())","v":""},{"$f":"IF(BY15=\"\",\"\",\"WTSYSTEMUSER\")","v":""},{"$f":"IF(BY15=\"\",\"\",TODAY())","v":""},{"$f":"IF(BY15=\"\",\"\",\"WTSYSTEMUSER\")","v":""}]
[null,null,null,null,null,null,null,null,null,null,null,null,null,null,null,null,null,null,null,null,null,null,null,null,null,null,null,null,null,null,null,null,null,null,null,null,null,null,null,null,null,null,null,null,null,null,null,null,null,null,null,null,null,null,null,null,null,null,null,null,null,null,null,null,null,null,null,null,null,null,null,null,null,null,null,null,null,null,null,null,null,null,null,null,null,null,null,null,null,null,null,null,"",null,{"$f":"IF(BY15=\"\",\"\",\"AgencyEntityInsData Id 217\")","v":""},{"$f":"IF(BY15=\"\",\"\",\"AgencyEntityInstance Id 13\")","v":""},{"$f":"IF(BY15=\"\",\"\",\"del_fa_clay_sh\")","v":""},{"$f":"IF(BY15=\"\",\"\",IF(LEFT(Main!F14,4)=\"1007\",\"\",IF(LEFT(Main!F14,4)=\"1003\",\"\",IF(LEFT(Main!F14,4)=\"1010\",\"\",\"\"))))","v":""},{"$f":"IF(BY15=\"\",\"\",TODAY())","v":""},{"$f":"IF(BY15=\"\",\"\",\"WTSYSTEMUSER\")","v":""},{"$f":"IF(BY15=\"\",\"\",TODAY())","v":""},{"$f":"IF(BY15=\"\",\"\",\"WTSYSTEMUSER\")","v":""}]
[null,null,null,null,null,null,null,null,null,null,null,null,null,null,null,null,null,null,null,null,null,null,null,null,null,null,null,null,null,null,null,null,null,null,null,null,null,null,null,null,null,null,null,null,null,null,null,null,null,null,null,null,null,null,null,null,null,null,null,null,null,null,null,null,null,null,null,null,null,null,null,null,null,null,null,null,null,null,null,null,null,null,null,null,null,null,null,null,null,null,null,null,"",null,{"$f":"IF(BY15=\"\",\"\",\"AgencyEntityInsData Id 218\")","v":""},{"$f":"IF(BY15=\"\",\"\",\"AgencyEntityInstance Id 13\")","v":""},{"$f":"IF(BY15=\"\",\"\",\"del_fa_coal\")","v":""},{"$f":"IF(BY15=\"\",\"\",IF(LEFT(Main!F14,4)=\"1007\",\"\",IF(LEFT(Main!F14,4)=\"1003\",\"\",IF(LEFT(Main!F14,4)=\"1010\",\"\",\"\"))))","v":""},{"$f":"IF(BY15=\"\",\"\",TODAY())","v":""},{"$f":"IF(BY15=\"\",\"\",\"WTSYSTEMUSER\")","v":""},{"$f":"IF(BY15=\"\",\"\",TODAY())","v":""},{"$f":"IF(BY15=\"\",\"\",\"WTSYSTEMUSER\")","v":""}]
[null,null,null,null,null,null,null,null,null,null,null,null,null,null,null,null,null,null,null,null,null,null,null,null,null,null,null,null,null,null,null,null,null,null,null,null,null,null,null,null,null,null,null,null,null,null,null,null,null,null,null,null,null,null,null,null,null,null,null,null,null,null,null,null,null,null,null,null,null,null,null,null,null,null,null,null,null,null,null,null,null,null,null,null,null,null,null,null,null,null,null,null,"",null,{"$f":"IF(BY15=\"\",\"\",\"AgencyEntityInsData Id 219\")","v":""},{"$f":"IF(BY15=\"\",\"\",\"AgencyEntityInstance Id 13\")","v":""},{"$f":"IF(BY15=\"\",\"\",\"del_fa_lw\")","v":""},{"$f":"IF(BY15=\"\",\"\",IF(LEFT(Main!F14,4)=\"1007\",\"\",IF(LEFT(Main!F14,4)=\"1003\",\"\",IF(LEFT(Main!F14,4)=\"1010\",\"\",\"\"))))","v":""},{"$f":"IF(BY15=\"\",\"\",TODAY())","v":""},{"$f":"IF(BY15=\"\",\"\",\"WTSYSTEMUSER\")","v":""},{"$f":"IF(BY15=\"\",\"\",TODAY())","v":""},{"$f":"IF(BY15=\"\",\"\",\"WTSYSTEMUSER\")","v":""}]
[null,null,null,null,null,null,null,null,null,null,null,null,null,null,null,null,null,null,null,null,null,null,null,null,null,null,null,null,null,null,null,null,null,null,null,null,null,null,null,null,null,null,null,null,null,null,null,null,null,null,null,null,null,null,null,null,null,null,null,null,null,null,null,null,null,null,null,null,null,null,null,null,null,null,null,null,null,null,null,null,null,null,null,null,null,null,null,null,null,null,null,null,"",null,{"$f":"IF(BY15=\"\",\"\",\"AgencyEntityInsData Id 220\")","v":""},{"$f":"IF(BY15=\"\",\"\",\"AgencyEntityInstance Id 13\")","v":""},{"$f":"IF(BY15=\"\",\"\",\"del_fa_other\")","v":""},{"$f":"IF(BY15=\"\",\"\",IF(LEFT(Main!F14,4)=\"1007\",\"\",IF(LEFT(Main!F14,4)=\"1003\",\"\",IF(LEFT(Main!F14,4)=\"1010\",\"\",\"\"))))","v":""},{"$f":"IF(BY15=\"\",\"\",TODAY())","v":""},{"$f":"IF(BY15=\"\",\"\",\"WTSYSTEMUSER\")","v":""},{"$f":"IF(BY15=\"\",\"\",TODAY())","v":""},{"$f":"IF(BY15=\"\",\"\",\"WTSYSTEMUSER\")","v":""}]
[null,null,null,null,null,null,null,null,null,null,null,null,null,null,null,null,null,null,null,null,null,null,null,null,null,null,null,null,null,null,null,null,null,null,null,null,null,null,null,null,null,null,null,null,null,null,null,null,null,null,null,null,null,null,null,null,null,null,null,null,null,null,null,null,null,null,null,null,null,null,null,null,null,null,null,null,null,null,null,null,null,null,null,null,null,null,null,null,null,null,null,null,"",null,{"$f":"IF(BY15=\"\",\"\",\"AgencyEntityInsData Id 221\")","v":""},{"$f":"IF(BY15=\"\",\"\",\"AgencyEntityInstance Id 13\")","v":""},{"$f":"IF(BY15=\"\",\"\",\"del_man_sand\")","v":""},{"$f":"IF(BY15=\"\",\"\",IF(LEFT(Main!F14,4)=\"1007\",\"\",IF(LEFT(Main!F14,4)=\"1003\",\"\",IF(LEFT(Main!F14,4)=\"1010\",\"\",\"\"))))","v":""},{"$f":"IF(BY15=\"\",\"\",TODAY())","v":""},{"$f":"IF(BY15=\"\",\"\",\"WTSYSTEMUSER\")","v":""},{"$f":"IF(BY15=\"\",\"\",TODAY())","v":""},{"$f":"IF(BY15=\"\",\"\",\"WTSYSTEMUSER\")","v":""}]
[null,null,null,null,null,null,null,null,null,null,null,null,null,null,null,null,null,null,null,null,null,null,null,null,null,null,null,null,null,null,null,null,null,null,null,null,null,null,null,null,null,null,null,null,null,null,null,null,null,null,null,null,null,null,null,null,null,null,null,null,null,null,null,null,null,null,null,null,null,null,null,null,null,null,null,null,null,null,null,null,null,null,null,null,null,null,null,null,null,null,null,null,"",null,{"$f":"IF(BY15=\"\",\"\",\"AgencyEntityInsData Id 222\")","v":""},{"$f":"IF(BY15=\"\",\"\",\"AgencyEntityInstance Id 13\")","v":""},{"$f":"IF(BY15=\"\",\"\",\"del_material\")","v":""},{"$f":"IF(BY15=\"\",\"\",IF(LEFT(Main!F14,4)=\"1007\",\"1007\",IF(LEFT(Main!F14,4)=\"1003\",IF(\"1003\"=0,\"\",\"1003\"),IF(LEFT(Main!F14,4)=\"1010\",\"\",IF(LEFT(Main!F14,4)=\"1009\",\"1009\",IF(\"1005 CA\"=0,\"\",\"1005 CA\"))))))","v":""},{"$f":"IF(BY15=\"\",\"\",TODAY())","v":""},{"$f":"IF(BY15=\"\",\"\",\"WTSYSTEMUSER\")","v":""},{"$f":"IF(BY15=\"\",\"\",TODAY())","v":""},{"$f":"IF(BY15=\"\",\"\",\"WTSYSTEMUSER\")","v":""}]
[null,null,null,null,null,null,null,null,null,null,null,null,null,null,null,null,null,null,null,null,null,null,null,null,null,null,null,null,null,null,null,null,null,null,null,null,null,null,null,null,null,null,null,null,null,null,null,null,null,null,null,null,null,null,null,null,null,null,null,null,null,null,null,null,null,null,null,null,null,null,null,null,null,null,null,null,null,null,null,null,null,null,null,null,null,null,null,null,null,null,null,null,"",null,{"$f":"IF(BY15=\"\",\"\",\"AgencyEntityInsData Id 223\")","v":""},{"$f":"IF(BY15=\"\",\"\",\"AgencyEntityInstance Id 13\")","v":""},{"$f":"IF(BY15=\"\",\"\",\"del_nat_sand\")","v":""},{"$f":"IF(BY15=\"\",\"\",IF(LEFT(Main!F14,4)=\"1007\",\"\",IF(LEFT(Main!F14,4)=\"1003\",\"\",IF(LEFT(Main!F14,4)=\"1010\",\"\",\"\"))))","v":""},{"$f":"IF(BY15=\"\",\"\",TODAY())","v":""},{"$f":"IF(BY15=\"\",\"\",\"WTSYSTEMUSER\")","v":""},{"$f":"IF(BY15=\"\",\"\",TODAY())","v":""},{"$f":"IF(BY15=\"\",\"\",\"WTSYSTEMUSER\")","v":""}]
[null,null,null,null,null,null,null,null,null,null,null,null,null,null,null,null,null,null,null,null,null,null,null,null,null,null,null,null,null,null,null,null,null,null,null,null,null,null,null,null,null,null,null,null,null,null,null,null,null,null,null,null,null,null,null,null,null,null,null,null,null,null,null,null,null,null,null,null,null,null,null,null,null,null,null,null,null,null,null,null,null,null,null,null,null,null,null,null,null,null,null,null,"",null,{"$f":"IF(BY15=\"\",\"\",\"AgencyEntityInsData Id 224\")","v":""},{"$f":"IF(BY15=\"\",\"\",\"AgencyEntityInstance Id 13\")","v":""},{"$f":"IF(BY15=\"\",\"\",\"del_tot_del\")","v":""},{"$f":"IF(BY15=\"\",\"\",IF(LEFT(Main!F14,4)=\"1007\",\"\",IF(LEFT(Main!F14,4)=\"1003\",IF('Test 2'!D50=0,\"\",'Test 2'!D50),IF(LEFT(Main!F14,4)=\"1010\",\"\",IF('Test 2'!D50=0,\"\",'Test 2'!D50)))))","v":""},{"$f":"IF(BY15=\"\",\"\",TODAY())","v":""},{"$f":"IF(BY15=\"\",\"\",\"WTSYSTEMUSER\")","v":""},{"$f":"IF(BY15=\"\",\"\",TODAY())","v":""},{"$f":"IF(BY15=\"\",\"\",\"WTSYSTEMUSER\")","v":""}]
[null,null,null,null,null,null,null,null,null,null,null,null,null,null,null,null,null,null,null,null,null,null,null,null,null,null,null,null,null,null,null,null,null,null,null,null,null,null,null,null,null,null,null,null,null,null,null,null,null,null,null,null,null,null,null,null,null,null,null,null,null,null,null,null,null,null,null,null,null,null,null,null,null,null,null,null,null,null,null,null,null,null,null,null,null,null,null,null,null,null,null,null,"",null,{"$f":"IF(BY16=\"\",\"\",\"AgencyEntityInsData Id 225\")","v":""},{"$f":"IF(BY16=\"\",\"\",\"AgencyEntityInstance Id 14\")","v":""},{"$f":"IF(BY16=\"\",\"\",\"del_ca_200\")","v":""},{"$f":"IF(BY16=\"\",\"\",IF(LEFT(Main!F14,4)=\"1007\",\"\",IF(LEFT(Main!F14,4)=\"1003\",IF('Test 2'!AE48=0,\"\",'Test 2'!AE48),IF(LEFT(Main!F14,4)=\"1010\",\"\",IF('Test 2'!AE48=0,\"\",'Test 2'!AE48)))))","v":""},{"$f":"IF(BY16=\"\",\"\",TODAY())","v":""},{"$f":"IF(BY16=\"\",\"\",\"WTSYSTEMUSER\")","v":""},{"$f":"IF(BY16=\"\",\"\",TODAY())","v":""},{"$f":"IF(BY16=\"\",\"\",\"WTSYSTEMUSER\")","v":""}]
[null,null,null,null,null,null,null,null,null,null,null,null,null,null,null,null,null,null,null,null,null,null,null,null,null,null,null,null,null,null,null,null,null,null,null,null,null,null,null,null,null,null,null,null,null,null,null,null,null,null,null,null,null,null,null,null,null,null,null,null,null,null,null,null,null,null,null,null,null,null,null,null,null,null,null,null,null,null,null,null,null,null,null,null,null,null,null,null,null,null,null,null,"",null,{"$f":"IF(BY16=\"\",\"\",\"AgencyEntityInsData Id 226\")","v":""},{"$f":"IF(BY16=\"\",\"\",\"AgencyEntityInstance Id 14\")","v":""},{"$f":"IF(BY16=\"\",\"\",\"del_ca_chert\")","v":""},{"$f":"IF(BY16=\"\",\"\",IF(LEFT(Main!F14,4)=\"1007\",\"\",IF(LEFT(Main!F14,4)=\"1003\",\"\",IF(LEFT(Main!F14,4)=\"1010\",\"\",IF('Test 2'!AE46=0,\"\",'Test 2'!AE46)))))","v":""},{"$f":"IF(BY16=\"\",\"\",TODAY())","v":""},{"$f":"IF(BY16=\"\",\"\",\"WTSYSTEMUSER\")","v":""},{"$f":"IF(BY16=\"\",\"\",TODAY())","v":""},{"$f":"IF(BY16=\"\",\"\",\"WTSYSTEMUSER\")","v":""}]
[null,null,null,null,null,null,null,null,null,null,null,null,null,null,null,null,null,null,null,null,null,null,null,null,null,null,null,null,null,null,null,null,null,null,null,null,null,null,null,null,null,null,null,null,null,null,null,null,null,null,null,null,null,null,null,null,null,null,null,null,null,null,null,null,null,null,null,null,null,null,null,null,null,null,null,null,null,null,null,null,null,null,null,null,null,null,null,null,null,null,null,null,"",null,{"$f":"IF(BY16=\"\",\"\",\"AgencyEntityInsData Id 227\")","v":""},{"$f":"IF(BY16=\"\",\"\",\"AgencyEntityInstance Id 14\")","v":""},{"$f":"IF(BY16=\"\",\"\",\"del_ca_clay\")","v":""},{"$f":"IF(BY16=\"\",\"\",IF(LEFT(Main!F14,4)=\"1007\",\"\",IF(LEFT(Main!F14,4)=\"1003\",\"\",IF(LEFT(Main!F14,4)=\"1010\",\"\",\"\"))))","v":""},{"$f":"IF(BY16=\"\",\"\",TODAY())","v":""},{"$f":"IF(BY16=\"\",\"\",\"WTSYSTEMUSER\")","v":""},{"$f":"IF(BY16=\"\",\"\",TODAY())","v":""},{"$f":"IF(BY16=\"\",\"\",\"WTSYSTEMUSER\")","v":""}]
[null,null,null,null,null,null,null,null,null,null,null,null,null,null,null,null,null,null,null,null,null,null,null,null,null,null,null,null,null,null,null,null,null,null,null,null,null,null,null,null,null,null,null,null,null,null,null,null,null,null,null,null,null,null,null,null,null,null,null,null,null,null,null,null,null,null,null,null,null,null,null,null,null,null,null,null,null,null,null,null,null,null,null,null,null,null,null,null,null,null,null,null,"",null,{"$f":"IF(BY16=\"\",\"\",\"AgencyEntityInsData Id 228\")","v":""},{"$f":"IF(BY16=\"\",\"\",\"AgencyEntityInstance Id 14\")","v":""},{"$f":"IF(BY16=\"\",\"\",\"del_ca_mud\")","v":""},{"$f":"IF(BY16=\"\",\"\",IF(LEFT(Main!F14,4)=\"1007\",\"\",IF(LEFT(Main!F14,4)=\"1003\",\"\",IF(LEFT(Main!F14,4)=\"1010\",\"\",\"\"))))","v":""},{"$f":"IF(BY16=\"\",\"\",TODAY())","v":""},{"$f":"IF(BY16=\"\",\"\",\"WTSYSTEMUSER\")","v":""},{"$f":"IF(BY16=\"\",\"\",TODAY())","v":""},{"$f":"IF(BY16=\"\",\"\",\"WTSYSTEMUSER\")","v":""}]
[null,null,null,null,null,null,null,null,null,null,null,null,null,null,null,null,null,null,null,null,null,null,null,null,null,null,null,null,null,null,null,null,null,null,null,null,null,null,null,null,null,null,null,null,null,null,null,null,null,null,null,null,null,null,null,null,null,null,null,null,null,null,null,null,null,null,null,null,null,null,null,null,null,null,null,null,null,null,null,null,null,null,null,null,null,null,null,null,null,null,null,null,"",null,{"$f":"IF(BY16=\"\",\"\",\"AgencyEntityInsData Id 229\")","v":""},{"$f":"IF(BY16=\"\",\"\",\"AgencyEntityInstance Id 14\")","v":""},{"$f":"IF(BY16=\"\",\"\",\"del_ca_mud_sh\")","v":""},{"$f":"IF(BY16=\"\",\"\",IF(LEFT(Main!F14,4)=\"1007\",\"\",IF(LEFT(Main!F14,4)=\"1003\",\"\",IF(LEFT(Main!F14,4)=\"1010\",\"\",\"\"))))","v":""},{"$f":"IF(BY16=\"\",\"\",TODAY())","v":""},{"$f":"IF(BY16=\"\",\"\",\"WTSYSTEMUSER\")","v":""},{"$f":"IF(BY16=\"\",\"\",TODAY())","v":""},{"$f":"IF(BY16=\"\",\"\",\"WTSYSTEMUSER\")","v":""}]
[null,null,null,null,null,null,null,null,null,null,null,null,null,null,null,null,null,null,null,null,null,null,null,null,null,null,null,null,null,null,null,null,null,null,null,null,null,null,null,null,null,null,null,null,null,null,null,null,null,null,null,null,null,null,null,null,null,null,null,null,null,null,null,null,null,null,null,null,null,null,null,null,null,null,null,null,null,null,null,null,null,null,null,null,null,null,null,null,null,null,null,null,"",null,{"$f":"IF(BY16=\"\",\"\",\"AgencyEntityInsData Id 230\")","v":""},{"$f":"IF(BY16=\"\",\"\",\"AgencyEntityInstance Id 14\")","v":""},{"$f":"IF(BY16=\"\",\"\",\"del_ca_ofm\")","v":""},{"$f":"IF(BY16=\"\",\"\",IF(LEFT(Main!F14,4)=\"1007\",\"\",IF(LEFT(Main!F14,4)=\"1003\",IF('Test 2'!AE47=0,\"\",'Test 2'!AE47),IF(LEFT(Main!F14,4)=\"1010\",\"\",IF('Test 2'!AE47=0,\"\",'Test 2'!AE47)))))","v":""},{"$f":"IF(BY16=\"\",\"\",TODAY())","v":""},{"$f":"IF(BY16=\"\",\"\",\"WTSYSTEMUSER\")","v":""},{"$f":"IF(BY16=\"\",\"\",TODAY())","v":""},{"$f":"IF(BY16=\"\",\"\",\"WTSYSTEMUSER\")","v":""}]
[null,null,null,null,null,null,null,null,null,null,null,null,null,null,null,null,null,null,null,null,null,null,null,null,null,null,null,null,null,null,null,null,null,null,null,null,null,null,null,null,null,null,null,null,null,null,null,null,null,null,null,null,null,null,null,null,null,null,null,null,null,null,null,null,null,null,null,null,null,null,null,null,null,null,null,null,null,null,null,null,null,null,null,null,null,null,null,null,null,null,null,null,"",null,{"$f":"IF(BY16=\"\",\"\",\"AgencyEntityInsData Id 231\")","v":""},{"$f":"IF(BY16=\"\",\"\",\"AgencyEntityInstance Id 14\")","v":""},{"$f":"IF(BY16=\"\",\"\",\"del_ca_rock\")","v":""},{"$f":"IF(BY16=\"\",\"\",IF(LEFT(Main!F14,4)=\"1007\",\"\",IF(LEFT(Main!F14,4)=\"1003\",IF('Test 2'!AE44=0,\"\",'Test 2'!AE44),IF(LEFT(Main!F14,4)=\"1010\",\"\",IF('Test 2'!AE44=0,\"\",'Test 2'!AE44)))))","v":""},{"$f":"IF(BY16=\"\",\"\",TODAY())","v":""},{"$f":"IF(BY16=\"\",\"\",\"WTSYSTEMUSER\")","v":""},{"$f":"IF(BY16=\"\",\"\",TODAY())","v":""},{"$f":"IF(BY16=\"\",\"\",\"WTSYSTEMUSER\")","v":""}]
[null,null,null,null,null,null,null,null,null,null,null,null,null,null,null,null,null,null,null,null,null,null,null,null,null,null,null,null,null,null,null,null,null,null,null,null,null,null,null,null,null,null,null,null,null,null,null,null,null,null,null,null,null,null,null,null,null,null,null,null,null,null,null,null,null,null,null,null,null,null,null,null,null,null,null,null,null,null,null,null,null,null,null,null,null,null,null,null,null,null,null,null,"",null,{"$f":"IF(BY16=\"\",\"\",\"AgencyEntityInsData Id 232\")","v":""},{"$f":"IF(BY16=\"\",\"\",\"AgencyEntityInstance Id 14\")","v":""},{"$f":"IF(BY16=\"\",\"\",\"del_ca_rock_sh\")","v":""},{"$f":"IF(BY16=\"\",\"\",IF(LEFT(Main!F14,4)=\"1007\",IF('Test 1'!AE36=0,\"\",'Test 1'!AE36),IF(LEFT(Main!F14,4)=\"1003\",\"\",IF(LEFT(Main!F14,4)=\"1010\",\"\",\"\"))))","v":""},{"$f":"IF(BY16=\"\",\"\",TODAY())","v":""},{"$f":"IF(BY16=\"\",\"\",\"WTSYSTEMUSER\")","v":""},{"$f":"IF(BY16=\"\",\"\",TODAY())","v":""},{"$f":"IF(BY16=\"\",\"\",\"WTSYSTEMUSER\")","v":""}]
[null,null,null,null,null,null,null,null,null,null,null,null,null,null,null,null,null,null,null,null,null,null,null,null,null,null,null,null,null,null,null,null,null,null,null,null,null,null,null,null,null,null,null,null,null,null,null,null,null,null,null,null,null,null,null,null,null,null,null,null,null,null,null,null,null,null,null,null,null,null,null,null,null,null,null,null,null,null,null,null,null,null,null,null,null,null,null,null,null,null,null,null,"",null,{"$f":"IF(BY16=\"\",\"\",\"AgencyEntityInsData Id 233\")","v":""},{"$f":"IF(BY16=\"\",\"\",\"AgencyEntityInstance Id 14\")","v":""},{"$f":"IF(BY16=\"\",\"\",\"del_ca_sh\")","v":""},{"$f":"IF(BY16=\"\",\"\",IF(LEFT(Main!F14,4)=\"1007\",\"\",IF(LEFT(Main!F14,4)=\"1003\",IF('Test 2'!AE45=0,\"\",'Test 2'!AE45),IF(LEFT(Main!F14,4)=\"1010\",\"\",IF('Test 2'!AE45=0,\"\",'Test 2'!AE45)))))","v":""},{"$f":"IF(BY16=\"\",\"\",TODAY())","v":""},{"$f":"IF(BY16=\"\",\"\",\"WTSYSTEMUSER\")","v":""},{"$f":"IF(BY16=\"\",\"\",TODAY())","v":""},{"$f":"IF(BY16=\"\",\"\",\"WTSYSTEMUSER\")","v":""}]
[null,null,null,null,null,null,null,null,null,null,null,null,null,null,null,null,null,null,null,null,null,null,null,null,null,null,null,null,null,null,null,null,null,null,null,null,null,null,null,null,null,null,null,null,null,null,null,null,null,null,null,null,null,null,null,null,null,null,null,null,null,null,null,null,null,null,null,null,null,null,null,null,null,null,null,null,null,null,null,null,null,null,null,null,null,null,null,null,null,null,null,null,"",null,{"$f":"IF(BY16=\"\",\"\",\"AgencyEntityInsData Id 234\")","v":""},{"$f":"IF(BY16=\"\",\"\",\"AgencyEntityInstance Id 14\")","v":""},{"$f":"IF(BY16=\"\",\"\",\"del_fa_clay_sh\")","v":""},{"$f":"IF(BY16=\"\",\"\",IF(LEFT(Main!F14,4)=\"1007\",\"\",IF(LEFT(Main!F14,4)=\"1003\",\"\",IF(LEFT(Main!F14,4)=\"1010\",\"\",\"\"))))","v":""},{"$f":"IF(BY16=\"\",\"\",TODAY())","v":""},{"$f":"IF(BY16=\"\",\"\",\"WTSYSTEMUSER\")","v":""},{"$f":"IF(BY16=\"\",\"\",TODAY())","v":""},{"$f":"IF(BY16=\"\",\"\",\"WTSYSTEMUSER\")","v":""}]
[null,null,null,null,null,null,null,null,null,null,null,null,null,null,null,null,null,null,null,null,null,null,null,null,null,null,null,null,null,null,null,null,null,null,null,null,null,null,null,null,null,null,null,null,null,null,null,null,null,null,null,null,null,null,null,null,null,null,null,null,null,null,null,null,null,null,null,null,null,null,null,null,null,null,null,null,null,null,null,null,null,null,null,null,null,null,null,null,null,null,null,null,"",null,{"$f":"IF(BY16=\"\",\"\",\"AgencyEntityInsData Id 235\")","v":""},{"$f":"IF(BY16=\"\",\"\",\"AgencyEntityInstance Id 14\")","v":""},{"$f":"IF(BY16=\"\",\"\",\"del_fa_coal\")","v":""},{"$f":"IF(BY16=\"\",\"\",IF(LEFT(Main!F14,4)=\"1007\",\"\",IF(LEFT(Main!F14,4)=\"1003\",\"\",IF(LEFT(Main!F14,4)=\"1010\",\"\",\"\"))))","v":""},{"$f":"IF(BY16=\"\",\"\",TODAY())","v":""},{"$f":"IF(BY16=\"\",\"\",\"WTSYSTEMUSER\")","v":""},{"$f":"IF(BY16=\"\",\"\",TODAY())","v":""},{"$f":"IF(BY16=\"\",\"\",\"WTSYSTEMUSER\")","v":""}]
[null,null,null,null,null,null,null,null,null,null,null,null,null,null,null,null,null,null,null,null,null,null,null,null,null,null,null,null,null,null,null,null,null,null,null,null,null,null,null,null,null,null,null,null,null,null,null,null,null,null,null,null,null,null,null,null,null,null,null,null,null,null,null,null,null,null,null,null,null,null,null,null,null,null,null,null,null,null,null,null,null,null,null,null,null,null,null,null,null,null,null,null,"",null,{"$f":"IF(BY16=\"\",\"\",\"AgencyEntityInsData Id 236\")","v":""},{"$f":"IF(BY16=\"\",\"\",\"AgencyEntityInstance Id 14\")","v":""},{"$f":"IF(BY16=\"\",\"\",\"del_fa_lw\")","v":""},{"$f":"IF(BY16=\"\",\"\",IF(LEFT(Main!F14,4)=\"1007\",\"\",IF(LEFT(Main!F14,4)=\"1003\",\"\",IF(LEFT(Main!F14,4)=\"1010\",\"\",\"\"))))","v":""},{"$f":"IF(BY16=\"\",\"\",TODAY())","v":""},{"$f":"IF(BY16=\"\",\"\",\"WTSYSTEMUSER\")","v":""},{"$f":"IF(BY16=\"\",\"\",TODAY())","v":""},{"$f":"IF(BY16=\"\",\"\",\"WTSYSTEMUSER\")","v":""}]
[null,null,null,null,null,null,null,null,null,null,null,null,null,null,null,null,null,null,null,null,null,null,null,null,null,null,null,null,null,null,null,null,null,null,null,null,null,null,null,null,null,null,null,null,null,null,null,null,null,null,null,null,null,null,null,null,null,null,null,null,null,null,null,null,null,null,null,null,null,null,null,null,null,null,null,null,null,null,null,null,null,null,null,null,null,null,null,null,null,null,null,null,"",null,{"$f":"IF(BY16=\"\",\"\",\"AgencyEntityInsData Id 237\")","v":""},{"$f":"IF(BY16=\"\",\"\",\"AgencyEntityInstance Id 14\")","v":""},{"$f":"IF(BY16=\"\",\"\",\"del_fa_other\")","v":""},{"$f":"IF(BY16=\"\",\"\",IF(LEFT(Main!F14,4)=\"1007\",\"\",IF(LEFT(Main!F14,4)=\"1003\",\"\",IF(LEFT(Main!F14,4)=\"1010\",\"\",\"\"))))","v":""},{"$f":"IF(BY16=\"\",\"\",TODAY())","v":""},{"$f":"IF(BY16=\"\",\"\",\"WTSYSTEMUSER\")","v":""},{"$f":"IF(BY16=\"\",\"\",TODAY())","v":""},{"$f":"IF(BY16=\"\",\"\",\"WTSYSTEMUSER\")","v":""}]
[null,null,null,null,null,null,null,null,null,null,null,null,null,null,null,null,null,null,null,null,null,null,null,null,null,null,null,null,null,null,null,null,null,null,null,null,null,null,null,null,null,null,null,null,null,null,null,null,null,null,null,null,null,null,null,null,null,null,null,null,null,null,null,null,null,null,null,null,null,null,null,null,null,null,null,null,null,null,null,null,null,null,null,null,null,null,null,null,null,null,null,null,"",null,{"$f":"IF(BY16=\"\",\"\",\"AgencyEntityInsData Id 238\")","v":""},{"$f":"IF(BY16=\"\",\"\",\"AgencyEntityInstance Id 14\")","v":""},{"$f":"IF(BY16=\"\",\"\",\"del_man_sand\")","v":""},{"$f":"IF(BY16=\"\",\"\",IF(LEFT(Main!F14,4)=\"1007\",\"\",IF(LEFT(Main!F14,4)=\"1003\",\"\",IF(LEFT(Main!F14,4)=\"1010\",\"\",\"\"))))","v":""},{"$f":"IF(BY16=\"\",\"\",TODAY())","v":""},{"$f":"IF(BY16=\"\",\"\",\"WTSYSTEMUSER\")","v":""},{"$f":"IF(BY16=\"\",\"\",TODAY())","v":""},{"$f":"IF(BY16=\"\",\"\",\"WTSYSTEMUSER\")","v":""}]
[null,null,null,null,null,null,null,null,null,null,null,null,null,null,null,null,null,null,null,null,null,null,null,null,null,null,null,null,null,null,null,null,null,null,null,null,null,null,null,null,null,null,null,null,null,null,null,null,null,null,null,null,null,null,null,null,null,null,null,null,null,null,null,null,null,null,null,null,null,null,null,null,null,null,null,null,null,null,null,null,null,null,null,null,null,null,null,null,null,null,null,null,"",null,{"$f":"IF(BY16=\"\",\"\",\"AgencyEntityInsData Id 239\")","v":""},{"$f":"IF(BY16=\"\",\"\",\"AgencyEntityInstance Id 14\")","v":""},{"$f":"IF(BY16=\"\",\"\",\"del_material\")","v":""},{"$f":"IF(BY16=\"\",\"\",IF(LEFT(Main!F14,4)=\"1007\",\"1007\",IF(LEFT(Main!F14,4)=\"1003\",IF(\"1003\"=0,\"\",\"1003\"),IF(LEFT(Main!F14,4)=\"1010\",\"\",IF(LEFT(Main!F14,4)=\"1009\",\"1009\",IF(\"1005 CA\"=0,\"\",\"1005 CA\"))))))","v":""},{"$f":"IF(BY16=\"\",\"\",TODAY())","v":""},{"$f":"IF(BY16=\"\",\"\",\"WTSYSTEMUSER\")","v":""},{"$f":"IF(BY16=\"\",\"\",TODAY())","v":""},{"$f":"IF(BY16=\"\",\"\",\"WTSYSTEMUSER\")","v":""}]
[null,null,null,null,null,null,null,null,null,null,null,null,null,null,null,null,null,null,null,null,null,null,null,null,null,null,null,null,null,null,null,null,null,null,null,null,null,null,null,null,null,null,null,null,null,null,null,null,null,null,null,null,null,null,null,null,null,null,null,null,null,null,null,null,null,null,null,null,null,null,null,null,null,null,null,null,null,null,null,null,null,null,null,null,null,null,null,null,null,null,null,null,"",null,{"$f":"IF(BY16=\"\",\"\",\"AgencyEntityInsData Id 240\")","v":""},{"$f":"IF(BY16=\"\",\"\",\"AgencyEntityInstance Id 14\")","v":""},{"$f":"IF(BY16=\"\",\"\",\"del_nat_sand\")","v":""},{"$f":"IF(BY16=\"\",\"\",IF(LEFT(Main!F14,4)=\"1007\",\"\",IF(LEFT(Main!F14,4)=\"1003\",\"\",IF(LEFT(Main!F14,4)=\"1010\",\"\",\"\"))))","v":""},{"$f":"IF(BY16=\"\",\"\",TODAY())","v":""},{"$f":"IF(BY16=\"\",\"\",\"WTSYSTEMUSER\")","v":""},{"$f":"IF(BY16=\"\",\"\",TODAY())","v":""},{"$f":"IF(BY16=\"\",\"\",\"WTSYSTEMUSER\")","v":""}]
[null,null,null,null,null,null,null,null,null,null,null,null,null,null,null,null,null,null,null,null,null,null,null,null,null,null,null,null,null,null,null,null,null,null,null,null,null,null,null,null,null,null,null,null,null,null,null,null,null,null,null,null,null,null,null,null,null,null,null,null,null,null,null,null,null,null,null,null,null,null,null,null,null,null,null,null,null,null,null,null,null,null,null,null,null,null,null,null,null,null,null,null,"",null,{"$f":"IF(BY16=\"\",\"\",\"AgencyEntityInsData Id 241\")","v":""},{"$f":"IF(BY16=\"\",\"\",\"AgencyEntityInstance Id 14\")","v":""},{"$f":"IF(BY16=\"\",\"\",\"del_tot_del\")","v":""},{"$f":"IF(BY16=\"\",\"\",IF(LEFT(Main!F14,4)=\"1007\",\"\",IF(LEFT(Main!F14,4)=\"1003\",IF('Test 2'!H50=0,\"\",'Test 2'!H50),IF(LEFT(Main!F14,4)=\"1010\",\"\",IF('Test 2'!H50=0,\"\",'Test 2'!H50)))))","v":""},{"$f":"IF(BY16=\"\",\"\",TODAY())","v":""},{"$f":"IF(BY16=\"\",\"\",\"WTSYSTEMUSER\")","v":""},{"$f":"IF(BY16=\"\",\"\",TODAY())","v":""},{"$f":"IF(BY16=\"\",\"\",\"WTSYSTEMUSER\")","v":""}]
[null,null,null,null,null,null,null,null,null,null,null,null,null,null,null,null,null,null,null,null,null,null,null,null,null,null,null,null,null,null,null,null,null,null,null,null,null,null,null,null,null,null,null,null,null,null,null,null,null,null,null,null,null,null,null,null,null,null,null,null,null,null,null,null,null,null,null,null,null,null,null,null,null,null,null,null,null,null,null,null,null,null,null,null,null,null,null,null,null,null,null,null,"",null,{"$f":"IF(BY17=\"\",\"\",\"AgencyEntityInsData Id 242\")","v":""},{"$f":"IF(BY17=\"\",\"\",\"AgencyEntityInstance Id 15\")","v":""},{"$f":"IF(BY17=\"\",\"\",\"del_ca_200\")","v":""},{"$f":"IF(BY17=\"\",\"\",IF(LEFT(Main!F14,4)=\"1007\",\"\",IF(LEFT(Main!F14,4)=\"1003\",IF('Test 2'!AF48=0,\"\",'Test 2'!AF48),IF(LEFT(Main!F14,4)=\"1010\",\"\",IF('Test 2'!AF48=0,\"\",'Test 2'!AF48)))))","v":""},{"$f":"IF(BY17=\"\",\"\",TODAY())","v":""},{"$f":"IF(BY17=\"\",\"\",\"WTSYSTEMUSER\")","v":""},{"$f":"IF(BY17=\"\",\"\",TODAY())","v":""},{"$f":"IF(BY17=\"\",\"\",\"WTSYSTEMUSER\")","v":""}]
[null,null,null,null,null,null,null,null,null,null,null,null,null,null,null,null,null,null,null,null,null,null,null,null,null,null,null,null,null,null,null,null,null,null,null,null,null,null,null,null,null,null,null,null,null,null,null,null,null,null,null,null,null,null,null,null,null,null,null,null,null,null,null,null,null,null,null,null,null,null,null,null,null,null,null,null,null,null,null,null,null,null,null,null,null,null,null,null,null,null,null,null,"",null,{"$f":"IF(BY17=\"\",\"\",\"AgencyEntityInsData Id 243\")","v":""},{"$f":"IF(BY17=\"\",\"\",\"AgencyEntityInstance Id 15\")","v":""},{"$f":"IF(BY17=\"\",\"\",\"del_ca_chert\")","v":""},{"$f":"IF(BY17=\"\",\"\",IF(LEFT(Main!F14,4)=\"1007\",\"\",IF(LEFT(Main!F14,4)=\"1003\",\"\",IF(LEFT(Main!F14,4)=\"1010\",\"\",IF('Test 2'!AF46=0,\"\",'Test 2'!AF46)))))","v":""},{"$f":"IF(BY17=\"\",\"\",TODAY())","v":""},{"$f":"IF(BY17=\"\",\"\",\"WTSYSTEMUSER\")","v":""},{"$f":"IF(BY17=\"\",\"\",TODAY())","v":""},{"$f":"IF(BY17=\"\",\"\",\"WTSYSTEMUSER\")","v":""}]
[null,null,null,null,null,null,null,null,null,null,null,null,null,null,null,null,null,null,null,null,null,null,null,null,null,null,null,null,null,null,null,null,null,null,null,null,null,null,null,null,null,null,null,null,null,null,null,null,null,null,null,null,null,null,null,null,null,null,null,null,null,null,null,null,null,null,null,null,null,null,null,null,null,null,null,null,null,null,null,null,null,null,null,null,null,null,null,null,null,null,null,null,"",null,{"$f":"IF(BY17=\"\",\"\",\"AgencyEntityInsData Id 244\")","v":""},{"$f":"IF(BY17=\"\",\"\",\"AgencyEntityInstance Id 15\")","v":""},{"$f":"IF(BY17=\"\",\"\",\"del_ca_clay\")","v":""},{"$f":"IF(BY17=\"\",\"\",IF(LEFT(Main!F14,4)=\"1007\",\"\",IF(LEFT(Main!F14,4)=\"1003\",\"\",IF(LEFT(Main!F14,4)=\"1010\",\"\",\"\"))))","v":""},{"$f":"IF(BY17=\"\",\"\",TODAY())","v":""},{"$f":"IF(BY17=\"\",\"\",\"WTSYSTEMUSER\")","v":""},{"$f":"IF(BY17=\"\",\"\",TODAY())","v":""},{"$f":"IF(BY17=\"\",\"\",\"WTSYSTEMUSER\")","v":""}]
[null,null,null,null,null,null,null,null,null,null,null,null,null,null,null,null,null,null,null,null,null,null,null,null,null,null,null,null,null,null,null,null,null,null,null,null,null,null,null,null,null,null,null,null,null,null,null,null,null,null,null,null,null,null,null,null,null,null,null,null,null,null,null,null,null,null,null,null,null,null,null,null,null,null,null,null,null,null,null,null,null,null,null,null,null,null,null,null,null,null,null,null,"",null,{"$f":"IF(BY17=\"\",\"\",\"AgencyEntityInsData Id 245\")","v":""},{"$f":"IF(BY17=\"\",\"\",\"AgencyEntityInstance Id 15\")","v":""},{"$f":"IF(BY17=\"\",\"\",\"del_ca_mud\")","v":""},{"$f":"IF(BY17=\"\",\"\",IF(LEFT(Main!F14,4)=\"1007\",\"\",IF(LEFT(Main!F14,4)=\"1003\",\"\",IF(LEFT(Main!F14,4)=\"1010\",\"\",\"\"))))","v":""},{"$f":"IF(BY17=\"\",\"\",TODAY())","v":""},{"$f":"IF(BY17=\"\",\"\",\"WTSYSTEMUSER\")","v":""},{"$f":"IF(BY17=\"\",\"\",TODAY())","v":""},{"$f":"IF(BY17=\"\",\"\",\"WTSYSTEMUSER\")","v":""}]
[null,null,null,null,null,null,null,null,null,null,null,null,null,null,null,null,null,null,null,null,null,null,null,null,null,null,null,null,null,null,null,null,null,null,null,null,null,null,null,null,null,null,null,null,null,null,null,null,null,null,null,null,null,null,null,null,null,null,null,null,null,null,null,null,null,null,null,null,null,null,null,null,null,null,null,null,null,null,null,null,null,null,null,null,null,null,null,null,null,null,null,null,"",null,{"$f":"IF(BY17=\"\",\"\",\"AgencyEntityInsData Id 246\")","v":""},{"$f":"IF(BY17=\"\",\"\",\"AgencyEntityInstance Id 15\")","v":""},{"$f":"IF(BY17=\"\",\"\",\"del_ca_mud_sh\")","v":""},{"$f":"IF(BY17=\"\",\"\",IF(LEFT(Main!F14,4)=\"1007\",\"\",IF(LEFT(Main!F14,4)=\"1003\",\"\",IF(LEFT(Main!F14,4)=\"1010\",\"\",\"\"))))","v":""},{"$f":"IF(BY17=\"\",\"\",TODAY())","v":""},{"$f":"IF(BY17=\"\",\"\",\"WTSYSTEMUSER\")","v":""},{"$f":"IF(BY17=\"\",\"\",TODAY())","v":""},{"$f":"IF(BY17=\"\",\"\",\"WTSYSTEMUSER\")","v":""}]
[null,null,null,null,null,null,null,null,null,null,null,null,null,null,null,null,null,null,null,null,null,null,null,null,null,null,null,null,null,null,null,null,null,null,null,null,null,null,null,null,null,null,null,null,null,null,null,null,null,null,null,null,null,null,null,null,null,null,null,null,null,null,null,null,null,null,null,null,null,null,null,null,null,null,null,null,null,null,null,null,null,null,null,null,null,null,null,null,null,null,null,null,"",null,{"$f":"IF(BY17=\"\",\"\",\"AgencyEntityInsData Id 247\")","v":""},{"$f":"IF(BY17=\"\",\"\",\"AgencyEntityInstance Id 15\")","v":""},{"$f":"IF(BY17=\"\",\"\",\"del_ca_ofm\")","v":""},{"$f":"IF(BY17=\"\",\"\",IF(LEFT(Main!F14,4)=\"1007\",\"\",IF(LEFT(Main!F14,4)=\"1003\",IF('Test 2'!AF47=0,\"\",'Test 2'!AF47),IF(LEFT(Main!F14,4)=\"1010\",\"\",IF('Test 2'!AF47=0,\"\",'Test 2'!AF47)))))","v":""},{"$f":"IF(BY17=\"\",\"\",TODAY())","v":""},{"$f":"IF(BY17=\"\",\"\",\"WTSYSTEMUSER\")","v":""},{"$f":"IF(BY17=\"\",\"\",TODAY())","v":""},{"$f":"IF(BY17=\"\",\"\",\"WTSYSTEMUSER\")","v":""}]
[null,null,null,null,null,null,null,null,null,null,null,null,null,null,null,null,null,null,null,null,null,null,null,null,null,null,null,null,null,null,null,null,null,null,null,null,null,null,null,null,null,null,null,null,null,null,null,null,null,null,null,null,null,null,null,null,null,null,null,null,null,null,null,null,null,null,null,null,null,null,null,null,null,null,null,null,null,null,null,null,null,null,null,null,null,null,null,null,null,null,null,null,"",null,{"$f":"IF(BY17=\"\",\"\",\"AgencyEntityInsData Id 248\")","v":""},{"$f":"IF(BY17=\"\",\"\",\"AgencyEntityInstance Id 15\")","v":""},{"$f":"IF(BY17=\"\",\"\",\"del_ca_rock\")","v":""},{"$f":"IF(BY17=\"\",\"\",IF(LEFT(Main!F14,4)=\"1007\",\"\",IF(LEFT(Main!F14,4)=\"1003\",IF('Test 2'!AF44=0,\"\",'Test 2'!AF44),IF(LEFT(Main!F14,4)=\"1010\",\"\",IF('Test 2'!AF44=0,\"\",'Test 2'!AF44)))))","v":""},{"$f":"IF(BY17=\"\",\"\",TODAY())","v":""},{"$f":"IF(BY17=\"\",\"\",\"WTSYSTEMUSER\")","v":""},{"$f":"IF(BY17=\"\",\"\",TODAY())","v":""},{"$f":"IF(BY17=\"\",\"\",\"WTSYSTEMUSER\")","v":""}]
[null,null,null,null,null,null,null,null,null,null,null,null,null,null,null,null,null,null,null,null,null,null,null,null,null,null,null,null,null,null,null,null,null,null,null,null,null,null,null,null,null,null,null,null,null,null,null,null,null,null,null,null,null,null,null,null,null,null,null,null,null,null,null,null,null,null,null,null,null,null,null,null,null,null,null,null,null,null,null,null,null,null,null,null,null,null,null,null,null,null,null,null,"",null,{"$f":"IF(BY17=\"\",\"\",\"AgencyEntityInsData Id 250\")","v":""},{"$f":"IF(BY17=\"\",\"\",\"AgencyEntityInstance Id 15\")","v":""},{"$f":"IF(BY17=\"\",\"\",\"del_ca_sh\")","v":""},{"$f":"IF(BY17=\"\",\"\",IF(LEFT(Main!F14,4)=\"1007\",\"\",IF(LEFT(Main!F14,4)=\"1003\",IF('Test 2'!AF45=0,\"\",'Test 2'!AF45),IF(LEFT(Main!F14,4)=\"1010\",\"\",IF('Test 2'!AF45=0,\"\",'Test 2'!AF45)))))","v":""},{"$f":"IF(BY17=\"\",\"\",TODAY())","v":""},{"$f":"IF(BY17=\"\",\"\",\"WTSYSTEMUSER\")","v":""},{"$f":"IF(BY17=\"\",\"\",TODAY())","v":""},{"$f":"IF(BY17=\"\",\"\",\"WTSYSTEMUSER\")","v":""}]
[null,null,null,null,null,null,null,null,null,null,null,null,null,null,null,null,null,null,null,null,null,null,null,null,null,null,null,null,null,null,null,null,null,null,null,null,null,null,null,null,null,null,null,null,null,null,null,null,null,null,null,null,null,null,null,null,null,null,null,null,null,null,null,null,null,null,null,null,null,null,null,null,null,null,null,null,null,null,null,null,null,null,null,null,null,null,null,null,null,null,null,null,"",null,{"$f":"IF(BY17=\"\",\"\",\"AgencyEntityInsData Id 254\")","v":""},{"$f":"IF(BY17=\"\",\"\",\"AgencyEntityInstance Id 15\")","v":""},{"$f":"IF(BY17=\"\",\"\",\"del_fa_other\")","v":""},{"$f":"IF(BY17=\"\",\"\",IF(LEFT(Main!F14,4)=\"1007\",\"\",IF(LEFT(Main!F14,4)=\"1003\",\"\",IF(LEFT(Main!F14,4)=\"1010\",\"\",\"\"))))","v":""},{"$f":"IF(BY17=\"\",\"\",TODAY())","v":""},{"$f":"IF(BY17=\"\",\"\",\"WTSYSTEMUSER\")","v":""},{"$f":"IF(BY17=\"\",\"\",TODAY())","v":""},{"$f":"IF(BY17=\"\",\"\",\"WTSYSTEMUSER\")","v":""}]
[null,null,null,null,null,null,null,null,null,null,null,null,null,null,null,null,null,null,null,null,null,null,null,null,null,null,null,null,null,null,null,null,null,null,null,null,null,null,null,null,null,null,null,null,null,null,null,null,null,null,null,null,null,null,null,null,null,null,null,null,null,null,null,null,null,null,null,null,null,null,null,null,null,null,null,null,null,null,null,null,null,null,null,null,null,null,null,null,null,null,null,null,"",null,{"$f":"IF(BY18=\"\",\"\",\"AgencyEntityInsData Id 259\")","v":""},{"$f":"IF(BY18=\"\",\"\",\"AgencyEntityInstance Id 16\")","v":""},{"$f":"IF(BY18=\"\",\"\",\"del_ca_200\")","v":""},{"$f":"IF(BY18=\"\",\"\",IF(LEFT(Main!F14,4)=\"1007\",\"\",IF(LEFT(Main!F14,4)=\"1003\",IF('Test 2'!AG48=0,\"\",'Test 2'!AG48),IF(LEFT(Main!F14,4)=\"1010\",\"\",IF('Test 2'!AG48=0,\"\",'Test 2'!AG48)))))","v":""},{"$f":"IF(BY18=\"\",\"\",TODAY())","v":""},{"$f":"IF(BY18=\"\",\"\",\"WTSYSTEMUSER\")","v":""},{"$f":"IF(BY18=\"\",\"\",TODAY())","v":""},{"$f":"IF(BY18=\"\",\"\",\"WTSYSTEMUSER\")","v":""}]
[null,null,null,null,null,null,null,null,null,null,null,null,null,null,null,null,null,null,null,null,null,null,null,null,null,null,null,null,null,null,null,null,null,null,null,null,null,null,null,null,null,null,null,null,null,null,null,null,null,null,null,null,null,null,null,null,null,null,null,null,null,null,null,null,null,null,null,null,null,null,null,null,null,null,null,null,null,null,null,null,null,null,null,null,null,null,null,null,null,null,null,null,"",null,{"$f":"IF(BY18=\"\",\"\",\"AgencyEntityInsData Id 265\")","v":""},{"$f":"IF(BY18=\"\",\"\",\"AgencyEntityInstance Id 16\")","v":""},{"$f":"IF(BY18=\"\",\"\",\"del_ca_rock\")","v":""},{"$f":"IF(BY18=\"\",\"\",IF(LEFT(Main!F14,4)=\"1007\",\"\",IF(LEFT(Main!F14,4)=\"1003\",IF('Test 2'!AG44=0,\"\",'Test 2'!AG44),IF(LEFT(Main!F14,4)=\"1010\",\"\",IF('Test 2'!AG44=0,\"\",'Test 2'!AG44)))))","v":""},{"$f":"IF(BY18=\"\",\"\",TODAY())","v":""},{"$f":"IF(BY18=\"\",\"\",\"WTSYSTEMUSER\")","v":""},{"$f":"IF(BY18=\"\",\"\",TODAY())","v":""},{"$f":"IF(BY18=\"\",\"\",\"WTSYSTEMUSER\")","v":""}]
[null,null,null,null,null,null,null,null,null,null,null,null,null,null,null,null,null,null,null,null,null,null,null,null,null,null,null,null,null,null,null,null,null,null,null,null,null,null,null,null,null,null,null,null,null,null,null,null,null,null,null,null,null,null,null,null,null,null,null,null,null,null,null,null,null,null,null,null,null,null,null,null,null,null,null,null,null,null,null,null,null,null,null,null,null,null,null,null,null,null,null,null,"",null,{"$f":"IF(BY18=\"\",\"\",\"AgencyEntityInsData Id 270\")","v":""},{"$f":"IF(BY18=\"\",\"\",\"AgencyEntityInstance Id 16\")","v":""},{"$f":"IF(BY18=\"\",\"\",\"del_fa_lw\")","v":""},{"$f":"IF(BY18=\"\",\"\",IF(LEFT(Main!F14,4)=\"1007\",\"\",IF(LEFT(Main!F14,4)=\"1003\",\"\",IF(LEFT(Main!F14,4)=\"1010\",\"\",\"\"))))","v":""},{"$f":"IF(BY18=\"\",\"\",TODAY())","v":""},{"$f":"IF(BY18=\"\",\"\",\"WTSYSTEMUSER\")","v":""},{"$f":"IF(BY18=\"\",\"\",TODAY())","v":""},{"$f":"IF(BY18=\"\",\"\",\"WTSYSTEMUSER\")","v":""}]
[null,null,null,null,null,null,null,null,null,null,null,null,null,null,null,null,null,null,null,null,null,null,null,null,null,null,null,null,null,null,null,null,null,null,null,null,null,null,null,null,null,null,null,null,null,null,null,null,null,null,null,null,null,null,null,null,null,null,null,null,null,null,null,null,null,null,null,null,null,null,null,null,null,null,null,null,null,null,null,null,null,null,null,null,null,null,null,null,null,null,null,null,"",null,{"$f":"IF(BY18=\"\",\"\",\"AgencyEntityInsData Id 275\")","v":""},{"$f":"IF(BY18=\"\",\"\",\"AgencyEntityInstance Id 16\")","v":""},{"$f":"IF(BY18=\"\",\"\",\"del_tot_del\")","v":""},{"$f":"IF(BY18=\"\",\"\",IF(LEFT(Main!F14,4)=\"1007\",\"\",IF(LEFT(Main!F14,4)=\"1003\",IF('Test 2'!P50=0,\"\",'Test 2'!P50),IF(LEFT(Main!F14,4)=\"1010\",\"\",IF('Test 2'!P50=0,\"\",'Test 2'!P50)))))","v":""},{"$f":"IF(BY18=\"\",\"\",TODAY())","v":""},{"$f":"IF(BY18=\"\",\"\",\"WTSYSTEMUSER\")","v":""},{"$f":"IF(BY18=\"\",\"\",TODAY())","v":""},{"$f":"IF(BY18=\"\",\"\",\"WTSYSTEMUSER\")","v":""}]
[null,null,null,null,null,null,null,null,null,null,null,null,null,null,null,null,null,null,null,null,null,null,null,null,null,null,null,null,null,null,null,null,null,null,null,null,null,null,null,null,null,null,null,null,null,null,null,null,null,null,null,null,null,null,null,null,null,null,null,null,null,null,null,null,null,null,null,null,null,null,null,null,null,null,null,null,null,null,null,null,null,null,null,null,null,null,null,null,null,null,null,null,"",null,{"$f":"IF(BY19=\"\",\"\",\"AgencyEntityInsData Id 280\")","v":""},{"$f":"IF(BY19=\"\",\"\",\"AgencyEntityInstance Id 17\")","v":""},{"$f":"IF(BY19=\"\",\"\",\"del_ca_mud_sh\")","v":""},{"$f":"IF(BY19=\"\",\"\",IF(LEFT(Main!F14,4)=\"1007\",\"\",IF(LEFT(Main!F14,4)=\"1003\",\"\",IF(LEFT(Main!F14,4)=\"1010\",\"\",\"\"))))","v":""},{"$f":"IF(BY19=\"\",\"\",TODAY())","v":""},{"$f":"IF(BY19=\"\",\"\",\"WTSYSTEMUSER\")","v":""},{"$f":"IF(BY19=\"\",\"\",TODAY())","v":""},{"$f":"IF(BY19=\"\",\"\",\"WTSYSTEMUSER\")","v":""}]
[null,null,null,null,null,null,null,null,null,null,null,null,null,null,null,null,null,null,null,null,null,null,null,null,null,null,null,null,null,null,null,null,null,null,null,null,null,null,null,null,null,null,null,null,null,null,null,null,null,null,null,null,null,null,null,null,null,null,null,null,null,null,null,null,null,null,null,null,null,null,null,null,null,null,null,null,null,null,null,null,null,null,null,null,null,null,null,null,null,null,null,null,"",null,{"$f":"IF(BY19=\"\",\"\",\"AgencyEntityInsData Id 285\")","v":""},{"$f":"IF(BY19=\"\",\"\",\"AgencyEntityInstance Id 17\")","v":""},{"$f":"IF(BY19=\"\",\"\",\"del_fa_clay_sh\")","v":""},{"$f":"IF(BY19=\"\",\"\",IF(LEFT(Main!F14,4)=\"1007\",\"\",IF(LEFT(Main!F14,4)=\"1003\",\"\",IF(LEFT(Main!F14,4)=\"1010\",\"\",\"\"))))","v":""},{"$f":"IF(BY19=\"\",\"\",TODAY())","v":""},{"$f":"IF(BY19=\"\",\"\",\"WTSYSTEMUSER\")","v":""},{"$f":"IF(BY19=\"\",\"\",TODAY())","v":""},{"$f":"IF(BY19=\"\",\"\",\"WTSYSTEMUSER\")","v":""}]
[null,null,null,null,null,null,null,null,null,null,null,null,null,null,null,null,null,null,null,null,null,null,null,null,null,null,null,null,null,null,null,null,null,null,null,null,null,null,null,null,null,null,null,null,null,null,null,null,null,null,null,null,null,null,null,null,null,null,null,null,null,null,null,null,null,null,null,null,null,null,null,null,null,null,null,null,null,null,null,null,null,null,null,null,null,null,null,null,null,null,null,null,"",null,{"$f":"IF(BY19=\"\",\"\",\"AgencyEntityInsData Id 291\")","v":""},{"$f":"IF(BY19=\"\",\"\",\"AgencyEntityInstance Id 17\")","v":""},{"$f":"IF(BY19=\"\",\"\",\"del_nat_sand\")","v":""},{"$f":"IF(BY19=\"\",\"\",IF(LEFT(Main!F14,4)=\"1007\",\"\",IF(LEFT(Main!F14,4)=\"1003\",\"\",IF(LEFT(Main!F14,4)=\"1010\",\"\",\"\"))))","v":""},{"$f":"IF(BY19=\"\",\"\",TODAY())","v":""},{"$f":"IF(BY19=\"\",\"\",\"WTSYSTEMUSER\")","v":""},{"$f":"IF(BY19=\"\",\"\",TODAY())","v":""},{"$f":"IF(BY19=\"\",\"\",\"WTSYSTEMUSER\")","v":""}]
[null,null,null,null,null,null,null,null,null,null,null,null,null,null,null,null,null,null,null,null,null,null,null,null,null,null,null,null,null,null,null,null,null,null,null,null,null,null,null,null,null,null,null,null,null,null,null,null,null,null,null,null,null,null,null,null,null,null,null,null,null,null,null,null,null,null,null,null,null,null,null,null,null,null,null,null,null,null,null,null,null,null,null,null,null,null,null,null,null,null,null,null,"",null,{"$f":"IF(BY21=\"\",\"\",\"AgencyEntityInsData Id 296\")","v":""},{"$f":"IF(BY21=\"\",\"\",\"AgencyEntityInstance Id 19\")","v":""},{"$f":"IF(BY21=\"\",\"\",\"cm_t27_list_min\")","v":""},{"$f":"IF(BY21=\"\",\"\",0)","v":""},{"$f":"IF(BY21=\"\",\"\",TODAY())","v":""},{"$f":"IF(BY21=\"\",\"\",\"WTSYSTEMUSER\")","v":""},{"$f":"IF(BY21=\"\",\"\",TODAY())","v":""},{"$f":"IF(BY21=\"\",\"\",\"WTSYSTEMUSER\")","v":""}]
[null,null,null,null,null,null,null,null,null,null,null,null,null,null,null,null,null,null,null,null,null,null,null,null,null,null,null,null,null,null,null,null,null,null,null,null,null,null,null,null,null,null,null,null,null,null,null,null,null,null,null,null,null,null,null,null,null,null,null,null,null,null,null,null,null,null,null,null,null,null,null,null,null,null,null,null,null,null,null,null,null,null,null,null,null,null,null,null,null,null,null,null,"",null,{"$f":"IF(BY22=\"\",\"\",\"AgencyEntityInsData Id 300\")","v":""},{"$f":"IF(BY22=\"\",\"\",\"AgencyEntityInstance Id 20\")","v":""},{"$f":"IF(BY22=\"\",\"\",\"cm_t27_list_inspecrow\")","v":""},{"$f":"IF(BY22=\"\",\"\",\"Out of Spec\")","v":""},{"$f":"IF(BY22=\"\",\"\",TODAY())","v":""},{"$f":"IF(BY22=\"\",\"\",\"WTSYSTEMUSER\")","v":""},{"$f":"IF(BY22=\"\",\"\",TODAY())","v":""},{"$f":"IF(BY22=\"\",\"\",\"WTSYSTEMUSER\")","v":""}]
[null,null,null,null,null,null,null,null,null,null,null,null,null,null,null,null,null,null,null,null,null,null,null,null,null,null,null,null,null,null,null,null,null,null,null,null,null,null,null,null,null,null,null,null,null,null,null,null,null,null,null,null,null,null,null,null,null,null,null,null,null,null,null,null,null,null,null,null,null,null,null,null,null,null,null,null,null,null,null,null,null,null,null,null,null,null,null,null,null,null,null,null,"",null,{"$f":"IF(BY22=\"\",\"\",\"AgencyEntityInsData Id 301\")","v":""},{"$f":"IF(BY22=\"\",\"\",\"AgencyEntityInstance Id 20\")","v":""},{"$f":"IF(BY22=\"\",\"\",\"cm_t27_list_max\")","v":""},{"$f":"IF(BY22=\"\",\"\",0)","v":""},{"$f":"IF(BY22=\"\",\"\",TODAY())","v":""},{"$f":"IF(BY22=\"\",\"\",\"WTSYSTEMUSER\")","v":""},{"$f":"IF(BY22=\"\",\"\",TODAY())","v":""},{"$f":"IF(BY22=\"\",\"\",\"WTSYSTEMUSER\")","v":""}]
[null,null,null,null,null,null,null,null,null,null,null,null,null,null,null,null,null,null,null,null,null,null,null,null,null,null,null,null,null,null,null,null,null,null,null,null,null,null,null,null,null,null,null,null,null,null,null,null,null,null,null,null,null,null,null,null,null,null,null,null,null,null,null,null,null,null,null,null,null,null,null,null,null,null,null,null,null,null,null,null,null,null,null,null,null,null,null,null,null,null,null,null,"",null,{"$f":"IF(BY23=\"\",\"\",\"AgencyEntityInsData Id 306\")","v":""},{"$f":"IF(BY23=\"\",\"\",\"AgencyEntityInstance Id 21\")","v":""},{"$f":"IF(BY23=\"\",\"\",\"cm_t27_list_inspecrow\")","v":""},{"$f":"IF(BY23=\"\",\"\",\"Out of Spec\")","v":""},{"$f":"IF(BY23=\"\",\"\",TODAY())","v":""},{"$f":"IF(BY23=\"\",\"\",\"WTSYSTEMUSER\")","v":""},{"$f":"IF(BY23=\"\",\"\",TODAY())","v":""},{"$f":"IF(BY23=\"\",\"\",\"WTSYSTEMUSER\")","v":""}]
[null,null,null,null,null,null,null,null,null,null,null,null,null,null,null,null,null,null,null,null,null,null,null,null,null,null,null,null,null,null,null,null,null,null,null,null,null,null,null,null,null,null,null,null,null,null,null,null,null,null,null,null,null,null,null,null,null,null,null,null,null,null,null,null,null,null,null,null,null,null,null,null,null,null,null,null,null,null,null,null,null,null,null,null,null,null,null,null,null,null,null,null,"",null,{"$f":"IF(BY23=\"\",\"\",\"AgencyEntityInsData Id 311\")","v":""},{"$f":"IF(BY23=\"\",\"\",\"AgencyEntityInstance Id 21\")","v":""},{"$f":"IF(BY23=\"\",\"\",\"cm_t27_list_sieve\")","v":""},{"$f":"IF(BY23=\"\",\"\",\"3/4\"\" (19 mm)\")","v":""},{"$f":"IF(BY23=\"\",\"\",TODAY())","v":""},{"$f":"IF(BY23=\"\",\"\",\"WTSYSTEMUSER\")","v":""},{"$f":"IF(BY23=\"\",\"\",TODAY())","v":""},{"$f":"IF(BY23=\"\",\"\",\"WTSYSTEMUSER\")","v":""}]
[null,null,null,null,null,null,null,null,null,null,null,null,null,null,null,null,null,null,null,null,null,null,null,null,null,null,null,null,null,null,null,null,null,null,null,null,null,null,null,null,null,null,null,null,null,null,null,null,null,null,null,null,null,null,null,null,null,null,null,null,null,null,null,null,null,null,null,null,null,null,null,null,null,null,null,null,null,null,null,null,null,null,null,null,null,null,null,null,null,null,null,null,"",null,{"$f":"IF(BY24=\"\",\"\",\"AgencyEntityInsData Id 317\")","v":""},{"$f":"IF(BY24=\"\",\"\",\"AgencyEntityInstance Id 22\")","v":""},{"$f":"IF(BY24=\"\",\"\",\"cm_t27_list_sieve\")","v":""},{"$f":"IF(BY24=\"\",\"\",\"1/2\"\" (12.5 mm)\")","v":""},{"$f":"IF(BY24=\"\",\"\",TODAY())","v":""},{"$f":"IF(BY24=\"\",\"\",\"WTSYSTEMUSER\")","v":""},{"$f":"IF(BY24=\"\",\"\",TODAY())","v":""},{"$f":"IF(BY24=\"\",\"\",\"WTSYSTEMUSER\")","v":""}]
[null,null,null,null,null,null,null,null,null,null,null,null,null,null,null,null,null,null,null,null,null,null,null,null,null,null,null,null,null,null,null,null,null,null,null,null,null,null,null,null,null,null,null,null,null,null,null,null,null,null,null,null,null,null,null,null,null,null,null,null,null,null,null,null,null,null,null,null,null,null,null,null,null,null,null,null,null,null,null,null,null,null,null,null,null,null,null,null,null,null,null,null,"",null,{"$f":"IF(BY25=\"\",\"\",\"AgencyEntityInsData Id 321\")","v":""},{"$f":"IF(BY25=\"\",\"\",\"AgencyEntityInstance Id 23\")","v":""},{"$f":"IF(BY25=\"\",\"\",\"cm_t27_list_order\")","v":""},{"$f":"IF(BY25=\"\",\"\",4)","v":""},{"$f":"IF(BY25=\"\",\"\",TODAY())","v":""},{"$f":"IF(BY25=\"\",\"\",\"WTSYSTEMUSER\")","v":""},{"$f":"IF(BY25=\"\",\"\",TODAY())","v":""},{"$f":"IF(BY25=\"\",\"\",\"WTSYSTEMUSER\")","v":""}]
[null,null,null,null,null,null,null,null,null,null,null,null,null,null,null,null,null,null,null,null,null,null,null,null,null,null,null,null,null,null,null,null,null,null,null,null,null,null,null,null,null,null,null,null,null,null,null,null,null,null,null,null,null,null,null,null,null,null,null,null,null,null,null,null,null,null,null,null,null,null,null,null,null,null,null,null,null,null,null,null,null,null,null,null,null,null,null,null,null,null,null,null,"",null,{"$f":"IF(BY26=\"\",\"\",\"AgencyEntityInsData Id 327\")","v":""},{"$f":"IF(BY26=\"\",\"\",\"AgencyEntityInstance Id 24\")","v":""},{"$f":"IF(BY26=\"\",\"\",\"cm_t27_list_order\")","v":""},{"$f":"IF(BY26=\"\",\"\",5)","v":""},{"$f":"IF(BY26=\"\",\"\",TODAY())","v":""},{"$f":"IF(BY26=\"\",\"\",\"WTSYSTEMUSER\")","v":""},{"$f":"IF(BY26=\"\",\"\",TODAY())","v":""},{"$f":"IF(BY26=\"\",\"\",\"WTSYSTEMUSER\")","v":""}]
[null,null,null,null,null,null,null,null,null,null,null,null,null,null,null,null,null,null,null,null,null,null,null,null,null,null,null,null,null,null,null,null,null,null,null,null,null,null,null,null,null,null,null,null,null,null,null,null,null,null,null,null,null,null,null,null,null,null,null,null,null,null,null,null,null,null,null,null,null,null,null,null,null,null,null,null,null,null,null,null,null,null,null,null,null,null,null,null,null,null,null,null,"",null,{"$f":"IF(BY27=\"\",\"\",\"AgencyEntityInsData Id 332\")","v":""},{"$f":"IF(BY27=\"\",\"\",\"AgencyEntityInstance Id 25\")","v":""},{"$f":"IF(BY27=\"\",\"\",\"cm_t27_list_min\")","v":""},{"$f":"IF(BY27=\"\",\"\",0)","v":""},{"$f":"IF(BY27=\"\",\"\",TODAY())","v":""},{"$f":"IF(BY27=\"\",\"\",\"WTSYSTEMUSER\")","v":""},{"$f":"IF(BY27=\"\",\"\",TODAY())","v":""},{"$f":"IF(BY27=\"\",\"\",\"WTSYSTEMUSER\")","v":""}]
[null,null,null,null,null,null,null,null,null,null,null,null,null,null,null,null,null,null,null,null,null,null,null,null,null,null,null,null,null,null,null,null,null,null,null,null,null,null,null,null,null,null,null,null,null,null,null,null,null,null,null,null,null,null,null,null,null,null,null,null,null,null,null,null,null,null,null,null,null,null,null,null,null,null,null,null,null,null,null,null,null,null,null,null,null,null,null,null,null,null,null,null,"",null,{"$f":"IF(BY28=\"\",\"\",\"AgencyEntityInsData Id 337\")","v":""},{"$f":"IF(BY28=\"\",\"\",\"AgencyEntityInstance Id 26\")","v":""},{"$f":"IF(BY28=\"\",\"\",\"cm_t27_list_max\")","v":""},{"$f":"IF(BY28=\"\",\"\",0)","v":""},{"$f":"IF(BY28=\"\",\"\",TODAY())","v":""},{"$f":"IF(BY28=\"\",\"\",\"WTSYSTEMUSER\")","v":""},{"$f":"IF(BY28=\"\",\"\",TODAY())","v":""},{"$f":"IF(BY28=\"\",\"\",\"WTSYSTEMUSER\")","v":""}]
[null,null,null,null,null,null,null,null,null,null,null,null,null,null,null,null,null,null,null,null,null,null,null,null,null,null,null,null,null,null,null,null,null,null,null,null,null,null,null,null,null,null,null,null,null,null,null,null,null,null,null,null,null,null,null,null,null,null,null,null,null,null,null,null,null,null,null,null,null,null,null,null,null,null,null,null,null,null,null,null,null,null,null,null,null,null,null,null,null,null,null,null,"",null,{"$f":"IF(BY29=\"\",\"\",\"AgencyEntityInsData Id 343\")","v":""},{"$f":"IF(BY29=\"\",\"\",\"AgencyEntityInstance Id 27\")","v":""},{"$f":"IF(BY29=\"\",\"\",\"cm_t27_list_max\")","v":""},{"$f":"IF(BY29=\"\",\"\",0)","v":""},{"$f":"IF(BY29=\"\",\"\",TODAY())","v":""},{"$f":"IF(BY29=\"\",\"\",\"WTSYSTEMUSER\")","v":""},{"$f":"IF(BY29=\"\",\"\",TODAY())","v":""},{"$f":"IF(BY29=\"\",\"\",\"WTSYSTEMUSER\")","v":""}]
[null,null,null,null,null,null,null,null,null,null,null,null,null,null,null,null,null,null,null,null,null,null,null,null,null,null,null,null,null,null,null,null,null,null,null,null,null,null,null,null,null,null,null,null,null,null,null,null,null,null,null,null,null,null,null,null,null,null,null,null,null,null,null,null,null,null,null,null,null,null,null,null,null,null,null,null,null,null,null,null,null,null,null,null,null,null,null,null,null,null,null,null,"",null,{"$f":"IF(BY29=\"\",\"\",\"AgencyEntityInsData Id 346\")","v":""},{"$f":"IF(BY29=\"\",\"\",\"AgencyEntityInstance Id 27\")","v":""},{"$f":"IF(BY29=\"\",\"\",\"cm_t27_list_pct_passing\")","v":""},{"$f":"IF(BY29=\"\",\"\",\"\")","v":""},{"$f":"IF(BY29=\"\",\"\",TODAY())","v":""},{"$f":"IF(BY29=\"\",\"\",\"WTSYSTEMUSER\")","v":""},{"$f":"IF(BY29=\"\",\"\",TODAY())","v":""},{"$f":"IF(BY29=\"\",\"\",\"WTSYSTEMUSER\")","v":""}]
[null,null,null,null,null,null,null,null,null,null,null,null,null,null,null,null,null,null,null,null,null,null,null,null,null,null,null,null,null,null,null,null,null,null,null,null,null,null,null,null,null,null,null,null,null,null,null,null,null,null,null,null,null,null,null,null,null,null,null,null,null,null,null,null,null,null,null,null,null,null,null,null,null,null,null,null,null,null,null,null,null,null,null,null,null,null,null,null,null,null,null,null,"",null,{"$f":"IF(BY30=\"\",\"\",\"AgencyEntityInsData Id 353\")","v":""},{"$f":"IF(BY30=\"\",\"\",\"AgencyEntityInstance Id 28\")","v":""},{"$f":"IF(BY30=\"\",\"\",\"cm_t27_list_sieve\")","v":""},{"$f":"IF(BY30=\"\",\"\",\"No. 16 (1.18 mm)\")","v":""},{"$f":"IF(BY30=\"\",\"\",TODAY())","v":""},{"$f":"IF(BY30=\"\",\"\",\"WTSYSTEMUSER\")","v":""},{"$f":"IF(BY30=\"\",\"\",TODAY())","v":""},{"$f":"IF(BY30=\"\",\"\",\"WTSYSTEMUSER\")","v":""}]
[null,null,null,null,null,null,null,null,null,null,null,null,null,null,null,null,null,null,null,null,null,null,null,null,null,null,null,null,null,null,null,null,null,null,null,null,null,null,null,null,null,null,null,null,null,null,null,null,null,null,null,null,null,null,null,null,null,null,null,null,null,null,null,null,null,null,null,null,null,null,null,null,null,null,null,null,null,null,null,null,null,null,null,null,null,null,null,null,null,null,null,null,"",null,{"$f":"IF(BY31=\"\",\"\",\"AgencyEntityInsData Id 358\")","v":""},{"$f":"IF(BY31=\"\",\"\",\"AgencyEntityInstance Id 29\")","v":""},{"$f":"IF(BY31=\"\",\"\",\"cm_t27_list_pct_passing\")","v":""},{"$f":"IF(BY31=\"\",\"\",IF('Test 2'!AD26=0,\"\",'Test 2'!AD26))","v":""},{"$f":"IF(BY31=\"\",\"\",TODAY())","v":""},{"$f":"IF(BY31=\"\",\"\",\"WTSYSTEMUSER\")","v":""},{"$f":"IF(BY31=\"\",\"\",TODAY())","v":""},{"$f":"IF(BY31=\"\",\"\",\"WTSYSTEMUSER\")","v":""}]
[null,null,null,null,null,null,null,null,null,null,null,null,null,null,null,null,null,null,null,null,null,null,null,null,null,null,null,null,null,null,null,null,null,null,null,null,null,null,null,null,null,null,null,null,null,null,null,null,null,null,null,null,null,null,null,null,null,null,null,null,null,null,null,null,null,null,null,null,null,null,null,null,null,null,null,null,null,null,null,null,null,null,null,null,null,null,null,null,null,null,null,null,"",null,{"$f":"IF(BY32=\"\",\"\",\"AgencyEntityInsData Id 363\")","v":""},{"$f":"IF(BY32=\"\",\"\",\"AgencyEntityInstance Id 30\")","v":""},{"$f":"IF(BY32=\"\",\"\",\"cm_t27_list_order\")","v":""},{"$f":"IF(BY32=\"\",\"\",11)","v":""},{"$f":"IF(BY32=\"\",\"\",TODAY())","v":""},{"$f":"IF(BY32=\"\",\"\",\"WTSYSTEMUSER\")","v":""},{"$f":"IF(BY32=\"\",\"\",TODAY())","v":""},{"$f":"IF(BY32=\"\",\"\",\"WTSYSTEMUSER\")","v":""}]
[null,null,null,null,null,null,null,null,null,null,null,null,null,null,null,null,null,null,null,null,null,null,null,null,null,null,null,null,null,null,null,null,null,null,null,null,null,null,null,null,null,null,null,null,null,null,null,null,null,null,null,null,null,null,null,null,null,null,null,null,null,null,null,null,null,null,null,null,null,null,null,null,null,null,null,null,null,null,null,null,null,null,null,null,null,null,null,null,null,null,null,null,"",null,{"$f":"IF(BY32=\"\",\"\",\"AgencyEntityInsData Id 364\")","v":""},{"$f":"IF(BY32=\"\",\"\",\"AgencyEntityInstance Id 30\")","v":""},{"$f":"IF(BY32=\"\",\"\",\"cm_t27_list_pct_passing\")","v":""},{"$f":"IF(BY32=\"\",\"\",IF('Test 2'!AD27=0,\"\",'Test 2'!AD27))","v":""},{"$f":"IF(BY32=\"\",\"\",TODAY())","v":""},{"$f":"IF(BY32=\"\",\"\",\"WTSYSTEMUSER\")","v":""},{"$f":"IF(BY32=\"\",\"\",TODAY())","v":""},{"$f":"IF(BY32=\"\",\"\",\"WTSYSTEMUSER\")","v":""}]
[null,null,null,null,null,null,null,null,null,null,null,null,null,null,null,null,null,null,null,null,null,null,null,null,null,null,null,null,null,null,null,null,null,null,null,null,null,null,null,null,null,null,null,null,null,null,null,null,null,null,null,null,null,null,null,null,null,null,null,null,null,null,null,null,null,null,null,null,null,null,null,null,null,null,null,null,null,null,null,null,null,null,null,null,null,null,null,null,null,null,null,null,"",null,{"$f":"IF(BY33=\"\",\"\",\"AgencyEntityInsData Id 371\")","v":""},{"$f":"IF(BY33=\"\",\"\",\"AgencyEntityInstance Id 31\")","v":""},{"$f":"IF(BY33=\"\",\"\",\"cm_t27_list_sieve\")","v":""},{"$f":"IF(BY33=\"\",\"\",\"No. 50 (300 um)\")","v":""},{"$f":"IF(BY33=\"\",\"\",TODAY())","v":""},{"$f":"IF(BY33=\"\",\"\",\"WTSYSTEMUSER\")","v":""},{"$f":"IF(BY33=\"\",\"\",TODAY())","v":""},{"$f":"IF(BY33=\"\",\"\",\"WTSYSTEMUSER\")","v":""}]
[null,null,null,null,null,null,null,null,null,null,null,null,null,null,null,null,null,null,null,null,null,null,null,null,null,null,null,null,null,null,null,null,null,null,null,null,null,null,null,null,null,null,null,null,null,null,null,null,null,null,null,null,null,null,null,null,null,null,null,null,null,null,null,null,null,null,null,null,null,null,null,null,null,null,null,null,null,null,null,null,null,null,null,null,null,null,null,null,null,null,null,null,"",null,{"$f":"IF(BY34=\"\",\"\",\"AgencyEntityInsData Id 373\")","v":""},{"$f":"IF(BY34=\"\",\"\",\"AgencyEntityInstance Id 32\")","v":""},{"$f":"IF(BY34=\"\",\"\",\"cm_t27_list_max\")","v":""},{"$f":"IF(BY34=\"\",\"\",0)","v":""},{"$f":"IF(BY34=\"\",\"\",TODAY())","v":""},{"$f":"IF(BY34=\"\",\"\",\"WTSYSTEMUSER\")","v":""},{"$f":"IF(BY34=\"\",\"\",TODAY())","v":""},{"$f":"IF(BY34=\"\",\"\",\"WTSYSTEMUSER\")","v":""}]
[null,null,null,null,null,null,null,null,null,null,null,null,null,null,null,null,null,null,null,null,null,null,null,null,null,null,null,null,null,null,null,null,null,null,null,null,null,null,null,null,null,null,null,null,null,null,null,null,null,null,null,null,null,null,null,null,null,null,null,null,null,null,null,null,null,null,null,null,null,null,null,null,null,null,null,null,null,null,null,null,null,null,null,null,null,null,null,null,null,null,null,null,"",null,{"$f":"IF(BY35=\"\",\"\",\"AgencyEntityInsData Id 379\")","v":""},{"$f":"IF(BY35=\"\",\"\",\"AgencyEntityInstance Id 33\")","v":""},{"$f":"IF(BY35=\"\",\"\",\"cm_t27_list_max\")","v":""},{"$f":"IF(BY35=\"\",\"\",0)","v":""},{"$f":"IF(BY35=\"\",\"\",TODAY())","v":""},{"$f":"IF(BY35=\"\",\"\",\"WTSYSTEMUSER\")","v":""},{"$f":"IF(BY35=\"\",\"\",TODAY())","v":""},{"$f":"IF(BY35=\"\",\"\",\"WTSYSTEMUSER\")","v":""}]
[null,null,null,null,null,null,null,null,null,null,null,null,null,null,null,null,null,null,null,null,null,null,null,null,null,null,null,null,null,null,null,null,null,null,null,null,null,null,null,null,null,null,null,null,null,null,null,null,null,null,null,null,null,null,null,null,null,null,null,null,null,null,null,null,null,null,null,null,null,null,null,null,null,null,null,null,null,null,null,null,null,null,null,null,null,null,null,null,null,null,null,null,"",null,{"$f":"IF(BY36=\"\",\"\",\"AgencyEntityInsData Id 384\")","v":""},{"$f":"IF(BY36=\"\",\"\",\"AgencyEntityInstance Id 34\")","v":""},{"$f":"IF(BY36=\"\",\"\",\"cm_t27_detail_inspec\")","v":""},{"$f":"IF(BY36=\"\",\"\",\"Out of Spec\")","v":""},{"$f":"IF(BY36=\"\",\"\",TODAY())","v":""},{"$f":"IF(BY36=\"\",\"\",\"WTSYSTEMUSER\")","v":""},{"$f":"IF(BY36=\"\",\"\",TODAY())","v":""},{"$f":"IF(BY36=\"\",\"\",\"WTSYSTEMUSER\")","v":""}]
[null,null,null,null,null,null,null,null,null,null,null,null,null,null,null,null,null,null,null,null,null,null,null,null,null,null,null,null,null,null,null,null,null,null,null,null,null,null,null,null,null,null,null,null,null,null,null,null,null,null,null,null,null,null,null,null,null,null,null,null,null,null,null,null,null,null,null,null,null,null,null,null,null,null,null,null,null,null,null,null,null,null,null,null,null,null,null,null,null,null,null,null,"",null,{"$f":"IF(BY37=\"\",\"\",\"AgencyEntityInsData Id 390\")","v":""},{"$f":"IF(BY37=\"\",\"\",\"AgencyEntityInstance Id 35\")","v":""},{"$f":"IF(BY37=\"\",\"\",\"cm_t27_list_sieve\")","v":""},{"$f":"IF(BY37=\"\",\"\",\"1 1/2\"\" (37.5 mm)\")","v":""},{"$f":"IF(BY37=\"\",\"\",TODAY())","v":""},{"$f":"IF(BY37=\"\",\"\",\"WTSYSTEMUSER\")","v":""},{"$f":"IF(BY37=\"\",\"\",TODAY())","v":""},{"$f":"IF(BY37=\"\",\"\",\"WTSYSTEMUSER\")","v":""}]
[null,null,null,null,null,null,null,null,null,null,null,null,null,null,null,null,null,null,null,null,null,null,null,null,null,null,null,null,null,null,null,null,null,null,null,null,null,null,null,null,null,null,null,null,null,null,null,null,null,null,null,null,null,null,null,null,null,null,null,null,null,null,null,null,null,null,null,null,null,null,null,null,null,null,null,null,null,null,null,null,null,null,null,null,null,null,null,null,null,null,null,null,"",null,{"$f":"IF(BY38=\"\",\"\",\"AgencyEntityInsData Id 396\")","v":""},{"$f":"IF(BY38=\"\",\"\",\"AgencyEntityInstance Id 36\")","v":""},{"$f":"IF(BY38=\"\",\"\",\"cm_t27_list_sieve\")","v":""},{"$f":"IF(BY38=\"\",\"\",\"1\"\" (25 mm)\")","v":""},{"$f":"IF(BY38=\"\",\"\",TODAY())","v":""},{"$f":"IF(BY38=\"\",\"\",\"WTSYSTEMUSER\")","v":""},{"$f":"IF(BY38=\"\",\"\",TODAY())","v":""},{"$f":"IF(BY38=\"\",\"\",\"WTSYSTEMUSER\")","v":""}]
[null,null,null,null,null,null,null,null,null,null,null,null,null,null,null,null,null,null,null,null,null,null,null,null,null,null,null,null,null,null,null,null,null,null,null,null,null,null,null,null,null,null,null,null,null,null,null,null,null,null,null,null,null,null,null,null,null,null,null,null,null,null,null,null,null,null,null,null,null,null,null,null,null,null,null,null,null,null,null,null,null,null,null,null,null,null,null,null,null,null,null,null,"",null,{"$f":"IF(BY39=\"\",\"\",\"AgencyEntityInsData Id 399\")","v":""},{"$f":"IF(BY39=\"\",\"\",\"AgencyEntityInstance Id 37\")","v":""},{"$f":"IF(BY39=\"\",\"\",\"cm_t27_list_min\")","v":""},{"$f":"IF(BY39=\"\",\"\",0)","v":""},{"$f":"IF(BY39=\"\",\"\",TODAY())","v":""},{"$f":"IF(BY39=\"\",\"\",\"WTSYSTEMUSER\")","v":""},{"$f":"IF(BY39=\"\",\"\",TODAY())","v":""},{"$f":"IF(BY39=\"\",\"\",\"WTSYSTEMUSER\")","v":""}]
[null,null,null,null,null,null,null,null,null,null,null,null,null,null,null,null,null,null,null,null,null,null,null,null,null,null,null,null,null,null,null,null,null,null,null,null,null,null,null,null,null,null,null,null,null,null,null,null,null,null,null,null,null,null,null,null,null,null,null,null,null,null,null,null,null,null,null,null,null,null,null,null,null,null,null,null,null,null,null,null,null,null,null,null,null,null,null,null,null,null,null,null,"",null,{"$f":"IF(BY40=\"\",\"\",\"AgencyEntityInsData Id 405\")","v":""},{"$f":"IF(BY40=\"\",\"\",\"AgencyEntityInstance Id 38\")","v":""},{"$f":"IF(BY40=\"\",\"\",\"cm_t27_list_min\")","v":""},{"$f":"IF(BY40=\"\",\"\",0)","v":""},{"$f":"IF(BY40=\"\",\"\",TODAY())","v":""},{"$f":"IF(BY40=\"\",\"\",\"WTSYSTEMUSER\")","v":""},{"$f":"IF(BY40=\"\",\"\",TODAY())","v":""},{"$f":"IF(BY40=\"\",\"\",\"WTSYSTEMUSER\")","v":""}]
[null,null,null,null,null,null,null,null,null,null,null,null,null,null,null,null,null,null,null,null,null,null,null,null,null,null,null,null,null,null,null,null,null,null,null,null,null,null,null,null,null,null,null,null,null,null,null,null,null,null,null,null,null,null,null,null,null,null,null,null,null,null,null,null,null,null,null,null,null,null,null,null,null,null,null,null,null,null,null,null,null,null,null,null,null,null,null,null,null,null,null,null,"",null,{"$f":"IF(BY41=\"\",\"\",\"AgencyEntityInsData Id 410\")","v":""},{"$f":"IF(BY41=\"\",\"\",\"AgencyEntityInstance Id 39\")","v":""},{"$f":"IF(BY41=\"\",\"\",\"cm_t27_list_max\")","v":""},{"$f":"IF(BY41=\"\",\"\",0)","v":""},{"$f":"IF(BY41=\"\",\"\",TODAY())","v":""},{"$f":"IF(BY41=\"\",\"\",\"WTSYSTEMUSER\")","v":""},{"$f":"IF(BY41=\"\",\"\",TODAY())","v":""},{"$f":"IF(BY41=\"\",\"\",\"WTSYSTEMUSER\")","v":""}]
[null,null,null,null,null,null,null,null,null,null,null,null,null,null,null,null,null,null,null,null,null,null,null,null,null,null,null,null,null,null,null,null,null,null,null,null,null,null,null,null,null,null,null,null,null,null,null,null,null,null,null,null,null,null,null,null,null,null,null,null,null,null,null,null,null,null,null,null,null,null,null,null,null,null,null,null,null,null,null,null,null,null,null,null,null,null,null,null,null,null,null,null,"",null,{"$f":"IF(BY42=\"\",\"\",\"AgencyEntityInsData Id 415\")","v":""},{"$f":"IF(BY42=\"\",\"\",\"AgencyEntityInstance Id 40\")","v":""},{"$f":"IF(BY42=\"\",\"\",\"cm_t27_list_inspecrow\")","v":""},{"$f":"IF(BY42=\"\",\"\",\"Out of Spec\")","v":""},{"$f":"IF(BY42=\"\",\"\",TODAY())","v":""},{"$f":"IF(BY42=\"\",\"\",\"WTSYSTEMUSER\")","v":""},{"$f":"IF(BY42=\"\",\"\",TODAY())","v":""},{"$f":"IF(BY42=\"\",\"\",\"WTSYSTEMUSER\")","v":""}]
[null,null,null,null,null,null,null,null,null,null,null,null,null,null,null,null,null,null,null,null,null,null,null,null,null,null,null,null,null,null,null,null,null,null,null,null,null,null,null,null,null,null,null,null,null,null,null,null,null,null,null,null,null,null,null,null,null,null,null,null,null,null,null,null,null,null,null,null,null,null,null,null,null,null,null,null,null,null,null,null,null,null,null,null,null,null,null,null,null,null,null,null,"",null,{"$f":"IF(BY42=\"\",\"\",\"AgencyEntityInsData Id 417\")","v":""},{"$f":"IF(BY42=\"\",\"\",\"AgencyEntityInstance Id 40\")","v":""},{"$f":"IF(BY42=\"\",\"\",\"cm_t27_list_min\")","v":""},{"$f":"IF(BY42=\"\",\"\",0)","v":""},{"$f":"IF(BY42=\"\",\"\",TODAY())","v":""},{"$f":"IF(BY42=\"\",\"\",\"WTSYSTEMUSER\")","v":""},{"$f":"IF(BY42=\"\",\"\",TODAY())","v":""},{"$f":"IF(BY42=\"\",\"\",\"WTSYSTEMUSER\")","v":""}]
[null,null,null,null,null,null,null,null,null,null,null,null,null,null,null,null,null,null,null,null,null,null,null,null,null,null,null,null,null,null,null,null,null,null,null,null,null,null,null,null,null,null,null,null,null,null,null,null,null,null,null,null,null,null,null,null,null,null,null,null,null,null,null,null,null,null,null,null,null,null,null,null,null,null,null,null,null,null,null,null,null,null,null,null,null,null,null,null,null,null,null,null,"",null,{"$f":"IF(BY43=\"\",\"\",\"AgencyEntityInsData Id 425\")","v":""},{"$f":"IF(BY43=\"\",\"\",\"AgencyEntityInstance Id 41\")","v":""},{"$f":"IF(BY43=\"\",\"\",\"cm_t27_list_pct_passing\")","v":""},{"$f":"IF(BY43=\"\",\"\",IF('Test 2'!AE23=0,\"\",'Test 2'!AE23))","v":""},{"$f":"IF(BY43=\"\",\"\",TODAY())","v":""},{"$f":"IF(BY43=\"\",\"\",\"WTSYSTEMUSER\")","v":""},{"$f":"IF(BY43=\"\",\"\",TODAY())","v":""},{"$f":"IF(BY43=\"\",\"\",\"WTSYSTEMUSER\")","v":""}]
[null,null,null,null,null,null,null,null,null,null,null,null,null,null,null,null,null,null,null,null,null,null,null,null,null,null,null,null,null,null,null,null,null,null,null,null,null,null,null,null,null,null,null,null,null,null,null,null,null,null,null,null,null,null,null,null,null,null,null,null,null,null,null,null,null,null,null,null,null,null,null,null,null,null,null,null,null,null,null,null,null,null,null,null,null,null,null,null,null,null,null,null,"",null,{"$f":"IF(BY43=\"\",\"\",\"AgencyEntityInsData Id 426\")","v":""},{"$f":"IF(BY43=\"\",\"\",\"AgencyEntityInstance Id 41\")","v":""},{"$f":"IF(BY43=\"\",\"\",\"cm_t27_list_sieve\")","v":""},{"$f":"IF(BY43=\"\",\"\",\"No. 4 (4.75 mm)\")","v":""},{"$f":"IF(BY43=\"\",\"\",TODAY())","v":""},{"$f":"IF(BY43=\"\",\"\",\"WTSYSTEMUSER\")","v":""},{"$f":"IF(BY43=\"\",\"\",TODAY())","v":""},{"$f":"IF(BY43=\"\",\"\",\"WTSYSTEMUSER\")","v":""}]
[null,null,null,null,null,null,null,null,null,null,null,null,null,null,null,null,null,null,null,null,null,null,null,null,null,null,null,null,null,null,null,null,null,null,null,null,null,null,null,null,null,null,null,null,null,null,null,null,null,null,null,null,null,null,null,null,null,null,null,null,null,null,null,null,null,null,null,null,null,null,null,null,null,null,null,null,null,null,null,null,null,null,null,null,null,null,null,null,null,null,null,null,"",null,{"$f":"IF(BY44=\"\",\"\",\"AgencyEntityInsData Id 431\")","v":""},{"$f":"IF(BY44=\"\",\"\",\"AgencyEntityInstance Id 42\")","v":""},{"$f":"IF(BY44=\"\",\"\",\"cm_t27_list_pct_passing\")","v":""},{"$f":"IF(BY44=\"\",\"\",IF('Test 2'!AE24=0,\"\",'Test 2'!AE24))","v":""},{"$f":"IF(BY44=\"\",\"\",TODAY())","v":""},{"$f":"IF(BY44=\"\",\"\",\"WTSYSTEMUSER\")","v":""},{"$f":"IF(BY44=\"\",\"\",TODAY())","v":""},{"$f":"IF(BY44=\"\",\"\",\"WTSYSTEMUSER\")","v":""}]
[null,null,null,null,null,null,null,null,null,null,null,null,null,null,null,null,null,null,null,null,null,null,null,null,null,null,null,null,null,null,null,null,null,null,null,null,null,null,null,null,null,null,null,null,null,null,null,null,null,null,null,null,null,null,null,null,null,null,null,null,null,null,null,null,null,null,null,null,null,null,null,null,null,null,null,null,null,null,null,null,null,null,null,null,null,null,null,null,null,null,null,null,"",null,{"$f":"IF(BY45=\"\",\"\",\"AgencyEntityInsData Id 436\")","v":""},{"$f":"IF(BY45=\"\",\"\",\"AgencyEntityInstance Id 43\")","v":""},{"$f":"IF(BY45=\"\",\"\",\"cm_t27_list_order\")","v":""},{"$f":"IF(BY45=\"\",\"\",8)","v":""},{"$f":"IF(BY45=\"\",\"\",TODAY())","v":""},{"$f":"IF(BY45=\"\",\"\",\"WTSYSTEMUSER\")","v":""},{"$f":"IF(BY45=\"\",\"\",TODAY())","v":""},{"$f":"IF(BY45=\"\",\"\",\"WTSYSTEMUSER\")","v":""}]
[null,null,null,null,null,null,null,null,null,null,null,null,null,null,null,null,null,null,null,null,null,null,null,null,null,null,null,null,null,null,null,null,null,null,null,null,null,null,null,null,null,null,null,null,null,null,null,null,null,null,null,null,null,null,null,null,null,null,null,null,null,null,null,null,null,null,null,null,null,null,null,null,null,null,null,null,null,null,null,null,null,null,null,null,null,null,null,null,null,null,null,null,"",null,{"$f":"IF(BY46=\"\",\"\",\"AgencyEntityInsData Id 442\")","v":""},{"$f":"IF(BY46=\"\",\"\",\"AgencyEntityInstance Id 44\")","v":""},{"$f":"IF(BY46=\"\",\"\",\"cm_t27_list_order\")","v":""},{"$f":"IF(BY46=\"\",\"\",9)","v":""},{"$f":"IF(BY46=\"\",\"\",TODAY())","v":""},{"$f":"IF(BY46=\"\",\"\",\"WTSYSTEMUSER\")","v":""},{"$f":"IF(BY46=\"\",\"\",TODAY())","v":""},{"$f":"IF(BY46=\"\",\"\",\"WTSYSTEMUSER\")","v":""}]
[null,null,null,null,null,null,null,null,null,null,null,null,null,null,null,null,null,null,null,null,null,null,null,null,null,null,null,null,null,null,null,null,null,null,null,null,null,null,null,null,null,null,null,null,null,null,null,null,null,null,null,null,null,null,null,null,null,null,null,null,null,null,null,null,null,null,null,null,null,null,null,null,null,null,null,null,null,null,null,null,null,null,null,null,null,null,null,null,null,null,null,null,"",null,{"$f":"IF(BY47=\"\",\"\",\"AgencyEntityInsData Id 446\")","v":""},{"$f":"IF(BY47=\"\",\"\",\"AgencyEntityInstance Id 45\")","v":""},{"$f":"IF(BY47=\"\",\"\",\"cm_t27_list_max\")","v":""},{"$f":"IF(BY47=\"\",\"\",0)","v":""},{"$f":"IF(BY47=\"\",\"\",TODAY())","v":""},{"$f":"IF(BY47=\"\",\"\",\"WTSYSTEMUSER\")","v":""},{"$f":"IF(BY47=\"\",\"\",TODAY())","v":""},{"$f":"IF(BY47=\"\",\"\",\"WTSYSTEMUSER\")","v":""}]
[null,null,null,null,null,null,null,null,null,null,null,null,null,null,null,null,null,null,null,null,null,null,null,null,null,null,null,null,null,null,null,null,null,null,null,null,null,null,null,null,null,null,null,null,null,null,null,null,null,null,null,null,null,null,null,null,null,null,null,null,null,null,null,null,null,null,null,null,null,null,null,null,null,null,null,null,null,null,null,null,null,null,null,null,null,null,null,null,null,null,null,null,"",null,{"$f":"IF(BY48=\"\",\"\",\"AgencyEntityInsData Id 452\")","v":""},{"$f":"IF(BY48=\"\",\"\",\"AgencyEntityInstance Id 46\")","v":""},{"$f":"IF(BY48=\"\",\"\",\"cm_t27_list_max\")","v":""},{"$f":"IF(BY48=\"\",\"\",0)","v":""},{"$f":"IF(BY48=\"\",\"\",TODAY())","v":""},{"$f":"IF(BY48=\"\",\"\",\"WTSYSTEMUSER\")","v":""},{"$f":"IF(BY48=\"\",\"\",TODAY())","v":""},{"$f":"IF(BY48=\"\",\"\",\"WTSYSTEMUSER\")","v":""}]
[null,null,null,null,null,null,null,null,null,null,null,null,null,null,null,null,null,null,null,null,null,null,null,null,null,null,null,null,null,null,null,null,null,null,null,null,null,null,null,null,null,null,null,null,null,null,null,null,null,null,null,null,null,null,null,null,null,null,null,null,null,null,null,null,null,null,null,null,null,null,null,null,null,null,null,null,null,null,null,null,null,null,null,null,null,null,null,null,null,null,null,null,"",null,{"$f":"IF(BY49=\"\",\"\",\"AgencyEntityInsData Id 457\")","v":""},{"$f":"IF(BY49=\"\",\"\",\"AgencyEntityInstance Id 47\")","v":""},{"$f":"IF(BY49=\"\",\"\",\"cm_t27_list_inspecrow\")","v":""},{"$f":"IF(BY49=\"\",\"\",\"Out of Spec\")","v":""},{"$f":"IF(BY49=\"\",\"\",TODAY())","v":""},{"$f":"IF(BY49=\"\",\"\",\"WTSYSTEMUSER\")","v":""},{"$f":"IF(BY49=\"\",\"\",TODAY())","v":""},{"$f":"IF(BY49=\"\",\"\",\"WTSYSTEMUSER\")","v":""}]
[null,null,null,null,null,null,null,null,null,null,null,null,null,null,null,null,null,null,null,null,null,null,null,null,null,null,null,null,null,null,null,null,null,null,null,null,null,null,null,null,null,null,null,null,null,null,null,null,null,null,null,null,null,null,null,null,null,null,null,null,null,null,null,null,null,null,null,null,null,null,null,null,null,null,null,null,null,null,null,null,null,null,null,null,null,null,null,null,null,null,null,null,"",null,{"$f":"IF(BY49=\"\",\"\",\"AgencyEntityInsData Id 462\")","v":""},{"$f":"IF(BY49=\"\",\"\",\"AgencyEntityInstance Id 47\")","v":""},{"$f":"IF(BY49=\"\",\"\",\"cm_t27_list_sieve\")","v":""},{"$f":"IF(BY49=\"\",\"\",\"No. 50 (300 um)\")","v":""},{"$f":"IF(BY49=\"\",\"\",TODAY())","v":""},{"$f":"IF(BY49=\"\",\"\",\"WTSYSTEMUSER\")","v":""},{"$f":"IF(BY49=\"\",\"\",TODAY())","v":""},{"$f":"IF(BY49=\"\",\"\",\"WTSYSTEMUSER\")","v":""}]
[null,null,null,null,null,null,null,null,null,null,null,null,null,null,null,null,null,null,null,null,null,null,null,null,null,null,null,null,null,null,null,null,null,null,null,null,null,null,null,null,null,null,null,null,null,null,null,null,null,null,null,null,null,null,null,null,null,null,null,null,null,null,null,null,null,null,null,null,null,null,null,null,null,null,null,null,null,null,null,null,null,null,null,null,null,null,null,null,null,null,null,null,"",null,{"$f":"IF(BY50=\"\",\"\",\"AgencyEntityInsData Id 467\")","v":""},{"$f":"IF(BY50=\"\",\"\",\"AgencyEntityInstance Id 48\")","v":""},{"$f":"IF(BY50=\"\",\"\",\"cm_t27_list_pct_passing\")","v":""},{"$f":"IF(BY50=\"\",\"\",IF('Test 2'!AE29=0,\"\",'Test 2'!AE29))","v":""},{"$f":"IF(BY50=\"\",\"\",TODAY())","v":""},{"$f":"IF(BY50=\"\",\"\",\"WTSYSTEMUSER\")","v":""},{"$f":"IF(BY50=\"\",\"\",TODAY())","v":""},{"$f":"IF(BY50=\"\",\"\",\"WTSYSTEMUSER\")","v":""}]
[null,null,null,null,null,null,null,null,null,null,null,null,null,null,null,null,null,null,null,null,null,null,null,null,null,null,null,null,null,null,null,null,null,null,null,null,null,null,null,null,null,null,null,null,null,null,null,null,null,null,null,null,null,null,null,null,null,null,null,null,null,null,null,null,null,null,null,null,null,null,null,null,null,null,null,null,null,null,null,null,null,null,null,null,null,null,null,null,null,null,null,null,"",null,{"$f":"IF(BY51=\"\",\"\",\"AgencyEntityInsData Id 472\")","v":""},{"$f":"IF(BY51=\"\",\"\",\"AgencyEntityInstance Id 49\")","v":""},{"$f":"IF(BY51=\"\",\"\",\"cm_t27_list_order\")","v":""},{"$f":"IF(BY51=\"\",\"\",14)","v":""},{"$f":"IF(BY51=\"\",\"\",TODAY())","v":""},{"$f":"IF(BY51=\"\",\"\",\"WTSYSTEMUSER\")","v":""},{"$f":"IF(BY51=\"\",\"\",TODAY())","v":""},{"$f":"IF(BY51=\"\",\"\",\"WTSYSTEMUSER\")","v":""}]
[null,null,null,null,null,null,null,null,null,null,null,null,null,null,null,null,null,null,null,null,null,null,null,null,null,null,null,null,null,null,null,null,null,null,null,null,null,null,null,null,null,null,null,null,null,null,null,null,null,null,null,null,null,null,null,null,null,null,null,null,null,null,null,null,null,null,null,null,null,null,null,null,null,null,null,null,null,null,null,null,null,null,null,null,null,null,null,null,null,null,null,null,"",null,{"$f":"IF(BY53=\"\",\"\",\"AgencyEntityInsData Id 477\")","v":""},{"$f":"IF(BY53=\"\",\"\",\"AgencyEntityInstance Id 51\")","v":""},{"$f":"IF(BY53=\"\",\"\",\"cm_t27_list_max\")","v":""},{"$f":"IF(BY53=\"\",\"\",0)","v":""},{"$f":"IF(BY53=\"\",\"\",TODAY())","v":""},{"$f":"IF(BY53=\"\",\"\",\"WTSYSTEMUSER\")","v":""},{"$f":"IF(BY53=\"\",\"\",TODAY())","v":""},{"$f":"IF(BY53=\"\",\"\",\"WTSYSTEMUSER\")","v":""}]
[null,null,null,null,null,null,null,null,null,null,null,null,null,null,null,null,null,null,null,null,null,null,null,null,null,null,null,null,null,null,null,null,null,null,null,null,null,null,null,null,null,null,null,null,null,null,null,null,null,null,null,null,null,null,null,null,null,null,null,null,null,null,null,null,null,null,null,null,null,null,null,null,null,null,null,null,null,null,null,null,null,null,null,null,null,null,null,null,null,null,null,null,"",null,{"$f":"IF(BY54=\"\",\"\",\"AgencyEntityInsData Id 483\")","v":""},{"$f":"IF(BY54=\"\",\"\",\"AgencyEntityInstance Id 52\")","v":""},{"$f":"IF(BY54=\"\",\"\",\"cm_t27_list_max\")","v":""},{"$f":"IF(BY54=\"\",\"\",0)","v":""},{"$f":"IF(BY54=\"\",\"\",TODAY())","v":""},{"$f":"IF(BY54=\"\",\"\",\"WTSYSTEMUSER\")","v":""},{"$f":"IF(BY54=\"\",\"\",TODAY())","v":""},{"$f":"IF(BY54=\"\",\"\",\"WTSYSTEMUSER\")","v":""}]
[null,null,null,null,null,null,null,null,null,null,null,null,null,null,null,null,null,null,null,null,null,null,null,null,null,null,null,null,null,null,null,null,null,null,null,null,null,null,null,null,null,null,null,null,null,null,null,null,null,null,null,null,null,null,null,null,null,null,null,null,null,null,null,null,null,null,null,null,null,null,null,null,null,null,null,null,null,null,null,null,null,null,null,null,null,null,null,null,null,null,null,null,"",null,{"$f":"IF(BY55=\"\",\"\",\"AgencyEntityInsData Id 488\")","v":""},{"$f":"IF(BY55=\"\",\"\",\"AgencyEntityInstance Id 53\")","v":""},{"$f":"IF(BY55=\"\",\"\",\"cm_t27_list_inspecrow\")","v":""},{"$f":"IF(BY55=\"\",\"\",\"Out of Spec\")","v":""},{"$f":"IF(BY55=\"\",\"\",TODAY())","v":""},{"$f":"IF(BY55=\"\",\"\",\"WTSYSTEMUSER\")","v":""},{"$f":"IF(BY55=\"\",\"\",TODAY())","v":""},{"$f":"IF(BY55=\"\",\"\",\"WTSYSTEMUSER\")","v":""}]
[null,null,null,null,null,null,null,null,null,null,null,null,null,null,null,null,null,null,null,null,null,null,null,null,null,null,null,null,null,null,null,null,null,null,null,null,null,null,null,null,null,null,null,null,null,null,null,null,null,null,null,null,null,null,null,null,null,null,null,null,null,null,null,null,null,null,null,null,null,null,null,null,null,null,null,null,null,null,null,null,null,null,null,null,null,null,null,null,null,null,null,null,"",null,{"$f":"IF(BY55=\"\",\"\",\"AgencyEntityInsData Id 492\")","v":""},{"$f":"IF(BY55=\"\",\"\",\"AgencyEntityInstance Id 53\")","v":""},{"$f":"IF(BY55=\"\",\"\",\"cm_t27_list_pct_passing\")","v":""},{"$f":"IF(BY55=\"\",\"\",IF('Test 2'!AF19=0,\"\",'Test 2'!AF19))","v":""},{"$f":"IF(BY55=\"\",\"\",TODAY())","v":""},{"$f":"IF(BY55=\"\",\"\",\"WTSYSTEMUSER\")","v":""},{"$f":"IF(BY55=\"\",\"\",TODAY())","v":""},{"$f":"IF(BY55=\"\",\"\",\"WTSYSTEMUSER\")","v":""}]
[null,null,null,null,null,null,null,null,null,null,null,null,null,null,null,null,null,null,null,null,null,null,null,null,null,null,null,null,null,null,null,null,null,null,null,null,null,null,null,null,null,null,null,null,null,null,null,null,null,null,null,null,null,null,null,null,null,null,null,null,null,null,null,null,null,null,null,null,null,null,null,null,null,null,null,null,null,null,null,null,null,null,null,null,null,null,null,null,null,null,null,null,"",null,{"$f":"IF(BY55=\"\",\"\",\"AgencyEntityInsData Id 493\")","v":""},{"$f":"IF(BY55=\"\",\"\",\"AgencyEntityInstance Id 53\")","v":""},{"$f":"IF(BY55=\"\",\"\",\"cm_t27_list_sieve\")","v":""},{"$f":"IF(BY55=\"\",\"\",\"3/4\"\" (19 mm)\")","v":""},{"$f":"IF(BY55=\"\",\"\",TODAY())","v":""},{"$f":"IF(BY55=\"\",\"\",\"WTSYSTEMUSER\")","v":""},{"$f":"IF(BY55=\"\",\"\",TODAY())","v":""},{"$f":"IF(BY55=\"\",\"\",\"WTSYSTEMUSER\")","v":""}]
[null,null,null,null,null,null,null,null,null,null,null,null,null,null,null,null,null,null,null,null,null,null,null,null,null,null,null,null,null,null,null,null,null,null,null,null,null,null,null,null,null,null,null,null,null,null,null,null,null,null,null,null,null,null,null,null,null,null,null,null,null,null,null,null,null,null,null,null,null,null,null,null,null,null,null,null,null,null,null,null,null,null,null,null,null,null,null,null,null,null,null,null,"",null,{"$f":"IF(BY56=\"\",\"\",\"AgencyEntityInsData Id 498\")","v":""},{"$f":"IF(BY56=\"\",\"\",\"AgencyEntityInstance Id 54\")","v":""},{"$f":"IF(BY56=\"\",\"\",\"cm_t27_list_pct_passing\")","v":""},{"$f":"IF(BY56=\"\",\"\",IF('Test 2'!AF20=0,\"\",'Test 2'!AF20))","v":""},{"$f":"IF(BY56=\"\",\"\",TODAY())","v":""},{"$f":"IF(BY56=\"\",\"\",\"WTSYSTEMUSER\")","v":""},{"$f":"IF(BY56=\"\",\"\",TODAY())","v":""},{"$f":"IF(BY56=\"\",\"\",\"WTSYSTEMUSER\")","v":""}]
[null,null,null,null,null,null,null,null,null,null,null,null,null,null,null,null,null,null,null,null,null,null,null,null,null,null,null,null,null,null,null,null,null,null,null,null,null,null,null,null,null,null,null,null,null,null,null,null,null,null,null,null,null,null,null,null,null,null,null,null,null,null,null,null,null,null,null,null,null,null,null,null,null,null,null,null,null,null,null,null,null,null,null,null,null,null,null,null,null,null,null,null,"",null,{"$f":"IF(BY57=\"\",\"\",\"AgencyEntityInsData Id 504\")","v":""},{"$f":"IF(BY57=\"\",\"\",\"AgencyEntityInstance Id 55\")","v":""},{"$f":"IF(BY57=\"\",\"\",\"cm_t27_list_pct_passing\")","v":""},{"$f":"IF(BY57=\"\",\"\",IF('Test 2'!AF21=0,\"\",'Test 2'!AF21))","v":""},{"$f":"IF(BY57=\"\",\"\",TODAY())","v":""},{"$f":"IF(BY57=\"\",\"\",\"WTSYSTEMUSER\")","v":""},{"$f":"IF(BY57=\"\",\"\",TODAY())","v":""},{"$f":"IF(BY57=\"\",\"\",\"WTSYSTEMUSER\")","v":""}]
[null,null,null,null,null,null,null,null,null,null,null,null,null,null,null,null,null,null,null,null,null,null,null,null,null,null,null,null,null,null,null,null,null,null,null,null,null,null,null,null,null,null,null,null,null,null,null,null,null,null,null,null,null,null,null,null,null,null,null,null,null,null,null,null,null,null,null,null,null,null,null,null,null,null,null,null,null,null,null,null,null,null,null,null,null,null,null,null,null,null,null,null,"",null,{"$f":"IF(BY58=\"\",\"\",\"AgencyEntityInsData Id 509\")","v":""},{"$f":"IF(BY58=\"\",\"\",\"AgencyEntityInstance Id 56\")","v":""},{"$f":"IF(BY58=\"\",\"\",\"cm_t27_list_order\")","v":""},{"$f":"IF(BY58=\"\",\"\",5)","v":""},{"$f":"IF(BY58=\"\",\"\",TODAY())","v":""},{"$f":"IF(BY58=\"\",\"\",\"WTSYSTEMUSER\")","v":""},{"$f":"IF(BY58=\"\",\"\",TODAY())","v":""},{"$f":"IF(BY58=\"\",\"\",\"WTSYSTEMUSER\")","v":""}]
[null,null,null,null,null,null,null,null,null,null,null,null,null,null,null,null,null,null,null,null,null,null,null,null,null,null,null,null,null,null,null,null,null,null,null,null,null,null,null,null,null,null,null,null,null,null,null,null,null,null,null,null,null,null,null,null,null,null,null,null,null,null,null,null,null,null,null,null,null,null,null,null,null,null,null,null,null,null,null,null,null,null,null,null,null,null,null,null,null,null,null,null,"",null,{"$f":"IF(BY59=\"\",\"\",\"AgencyEntityInsData Id 513\")","v":""},{"$f":"IF(BY59=\"\",\"\",\"AgencyEntityInstance Id 57\")","v":""},{"$f":"IF(BY59=\"\",\"\",\"cm_t27_list_max\")","v":""},{"$f":"IF(BY59=\"\",\"\",0)","v":""},{"$f":"IF(BY59=\"\",\"\",TODAY())","v":""},{"$f":"IF(BY59=\"\",\"\",\"WTSYSTEMUSER\")","v":""},{"$f":"IF(BY59=\"\",\"\",TODAY())","v":""},{"$f":"IF(BY59=\"\",\"\",\"WTSYSTEMUSER\")","v":""}]
[null,null,null,null,null,null,null,null,null,null,null,null,null,null,null,null,null,null,null,null,null,null,null,null,null,null,null,null,null,null,null,null,null,null,null,null,null,null,null,null,null,null,null,null,null,null,null,null,null,null,null,null,null,null,null,null,null,null,null,null,null,null,null,null,null,null,null,null,null,null,null,null,null,null,null,null,null,null,null,null,null,null,null,null,null,null,null,null,null,null,null,null,"",null,{"$f":"IF(BY60=\"\",\"\",\"AgencyEntityInsData Id 519\")","v":""},{"$f":"IF(BY60=\"\",\"\",\"AgencyEntityInstance Id 58\")","v":""},{"$f":"IF(BY60=\"\",\"\",\"cm_t27_list_max\")","v":""},{"$f":"IF(BY60=\"\",\"\",0)","v":""},{"$f":"IF(BY60=\"\",\"\",TODAY())","v":""},{"$f":"IF(BY60=\"\",\"\",\"WTSYSTEMUSER\")","v":""},{"$f":"IF(BY60=\"\",\"\",TODAY())","v":""},{"$f":"IF(BY60=\"\",\"\",\"WTSYSTEMUSER\")","v":""}]
[null,null,null,null,null,null,null,null,null,null,null,null,null,null,null,null,null,null,null,null,null,null,null,null,null,null,null,null,null,null,null,null,null,null,null,null,null,null,null,null,null,null,null,null,null,null,null,null,null,null,null,null,null,null,null,null,null,null,null,null,null,null,null,null,null,null,null,null,null,null,null,null,null,null,null,null,null,null,null,null,null,null,null,null,null,null,null,null,null,null,null,null,"",null,{"$f":"IF(BY61=\"\",\"\",\"AgencyEntityInsData Id 524\")","v":""},{"$f":"IF(BY61=\"\",\"\",\"AgencyEntityInstance Id 59\")","v":""},{"$f":"IF(BY61=\"\",\"\",\"cm_t27_list_inspecrow\")","v":""},{"$f":"IF(BY61=\"\",\"\",\"Out of Spec\")","v":""},{"$f":"IF(BY61=\"\",\"\",TODAY())","v":""},{"$f":"IF(BY61=\"\",\"\",\"WTSYSTEMUSER\")","v":""},{"$f":"IF(BY61=\"\",\"\",TODAY())","v":""},{"$f":"IF(BY61=\"\",\"\",\"WTSYSTEMUSER\")","v":""}]
[null,null,null,null,null,null,null,null,null,null,null,null,null,null,null,null,null,null,null,null,null,null,null,null,null,null,null,null,null,null,null,null,null,null,null,null,null,null,null,null,null,null,null,null,null,null,null,null,null,null,null,null,null,null,null,null,null,null,null,null,null,null,null,null,null,null,null,null,null,null,null,null,null,null,null,null,null,null,null,null,null,null,null,null,null,null,null,null,null,null,null,null,"",null,{"$f":"IF(BY62=\"\",\"\",\"AgencyEntityInsData Id 530\")","v":""},{"$f":"IF(BY62=\"\",\"\",\"AgencyEntityInstance Id 60\")","v":""},{"$f":"IF(BY62=\"\",\"\",\"cm_t27_list_inspecrow\")","v":""},{"$f":"IF(BY62=\"\",\"\",\"Out of Spec\")","v":""},{"$f":"IF(BY62=\"\",\"\",TODAY())","v":""},{"$f":"IF(BY62=\"\",\"\",\"WTSYSTEMUSER\")","v":""},{"$f":"IF(BY62=\"\",\"\",TODAY())","v":""},{"$f":"IF(BY62=\"\",\"\",\"WTSYSTEMUSER\")","v":""}]
[null,null,null,null,null,null,null,null,null,null,null,null,null,null,null,null,null,null,null,null,null,null,null,null,null,null,null,null,null,null,null,null,null,null,null,null,null,null,null,null,null,null,null,null,null,null,null,null,null,null,null,null,null,null,null,null,null,null,null,null,null,null,null,null,null,null,null,null,null,null,null,null,null,null,null,null,null,null,null,null,null,null,null,null,null,null,null,null,null,null,null,null,"",null,{"$f":"IF(BY62=\"\",\"\",\"AgencyEntityInsData Id 535\")","v":""},{"$f":"IF(BY62=\"\",\"\",\"AgencyEntityInstance Id 60\")","v":""},{"$f":"IF(BY62=\"\",\"\",\"cm_t27_list_sieve\")","v":""},{"$f":"IF(BY62=\"\",\"\",\"No. 16 (1.18 mm)\")","v":""},{"$f":"IF(BY62=\"\",\"\",TODAY())","v":""},{"$f":"IF(BY62=\"\",\"\",\"WTSYSTEMUSER\")","v":""},{"$f":"IF(BY62=\"\",\"\",TODAY())","v":""},{"$f":"IF(BY62=\"\",\"\",\"WTSYSTEMUSER\")","v":""}]
[null,null,null,null,null,null,null,null,null,null,null,null,null,null,null,null,null,null,null,null,null,null,null,null,null,null,null,null,null,null,null,null,null,null,null,null,null,null,null,null,null,null,null,null,null,null,null,null,null,null,null,null,null,null,null,null,null,null,null,null,null,null,null,null,null,null,null,null,null,null,null,null,null,null,null,null,null,null,null,null,null,null,null,null,null,null,null,null,null,null,null,null,"",null,{"$f":"IF(BY63=\"\",\"\",\"AgencyEntityInsData Id 538\")","v":""},{"$f":"IF(BY63=\"\",\"\",\"AgencyEntityInstance Id 61\")","v":""},{"$f":"IF(BY63=\"\",\"\",\"cm_t27_list_min\")","v":""},{"$f":"IF(BY63=\"\",\"\",0)","v":""},{"$f":"IF(BY63=\"\",\"\",TODAY())","v":""},{"$f":"IF(BY63=\"\",\"\",\"WTSYSTEMUSER\")","v":""},{"$f":"IF(BY63=\"\",\"\",TODAY())","v":""},{"$f":"IF(BY63=\"\",\"\",\"WTSYSTEMUSER\")","v":""}]
[null,null,null,null,null,null,null,null,null,null,null,null,null,null,null,null,null,null,null,null,null,null,null,null,null,null,null,null,null,null,null,null,null,null,null,null,null,null,null,null,null,null,null,null,null,null,null,null,null,null,null,null,null,null,null,null,null,null,null,null,null,null,null,null,null,null,null,null,null,null,null,null,null,null,null,null,null,null,null,null,null,null,null,null,null,null,null,null,null,null,null,null,"",null,{"$f":"IF(BY64=\"\",\"\",\"AgencyEntityInsData Id 545\")","v":""},{"$f":"IF(BY64=\"\",\"\",\"AgencyEntityInstance Id 62\")","v":""},{"$f":"IF(BY64=\"\",\"\",\"cm_t27_list_order\")","v":""},{"$f":"IF(BY64=\"\",\"\",11)","v":""},{"$f":"IF(BY64=\"\",\"\",TODAY())","v":""},{"$f":"IF(BY64=\"\",\"\",\"WTSYSTEMUSER\")","v":""},{"$f":"IF(BY64=\"\",\"\",TODAY())","v":""},{"$f":"IF(BY64=\"\",\"\",\"WTSYSTEMUSER\")","v":""}]
[null,null,null,null,null,null,null,null,null,null,null,null,null,null,null,null,null,null,null,null,null,null,null,null,null,null,null,null,null,null,null,null,null,null,null,null,null,null,null,null,null,null,null,null,null,null,null,null,null,null,null,null,null,null,null,null,null,null,null,null,null,null,null,null,null,null,null,null,null,null,null,null,null,null,null,null,null,null,null,null,null,null,null,null,null,null,null,null,null,null,null,null,"",null,{"$f":"IF(BY65=\"\",\"\",\"AgencyEntityInsData Id 550\")","v":""},{"$f":"IF(BY65=\"\",\"\",\"AgencyEntityInstance Id 63\")","v":""},{"$f":"IF(BY65=\"\",\"\",\"cm_t27_list_min\")","v":""},{"$f":"IF(BY65=\"\",\"\",0)","v":""},{"$f":"IF(BY65=\"\",\"\",TODAY())","v":""},{"$f":"IF(BY65=\"\",\"\",\"WTSYSTEMUSER\")","v":""},{"$f":"IF(BY65=\"\",\"\",TODAY())","v":""},{"$f":"IF(BY65=\"\",\"\",\"WTSYSTEMUSER\")","v":""}]
[null,null,null,null,null,null,null,null,null,null,null,null,null,null,null,null,null,null,null,null,null,null,null,null,null,null,null,null,null,null,null,null,null,null,null,null,null,null,null,null,null,null,null,null,null,null,null,null,null,null,null,null,null,null,null,null,null,null,null,null,null,null,null,null,null,null,null,null,null,null,null,null,null,null,null,null,null,null,null,null,null,null,null,null,null,null,null,null,null,null,null,null,"",null,{"$f":"IF(BY65=\"\",\"\",\"AgencyEntityInsData Id 551\")","v":""},{"$f":"IF(BY65=\"\",\"\",\"AgencyEntityInstance Id 63\")","v":""},{"$f":"IF(BY65=\"\",\"\",\"cm_t27_list_order\")","v":""},{"$f":"IF(BY65=\"\",\"\",12)","v":""},{"$f":"IF(BY65=\"\",\"\",TODAY())","v":""},{"$f":"IF(BY65=\"\",\"\",\"WTSYSTEMUSER\")","v":""},{"$f":"IF(BY65=\"\",\"\",TODAY())","v":""},{"$f":"IF(BY65=\"\",\"\",\"WTSYSTEMUSER\")","v":""}]
[null,null,null,null,null,null,null,null,null,null,null,null,null,null,null,null,null,null,null,null,null,null,null,null,null,null,null,null,null,null,null,null,null,null,null,null,null,null,null,null,null,null,null,null,null,null,null,null,null,null,null,null,null,null,null,null,null,null,null,null,null,null,null,null,null,null,null,null,null,null,null,null,null,null,null,null,null,null,null,null,null,null,null,null,null,null,null,null,null,null,null,null,"",null,{"$f":"IF(BY66=\"\",\"\",\"AgencyEntityInsData Id 556\")","v":""},{"$f":"IF(BY66=\"\",\"\",\"AgencyEntityInstance Id 64\")","v":""},{"$f":"IF(BY66=\"\",\"\",\"cm_t27_list_min\")","v":""},{"$f":"IF(BY66=\"\",\"\",0)","v":""},{"$f":"IF(BY66=\"\",\"\",TODAY())","v":""},{"$f":"IF(BY66=\"\",\"\",\"WTSYSTEMUSER\")","v":""},{"$f":"IF(BY66=\"\",\"\",TODAY())","v":""},{"$f":"IF(BY66=\"\",\"\",\"WTSYSTEMUSER\")","v":""}]
[null,null,null,null,null,null,null,null,null,null,null,null,null,null,null,null,null,null,null,null,null,null,null,null,null,null,null,null,null,null,null,null,null,null,null,null,null,null,null,null,null,null,null,null,null,null,null,null,null,null,null,null,null,null,null,null,null,null,null,null,null,null,null,null,null,null,null,null,null,null,null,null,null,null,null,null,null,null,null,null,null,null,null,null,null,null,null,null,null,null,null,null,"",null,{"$f":"IF(BY67=\"\",\"\",\"AgencyEntityInsData Id 563\")","v":""},{"$f":"IF(BY67=\"\",\"\",\"AgencyEntityInstance Id 65\")","v":""},{"$f":"IF(BY67=\"\",\"\",\"cm_t27_list_order\")","v":""},{"$f":"IF(BY67=\"\",\"\",14)","v":""},{"$f":"IF(BY67=\"\",\"\",TODAY())","v":""},{"$f":"IF(BY67=\"\",\"\",\"WTSYSTEMUSER\")","v":""},{"$f":"IF(BY67=\"\",\"\",TODAY())","v":""},{"$f":"IF(BY67=\"\",\"\",\"WTSYSTEMUSER\")","v":""}]
[null,null,null,null,null,null,null,null,null,null,null,null,null,null,null,null,null,null,null,null,null,null,null,null,null,null,null,null,null,null,null,null,null,null,null,null,null,null,null,null,null,null,null,null,null,null,null,null,null,null,null,null,null,null,null,null,null,null,null,null,null,null,null,null,null,null,null,null,null,null,null,null,null,null,null,null,null,null,null,null,null,null,null,null,null,null,null,null,null,null,null,null,"",null,{"$f":"IF(BY68=\"\",\"\",\"AgencyEntityInsData Id 566\")","v":""},{"$f":"IF(BY68=\"\",\"\",\"AgencyEntityInstance Id 66\")","v":""},{"$f":"IF(BY68=\"\",\"\",\"cm_t27_detail_inspec\")","v":""},{"$f":"IF(BY68=\"\",\"\",\"Out of Spec\")","v":""},{"$f":"IF(BY68=\"\",\"\",TODAY())","v":""},{"$f":"IF(BY68=\"\",\"\",\"WTSYSTEMUSER\")","v":""},{"$f":"IF(BY68=\"\",\"\",TODAY())","v":""},{"$f":"IF(BY68=\"\",\"\",\"WTSYSTEMUSER\")","v":""}]
[null,null,null,null,null,null,null,null,null,null,null,null,null,null,null,null,null,null,null,null,null,null,null,null,null,null,null,null,null,null,null,null,null,null,null,null,null,null,null,null,null,null,null,null,null,null,null,null,null,null,null,null,null,null,null,null,null,null,null,null,null,null,null,null,null,null,null,null,null,null,null,null,null,null,null,null,null,null,null,null,null,null,null,null,null,null,null,null,null,null,null,null,"",null,{"$f":"IF(BY69=\"\",\"\",\"AgencyEntityInsData Id 571\")","v":""},{"$f":"IF(BY69=\"\",\"\",\"AgencyEntityInstance Id 67\")","v":""},{"$f":"IF(BY69=\"\",\"\",\"cm_t27_list_pct_passing\")","v":""},{"$f":"IF(BY69=\"\",\"\",IF('Test 2'!AG17=0,\"\",'Test 2'!AG17))","v":""},{"$f":"IF(BY69=\"\",\"\",TODAY())","v":""},{"$f":"IF(BY69=\"\",\"\",\"WTSYSTEMUSER\")","v":""},{"$f":"IF(BY69=\"\",\"\",TODAY())","v":""},{"$f":"IF(BY69=\"\",\"\",\"WTSYSTEMUSER\")","v":""}]
[null,null,null,null,null,null,null,null,null,null,null,null,null,null,null,null,null,null,null,null,null,null,null,null,null,null,null,null,null,null,null,null,null,null,null,null,null,null,null,null,null,null,null,null,null,null,null,null,null,null,null,null,null,null,null,null,null,null,null,null,null,null,null,null,null,null,null,null,null,null,null,null,null,null,null,null,null,null,null,null,null,null,null,null,null,null,null,null,null,null,null,null,"",null,{"$f":"IF(BY70=\"\",\"\",\"AgencyEntityInsData Id 576\")","v":""},{"$f":"IF(BY70=\"\",\"\",\"AgencyEntityInstance Id 68\")","v":""},{"$f":"IF(BY70=\"\",\"\",\"cm_t27_list_order\")","v":""},{"$f":"IF(BY70=\"\",\"\",1)","v":""},{"$f":"IF(BY70=\"\",\"\",TODAY())","v":""},{"$f":"IF(BY70=\"\",\"\",\"WTSYSTEMUSER\")","v":""},{"$f":"IF(BY70=\"\",\"\",TODAY())","v":""},{"$f":"IF(BY70=\"\",\"\",\"WTSYSTEMUSER\")","v":""}]
[null,null,null,null,null,null,null,null,null,null,null,null,null,null,null,null,null,null,null,null,null,null,null,null,null,null,null,null,null,null,null,null,null,null,null,null,null,null,null,null,null,null,null,null,null,null,null,null,null,null,null,null,null,null,null,null,null,null,null,null,null,null,null,null,null,null,null,null,null,null,null,null,null,null,null,null,null,null,null,null,null,null,null,null,null,null,null,null,null,null,null,null,"",null,{"$f":"IF(BY71=\"\",\"\",\"AgencyEntityInsData Id 582\")","v":""},{"$f":"IF(BY71=\"\",\"\",\"AgencyEntityInstance Id 69\")","v":""},{"$f":"IF(BY71=\"\",\"\",\"cm_t27_list_order\")","v":""},{"$f":"IF(BY71=\"\",\"\",2)","v":""},{"$f":"IF(BY71=\"\",\"\",TODAY())","v":""},{"$f":"IF(BY71=\"\",\"\",\"WTSYSTEMUSER\")","v":""},{"$f":"IF(BY71=\"\",\"\",TODAY())","v":""},{"$f":"IF(BY71=\"\",\"\",\"WTSYSTEMUSER\")","v":""}]
[null,null,null,null,null,null,null,null,null,null,null,null,null,null,null,null,null,null,null,null,null,null,null,null,null,null,null,null,null,null,null,null,null,null,null,null,null,null,null,null,null,null,null,null,null,null,null,null,null,null,null,null,null,null,null,null,null,null,null,null,null,null,null,null,null,null,null,null,null,null,null,null,null,null,null,null,null,null,null,null,null,null,null,null,null,null,null,null,null,null,null,null,"",null,{"$f":"IF(BY72=\"\",\"\",\"AgencyEntityInsData Id 588\")","v":""},{"$f":"IF(BY72=\"\",\"\",\"AgencyEntityInstance Id 70\")","v":""},{"$f":"IF(BY72=\"\",\"\",\"cm_t27_list_order\")","v":""},{"$f":"IF(BY72=\"\",\"\",3)","v":""},{"$f":"IF(BY72=\"\",\"\",TODAY())","v":""},{"$f":"IF(BY72=\"\",\"\",\"WTSYSTEMUSER\")","v":""},{"$f":"IF(BY72=\"\",\"\",TODAY())","v":""},{"$f":"IF(BY72=\"\",\"\",\"WTSYSTEMUSER\")","v":""}]
[null,null,null,null,null,null,null,null,null,null,null,null,null,null,null,null,null,null,null,null,null,null,null,null,null,null,null,null,null,null,null,null,null,null,null,null,null,null,null,null,null,null,null,null,null,null,null,null,null,null,null,null,null,null,null,null,null,null,null,null,null,null,null,null,null,null,null,null,null,null,null,null,null,null,null,null,null,null,null,null,null,null,null,null,null,null,null,null,null,null,null,null,"",null,{"$f":"IF(BY73=\"\",\"\",\"AgencyEntityInsData Id 592\")","v":""},{"$f":"IF(BY73=\"\",\"\",\"AgencyEntityInstance Id 71\")","v":""},{"$f":"IF(BY73=\"\",\"\",\"cm_t27_list_max\")","v":""},{"$f":"IF(BY73=\"\",\"\",0)","v":""},{"$f":"IF(BY73=\"\",\"\",TODAY())","v":""},{"$f":"IF(BY73=\"\",\"\",\"WTSYSTEMUSER\")","v":""},{"$f":"IF(BY73=\"\",\"\",TODAY())","v":""},{"$f":"IF(BY73=\"\",\"\",\"WTSYSTEMUSER\")","v":""}]
[null,null,null,null,null,null,null,null,null,null,null,null,null,null,null,null,null,null,null,null,null,null,null,null,null,null,null,null,null,null,null,null,null,null,null,null,null,null,null,null,null,null,null,null,null,null,null,null,null,null,null,null,null,null,null,null,null,null,null,null,null,null,null,null,null,null,null,null,null,null,null,null,null,null,null,null,null,null,null,null,null,null,null,null,null,null,null,null,null,null,null,null,"",null,{"$f":"IF(BY74=\"\",\"\",\"AgencyEntityInsData Id 597\")","v":""},{"$f":"IF(BY74=\"\",\"\",\"AgencyEntityInstance Id 72\")","v":""},{"$f":"IF(BY74=\"\",\"\",\"cm_t27_list_inspecrow\")","v":""},{"$f":"IF(BY74=\"\",\"\",\"Out of Spec\")","v":""},{"$f":"IF(BY74=\"\",\"\",TODAY())","v":""},{"$f":"IF(BY74=\"\",\"\",\"WTSYSTEMUSER\")","v":""},{"$f":"IF(BY74=\"\",\"\",TODAY())","v":""},{"$f":"IF(BY74=\"\",\"\",\"WTSYSTEMUSER\")","v":""}]
[null,null,null,null,null,null,null,null,null,null,null,null,null,null,null,null,null,null,null,null,null,null,null,null,null,null,null,null,null,null,null,null,null,null,null,null,null,null,null,null,null,null,null,null,null,null,null,null,null,null,null,null,null,null,null,null,null,null,null,null,null,null,null,null,null,null,null,null,null,null,null,null,null,null,null,null,null,null,null,null,null,null,null,null,null,null,null,null,null,null,null,null,"",null,{"$f":"IF(BY74=\"\",\"\",\"AgencyEntityInsData Id 602\")","v":""},{"$f":"IF(BY74=\"\",\"\",\"AgencyEntityInstance Id 72\")","v":""},{"$f":"IF(BY74=\"\",\"\",\"cm_t27_list_sieve\")","v":""},{"$f":"IF(BY74=\"\",\"\",\"1/4\"\" (6.25 mm)\")","v":""},{"$f":"IF(BY74=\"\",\"\",TODAY())","v":""},{"$f":"IF(BY74=\"\",\"\",\"WTSYSTEMUSER\")","v":""},{"$f":"IF(BY74=\"\",\"\",TODAY())","v":""},{"$f":"IF(BY74=\"\",\"\",\"WTSYSTEMUSER\")","v":""}]
[null,null,null,null,null,null,null,null,null,null,null,null,null,null,null,null,null,null,null,null,null,null,null,null,null,null,null,null,null,null,null,null,null,null,null,null,null,null,null,null,null,null,null,null,null,null,null,null,null,null,null,null,null,null,null,null,null,null,null,null,null,null,null,null,null,null,null,null,null,null,null,null,null,null,null,null,null,null,null,null,null,null,null,null,null,null,null,null,null,null,null,null,"",null,{"$f":"IF(BY75=\"\",\"\",\"AgencyEntityInsData Id 608\")","v":""},{"$f":"IF(BY75=\"\",\"\",\"AgencyEntityInstance Id 73\")","v":""},{"$f":"IF(BY75=\"\",\"\",\"cm_t27_list_sieve\")","v":""},{"$f":"IF(BY75=\"\",\"\",\"No. 4 (4.75 mm)\")","v":""},{"$f":"IF(BY75=\"\",\"\",TODAY())","v":""},{"$f":"IF(BY75=\"\",\"\",\"WTSYSTEMUSER\")","v":""},{"$f":"IF(BY75=\"\",\"\",TODAY())","v":""},{"$f":"IF(BY75=\"\",\"\",\"WTSYSTEMUSER\")","v":""}]
[null,null,null,null,null,null,null,null,null,null,null,null,null,null,null,null,null,null,null,null,null,null,null,null,null,null,null,null,null,null,null,null,null,null,null,null,null,null,null,null,null,null,null,null,null,null,null,null,null,null,null,null,null,null,null,null,null,null,null,null,null,null,null,null,null,null,null,null,null,null,null,null,null,null,null,null,null,null,null,null,null,null,null,null,null,null,null,null,null,null,null,null,"",null,{"$f":"IF(BY76=\"\",\"\",\"AgencyEntityInsData Id 609\")","v":""},{"$f":"IF(BY76=\"\",\"\",\"AgencyEntityInstance Id 74\")","v":""},{"$f":"IF(BY76=\"\",\"\",\"cm_t27_list_inspecrow\")","v":""},{"$f":"IF(BY76=\"\",\"\",\"Out of Spec\")","v":""},{"$f":"IF(BY76=\"\",\"\",TODAY())","v":""},{"$f":"IF(BY76=\"\",\"\",\"WTSYSTEMUSER\")","v":""},{"$f":"IF(BY76=\"\",\"\",TODAY())","v":""},{"$f":"IF(BY76=\"\",\"\",\"WTSYSTEMUSER\")","v":""}]
[null,null,null,null,null,null,null,null,null,null,null,null,null,null,null,null,null,null,null,null,null,null,null,null,null,null,null,null,null,null,null,null,null,null,null,null,null,null,null,null,null,null,null,null,null,null,null,null,null,null,null,null,null,null,null,null,null,null,null,null,null,null,null,null,null,null,null,null,null,null,null,null,null,null,null,null,null,null,null,null,null,null,null,null,null,null,null,null,null,null,null,null,"",null,{"$f":"IF(BY76=\"\",\"\",\"AgencyEntityInsData Id 613\")","v":""},{"$f":"IF(BY76=\"\",\"\",\"AgencyEntityInstance Id 74\")","v":""},{"$f":"IF(BY76=\"\",\"\",\"cm_t27_list_pct_passing\")","v":""},{"$f":"IF(BY76=\"\",\"\",IF('Test 2'!AG24=0,\"\",'Test 2'!AG24))","v":""},{"$f":"IF(BY76=\"\",\"\",TODAY())","v":""},{"$f":"IF(BY76=\"\",\"\",\"WTSYSTEMUSER\")","v":""},{"$f":"IF(BY76=\"\",\"\",TODAY())","v":""},{"$f":"IF(BY76=\"\",\"\",\"WTSYSTEMUSER\")","v":""}]
[null,null,null,null,null,null,null,null,null,null,null,null,null,null,null,null,null,null,null,null,null,null,null,null,null,null,null,null,null,null,null,null,null,null,null,null,null,null,null,null,null,null,null,null,null,null,null,null,null,null,null,null,null,null,null,null,null,null,null,null,null,null,null,null,null,null,null,null,null,null,null,null,null,null,null,null,null,null,null,null,null,null,null,null,null,null,null,null,null,null,null,null,"",null,{"$f":"IF(BY77=\"\",\"\",\"AgencyEntityInsData Id 618\")","v":""},{"$f":"IF(BY77=\"\",\"\",\"AgencyEntityInstance Id 75\")","v":""},{"$f":"IF(BY77=\"\",\"\",\"cm_t27_list_order\")","v":""},{"$f":"IF(BY77=\"\",\"\",8)","v":""},{"$f":"IF(BY77=\"\",\"\",TODAY())","v":""},{"$f":"IF(BY77=\"\",\"\",\"WTSYSTEMUSER\")","v":""},{"$f":"IF(BY77=\"\",\"\",TODAY())","v":""},{"$f":"IF(BY77=\"\",\"\",\"WTSYSTEMUSER\")","v":""}]
[null,null,null,null,null,null,null,null,null,null,null,null,null,null,null,null,null,null,null,null,null,null,null,null,null,null,null,null,null,null,null,null,null,null,null,null,null,null,null,null,null,null,null,null,null,null,null,null,null,null,null,null,null,null,null,null,null,null,null,null,null,null,null,null,null,null,null,null,null,null,null,null,null,null,null,null,null,null,null,null,null,null,null,null,null,null,null,null,null,null,null,null,"",null,{"$f":"IF(BY78=\"\",\"\",\"AgencyEntityInsData Id 623\")","v":""},{"$f":"IF(BY78=\"\",\"\",\"AgencyEntityInstance Id 76\")","v":""},{"$f":"IF(BY78=\"\",\"\",\"cm_t27_list_min\")","v":""},{"$f":"IF(BY78=\"\",\"\",0)","v":""},{"$f":"IF(BY78=\"\",\"\",TODAY())","v":""},{"$f":"IF(BY78=\"\",\"\",\"WTSYSTEMUSER\")","v":""},{"$f":"IF(BY78=\"\",\"\",TODAY())","v":""},{"$f":"IF(BY78=\"\",\"\",\"WTSYSTEMUSER\")","v":""}]
[null,null,null,null,null,null,null,null,null,null,null,null,null,null,null,null,null,null,null,null,null,null,null,null,null,null,null,null,null,null,null,null,null,null,null,null,null,null,null,null,null,null,null,null,null,null,null,null,null,null,null,null,null,null,null,null,null,null,null,null,null,null,null,null,null,null,null,null,null,null,null,null,null,null,null,null,null,null,null,null,null,null,null,null,null,null,null,null,null,null,null,null,"",null,{"$f":"IF(BY79=\"\",\"\",\"AgencyEntityInsData Id 629\")","v":""},{"$f":"IF(BY79=\"\",\"\",\"AgencyEntityInstance Id 77\")","v":""},{"$f":"IF(BY79=\"\",\"\",\"cm_t27_list_min\")","v":""},{"$f":"IF(BY79=\"\",\"\",0)","v":""},{"$f":"IF(BY79=\"\",\"\",TODAY())","v":""},{"$f":"IF(BY79=\"\",\"\",\"WTSYSTEMUSER\")","v":""},{"$f":"IF(BY79=\"\",\"\",TODAY())","v":""},{"$f":"IF(BY79=\"\",\"\",\"WTSYSTEMUSER\")","v":""}]
[null,null,null,null,null,null,null,null,null,null,null,null,null,null,null,null,null,null,null,null,null,null,null,null,null,null,null,null,null,null,null,null,null,null,null,null,null,null,null,null,null,null,null,null,null,null,null,null,null,null,null,null,null,null,null,null,null,null,null,null,null,null,null,null,null,null,null,null,null,null,null,null,null,null,null,null,null,null,null,null,null,null,null,null,null,null,null,null,null,null,null,null,"",null,{"$f":"IF(BY80=\"\",\"\",\"AgencyEntityInsData Id 634\")","v":""},{"$f":"IF(BY80=\"\",\"\",\"AgencyEntityInstance Id 78\")","v":""},{"$f":"IF(BY80=\"\",\"\",\"cm_t27_list_max\")","v":""},{"$f":"IF(BY80=\"\",\"\",0)","v":""},{"$f":"IF(BY80=\"\",\"\",TODAY())","v":""},{"$f":"IF(BY80=\"\",\"\",\"WTSYSTEMUSER\")","v":""},{"$f":"IF(BY80=\"\",\"\",TODAY())","v":""},{"$f":"IF(BY80=\"\",\"\",\"WTSYSTEMUSER\")","v":""}]
[null,null,null,null,null,null,null,null,null,null,null,null,null,null,null,null,null,null,null,null,null,null,null,null,null,null,null,null,null,null,null,null,null,null,null,null,null,null,null,null,null,null,null,null,null,null,null,null,null,null,null,null,null,null,null,null,null,null,null,null,null,null,null,null,null,null,null,null,null,null,null,null,null,null,null,null,null,null,null,null,null,null,null,null,null,null,null,null,null,null,null,null,"",null,{"$f":"IF(BY80=\"\",\"\",\"AgencyEntityInsData Id 638\")","v":""},{"$f":"IF(BY80=\"\",\"\",\"AgencyEntityInstance Id 78\")","v":""},{"$f":"IF(BY80=\"\",\"\",\"cm_t27_list_sieve\")","v":""},{"$f":"IF(BY80=\"\",\"\",\"No. 40 (425 um)\")","v":""},{"$f":"IF(BY80=\"\",\"\",TODAY())","v":""},{"$f":"IF(BY80=\"\",\"\",\"WTSYSTEMUSER\")","v":""},{"$f":"IF(BY80=\"\",\"\",TODAY())","v":""},{"$f":"IF(BY80=\"\",\"\",\"WTSYSTEMUSER\")","v":""}]
[null,null,null,null,null,null,null,null,null,null,null,null,null,null,null,null,null,null,null,null,null,null,null,null,null,null,null,null,null,null,null,null,null,null,null,null,null,null,null,null,null,null,null,null,null,null,null,null,null,null,null,null,null,null,null,null,null,null,null,null,null,null,null,null,null,null,null,null,null,null,null,null,null,null,null,null,null,null,null,null,null,null,null,null,null,null,null,null,null,null,null,null,"",null,{"$f":"IF(BY81=\"\",\"\",\"AgencyEntityInsData Id 644\")","v":""},{"$f":"IF(BY81=\"\",\"\",\"AgencyEntityInstance Id 79\")","v":""},{"$f":"IF(BY81=\"\",\"\",\"cm_t27_list_sieve\")","v":""},{"$f":"IF(BY81=\"\",\"\",\"No. 50 (300 um)\")","v":""},{"$f":"IF(BY81=\"\",\"\",TODAY())","v":""},{"$f":"IF(BY81=\"\",\"\",\"WTSYSTEMUSER\")","v":""},{"$f":"IF(BY81=\"\",\"\",TODAY())","v":""},{"$f":"IF(BY81=\"\",\"\",\"WTSYSTEMUSER\")","v":""}]
[null,null,null,null,null,null,null,null,null,null,null,null,null,null,null,null,null,null,null,null,null,null,null,null,null,null,null,null,null,null,null,null,null,null,null,null,null,null,null,null,null,null,null,null,null,null,null,null,null,null,null,null,null,null,null,null,null,null,null,null,null,null,null,null,null,null,null,null,null,null,null,null,null,null,null,null,null,null,null,null,null,null,null,null,null,null,null,null,null,null,null,null,"",null,{"$f":"IF(BY82=\"\",\"\",\"AgencyEntityInsData Id 649\")","v":""},{"$f":"IF(BY82=\"\",\"\",\"AgencyEntityInstance Id 80\")","v":""},{"$f":"IF(BY82=\"\",\"\",\"cm_t27_list_pct_passing\")","v":""},{"$f":"IF(BY82=\"\",\"\",IF('Test 2'!AG29=0,\"\",'Test 2'!AG29))","v":""},{"$f":"IF(BY82=\"\",\"\",TODAY())","v":""},{"$f":"IF(BY82=\"\",\"\",\"WTSYSTEMUSER\")","v":""},{"$f":"IF(BY82=\"\",\"\",TODAY())","v":""},{"$f":"IF(BY82=\"\",\"\",\"WTSYSTEMUSER\")","v":""}]
[null,null,null,null,null,null,null,null,null,null,null,null,null,null,null,null,null,null,null,null,null,null,null,null,null,null,null,null,null,null,null,null,null,null,null,null,null,null,null,null,null,null,null,null,null,null,null,null,null,null,null,null,null,null,null,null,null,null,null,null,null,null,null,null,null,null,null,null,null,null,null,null,null,null,null,null,null,null,null,null,null,null,null,null,null,null,null,null,null,null,null,null,"",null,{"$f":"IF(BY83=\"\",\"\",\"AgencyEntityInsData Id 655\")","v":""},{"$f":"IF(BY83=\"\",\"\",\"AgencyEntityInstance Id 81\")","v":""},{"$f":"IF(BY83=\"\",\"\",\"cm_t27_list_pct_passing\")","v":""},{"$f":"IF(BY83=\"\",\"\",IF('Test 2'!AG30=0,\"\",'Test 2'!AG30))","v":""},{"$f":"IF(BY83=\"\",\"\",TODAY())","v":""},{"$f":"IF(BY83=\"\",\"\",\"WTSYSTEMUSER\")","v":""},{"$f":"IF(BY83=\"\",\"\",TODAY())","v":""},{"$f":"IF(BY83=\"\",\"\",\"WTSYSTEMUSER\")","v":""}]
[null,null,null,null,null,null,null,null,null,null,null,null,null,null,null,null,null,null,null,null,null,null,null,null,null,null,null,null,null,null,null,null,null,null,null,null,null,null,null,null,null,null,null,null,null,null,null,null,null,null,null,null,null,null,null,null,null,null,null,null,null,null,null,null,null,null,null,null,null,null,null,null,null,null,null,null,null,null,null,null,null,null,null,null,null,null,null,null,null,null,null,null,"",null,{"$f":"IF(BY85=\"\",\"\",\"AgencyEntityInsData Id 659\")","v":""},{"$f":"IF(BY85=\"\",\"\",\"AgencyEntityInstance Id 83\")","v":""},{"$f":"IF(BY85=\"\",\"\",\"cm_t27_list_max\")","v":""},{"$f":"IF(BY85=\"\",\"\",0)","v":""},{"$f":"IF(BY85=\"\",\"\",TODAY())","v":""},{"$f":"IF(BY85=\"\",\"\",\"WTSYSTEMUSER\")","v":""},{"$f":"IF(BY85=\"\",\"\",TODAY())","v":""},{"$f":"IF(BY85=\"\",\"\",\"WTSYSTEMUSER\")","v":""}]
[null,null,null,null,null,null,null,null,null,null,null,null,null,null,null,null,null,null,null,null,null,null,null,null,null,null,null,null,null,null,null,null,null,null,null,null,null,null,null,null,null,null,null,null,null,null,null,null,null,null,null,null,null,null,null,null,null,null,null,null,null,null,null,null,null,null,null,null,null,null,null,null,null,null,null,null,null,null,null,null,null,null,null,null,null,null,null,null,null,null,null,null,"",null,{"$f":"IF(BY86=\"\",\"\",\"AgencyEntityInsData Id 664\")","v":""},{"$f":"IF(BY86=\"\",\"\",\"AgencyEntityInstance Id 84\")","v":""},{"$f":"IF(BY86=\"\",\"\",\"cm_t27_list_inspecrow\")","v":""},{"$f":"IF(BY86=\"\",\"\",\"Out of Spec\")","v":""},{"$f":"IF(BY86=\"\",\"\",TODAY())","v":""},{"$f":"IF(BY86=\"\",\"\",\"WTSYSTEMUSER\")","v":""},{"$f":"IF(BY86=\"\",\"\",TODAY())","v":""},{"$f":"IF(BY86=\"\",\"\",\"WTSYSTEMUSER\")","v":""}]
[null,null,null,null,null,null,null,null,null,null,null,null,null,null,null,null,null,null,null,null,null,null,null,null,null,null,null,null,null,null,null,null,null,null,null,null,null,null,null,null,null,null,null,null,null,null,null,null,null,null,null,null,null,null,null,null,null,null,null,null,null,null,null,null,null,null,null,null,null,null,null,null,null,null,null,null,null,null,null,null,null,null,null,null,null,null,null,null,null,null,null,null,"",null,{"$f":"IF(BY87=\"\",\"\",\"AgencyEntityInsData Id 670\")","v":""},{"$f":"IF(BY87=\"\",\"\",\"AgencyEntityInstance Id 85\")","v":""},{"$f":"IF(BY87=\"\",\"\",\"cm_t27_list_inspecrow\")","v":""},{"$f":"IF(BY87=\"\",\"\",\"Out of Spec\")","v":""},{"$f":"IF(BY87=\"\",\"\",TODAY())","v":""},{"$f":"IF(BY87=\"\",\"\",\"WTSYSTEMUSER\")","v":""},{"$f":"IF(BY87=\"\",\"\",TODAY())","v":""},{"$f":"IF(BY87=\"\",\"\",\"WTSYSTEMUSER\")","v":""}]
[null,null,null,null,null,null,null,null,null,null,null,null,null,null,null,null,null,null,null,null,null,null,null,null,null,null,null,null,null,null,null,null,null,null,null,null,null,null,null,null,null,null,null,null,null,null,null,null,null,null,null,null,null,null,null,null,null,null,null,null,null,null,null,null,null,null,null,null,null,null,null,null,null,null,null,null,null,null,null,null,null,null,null,null,null,null,null,null,null,null,null,null,"",null,{"$f":"IF(BY87=\"\",\"\",\"AgencyEntityInsData Id 675\")","v":""},{"$f":"IF(BY87=\"\",\"\",\"AgencyEntityInstance Id 85\")","v":""},{"$f":"IF(BY87=\"\",\"\",\"cm_t27_list_sieve\")","v":""},{"$f":"IF(BY87=\"\",\"\",\"3/4\"\" (19 mm)\")","v":""},{"$f":"IF(BY87=\"\",\"\",TODAY())","v":""},{"$f":"IF(BY87=\"\",\"\",\"WTSYSTEMUSER\")","v":""},{"$f":"IF(BY87=\"\",\"\",TODAY())","v":""},{"$f":"IF(BY87=\"\",\"\",\"WTSYSTEMUSER\")","v":""}]
[null,null,null,null,null,null,null,null,null,null,null,null,null,null,null,null,null,null,null,null,null,null,null,null,null,null,null,null,null,null,null,null,null,null,null,null,null,null,null,null,null,null,null,null,null,null,null,null,null,null,null,null,null,null,null,null,null,null,null,null,null,null,null,null,null,null,null,null,null,null,null,null,null,null,null,null,null,null,null,null,null,null,null,null,null,null,null,null,null,null,null,null,"",null,{"$f":"IF(BY88=\"\",\"\",\"AgencyEntityInsData Id 680\")","v":""},{"$f":"IF(BY88=\"\",\"\",\"AgencyEntityInstance Id 86\")","v":""},{"$f":"IF(BY88=\"\",\"\",\"cm_t27_list_pct_passing\")","v":""},{"$f":"IF(BY88=\"\",\"\",IF('Test 2'!AH20=0,\"\",'Test 2'!AH20))","v":""},{"$f":"IF(BY88=\"\",\"\",TODAY())","v":""},{"$f":"IF(BY88=\"\",\"\",\"WTSYSTEMUSER\")","v":""},{"$f":"IF(BY88=\"\",\"\",TODAY())","v":""},{"$f":"IF(BY88=\"\",\"\",\"WTSYSTEMUSER\")","v":""}]
[null,null,null,null,null,null,null,null,null,null,null,null,null,null,null,null,null,null,null,null,null,null,null,null,null,null,null,null,null,null,null,null,null,null,null,null,null,null,null,null,null,null,null,null,null,null,null,null,null,null,null,null,null,null,null,null,null,null,null,null,null,null,null,null,null,null,null,null,null,null,null,null,null,null,null,null,null,null,null,null,null,null,null,null,null,null,null,null,null,null,null,null,"",null,{"$f":"IF(BY89=\"\",\"\",\"AgencyEntityInsData Id 684\")","v":""},{"$f":"IF(BY89=\"\",\"\",\"AgencyEntityInstance Id 87\")","v":""},{"$f":"IF(BY89=\"\",\"\",\"cm_t27_list_min\")","v":""},{"$f":"IF(BY89=\"\",\"\",0)","v":""},{"$f":"IF(BY89=\"\",\"\",TODAY())","v":""},{"$f":"IF(BY89=\"\",\"\",\"WTSYSTEMUSER\")","v":""},{"$f":"IF(BY89=\"\",\"\",TODAY())","v":""},{"$f":"IF(BY89=\"\",\"\",\"WTSYSTEMUSER\")","v":""}]
[null,null,null,null,null,null,null,null,null,null,null,null,null,null,null,null,null,null,null,null,null,null,null,null,null,null,null,null,null,null,null,null,null,null,null,null,null,null,null,null,null,null,null,null,null,null,null,null,null,null,null,null,null,null,null,null,null,null,null,null,null,null,null,null,null,null,null,null,null,null,null,null,null,null,null,null,null,null,null,null,null,null,null,null,null,null,null,null,null,null,null,null,"",null,{"$f":"IF(BY89=\"\",\"\",\"AgencyEntityInsData Id 685\")","v":""},{"$f":"IF(BY89=\"\",\"\",\"AgencyEntityInstance Id 87\")","v":""},{"$f":"IF(BY89=\"\",\"\",\"cm_t27_list_order\")","v":""},{"$f":"IF(BY89=\"\",\"\",4)","v":""},{"$f":"IF(BY89=\"\",\"\",TODAY())","v":""},{"$f":"IF(BY89=\"\",\"\",\"WTSYSTEMUSER\")","v":""},{"$f":"IF(BY89=\"\",\"\",TODAY())","v":""},{"$f":"IF(BY89=\"\",\"\",\"WTSYSTEMUSER\")","v":""}]
[null,null,null,null,null,null,null,null,null,null,null,null,null,null,null,null,null,null,null,null,null,null,null,null,null,null,null,null,null,null,null,null,null,null,null,null,null,null,null,null,null,null,null,null,null,null,null,null,null,null,null,null,null,null,null,null,null,null,null,null,null,null,null,null,null,null,null,null,null,null,null,null,null,null,null,null,null,null,null,null,null,null,null,null,null,null,null,null,null,null,null,null,"",null,{"$f":"IF(BY90=\"\",\"\",\"AgencyEntityInsData Id 691\")","v":""},{"$f":"IF(BY90=\"\",\"\",\"AgencyEntityInstance Id 88\")","v":""},{"$f":"IF(BY90=\"\",\"\",\"cm_t27_list_order\")","v":""},{"$f":"IF(BY90=\"\",\"\",5)","v":""},{"$f":"IF(BY90=\"\",\"\",TODAY())","v":""},{"$f":"IF(BY90=\"\",\"\",\"WTSYSTEMUSER\")","v":""},{"$f":"IF(BY90=\"\",\"\",TODAY())","v":""},{"$f":"IF(BY90=\"\",\"\",\"WTSYSTEMUSER\")","v":""}]
[null,null,null,null,null,null,null,null,null,null,null,null,null,null,null,null,null,null,null,null,null,null,null,null,null,null,null,null,null,null,null,null,null,null,null,null,null,null,null,null,null,null,null,null,null,null,null,null,null,null,null,null,null,null,null,null,null,null,null,null,null,null,null,null,null,null,null,null,null,null,null,null,null,null,null,null,null,null,null,null,null,null,null,null,null,null,null,null,null,null,null,null,"",null,{"$f":"IF(BY91=\"\",\"\",\"AgencyEntityInsData Id 696\")","v":""},{"$f":"IF(BY91=\"\",\"\",\"AgencyEntityInstance Id 89\")","v":""},{"$f":"IF(BY91=\"\",\"\",\"cm_t27_list_min\")","v":""},{"$f":"IF(BY91=\"\",\"\",0)","v":""},{"$f":"IF(BY91=\"\",\"\",TODAY())","v":""},{"$f":"IF(BY91=\"\",\"\",\"WTSYSTEMUSER\")","v":""},{"$f":"IF(BY91=\"\",\"\",TODAY())","v":""},{"$f":"IF(BY91=\"\",\"\",\"WTSYSTEMUSER\")","v":""}]
[null,null,null,null,null,null,null,null,null,null,null,null,null,null,null,null,null,null,null,null,null,null,null,null,null,null,null,null,null,null,null,null,null,null,null,null,null,null,null,null,null,null,null,null,null,null,null,null,null,null,null,null,null,null,null,null,null,null,null,null,null,null,null,null,null,null,null,null,null,null,null,null,null,null,null,null,null,null,null,null,null,null,null,null,null,null,null,null,null,null,null,null,"",null,{"$f":"IF(BY92=\"\",\"\",\"AgencyEntityInsData Id 701\")","v":""},{"$f":"IF(BY92=\"\",\"\",\"AgencyEntityInstance Id 90\")","v":""},{"$f":"IF(BY92=\"\",\"\",\"cm_t27_list_max\")","v":""},{"$f":"IF(BY92=\"\",\"\",0)","v":""},{"$f":"IF(BY92=\"\",\"\",TODAY())","v":""},{"$f":"IF(BY92=\"\",\"\",\"WTSYSTEMUSER\")","v":""},{"$f":"IF(BY92=\"\",\"\",TODAY())","v":""},{"$f":"IF(BY92=\"\",\"\",\"WTSYSTEMUSER\")","v":""}]
[null,null,null,null,null,null,null,null,null,null,null,null,null,null,null,null,null,null,null,null,null,null,null,null,null,null,null,null,null,null,null,null,null,null,null,null,null,null,null,null,null,null,null,null,null,null,null,null,null,null,null,null,null,null,null,null,null,null,null,null,null,null,null,null,null,null,null,null,null,null,null,null,null,null,null,null,null,null,null,null,null,null,null,null,null,null,null,null,null,null,null,null,"",null,{"$f":"IF(BY92=\"\",\"\",\"AgencyEntityInsData Id 705\")","v":""},{"$f":"IF(BY92=\"\",\"\",\"AgencyEntityInstance Id 90\")","v":""},{"$f":"IF(BY92=\"\",\"\",\"cm_t27_list_sieve\")","v":""},{"$f":"IF(BY92=\"\",\"\",\"No. 8 (2.36 mm)\")","v":""},{"$f":"IF(BY92=\"\",\"\",TODAY())","v":""},{"$f":"IF(BY92=\"\",\"\",\"WTSYSTEMUSER\")","v":""},{"$f":"IF(BY92=\"\",\"\",TODAY())","v":""},{"$f":"IF(BY92=\"\",\"\",\"WTSYSTEMUSER\")","v":""}]
[null,null,null,null,null,null,null,null,null,null,null,null,null,null,null,null,null,null,null,null,null,null,null,null,null,null,null,null,null,null,null,null,null,null,null,null,null,null,null,null,null,null,null,null,null,null,null,null,null,null,null,null,null,null,null,null,null,null,null,null,null,null,null,null,null,null,null,null,null,null,null,null,null,null,null,null,null,null,null,null,null,null,null,null,null,null,null,null,null,null,null,null,"",null,{"$f":"IF(BY93=\"\",\"\",\"AgencyEntityInsData Id 711\")","v":""},{"$f":"IF(BY93=\"\",\"\",\"AgencyEntityInstance Id 91\")","v":""},{"$f":"IF(BY93=\"\",\"\",\"cm_t27_list_sieve\")","v":""},{"$f":"IF(BY93=\"\",\"\",\"No. 10 (2.00 mm)\")","v":""},{"$f":"IF(BY93=\"\",\"\",TODAY())","v":""},{"$f":"IF(BY93=\"\",\"\",\"WTSYSTEMUSER\")","v":""},{"$f":"IF(BY93=\"\",\"\",TODAY())","v":""},{"$f":"IF(BY93=\"\",\"\",\"WTSYSTEMUSER\")","v":""}]
[null,null,null,null,null,null,null,null,null,null,null,null,null,null,null,null,null,null,null,null,null,null,null,null,null,null,null,null,null,null,null,null,null,null,null,null,null,null,null,null,null,null,null,null,null,null,null,null,null,null,null,null,null,null,null,null,null,null,null,null,null,null,null,null,null,null,null,null,null,null,null,null,null,null,null,null,null,null,null,null,null,null,null,null,null,null,null,null,null,null,null,null,"",null,{"$f":"IF(BY94=\"\",\"\",\"AgencyEntityInsData Id 717\")","v":""},{"$f":"IF(BY94=\"\",\"\",\"AgencyEntityInstance Id 92\")","v":""},{"$f":"IF(BY94=\"\",\"\",\"cm_t27_list_sieve\")","v":""},{"$f":"IF(BY94=\"\",\"\",\"No. 16 (1.18 mm)\")","v":""},{"$f":"IF(BY94=\"\",\"\",TODAY())","v":""},{"$f":"IF(BY94=\"\",\"\",\"WTSYSTEMUSER\")","v":""},{"$f":"IF(BY94=\"\",\"\",TODAY())","v":""},{"$f":"IF(BY94=\"\",\"\",\"WTSYSTEMUSER\")","v":""}]
[null,null,null,null,null,null,null,null,null,null,null,null,null,null,null,null,null,null,null,null,null,null,null,null,null,null,null,null,null,null,null,null,null,null,null,null,null,null,null,null,null,null,null,null,null,null,null,null,null,null,null,null,null,null,null,null,null,null,null,null,null,null,null,null,null,null,null,null,null,null,null,null,null,null,null,null,null,null,null,null,null,null,null,null,null,null,null,null,null,null,null,null,"",null,{"$f":"IF(BY95=\"\",\"\",\"AgencyEntityInsData Id 722\")","v":""},{"$f":"IF(BY95=\"\",\"\",\"AgencyEntityInstance Id 93\")","v":""},{"$f":"IF(BY95=\"\",\"\",\"cm_t27_list_pct_passing\")","v":""},{"$f":"IF(BY95=\"\",\"\",IF('Test 2'!AH26=0,\"\",'Test 2'!AH26))","v":""},{"$f":"IF(BY95=\"\",\"\",TODAY())","v":""},{"$f":"IF(BY95=\"\",\"\",\"WTSYSTEMUSER\")","v":""},{"$f":"IF(BY95=\"\",\"\",TODAY())","v":""},{"$f":"IF(BY95=\"\",\"\",\"WTSYSTEMUSER\")","v":""}]
[null,null,null,null,null,null,null,null,null,null,null,null,null,null,null,null,null,null,null,null,null,null,null,null,null,null,null,null,null,null,null,null,null,null,null,null,null,null,null,null,null,null,null,null,null,null,null,null,null,null,null,null,null,null,null,null,null,null,null,null,null,null,null,null,null,null,null,null,null,null,null,null,null,null,null,null,null,null,null,null,null,null,null,null,null,null,null,null,null,null,null,null,"",null,{"$f":"IF(BY96=\"\",\"\",\"AgencyEntityInsData Id 727\")","v":""},{"$f":"IF(BY96=\"\",\"\",\"AgencyEntityInstance Id 94\")","v":""},{"$f":"IF(BY96=\"\",\"\",\"cm_t27_list_order\")","v":""},{"$f":"IF(BY96=\"\",\"\",11)","v":""},{"$f":"IF(BY96=\"\",\"\",TODAY())","v":""},{"$f":"IF(BY96=\"\",\"\",\"WTSYSTEMUSER\")","v":""},{"$f":"IF(BY96=\"\",\"\",TODAY())","v":""},{"$f":"IF(BY96=\"\",\"\",\"WTSYSTEMUSER\")","v":""}]
[null,null,null,null,null,null,null,null,null,null,null,null,null,null,null,null,null,null,null,null,null,null,null,null,null,null,null,null,null,null,null,null,null,null,null,null,null,null,null,null,null,null,null,null,null,null,null,null,null,null,null,null,null,null,null,null,null,null,null,null,null,null,null,null,null,null,null,null,null,null,null,null,null,null,null,null,null,null,null,null,null,null,null,null,null,null,null,null,null,null,null,null,"",null,{"$f":"IF(BY97=\"\",\"\",\"AgencyEntityInsData Id 730\")","v":""},{"$f":"IF(BY97=\"\",\"\",\"AgencyEntityInstance Id 95\")","v":""},{"$f":"IF(BY97=\"\",\"\",\"cm_t27_list_inspecrow\")","v":""},{"$f":"IF(BY97=\"\",\"\",\"Out of Spec\")","v":""},{"$f":"IF(BY97=\"\",\"\",TODAY())","v":""},{"$f":"IF(BY97=\"\",\"\",\"WTSYSTEMUSER\")","v":""},{"$f":"IF(BY97=\"\",\"\",TODAY())","v":""},{"$f":"IF(BY97=\"\",\"\",\"WTSYSTEMUSER\")","v":""}]
[null,null,null,null,null,null,null,null,null,null,null,null,null,null,null,null,null,null,null,null,null,null,null,null,null,null,null,null,null,null,null,null,null,null,null,null,null,null,null,null,null,null,null,null,null,null,null,null,null,null,null,null,null,null,null,null,null,null,null,null,null,null,null,null,null,null,null,null,null,null,null,null,null,null,null,null,null,null,null,null,null,null,null,null,null,null,null,null,null,null,null,null,"",null,{"$f":"IF(BY98=\"\",\"\",\"AgencyEntityInsData Id 737\")","v":""},{"$f":"IF(BY98=\"\",\"\",\"AgencyEntityInstance Id 96\")","v":""},{"$f":"IF(BY98=\"\",\"\",\"cm_t27_list_max\")","v":""},{"$f":"IF(BY98=\"\",\"\",0)","v":""},{"$f":"IF(BY98=\"\",\"\",TODAY())","v":""},{"$f":"IF(BY98=\"\",\"\",\"WTSYSTEMUSER\")","v":""},{"$f":"IF(BY98=\"\",\"\",TODAY())","v":""},{"$f":"IF(BY98=\"\",\"\",\"WTSYSTEMUSER\")","v":""}]
[null,null,null,null,null,null,null,null,null,null,null,null,null,null,null,null,null,null,null,null,null,null,null,null,null,null,null,null,null,null,null,null,null,null,null,null,null,null,null,null,null,null,null,null,null,null,null,null,null,null,null,null,null,null,null,null,null,null,null,null,null,null,null,null,null,null,null,null,null,null,null,null,null,null,null,null,null,null,null,null,null,null,null,null,null,null,null,null,null,null,null,null,"",null,{"$f":"IF(BY99=\"\",\"\",\"AgencyEntityInsData Id 742\")","v":""},{"$f":"IF(BY99=\"\",\"\",\"AgencyEntityInstance Id 97\")","v":""},{"$f":"IF(BY99=\"\",\"\",\"cm_t27_list_inspecrow\")","v":""},{"$f":"IF(BY99=\"\",\"\",\"Out of Spec\")","v":""},{"$f":"IF(BY99=\"\",\"\",TODAY())","v":""},{"$f":"IF(BY99=\"\",\"\",\"WTSYSTEMUSER\")","v":""},{"$f":"IF(BY99=\"\",\"\",TODAY())","v":""},{"$f":"IF(BY99=\"\",\"\",\"WTSYSTEMUSER\")","v":""}]
[null,null,null,null,null,null,null,null,null,null,null,null,null,null,null,null,null,null,null,null,null,null,null,null,null,null,null,null,null,null,null,null,null,null,null,null,null,null,null,null,null,null,null,null,null,null,null,null,null,null,null,null,null,null,null,null,null,null,null,null,null,null,null,null,null,null,null,null,null,null,null,null,null,null,null,null,null,null,null,null,null,null,null,null,null,null,null,null,null,null,null,null,"",null,{"$f":"IF(BY99=\"\",\"\",\"AgencyEntityInsData Id 743\")","v":""},{"$f":"IF(BY99=\"\",\"\",\"AgencyEntityInstance Id 97\")","v":""},{"$f":"IF(BY99=\"\",\"\",\"cm_t27_list_max\")","v":""},{"$f":"IF(BY99=\"\",\"\",0)","v":""},{"$f":"IF(BY99=\"\",\"\",TODAY())","v":""},{"$f":"IF(BY99=\"\",\"\",\"WTSYSTEMUSER\")","v":""},{"$f":"IF(BY99=\"\",\"\",TODAY())","v":""},{"$f":"IF(BY99=\"\",\"\",\"WTSYSTEMUSER\")","v":""}]
[null,null,null,null,null,null,null,null,null,null,null,null,null,null,null,null,null,null,null,null,null,null,null,null,null,null,null,null,null,null,null,null,null,null,null,null,null,null,null,null,null,null,null,null,null,null,null,null,null,null,null,null,null,null,null,null,null,null,null,null,null,null,null,null,null,null,null,null,null,null,null,null,null,null,null,null,null,null,null,null,null,null,null,null,null,null,null,null,null,null,null,null,"",null,{"$f":"IF(BY100=\"\",\"\",\"AgencyEntityInsData Id 748\")","v":""},{"$f":"IF(BY100=\"\",\"\",\"AgencyEntityInstance Id 98\")","v":""},{"$f":"IF(BY100=\"\",\"\",\"CM_T85Abs_Absorption\")","v":""},{"$f":"IF(BY100=\"\",\"\",'Test 2'!D59)","v":""},{"$f":"IF(BY100=\"\",\"\",TODAY())","v":""},{"$f":"IF(BY100=\"\",\"\",\"WTSYSTEMUSER\")","v":""},{"$f":"IF(BY100=\"\",\"\",TODAY())","v":""},{"$f":"IF(BY100=\"\",\"\",\"WTSYSTEMUSER\")","v":""}]
[null,null,null,null,null,null,null,null,null,null,null,null,null,null,null,null,null,null,null,null,null,null,null,null,null,null,null,null,null,null,null,null,null,null,null,null,null,null,null,null,null,null,null,null,null,null,null,null,null,null,null,null,null,null,null,null,null,null,null,null,null,null,null,null,null,null,null,null,null,null,null,null,null,null,null,null,null,null,null,null,null,null,null,null,null,null,null,null,null,null,null,null,"",null,{"$f":"IF(BY100=\"\",\"\",\"AgencyEntityInsData Id 755\")","v":""},{"$f":"IF(BY100=\"\",\"\",\"AgencyEntityInstance Id 98\")","v":""},{"$f":"IF(BY100=\"\",\"\",\"CM_T85Abs_PlaceHolder5\")","v":""},"",{"$f":"IF(BY100=\"\",\"\",TODAY())","v":""},{"$f":"IF(BY100=\"\",\"\",\"WTSYSTEMUSER\")","v":""},{"$f":"IF(BY100=\"\",\"\",TODAY())","v":""},{"$f":"IF(BY100=\"\",\"\",\"WTSYSTEMUSER\")","v":""}]
[null,null,null,null,null,null,null,null,null,null,null,null,null,null,null,null,null,null,null,null,null,null,null,null,null,null,null,null,null,null,null,null,null,null,null,null,null,null,null,null,null,null,null,null,null,null,null,null,null,null,null,null,null,null,null,null,null,null,null,null,null,null,null,null,null,null,null,null,null,null,null,null,null,null,null,null,null,null,null,null,null,null,null,null,null,null,null,null,null,null,null,null,"",null,{"$f":"IF(BY100=\"\",\"\",\"AgencyEntityInsData Id 758\")","v":""},{"$f":"IF(BY100=\"\",\"\",\"AgencyEntityInstance Id 98\")","v":""},{"$f":"IF(BY100=\"\",\"\",\"CM_T85Abs_Title_Label\")","v":""},"",{"$f":"IF(BY100=\"\",\"\",TODAY())","v":""},{"$f":"IF(BY100=\"\",\"\",\"WTSYSTEMUSER\")","v":""},{"$f":"IF(BY100=\"\",\"\",TODAY())","v":""},{"$f":"IF(BY100=\"\",\"\",\"WTSYSTEMUSER\")","v":""}]
[null,null,null,null,null,null,null,null,null,null,null,null,null,null,null,null,null,null,null,null,null,null,null,null,null,null,null,null,null,null,null,null,null,null,null,null,null,null,null,null,null,null,null,null,null,null,null,null,null,null,null,null,null,null,null,null,null,null,null,null,null,null,null,null,null,null,null,null,null,null,null,null,null,null,null,null,null,null,null,null,null,null,null,null,null,null,null,null,null,null,null,null,"",null,{"$f":"IF(BY101=\"\",\"\",\"AgencyEntityInsData Id 763\")","v":""},{"$f":"IF(BY101=\"\",\"\",\"AgencyEntityInstance Id 99\")","v":""},{"$f":"IF(BY101=\"\",\"\",\"CM_T85Abs_PlaceHolder2\")","v":""},"",{"$f":"IF(BY101=\"\",\"\",TODAY())","v":""},{"$f":"IF(BY101=\"\",\"\",\"WTSYSTEMUSER\")","v":""},{"$f":"IF(BY101=\"\",\"\",TODAY())","v":""},{"$f":"IF(BY101=\"\",\"\",\"WTSYSTEMUSER\")","v":""}]
[null,null,null,null,null,null,null,null,null,null,null,null,null,null,null,null,null,null,null,null,null,null,null,null,null,null,null,null,null,null,null,null,null,null,null,null,null,null,null,null,null,null,null,null,null,null,null,null,null,null,null,null,null,null,null,null,null,null,null,null,null,null,null,null,null,null,null,null,null,null,null,null,null,null,null,null,null,null,null,null,null,null,null,null,null,null,null,null,null,null,null,null,"",null,{"$f":"IF(BY101=\"\",\"\",\"AgencyEntityInsData Id 769\")","v":""},{"$f":"IF(BY101=\"\",\"\",\"AgencyEntityInstance Id 99\")","v":""},{"$f":"IF(BY101=\"\",\"\",\"CM_T85Abs_Title_Label\")","v":""},"",{"$f":"IF(BY101=\"\",\"\",TODAY())","v":""},{"$f":"IF(BY101=\"\",\"\",\"WTSYSTEMUSER\")","v":""},{"$f":"IF(BY101=\"\",\"\",TODAY())","v":""},{"$f":"IF(BY101=\"\",\"\",\"WTSYSTEMUSER\")","v":""}]
[null,null,null,null,null,null,null,null,null,null,null,null,null,null,null,null,null,null,null,null,null,null,null,null,null,null,null,null,null,null,null,null,null,null,null,null,null,null,null,null,null,null,null,null,null,null,null,null,null,null,null,null,null,null,null,null,null,null,null,null,null,null,null,null,null,null,null,null,null,null,null,null,null,null,null,null,null,null,null,null,null,null,null,null,null,null,null,null,null,null,null,null,"",null,{"$f":"IF(BY102=\"\",\"\",\"AgencyEntityInsData Id 774\")","v":""},{"$f":"IF(BY102=\"\",\"\",\"AgencyEntityInstance Id 100\")","v":""},{"$f":"IF(BY102=\"\",\"\",\"CM_T85Abs_PlaceHolder2\")","v":""},"",{"$f":"IF(BY102=\"\",\"\",TODAY())","v":""},{"$f":"IF(BY102=\"\",\"\",\"WTSYSTEMUSER\")","v":""},{"$f":"IF(BY102=\"\",\"\",TODAY())","v":""},{"$f":"IF(BY102=\"\",\"\",\"WTSYSTEMUSER\")","v":""}]
[null,null,null,null,null,null,null,null,null,null,null,null,null,null,null,null,null,null,null,null,null,null,null,null,null,null,null,null,null,null,null,null,null,null,null,null,null,null,null,null,null,null,null,null,null,null,null,null,null,null,null,null,null,null,null,null,null,null,null,null,null,null,null,null,null,null,null,null,null,null,null,null,null,null,null,null,null,null,null,null,null,null,null,null,null,null,null,null,null,null,null,null,"",null,{"$f":"IF(BY102=\"\",\"\",\"AgencyEntityInsData Id 780\")","v":""},{"$f":"IF(BY102=\"\",\"\",\"AgencyEntityInstance Id 100\")","v":""},{"$f":"IF(BY102=\"\",\"\",\"CM_T85Abs_Title_Label\")","v":""},"",{"$f":"IF(BY102=\"\",\"\",TODAY())","v":""},{"$f":"IF(BY102=\"\",\"\",\"WTSYSTEMUSER\")","v":""},{"$f":"IF(BY102=\"\",\"\",TODAY())","v":""},{"$f":"IF(BY102=\"\",\"\",\"WTSYSTEMUSER\")","v":""}]
[null,null,null,null,null,null,null,null,null,null,null,null,null,null,null,null,null,null,null,null,null,null,null,null,null,null,null,null,null,null,null,null,null,null,null,null,null,null,null,null,null,null,null,null,null,null,null,null,null,null,null,null,null,null,null,null,null,null,null,null,null,null,null,null,null,null,null,null,null,null,null,null,null,null,null,null,null,null,null,null,null,null,null,null,null,null,null,null,null,null,null,null,"",null,{"$f":"IF(BY103=\"\",\"\",\"AgencyEntityInsData Id 784\")","v":""},{"$f":"IF(BY103=\"\",\"\",\"AgencyEntityInstance Id 101\")","v":""},{"$f":"IF(BY103=\"\",\"\",\"CM_T85Abs_PlaceHolder1\")","v":""},"",{"$f":"IF(BY103=\"\",\"\",TODAY())","v":""},{"$f":"IF(BY103=\"\",\"\",\"WTSYSTEMUSER\")","v":""},{"$f":"IF(BY103=\"\",\"\",TODAY())","v":""},{"$f":"IF(BY103=\"\",\"\",\"WTSYSTEMUSER\")","v":""}]
[null,null,null,null,null,null,null,null,null,null,null,null,null,null,null,null,null,null,null,null,null,null,null,null,null,null,null,null,null,null,null,null,null,null,null,null,null,null,null,null,null,null,null,null,null,null,null,null,null,null,null,null,null,null,null,null,null,null,null,null,null,null,null,null,null,null,null,null,null,null,null,null,null,null,null,null,null,null,null,null,null,null,null,null,null,null,null,null,null,null,null,null,"",null,{"$f":"IF(BY103=\"\",\"\",\"AgencyEntityInsData Id 789\")","v":""},{"$f":"IF(BY103=\"\",\"\",\"AgencyEntityInstance Id 101\")","v":""},{"$f":"IF(BY103=\"\",\"\",\"CM_T85Abs_PlaceHolder6\")","v":""},"",{"$f":"IF(BY103=\"\",\"\",TODAY())","v":""},{"$f":"IF(BY103=\"\",\"\",\"WTSYSTEMUSER\")","v":""},{"$f":"IF(BY103=\"\",\"\",TODAY())","v":""},{"$f":"IF(BY103=\"\",\"\",\"WTSYSTEMUSER\")","v":""}]
[null,null,null,null,null,null,null,null,null,null,null,null,null,null,null,null,null,null,null,null,null,null,null,null,null,null,null,null,null,null,null,null,null,null,null,null,null,null,null,null,null,null,null,null,null,null,null,null,null,null,null,null,null,null,null,null,null,null,null,null,null,null,null,null,null,null,null,null,null,null,null,null,null,null,null,null,null,null,null,null,null,null,null,null,null,null,null,null,null,null,null,null,"",null,{"$f":"IF(BY104=\"\",\"\",\"AgencyEntityInsData Id 795\")","v":""},{"$f":"IF(BY104=\"\",\"\",\"AgencyEntityInstance Id 102\")","v":""},{"$f":"IF(BY104=\"\",\"\",\"CM_T85Abs_PlaceHolder1\")","v":""},"",{"$f":"IF(BY104=\"\",\"\",TODAY())","v":""},{"$f":"IF(BY104=\"\",\"\",\"WTSYSTEMUSER\")","v":""},{"$f":"IF(BY104=\"\",\"\",TODAY())","v":""},{"$f":"IF(BY104=\"\",\"\",\"WTSYSTEMUSER\")","v":""}]
[null,null,null,null,null,null,null,null,null,null,null,null,null,null,null,null,null,null,null,null,null,null,null,null,null,null,null,null,null,null,null,null,null,null,null,null,null,null,null,null,null,null,null,null,null,null,null,null,null,null,null,null,null,null,null,null,null,null,null,null,null,null,null,null,null,null,null,null,null,null,null,null,null,null,null,null,null,null,null,null,null,null,null,null,null,null,null,null,null,null,null,null,"",null,{"$f":"IF(BY104=\"\",\"\",\"AgencyEntityInsData Id 800\")","v":""},{"$f":"IF(BY104=\"\",\"\",\"AgencyEntityInstance Id 102\")","v":""},{"$f":"IF(BY104=\"\",\"\",\"CM_T85Abs_PlaceHolder6\")","v":""},"",{"$f":"IF(BY104=\"\",\"\",TODAY())","v":""},{"$f":"IF(BY104=\"\",\"\",\"WTSYSTEMUSER\")","v":""},{"$f":"IF(BY104=\"\",\"\",TODAY())","v":""},{"$f":"IF(BY104=\"\",\"\",\"WTSYSTEMUSER\")","v":""}]
[null,null,null,null,null,null,null,null,null,null,null,null,null,null,null,null,null,null,null,null,null,null,null,null,null,null,null,null,null,null,null,null,null,null,null,null,null,null,null,null,null,null,null,null,null,null,null,null,null,null,null,null,null,null,null,null,null,null,null,null,null,null,null,null,null,null,null,null,null,null,null,null,null,null,null,null,null,null,null,null,null,null,null,null,null,null,null,null,null,null,null,null,"",null,{"$f":"IF(BY104=\"\",\"\",\"AgencyEntityInsData Id 801\")","v":""},{"$f":"IF(BY104=\"\",\"\",\"AgencyEntityInstance Id 102\")","v":""},{"$f":"IF(BY104=\"\",\"\",\"CM_T85Abs_SurfaceDryWt\")","v":""},{"$f":"IF(BY104=\"\",\"\",IF('Test 2'!AH57=0,\"\",'Test 2'!AH57))","v":""},{"$f":"IF(BY104=\"\",\"\",TODAY())","v":""},{"$f":"IF(BY104=\"\",\"\",\"WTSYSTEMUSER\")","v":""},{"$f":"IF(BY104=\"\",\"\",TODAY())","v":""},{"$f":"IF(BY104=\"\",\"\",\"WTSYSTEMUSER\")","v":""}]
[null,null,null,null,null,null,null,null,null,null,null,null,null,null,null,null,null,null,null,null,null,null,null,null,null,null,null,null,null,null,null,null,null,null,null,null,null,null,null,null,null,null,null,null,null,null,null,null,null,null,null,null,null,null,null,null,null,null,null,null,null,null,null,null,null,null,null,null,null,null,null,null,null,null,null,null,null,null,null,null,null,null,null,null,null,null,null,null,null,null,null,null,"",null,{"$f":"IF(BY105=\"\",\"\",\"AgencyEntityInsData Id 805\")","v":""},{"$f":"IF(BY105=\"\",\"\",\"AgencyEntityInstance Id 103\")","v":""},{"$f":"IF(BY105=\"\",\"\",\"del_ca_clay\")","v":""},"",{"$f":"IF(BY105=\"\",\"\",TODAY())","v":""},{"$f":"IF(BY105=\"\",\"\",\"WTSYSTEMUSER\")","v":""},{"$f":"IF(BY105=\"\",\"\",TODAY())","v":""},{"$f":"IF(BY105=\"\",\"\",\"WTSYSTEMUSER\")","v":""}]
[null,null,null,null,null,null,null,null,null,null,null,null,null,null,null,null,null,null,null,null,null,null,null,null,null,null,null,null,null,null,null,null,null,null,null,null,null,null,null,null,null,null,null,null,null,null,null,null,null,null,null,null,null,null,null,null,null,null,null,null,null,null,null,null,null,null,null,null,null,null,null,null,null,null,null,null,null,null,null,null,null,null,null,null,null,null,null,null,null,null,null,null,"",null,{"$f":"IF(BY105=\"\",\"\",\"AgencyEntityInsData Id 810\")","v":""},{"$f":"IF(BY105=\"\",\"\",\"AgencyEntityInstance Id 103\")","v":""},{"$f":"IF(BY105=\"\",\"\",\"del_ca_rock_sh\")","v":""},"",{"$f":"IF(BY105=\"\",\"\",TODAY())","v":""},{"$f":"IF(BY105=\"\",\"\",\"WTSYSTEMUSER\")","v":""},{"$f":"IF(BY105=\"\",\"\",TODAY())","v":""},{"$f":"IF(BY105=\"\",\"\",\"WTSYSTEMUSER\")","v":""}]
[null,null,null,null,null,null,null,null,null,null,null,null,null,null,null,null,null,null,null,null,null,null,null,null,null,null,null,null,null,null,null,null,null,null,null,null,null,null,null,null,null,null,null,null,null,null,null,null,null,null,null,null,null,null,null,null,null,null,null,null,null,null,null,null,null,null,null,null,null,null,null,null,null,null,null,null,null,null,null,null,null,null,null,null,null,null,null,null,null,null,null,null,"",null,{"$f":"IF(BY105=\"\",\"\",\"AgencyEntityInsData Id 816\")","v":""},{"$f":"IF(BY105=\"\",\"\",\"AgencyEntityInstance Id 103\")","v":""},{"$f":"IF(BY105=\"\",\"\",\"del_man_sand\")","v":""},{"$f":"IF(BY105=\"\",\"\",IF('Test 2'!G71=\"\",\"\",'Test 2'!G71))","v":""},{"$f":"IF(BY105=\"\",\"\",TODAY())","v":""},{"$f":"IF(BY105=\"\",\"\",\"WTSYSTEMUSER\")","v":""},{"$f":"IF(BY105=\"\",\"\",TODAY())","v":""},{"$f":"IF(BY105=\"\",\"\",\"WTSYSTEMUSER\")","v":""}]
[null,null,null,null,null,null,null,null,null,null,null,null,null,null,null,null,null,null,null,null,null,null,null,null,null,null,null,null,null,null,null,null,null,null,null,null,null,null,null,null,null,null,null,null,null,null,null,null,null,null,null,null,null,null,null,null,null,null,null,null,null,null,null,null,null,null,null,null,null,null,null,null,null,null,null,null,null,null,null,null,null,null,null,null,null,null,null,null,null,null,null,null,"",null,{"$f":"IF(BY106=\"\",\"\",\"AgencyEntityInsData Id 821\")","v":""},{"$f":"IF(BY106=\"\",\"\",\"AgencyEntityInstance Id 104\")","v":""},{"$f":"IF(BY106=\"\",\"\",\"del_ca_chert\")","v":""},"",{"$f":"IF(BY106=\"\",\"\",TODAY())","v":""},{"$f":"IF(BY106=\"\",\"\",\"WTSYSTEMUSER\")","v":""},{"$f":"IF(BY106=\"\",\"\",TODAY())","v":""},{"$f":"IF(BY106=\"\",\"\",\"WTSYSTEMUSER\")","v":""}]
[null,null,null,null,null,null,null,null,null,null,null,null,null,null,null,null,null,null,null,null,null,null,null,null,null,null,null,null,null,null,null,null,null,null,null,null,null,null,null,null,null,null,null,null,null,null,null,null,null,null,null,null,null,null,null,null,null,null,null,null,null,null,null,null,null,null,null,null,null,null,null,null,null,null,null,null,null,null,null,null,null,null,null,null,null,null,null,null,null,null,null,null,"",null,{"$f":"IF(BY106=\"\",\"\",\"AgencyEntityInsData Id 826\")","v":""},{"$f":"IF(BY106=\"\",\"\",\"AgencyEntityInstance Id 104\")","v":""},{"$f":"IF(BY106=\"\",\"\",\"del_ca_rock\")","v":""},"",{"$f":"IF(BY106=\"\",\"\",TODAY())","v":""},{"$f":"IF(BY106=\"\",\"\",\"WTSYSTEMUSER\")","v":""},{"$f":"IF(BY106=\"\",\"\",TODAY())","v":""},{"$f":"IF(BY106=\"\",\"\",\"WTSYSTEMUSER\")","v":""}]
[null,null,null,null,null,null,null,null,null,null,null,null,null,null,null,null,null,null,null,null,null,null,null,null,null,null,null,null,null,null,null,null,null,null,null,null,null,null,null,null,null,null,null,null,null,null,null,null,null,null,null,null,null,null,null,null,null,null,null,null,null,null,null,null,null,null,null,null,null,null,null,null,null,null,null,null,null,null,null,null,null,null,null,null,null,null,null,null,null,null,null,null,"",null,{"$f":"IF(BY106=\"\",\"\",\"AgencyEntityInsData Id 831\")","v":""},{"$f":"IF(BY106=\"\",\"\",\"AgencyEntityInstance Id 104\")","v":""},{"$f":"IF(BY106=\"\",\"\",\"del_fa_lw\")","v":""},{"$f":"IF(BY106=\"\",\"\",IF('Test 2'!K69=\"\",\"\",'Test 2'!K69))","v":""},{"$f":"IF(BY106=\"\",\"\",TODAY())","v":""},{"$f":"IF(BY106=\"\",\"\",\"WTSYSTEMUSER\")","v":""},{"$f":"IF(BY106=\"\",\"\",TODAY())","v":""},{"$f":"IF(BY106=\"\",\"\",\"WTSYSTEMUSER\")","v":""}]
[null,null,null,null,null,null,null,null,null,null,null,null,null,null,null,null,null,null,null,null,null,null,null,null,null,null,null,null,null,null,null,null,null,null,null,null,null,null,null,null,null,null,null,null,null,null,null,null,null,null,null,null,null,null,null,null,null,null,null,null,null,null,null,null,null,null,null,null,null,null,null,null,null,null,null,null,null,null,null,null,null,null,null,null,null,null,null,null,null,null,null,null,"",null,{"$f":"IF(BY106=\"\",\"\",\"AgencyEntityInsData Id 836\")","v":""},{"$f":"IF(BY106=\"\",\"\",\"AgencyEntityInstance Id 104\")","v":""},{"$f":"IF(BY106=\"\",\"\",\"del_tot_del\")","v":""},"",{"$f":"IF(BY106=\"\",\"\",TODAY())","v":""},{"$f":"IF(BY106=\"\",\"\",\"WTSYSTEMUSER\")","v":""},{"$f":"IF(BY106=\"\",\"\",TODAY())","v":""},{"$f":"IF(BY106=\"\",\"\",\"WTSYSTEMUSER\")","v":""}]
[null,null,null,null,null,null,null,null,null,null,null,null,null,null,null,null,null,null,null,null,null,null,null,null,null,null,null,null,null,null,null,null,null,null,null,null,null,null,null,null,null,null,null,null,null,null,null,null,null,null,null,null,null,null,null,null,null,null,null,null,null,null,null,null,null,null,null,null,null,null,null,null,null,null,null,null,null,null,null,null,null,null,null,null,null,null,null,null,null,null,null,null,"",null,{"$f":"IF(BY107=\"\",\"\",\"AgencyEntityInsData Id 841\")","v":""},{"$f":"IF(BY107=\"\",\"\",\"AgencyEntityInstance Id 105\")","v":""},{"$f":"IF(BY107=\"\",\"\",\"del_ca_mud_sh\")","v":""},"",{"$f":"IF(BY107=\"\",\"\",TODAY())","v":""},{"$f":"IF(BY107=\"\",\"\",\"WTSYSTEMUSER\")","v":""},{"$f":"IF(BY107=\"\",\"\",TODAY())","v":""},{"$f":"IF(BY107=\"\",\"\",\"WTSYSTEMUSER\")","v":""}]
[null,null,null,null,null,null,null,null,null,null,null,null,null,null,null,null,null,null,null,null,null,null,null,null,null,null,null,null,null,null,null,null,null,null,null,null,null,null,null,null,null,null,null,null,null,null,null,null,null,null,null,null,null,null,null,null,null,null,null,null,null,null,null,null,null,null,null,null,null,null,null,null,null,null,null,null,null,null,null,null,null,null,null,null,null,null,null,null,null,null,null,null,"",null,{"$f":"IF(BY107=\"\",\"\",\"AgencyEntityInsData Id 847\")","v":""},{"$f":"IF(BY107=\"\",\"\",\"AgencyEntityInstance Id 105\")","v":""},{"$f":"IF(BY107=\"\",\"\",\"del_fa_coal\")","v":""},{"$f":"IF(BY107=\"\",\"\",IF('Test 2'!O67=\"\",\"\",'Test 2'!O67))","v":""},{"$f":"IF(BY107=\"\",\"\",TODAY())","v":""},{"$f":"IF(BY107=\"\",\"\",\"WTSYSTEMUSER\")","v":""},{"$f":"IF(BY107=\"\",\"\",TODAY())","v":""},{"$f":"IF(BY107=\"\",\"\",\"WTSYSTEMUSER\")","v":""}]
[null,null,null,null,null,null,null,null,null,null,null,null,null,null,null,null,null,null,null,null,null,null,null,null,null,null,null,null,null,null,null,null,null,null,null,null,null,null,null,null,null,null,null,null,null,null,null,null,null,null,null,null,null,null,null,null,null,null,null,null,null,null,null,null,null,null,null,null,null,null,null,null,null,null,null,null,null,null,null,null,null,null,null,null,null,null,null,null,null,null,null,null,"",null,{"$f":"IF(BY107=\"\",\"\",\"AgencyEntityInsData Id 851\")","v":""},{"$f":"IF(BY107=\"\",\"\",\"AgencyEntityInstance Id 105\")","v":""},{"$f":"IF(BY107=\"\",\"\",\"del_material\")","v":""},{"$f":"IF(BY107=\"\",\"\",\"1005 FA\")","v":""},{"$f":"IF(BY107=\"\",\"\",TODAY())","v":""},{"$f":"IF(BY107=\"\",\"\",\"WTSYSTEMUSER\")","v":""},{"$f":"IF(BY107=\"\",\"\",TODAY())","v":""},{"$f":"IF(BY107=\"\",\"\",\"WTSYSTEMUSER\")","v":""}]
[null,null,null,null,null,null,null,null,null,null,null,null,null,null,null,null,null,null,null,null,null,null,null,null,null,null,null,null,null,null,null,null,null,null,null,null,null,null,null,null,null,null,null,null,null,null,null,null,null,null,null,null,null,null,null,null,null,null,null,null,null,null,null,null,null,null,null,null,null,null,null,null,null,null,null,null,null,null,null,null,null,null,null,null,null,null,null,null,null,null,null,null,"",null,{"$f":"IF(BY108=\"\",\"\",\"AgencyEntityInsData Id 857\")","v":""},{"$f":"IF(BY108=\"\",\"\",\"AgencyEntityInstance Id 106\")","v":""},{"$f":"IF(BY108=\"\",\"\",\"del_ca_mud\")","v":""},"",{"$f":"IF(BY108=\"\",\"\",TODAY())","v":""},{"$f":"IF(BY108=\"\",\"\",\"WTSYSTEMUSER\")","v":""},{"$f":"IF(BY108=\"\",\"\",TODAY())","v":""},{"$f":"IF(BY108=\"\",\"\",\"WTSYSTEMUSER\")","v":""}]
[null,null,null,null,null,null,null,null,null,null,null,null,null,null,null,null,null,null,null,null,null,null,null,null,null,null,null,null,null,null,null,null,null,null,null,null,null,null,null,null,null,null,null,null,null,null,null,null,null,null,null,null,null,null,null,null,null,null,null,null,null,null,null,null,null,null,null,null,null,null,null,null,null,null,null,null,null,null,null,null,null,null,null,null,null,null,null,null,null,null,null,null,"",null,{"$f":"IF(BY108=\"\",\"\",\"AgencyEntityInsData Id 862\")","v":""},{"$f":"IF(BY108=\"\",\"\",\"AgencyEntityInstance Id 106\")","v":""},{"$f":"IF(BY108=\"\",\"\",\"del_ca_sh\")","v":""},"",{"$f":"IF(BY108=\"\",\"\",TODAY())","v":""},{"$f":"IF(BY108=\"\",\"\",\"WTSYSTEMUSER\")","v":""},{"$f":"IF(BY108=\"\",\"\",TODAY())","v":""},{"$f":"IF(BY108=\"\",\"\",\"WTSYSTEMUSER\")","v":""}]
[null,null,null,null,null,null,null,null,null,null,null,null,null,null,null,null,null,null,null,null,null,null,null,null,null,null,null,null,null,null,null,null,null,null,null,null,null,null,null,null,null,null,null,null,null,null,null,null,null,null,null,null,null,null,null,null,null,null,null,null,null,null,null,null,null,null,null,null,null,null,null,null,null,null,null,null,null,null,null,null,null,null,null,null,null,null,null,null,null,null,null,null,"",null,{"$f":"IF(BY108=\"\",\"\",\"AgencyEntityInsData Id 867\")","v":""},{"$f":"IF(BY108=\"\",\"\",\"AgencyEntityInstance Id 106\")","v":""},{"$f":"IF(BY108=\"\",\"\",\"del_man_sand\")","v":""},{"$f":"IF(BY108=\"\",\"\",IF('Test 2'!S71=\"\",\"\",'Test 2'!S71))","v":""},{"$f":"IF(BY108=\"\",\"\",TODAY())","v":""},{"$f":"IF(BY108=\"\",\"\",\"WTSYSTEMUSER\")","v":""},{"$f":"IF(BY108=\"\",\"\",TODAY())","v":""},{"$f":"IF(BY108=\"\",\"\",\"WTSYSTEMUSER\")","v":""}]
[null,null,null,null,null,null,null,null,null,null,null,null,null,null,null,null,null,null,null,null,null,null,null,null,null,null,null,null,null,null,null,null,null,null,null,null,null,null,null,null,null,null,null,null,null,null,null,null,null,null,null,null,null,null,null,null,null,null,null,null,null,null,null,null,null,null,null,null,null,null,null,null,null,null,null,null,null,null,null,null,null,null,null,null,null,null,null,null,null,null,null,null,"",null,{"$f":"IF(BY108=\"\",\"\",\"AgencyEntityInsData Id 868\")","v":""},{"$f":"IF(BY108=\"\",\"\",\"AgencyEntityInstance Id 106\")","v":""},{"$f":"IF(BY108=\"\",\"\",\"del_material\")","v":""},{"$f":"IF(BY108=\"\",\"\",\"1005 FA\")","v":""},{"$f":"IF(BY108=\"\",\"\",TODAY())","v":""},{"$f":"IF(BY108=\"\",\"\",\"WTSYSTEMUSER\")","v":""},{"$f":"IF(BY108=\"\",\"\",TODAY())","v":""},{"$f":"IF(BY108=\"\",\"\",\"WTSYSTEMUSER\")","v":""}]
[null,null,null,null,null,null,null,null,null,null,null,null,null,null,null,null,null,null,null,null,null,null,null,null,null,null,null,null,null,null,null,null,null,null,null,null,null,null,null,null,null,null,null,null,null,null,null,null,null,null,null,null,null,null,null,null,null,null,null,null,null,null,null,null,null,null,null,null,null,null,null,null,null,null,null,null,null,null,null,null,null,null,null,null,null,null,null,null,null,null,null,null,"",null,{"$f":"IF(BY109=\"\",\"\",\"AgencyEntityInsData Id 876\")","v":""},{"$f":"IF(BY109=\"\",\"\",\"AgencyEntityInstance Id 107\")","v":""},{"$f":"IF(BY109=\"\",\"\",\"del_ca_ofm\")","v":""},"",{"$f":"IF(BY109=\"\",\"\",TODAY())","v":""},{"$f":"IF(BY109=\"\",\"\",\"WTSYSTEMUSER\")","v":""},{"$f":"IF(BY109=\"\",\"\",TODAY())","v":""},{"$f":"IF(BY109=\"\",\"\",\"WTSYSTEMUSER\")","v":""}]
[null,null,null,null,null,null,null,null,null,null,null,null,null,null,null,null,null,null,null,null,null,null,null,null,null,null,null,null,null,null,null,null,null,null,null,null,null,null,null,null,null,null,null,null,null,null,null,null,null,null,null,null,null,null,null,null,null,null,null,null,null,null,null,null,null,null,null,null,null,null,null,null,null,null,null,null,null,null,null,null,null,null,null,null,null,null,null,null,null,null,null,null,"",null,{"$f":"IF(BY109=\"\",\"\",\"AgencyEntityInsData Id 878\")","v":""},{"$f":"IF(BY109=\"\",\"\",\"AgencyEntityInstance Id 107\")","v":""},{"$f":"IF(BY109=\"\",\"\",\"del_ca_rock_sh\")","v":""},"",{"$f":"IF(BY109=\"\",\"\",TODAY())","v":""},{"$f":"IF(BY109=\"\",\"\",\"WTSYSTEMUSER\")","v":""},{"$f":"IF(BY109=\"\",\"\",TODAY())","v":""},{"$f":"IF(BY109=\"\",\"\",\"WTSYSTEMUSER\")","v":""}]
[null,null,null,null,null,null,null,null,null,null,null,null,null,null,null,null,null,null,null,null,null,null,null,null,null,null,null,null,null,null,null,null,null,null,null,null,null,null,null,null,null,null,null,null,null,null,null,null,null,null,null,null,null,null,null,null,null,null,null,null,null,null,null,null,null,null,null,null,null,null,null,null,null,null,null,null,null,null,null,null,null,null,null,null,null,null,null,null,null,null,null,null,"",null,{"$f":"IF(BY109=\"\",\"\",\"AgencyEntityInsData Id 883\")","v":""},{"$f":"IF(BY109=\"\",\"\",\"AgencyEntityInstance Id 107\")","v":""},{"$f":"IF(BY109=\"\",\"\",\"del_fa_other\")","v":""},{"$f":"IF(BY109=\"\",\"\",IF('Test 2'!W68=\"\",\"\",'Test 2'!W68))","v":""},{"$f":"IF(BY109=\"\",\"\",TODAY())","v":""},{"$f":"IF(BY109=\"\",\"\",\"WTSYSTEMUSER\")","v":""},{"$f":"IF(BY109=\"\",\"\",TODAY())","v":""},{"$f":"IF(BY109=\"\",\"\",\"WTSYSTEMUSER\")","v":""}]
[null,null,null,null,null,null,null,null,null,null,null,null,null,null,null,null,null,null,null,null,null,null,null,null,null,null,null,null,null,null,null,null,null,null,null,null,null,null,null,null,null,null,null,null,null,null,null,null,null,null,null,null,null,null,null,null,null,null,null,null,null,null,null,null,null,null,null,null,null,null,null,null,null,null,null,null,null,null,null,null,null,null,null,null,null,null,null,null,null,null,null,null,"",null,{"$f":"IF(BY110=\"\",\"\",\"AgencyEntityInsData Id 888\")","v":""},{"$f":"IF(BY110=\"\",\"\",\"AgencyEntityInstance Id 108\")","v":""},{"$f":"IF(BY110=\"\",\"\",\"cm_t27_detail_inspec\")","v":""},{"$f":"IF(BY110=\"\",\"\",\"Out of Spec\")","v":""},{"$f":"IF(BY110=\"\",\"\",TODAY())","v":""},{"$f":"IF(BY110=\"\",\"\",\"WTSYSTEMUSER\")","v":""},{"$f":"IF(BY110=\"\",\"\",TODAY())","v":""},{"$f":"IF(BY110=\"\",\"\",\"WTSYSTEMUSER\")","v":""}]
[null,null,null,null,null,null,null,null,null,null,null,null,null,null,null,null,null,null,null,null,null,null,null,null,null,null,null,null,null,null,null,null,null,null,null,null,null,null,null,null,null,null,null,null,null,null,null,null,null,null,null,null,null,null,null,null,null,null,null,null,null,null,null,null,null,null,null,null,null,null,null,null,null,null,null,null,null,null,null,null,null,null,null,null,null,null,null,null,null,null,null,null,"",null,{"$f":"IF(BY111=\"\",\"\",\"AgencyEntityInsData Id 894\")","v":""},{"$f":"IF(BY111=\"\",\"\",\"AgencyEntityInstance Id 109\")","v":""},{"$f":"IF(BY111=\"\",\"\",\"cm_t27_list_sieve\")","v":""},{"$f":"IF(BY111=\"\",\"\",\"4\"\" (100 mm)\")","v":""},{"$f":"IF(BY111=\"\",\"\",TODAY())","v":""},{"$f":"IF(BY111=\"\",\"\",\"WTSYSTEMUSER\")","v":""},{"$f":"IF(BY111=\"\",\"\",TODAY())","v":""},{"$f":"IF(BY111=\"\",\"\",\"WTSYSTEMUSER\")","v":""}]
[null,null,null,null,null,null,null,null,null,null,null,null,null,null,null,null,null,null,null,null,null,null,null,null,null,null,null,null,null,null,null,null,null,null,null,null,null,null,null,null,null,null,null,null,null,null,null,null,null,null,null,null,null,null,null,null,null,null,null,null,null,null,null,null,null,null,null,null,null,null,null,null,null,null,null,null,null,null,null,null,null,null,null,null,null,null,null,null,null,null,null,null,"",null,{"$f":"IF(BY112=\"\",\"\",\"AgencyEntityInsData Id 897\")","v":""},{"$f":"IF(BY112=\"\",\"\",\"AgencyEntityInstance Id 110\")","v":""},{"$f":"IF(BY112=\"\",\"\",\"cm_t27_list_min\")","v":""},{"$f":"IF(BY112=\"\",\"\",0)","v":""},{"$f":"IF(BY112=\"\",\"\",TODAY())","v":""},{"$f":"IF(BY112=\"\",\"\",\"WTSYSTEMUSER\")","v":""},{"$f":"IF(BY112=\"\",\"\",TODAY())","v":""},{"$f":"IF(BY112=\"\",\"\",\"WTSYSTEMUSER\")","v":""}]
[null,null,null,null,null,null,null,null,null,null,null,null,null,null,null,null,null,null,null,null,null,null,null,null,null,null,null,null,null,null,null,null,null,null,null,null,null,null,null,null,null,null,null,null,null,null,null,null,null,null,null,null,null,null,null,null,null,null,null,null,null,null,null,null,null,null,null,null,null,null,null,null,null,null,null,null,null,null,null,null,null,null,null,null,null,null,null,null,null,null,null,null,"",null,{"$f":"IF(BY113=\"\",\"\",\"AgencyEntityInsData Id 903\")","v":""},{"$f":"IF(BY113=\"\",\"\",\"AgencyEntityInstance Id 111\")","v":""},{"$f":"IF(BY113=\"\",\"\",\"cm_t27_list_min\")","v":""},{"$f":"IF(BY113=\"\",\"\",0)","v":""},{"$f":"IF(BY113=\"\",\"\",TODAY())","v":""},{"$f":"IF(BY113=\"\",\"\",\"WTSYSTEMUSER\")","v":""},{"$f":"IF(BY113=\"\",\"\",TODAY())","v":""},{"$f":"IF(BY113=\"\",\"\",\"WTSYSTEMUSER\")","v":""}]
[null,null,null,null,null,null,null,null,null,null,null,null,null,null,null,null,null,null,null,null,null,null,null,null,null,null,null,null,null,null,null,null,null,null,null,null,null,null,null,null,null,null,null,null,null,null,null,null,null,null,null,null,null,null,null,null,null,null,null,null,null,null,null,null,null,null,null,null,null,null,null,null,null,null,null,null,null,null,null,null,null,null,null,null,null,null,null,null,null,null,null,null,"",null,{"$f":"IF(BY114=\"\",\"\",\"AgencyEntityInsData Id 909\")","v":""},{"$f":"IF(BY114=\"\",\"\",\"AgencyEntityInstance Id 112\")","v":""},{"$f":"IF(BY114=\"\",\"\",\"cm_t27_list_min\")","v":""},{"$f":"IF(BY114=\"\",\"\",0)","v":""},{"$f":"IF(BY114=\"\",\"\",TODAY())","v":""},{"$f":"IF(BY114=\"\",\"\",\"WTSYSTEMUSER\")","v":""},{"$f":"IF(BY114=\"\",\"\",TODAY())","v":""},{"$f":"IF(BY114=\"\",\"\",\"WTSYSTEMUSER\")","v":""}]
[null,null,null,null,null,null,null,null,null,null,null,null,null,null,null,null,null,null,null,null,null,null,null,null,null,null,null,null,null,null,null,null,null,null,null,null,null,null,null,null,null,null,null,null,null,null,null,null,null,null,null,null,null,null,null,null,null,null,null,null,null,null,null,null,null,null,null,null,null,null,null,null,null,null,null,null,null,null,null,null,null,null,null,null,null,null,null,null,null,null,null,null,"",null,{"$f":"IF(BY115=\"\",\"\",\"AgencyEntityInsData Id 914\")","v":""},{"$f":"IF(BY115=\"\",\"\",\"AgencyEntityInstance Id 113\")","v":""},{"$f":"IF(BY115=\"\",\"\",\"cm_t27_list_max\")","v":""},{"$f":"IF(BY115=\"\",\"\",0)","v":""},{"$f":"IF(BY115=\"\",\"\",TODAY())","v":""},{"$f":"IF(BY115=\"\",\"\",\"WTSYSTEMUSER\")","v":""},{"$f":"IF(BY115=\"\",\"\",TODAY())","v":""},{"$f":"IF(BY115=\"\",\"\",\"WTSYSTEMUSER\")","v":""}]
[null,null,null,null,null,null,null,null,null,null,null,null,null,null,null,null,null,null,null,null,null,null,null,null,null,null,null,null,null,null,null,null,null,null,null,null,null,null,null,null,null,null,null,null,null,null,null,null,null,null,null,null,null,null,null,null,null,null,null,null,null,null,null,null,null,null,null,null,null,null,null,null,null,null,null,null,null,null,null,null,null,null,null,null,null,null,null,null,null,null,null,null,"",null,{"$f":"IF(BY116=\"\",\"\",\"AgencyEntityInsData Id 920\")","v":""},{"$f":"IF(BY116=\"\",\"\",\"AgencyEntityInstance Id 114\")","v":""},{"$f":"IF(BY116=\"\",\"\",\"cm_t27_list_max\")","v":""},{"$f":"IF(BY116=\"\",\"\",0)","v":""},{"$f":"IF(BY116=\"\",\"\",TODAY())","v":""},{"$f":"IF(BY116=\"\",\"\",\"WTSYSTEMUSER\")","v":""},{"$f":"IF(BY116=\"\",\"\",TODAY())","v":""},{"$f":"IF(BY116=\"\",\"\",\"WTSYSTEMUSER\")","v":""}]
[null,null,null,null,null,null,null,null,null,null,null,null,null,null,null,null,null,null,null,null,null,null,null,null,null,null,null,null,null,null,null,null,null,null,null,null,null,null,null,null,null,null,null,null,null,null,null,null,null,null,null,null,null,null,null,null,null,null,null,null,null,null,null,null,null,null,null,null,null,null,null,null,null,null,null,null,null,null,null,null,null,null,null,null,null,null,null,null,null,null,null,null,"",null,{"$f":"IF(BY116=\"\",\"\",\"AgencyEntityInsData Id 922\")","v":""},{"$f":"IF(BY116=\"\",\"\",\"AgencyEntityInstance Id 114\")","v":""},{"$f":"IF(BY116=\"\",\"\",\"cm_t27_list_order\")","v":""},{"$f":"IF(BY116=\"\",\"\",5)","v":""},{"$f":"IF(BY116=\"\",\"\",TODAY())","v":""},{"$f":"IF(BY116=\"\",\"\",\"WTSYSTEMUSER\")","v":""},{"$f":"IF(BY116=\"\",\"\",TODAY())","v":""},{"$f":"IF(BY116=\"\",\"\",\"WTSYSTEMUSER\")","v":""}]
[null,null,null,null,null,null,null,null,null,null,null,null,null,null,null,null,null,null,null,null,null,null,null,null,null,null,null,null,null,null,null,null,null,null,null,null,null,null,null,null,null,null,null,null,null,null,null,null,null,null,null,null,null,null,null,null,null,null,null,null,null,null,null,null,null,null,null,null,null,null,null,null,null,null,null,null,null,null,null,null,null,null,null,null,null,null,null,null,null,null,null,null,"",null,{"$f":"IF(BY117=\"\",\"\",\"AgencyEntityInsData Id 929\")","v":""},{"$f":"IF(BY117=\"\",\"\",\"AgencyEntityInstance Id 115\")","v":""},{"$f":"IF(BY117=\"\",\"\",\"cm_t27_list_pct_passing\")","v":""},{"$f":"IF(BY117=\"\",\"\",\"\")","v":""},{"$f":"IF(BY117=\"\",\"\",TODAY())","v":""},{"$f":"IF(BY117=\"\",\"\",\"WTSYSTEMUSER\")","v":""},{"$f":"IF(BY117=\"\",\"\",TODAY())","v":""},{"$f":"IF(BY117=\"\",\"\",\"WTSYSTEMUSER\")","v":""}]
[null,null,null,null,null,null,null,null,null,null,null,null,null,null,null,null,null,null,null,null,null,null,null,null,null,null,null,null,null,null,null,null,null,null,null,null,null,null,null,null,null,null,null,null,null,null,null,null,null,null,null,null,null,null,null,null,null,null,null,null,null,null,null,null,null,null,null,null,null,null,null,null,null,null,null,null,null,null,null,null,null,null,null,null,null,null,null,null,null,null,null,null,"",null,{"$f":"IF(BY117=\"\",\"\",\"AgencyEntityInsData Id 930\")","v":""},{"$f":"IF(BY117=\"\",\"\",\"AgencyEntityInstance Id 115\")","v":""},{"$f":"IF(BY117=\"\",\"\",\"cm_t27_list_sieve\")","v":""},{"$f":"IF(BY117=\"\",\"\",\"1/4\"\" (6.25 mm)\")","v":""},{"$f":"IF(BY117=\"\",\"\",TODAY())","v":""},{"$f":"IF(BY117=\"\",\"\",\"WTSYSTEMUSER\")","v":""},{"$f":"IF(BY117=\"\",\"\",TODAY())","v":""},{"$f":"IF(BY117=\"\",\"\",\"WTSYSTEMUSER\")","v":""}]
[null,null,null,null,null,null,null,null,null,null,null,null,null,null,null,null,null,null,null,null,null,null,null,null,null,null,null,null,null,null,null,null,null,null,null,null,null,null,null,null,null,null,null,null,null,null,null,null,null,null,null,null,null,null,null,null,null,null,null,null,null,null,null,null,null,null,null,null,null,null,null,null,null,null,null,null,null,null,null,null,null,null,null,null,null,null,null,null,null,null,null,null,"",null,{"$f":"IF(BY118=\"\",\"\",\"AgencyEntityInsData Id 935\")","v":""},{"$f":"IF(BY118=\"\",\"\",\"AgencyEntityInstance Id 116\")","v":""},{"$f":"IF(BY118=\"\",\"\",\"cm_t27_list_pct_passing\")","v":""},{"$f":"IF(BY118=\"\",\"\",IF('Test 3'!AE18=0,\"\",'Test 3'!AE18))","v":""},{"$f":"IF(BY118=\"\",\"\",TODAY())","v":""},{"$f":"IF(BY118=\"\",\"\",\"WTSYSTEMUSER\")","v":""},{"$f":"IF(BY118=\"\",\"\",TODAY())","v":""},{"$f":"IF(BY118=\"\",\"\",\"WTSYSTEMUSER\")","v":""}]
[null,null,null,null,null,null,null,null,null,null,null,null,null,null,null,null,null,null,null,null,null,null,null,null,null,null,null,null,null,null,null,null,null,null,null,null,null,null,null,null,null,null,null,null,null,null,null,null,null,null,null,null,null,null,null,null,null,null,null,null,null,null,null,null,null,null,null,null,null,null,null,null,null,null,null,null,null,null,null,null,null,null,null,null,null,null,null,null,null,null,null,null,"",null,{"$f":"IF(BY119=\"\",\"\",\"AgencyEntityInsData Id 941\")","v":""},{"$f":"IF(BY119=\"\",\"\",\"AgencyEntityInstance Id 117\")","v":""},{"$f":"IF(BY119=\"\",\"\",\"cm_t27_list_pct_passing\")","v":""},{"$f":"IF(BY119=\"\",\"\",IF('Test 3'!AE19=0,\"\",'Test 3'!AE19))","v":""},{"$f":"IF(BY119=\"\",\"\",TODAY())","v":""},{"$f":"IF(BY119=\"\",\"\",\"WTSYSTEMUSER\")","v":""},{"$f":"IF(BY119=\"\",\"\",TODAY())","v":""},{"$f":"IF(BY119=\"\",\"\",\"WTSYSTEMUSER\")","v":""}]
[null,null,null,null,null,null,null,null,null,null,null,null,null,null,null,null,null,null,null,null,null,null,null,null,null,null,null,null,null,null,null,null,null,null,null,null,null,null,null,null,null,null,null,null,null,null,null,null,null,null,null,null,null,null,null,null,null,null,null,null,null,null,null,null,null,null,null,null,null,null,null,null,null,null,null,null,null,null,null,null,null,null,null,null,null,null,null,null,null,null,null,null,"",null,{"$f":"IF(BY120=\"\",\"\",\"AgencyEntityInsData Id 947\")","v":""},{"$f":"IF(BY120=\"\",\"\",\"AgencyEntityInstance Id 118\")","v":""},{"$f":"IF(BY120=\"\",\"\",\"cm_t27_list_pct_passing\")","v":""},{"$f":"IF(BY120=\"\",\"\",IF('Test 3'!AE20=0,\"\",'Test 3'!AE20))","v":""},{"$f":"IF(BY120=\"\",\"\",TODAY())","v":""},{"$f":"IF(BY120=\"\",\"\",\"WTSYSTEMUSER\")","v":""},{"$f":"IF(BY120=\"\",\"\",TODAY())","v":""},{"$f":"IF(BY120=\"\",\"\",\"WTSYSTEMUSER\")","v":""}]
[null,null,null,null,null,null,null,null,null,null,null,null,null,null,null,null,null,null,null,null,null,null,null,null,null,null,null,null,null,null,null,null,null,null,null,null,null,null,null,null,null,null,null,null,null,null,null,null,null,null,null,null,null,null,null,null,null,null,null,null,null,null,null,null,null,null,null,null,null,null,null,null,null,null,null,null,null,null,null,null,null,null,null,null,null,null,null,null,null,null,null,null,"",null,{"$f":"IF(BY121=\"\",\"\",\"AgencyEntityInsData Id 950\")","v":""},{"$f":"IF(BY121=\"\",\"\",\"AgencyEntityInstance Id 119\")","v":""},{"$f":"IF(BY121=\"\",\"\",\"cm_t27_list_max\")","v":""},{"$f":"IF(BY121=\"\",\"\",0)","v":""},{"$f":"IF(BY121=\"\",\"\",TODAY())","v":""},{"$f":"IF(BY121=\"\",\"\",\"WTSYSTEMUSER\")","v":""},{"$f":"IF(BY121=\"\",\"\",TODAY())","v":""},{"$f":"IF(BY121=\"\",\"\",\"WTSYSTEMUSER\")","v":""}]
[null,null,null,null,null,null,null,null,null,null,null,null,null,null,null,null,null,null,null,null,null,null,null,null,null,null,null,null,null,null,null,null,null,null,null,null,null,null,null,null,null,null,null,null,null,null,null,null,null,null,null,null,null,null,null,null,null,null,null,null,null,null,null,null,null,null,null,null,null,null,null,null,null,null,null,null,null,null,null,null,null,null,null,null,null,null,null,null,null,null,null,null,"",null,{"$f":"IF(BY122=\"\",\"\",\"AgencyEntityInsData Id 956\")","v":""},{"$f":"IF(BY122=\"\",\"\",\"AgencyEntityInstance Id 120\")","v":""},{"$f":"IF(BY122=\"\",\"\",\"cm_t27_list_max\")","v":""},{"$f":"IF(BY122=\"\",\"\",0)","v":""},{"$f":"IF(BY122=\"\",\"\",TODAY())","v":""},{"$f":"IF(BY122=\"\",\"\",\"WTSYSTEMUSER\")","v":""},{"$f":"IF(BY122=\"\",\"\",TODAY())","v":""},{"$f":"IF(BY122=\"\",\"\",\"WTSYSTEMUSER\")","v":""}]
[null,null,null,null,null,null,null,null,null,null,null,null,null,null,null,null,null,null,null,null,null,null,null,null,null,null,null,null,null,null,null,null,null,null,null,null,null,null,null,null,null,null,null,null,null,null,null,null,null,null,null,null,null,null,null,null,null,null,null,null,null,null,null,null,null,null,null,null,null,null,null,null,null,null,null,null,null,null,null,null,null,null,null,null,null,null,null,null,null,null,null,null,"",null,{"$f":"IF(BY123=\"\",\"\",\"AgencyEntityInsData Id 961\")","v":""},{"$f":"IF(BY123=\"\",\"\",\"AgencyEntityInstance Id 121\")","v":""},{"$f":"IF(BY123=\"\",\"\",\"cm_t27_list_inspecrow\")","v":""},{"$f":"IF(BY123=\"\",\"\",\"Out of Spec\")","v":""},{"$f":"IF(BY123=\"\",\"\",TODAY())","v":""},{"$f":"IF(BY123=\"\",\"\",\"WTSYSTEMUSER\")","v":""},{"$f":"IF(BY123=\"\",\"\",TODAY())","v":""},{"$f":"IF(BY123=\"\",\"\",\"WTSYSTEMUSER\")","v":""}]
[null,null,null,null,null,null,null,null,null,null,null,null,null,null,null,null,null,null,null,null,null,null,null,null,null,null,null,null,null,null,null,null,null,null,null,null,null,null,null,null,null,null,null,null,null,null,null,null,null,null,null,null,null,null,null,null,null,null,null,null,null,null,null,null,null,null,null,null,null,null,null,null,null,null,null,null,null,null,null,null,null,null,null,null,null,null,null,null,null,null,null,null,"",null,{"$f":"IF(BY123=\"\",\"\",\"AgencyEntityInsData Id 966\")","v":""},{"$f":"IF(BY123=\"\",\"\",\"AgencyEntityInstance Id 121\")","v":""},{"$f":"IF(BY123=\"\",\"\",\"cm_t27_list_sieve\")","v":""},{"$f":"IF(BY123=\"\",\"\",\"No. 40 (425 um)\")","v":""},{"$f":"IF(BY123=\"\",\"\",TODAY())","v":""},{"$f":"IF(BY123=\"\",\"\",\"WTSYSTEMUSER\")","v":""},{"$f":"IF(BY123=\"\",\"\",TODAY())","v":""},{"$f":"IF(BY123=\"\",\"\",\"WTSYSTEMUSER\")","v":""}]
[null,null,null,null,null,null,null,null,null,null,null,null,null,null,null,null,null,null,null,null,null,null,null,null,null,null,null,null,null,null,null,null,null,null,null,null,null,null,null,null,null,null,null,null,null,null,null,null,null,null,null,null,null,null,null,null,null,null,null,null,null,null,null,null,null,null,null,null,null,null,null,null,null,null,null,null,null,null,null,null,null,null,null,null,null,null,null,null,null,null,null,null,"",null,{"$f":"IF(BY124=\"\",\"\",\"AgencyEntityInsData Id 972\")","v":""},{"$f":"IF(BY124=\"\",\"\",\"AgencyEntityInstance Id 122\")","v":""},{"$f":"IF(BY124=\"\",\"\",\"cm_t27_list_sieve\")","v":""},{"$f":"IF(BY124=\"\",\"\",\"No. 50 (300 um)\")","v":""},{"$f":"IF(BY124=\"\",\"\",TODAY())","v":""},{"$f":"IF(BY124=\"\",\"\",\"WTSYSTEMUSER\")","v":""},{"$f":"IF(BY124=\"\",\"\",TODAY())","v":""},{"$f":"IF(BY124=\"\",\"\",\"WTSYSTEMUSER\")","v":""}]
[null,null,null,null,null,null,null,null,null,null,null,null,null,null,null,null,null,null,null,null,null,null,null,null,null,null,null,null,null,null,null,null,null,null,null,null,null,null,null,null,null,null,null,null,null,null,null,null,null,null,null,null,null,null,null,null,null,null,null,null,null,null,null,null,null,null,null,null,null,null,null,null,null,null,null,null,null,null,null,null,null,null,null,null,null,null,null,null,null,null,null,null,"",null,{"$f":"IF(BY125=\"\",\"\",\"AgencyEntityInsData Id 976\")","v":""},{"$f":"IF(BY125=\"\",\"\",\"AgencyEntityInstance Id 123\")","v":""},{"$f":"IF(BY125=\"\",\"\",\"cm_t27_list_order\")","v":""},{"$f":"IF(BY125=\"\",\"\",14)","v":""},{"$f":"IF(BY125=\"\",\"\",TODAY())","v":""},{"$f":"IF(BY125=\"\",\"\",\"WTSYSTEMUSER\")","v":""},{"$f":"IF(BY125=\"\",\"\",TODAY())","v":""},{"$f":"IF(BY125=\"\",\"\",\"WTSYSTEMUSER\")","v":""}]
[null,null,null,null,null,null,null,null,null,null,null,null,null,null,null,null,null,null,null,null,null,null,null,null,null,null,null,null,null,null,null,null,null,null,null,null,null,null,null,null,null,null,null,null,null,null,null,null,null,null,null,null,null,null,null,null,null,null,null,null,null,null,null,null,null,null,null,null,null,null,null,null,null,null,null,null,null,null,null,null,null,null,null,null,null,null,null,null,null,null,null,null,"",null,{"$f":"IF(BY126=\"\",\"\",\"AgencyEntityInsData Id 982\")","v":""},{"$f":"IF(BY126=\"\",\"\",\"AgencyEntityInstance Id 124\")","v":""},{"$f":"IF(BY126=\"\",\"\",\"cm_t27_list_order\")","v":""},{"$f":"IF(BY126=\"\",\"\",15)","v":""},{"$f":"IF(BY126=\"\",\"\",TODAY())","v":""},{"$f":"IF(BY126=\"\",\"\",\"WTSYSTEMUSER\")","v":""},{"$f":"IF(BY126=\"\",\"\",TODAY())","v":""},{"$f":"IF(BY126=\"\",\"\",\"WTSYSTEMUSER\")","v":""}]
[null,null,null,null,null,null,null,null,null,null,null,null,null,null,null,null,null,null,null,null,null,null,null,null,null,null,null,null,null,null,null,null,null,null,null,null,null,null,null,null,null,null,null,null,null,null,null,null,null,null,null,null,null,null,null,null,null,null,null,null,null,null,null,null,null,null,null,null,null,null,null,null,null,null,null,null,null,null,null,null,null,null,null,null,null,null,null,null,null,null,null,null,"",null,{"$f":"IF(BY128=\"\",\"\",\"AgencyEntityInsData Id 987\")","v":""},{"$f":"IF(BY128=\"\",\"\",\"AgencyEntityInstance Id 126\")","v":""},{"$f":"IF(BY128=\"\",\"\",\"cm_t27_list_max\")","v":""},{"$f":"IF(BY128=\"\",\"\",0)","v":""},{"$f":"IF(BY128=\"\",\"\",TODAY())","v":""},{"$f":"IF(BY128=\"\",\"\",\"WTSYSTEMUSER\")","v":""},{"$f":"IF(BY128=\"\",\"\",TODAY())","v":""},{"$f":"IF(BY128=\"\",\"\",\"WTSYSTEMUSER\")","v":""}]
[null,null,null,null,null,null,null,null,null,null,null,null,null,null,null,null,null,null,null,null,null,null,null,null,null,null,null,null,null,null,null,null,null,null,null,null,null,null,null,null,null,null,null,null,null,null,null,null,null,null,null,null,null,null,null,null,null,null,null,null,null,null,null,null,null,null,null,null,null,null,null,null,null,null,null,null,null,null,null,null,null,null,null,null,null,null,null,null,null,null,null,null,"",null,{"$f":"IF(BY129=\"\",\"\",\"AgencyEntityInsData Id 992\")","v":""},{"$f":"IF(BY129=\"\",\"\",\"AgencyEntityInstance Id 127\")","v":""},{"$f":"IF(BY129=\"\",\"\",\"cm_t27_list_inspecrow\")","v":""},{"$f":"IF(BY129=\"\",\"\",\"Out of Spec\")","v":""},{"$f":"IF(BY129=\"\",\"\",TODAY())","v":""},{"$f":"IF(BY129=\"\",\"\",\"WTSYSTEMUSER\")","v":""},{"$f":"IF(BY129=\"\",\"\",TODAY())","v":""},{"$f":"IF(BY129=\"\",\"\",\"WTSYSTEMUSER\")","v":""}]
[null,null,null,null,null,null,null,null,null,null,null,null,null,null,null,null,null,null,null,null,null,null,null,null,null,null,null,null,null,null,null,null,null,null,null,null,null,null,null,null,null,null,null,null,null,null,null,null,null,null,null,null,null,null,null,null,null,null,null,null,null,null,null,null,null,null,null,null,null,null,null,null,null,null,null,null,null,null,null,null,null,null,null,null,null,null,null,null,null,null,null,null,"",null,{"$f":"IF(BY129=\"\",\"\",\"AgencyEntityInsData Id 993\")","v":""},{"$f":"IF(BY129=\"\",\"\",\"AgencyEntityInstance Id 127\")","v":""},{"$f":"IF(BY129=\"\",\"\",\"cm_t27_list_max\")","v":""},{"$f":"IF(BY129=\"\",\"\",0)","v":""},{"$f":"IF(BY129=\"\",\"\",TODAY())","v":""},{"$f":"IF(BY129=\"\",\"\",\"WTSYSTEMUSER\")","v":""},{"$f":"IF(BY129=\"\",\"\",TODAY())","v":""},{"$f":"IF(BY129=\"\",\"\",\"WTSYSTEMUSER\")","v":""}]
[null,null,null,null,null,null,null,null,null,null,null,null,null,null,null,null,null,null,null,null,null,null,null,null,null,null,null,null,null,null,null,null,null,null,null,null,null,null,null,null,null,null,null,null,null,null,null,null,null,null,null,null,null,null,null,null,null,null,null,null,null,null,null,null,null,null,null,null,null,null,null,null,null,null,null,null,null,null,null,null,null,null,null,null,null,null,null,null,null,null,null,null,"",null,{"$f":"IF(BY129=\"\",\"\",\"AgencyEntityInsData Id 997\")","v":""},{"$f":"IF(BY129=\"\",\"\",\"AgencyEntityInstance Id 127\")","v":""},{"$f":"IF(BY129=\"\",\"\",\"cm_t27_list_sieve\")","v":""},{"$f":"IF(BY129=\"\",\"\",\"1 1/2\"\" (37.5 mm)\")","v":""},{"$f":"IF(BY129=\"\",\"\",TODAY())","v":""},{"$f":"IF(BY129=\"\",\"\",\"WTSYSTEMUSER\")","v":""},{"$f":"IF(BY129=\"\",\"\",TODAY())","v":""},{"$f":"IF(BY129=\"\",\"\",\"WTSYSTEMUSER\")","v":""}]
[null,null,null,null,null,null,null,null,null,null,null,null,null,null,null,null,null,null,null,null,null,null,null,null,null,null,null,null,null,null,null,null,null,null,null,null,null,null,null,null,null,null,null,null,null,null,null,null,null,null,null,null,null,null,null,null,null,null,null,null,null,null,null,null,null,null,null,null,null,null,null,null,null,null,null,null,null,null,null,null,null,null,null,null,null,null,null,null,null,null,null,null,"",null,{"$f":"IF(BY130=\"\",\"\",\"AgencyEntityInsData Id 1002\")","v":""},{"$f":"IF(BY130=\"\",\"\",\"AgencyEntityInstance Id 128\")","v":""},{"$f":"IF(BY130=\"\",\"\",\"cm_t27_list_pct_passing\")","v":""},{"$f":"IF(BY130=\"\",\"\",IF('Test 3'!AF14=0,\"\",'Test 3'!AF14))","v":""},{"$f":"IF(BY130=\"\",\"\",TODAY())","v":""},{"$f":"IF(BY130=\"\",\"\",\"WTSYSTEMUSER\")","v":""},{"$f":"IF(BY130=\"\",\"\",TODAY())","v":""},{"$f":"IF(BY130=\"\",\"\",\"WTSYSTEMUSER\")","v":""}]
[null,null,null,null,null,null,null,null,null,null,null,null,null,null,null,null,null,null,null,null,null,null,null,null,null,null,null,null,null,null,null,null,null,null,null,null,null,null,null,null,null,null,null,null,null,null,null,null,null,null,null,null,null,null,null,null,null,null,null,null,null,null,null,null,null,null,null,null,null,null,null,null,null,null,null,null,null,null,null,null,null,null,null,null,null,null,null,null,null,null,null,null,"",null,{"$f":"IF(BY131=\"\",\"\",\"AgencyEntityInsData Id 1008\")","v":""},{"$f":"IF(BY131=\"\",\"\",\"AgencyEntityInstance Id 129\")","v":""},{"$f":"IF(BY131=\"\",\"\",\"cm_t27_list_pct_passing\")","v":""},{"$f":"IF(BY131=\"\",\"\",IF('Test 3'!AF15=0,\"\",'Test 3'!AF15))","v":""},{"$f":"IF(BY131=\"\",\"\",TODAY())","v":""},{"$f":"IF(BY131=\"\",\"\",\"WTSYSTEMUSER\")","v":""},{"$f":"IF(BY131=\"\",\"\",TODAY())","v":""},{"$f":"IF(BY131=\"\",\"\",\"WTSYSTEMUSER\")","v":""}]
[null,null,null,null,null,null,null,null,null,null,null,null,null,null,null,null,null,null,null,null,null,null,null,null,null,null,null,null,null,null,null,null,null,null,null,null,null,null,null,null,null,null,null,null,null,null,null,null,null,null,null,null,null,null,null,null,null,null,null,null,null,null,null,null,null,null,null,null,null,null,null,null,null,null,null,null,null,null,null,null,null,null,null,null,null,null,null,null,null,null,null,null,"",null,{"$f":"IF(BY132=\"\",\"\",\"AgencyEntityInsData Id 1013\")","v":""},{"$f":"IF(BY132=\"\",\"\",\"AgencyEntityInstance Id 130\")","v":""},{"$f":"IF(BY132=\"\",\"\",\"cm_t27_list_order\")","v":""},{"$f":"IF(BY132=\"\",\"\",4)","v":""},{"$f":"IF(BY132=\"\",\"\",TODAY())","v":""},{"$f":"IF(BY132=\"\",\"\",\"WTSYSTEMUSER\")","v":""},{"$f":"IF(BY132=\"\",\"\",TODAY())","v":""},{"$f":"IF(BY132=\"\",\"\",\"WTSYSTEMUSER\")","v":""}]
[null,null,null,null,null,null,null,null,null,null,null,null,null,null,null,null,null,null,null,null,null,null,null,null,null,null,null,null,null,null,null,null,null,null,null,null,null,null,null,null,null,null,null,null,null,null,null,null,null,null,null,null,null,null,null,null,null,null,null,null,null,null,null,null,null,null,null,null,null,null,null,null,null,null,null,null,null,null,null,null,null,null,null,null,null,null,null,null,null,null,null,null,"",null,{"$f":"IF(BY133=\"\",\"\",\"AgencyEntityInsData Id 1018\")","v":""},{"$f":"IF(BY133=\"\",\"\",\"AgencyEntityInstance Id 131\")","v":""},{"$f":"IF(BY133=\"\",\"\",\"cm_t27_list_min\")","v":""},{"$f":"IF(BY133=\"\",\"\",0)","v":""},{"$f":"IF(BY133=\"\",\"\",TODAY())","v":""},{"$f":"IF(BY133=\"\",\"\",\"WTSYSTEMUSER\")","v":""},{"$f":"IF(BY133=\"\",\"\",TODAY())","v":""},{"$f":"IF(BY133=\"\",\"\",\"WTSYSTEMUSER\")","v":""}]
[null,null,null,null,null,null,null,null,null,null,null,null,null,null,null,null,null,null,null,null,null,null,null,null,null,null,null,null,null,null,null,null,null,null,null,null,null,null,null,null,null,null,null,null,null,null,null,null,null,null,null,null,null,null,null,null,null,null,null,null,null,null,null,null,null,null,null,null,null,null,null,null,null,null,null,null,null,null,null,null,null,null,null,null,null,null,null,null,null,null,null,null,"",null,{"$f":"IF(BY134=\"\",\"\",\"AgencyEntityInsData Id 1023\")","v":""},{"$f":"IF(BY134=\"\",\"\",\"AgencyEntityInstance Id 132\")","v":""},{"$f":"IF(BY134=\"\",\"\",\"cm_t27_list_max\")","v":""},{"$f":"IF(BY134=\"\",\"\",0)","v":""},{"$f":"IF(BY134=\"\",\"\",TODAY())","v":""},{"$f":"IF(BY134=\"\",\"\",\"WTSYSTEMUSER\")","v":""},{"$f":"IF(BY134=\"\",\"\",TODAY())","v":""},{"$f":"IF(BY134=\"\",\"\",\"WTSYSTEMUSER\")","v":""}]
[null,null,null,null,null,null,null,null,null,null,null,null,null,null,null,null,null,null,null,null,null,null,null,null,null,null,null,null,null,null,null,null,null,null,null,null,null,null,null,null,null,null,null,null,null,null,null,null,null,null,null,null,null,null,null,null,null,null,null,null,null,null,null,null,null,null,null,null,null,null,null,null,null,null,null,null,null,null,null,null,null,null,null,null,null,null,null,null,null,null,null,null,"",null,{"$f":"IF(BY135=\"\",\"\",\"AgencyEntityInsData Id 1028\")","v":""},{"$f":"IF(BY135=\"\",\"\",\"AgencyEntityInstance Id 133\")","v":""},{"$f":"IF(BY135=\"\",\"\",\"cm_t27_list_inspecrow\")","v":""},{"$f":"IF(BY135=\"\",\"\",\"Out of Spec\")","v":""},{"$f":"IF(BY135=\"\",\"\",TODAY())","v":""},{"$f":"IF(BY135=\"\",\"\",\"WTSYSTEMUSER\")","v":""},{"$f":"IF(BY135=\"\",\"\",TODAY())","v":""},{"$f":"IF(BY135=\"\",\"\",\"WTSYSTEMUSER\")","v":""}]
[null,null,null,null,null,null,null,null,null,null,null,null,null,null,null,null,null,null,null,null,null,null,null,null,null,null,null,null,null,null,null,null,null,null,null,null,null,null,null,null,null,null,null,null,null,null,null,null,null,null,null,null,null,null,null,null,null,null,null,null,null,null,null,null,null,null,null,null,null,null,null,null,null,null,null,null,null,null,null,null,null,null,null,null,null,null,null,null,null,null,null,null,"",null,{"$f":"IF(BY136=\"\",\"\",\"AgencyEntityInsData Id 1034\")","v":""},{"$f":"IF(BY136=\"\",\"\",\"AgencyEntityInstance Id 134\")","v":""},{"$f":"IF(BY136=\"\",\"\",\"cm_t27_list_inspecrow\")","v":""},{"$f":"IF(BY136=\"\",\"\",\"Out of Spec\")","v":""},{"$f":"IF(BY136=\"\",\"\",TODAY())","v":""},{"$f":"IF(BY136=\"\",\"\",\"WTSYSTEMUSER\")","v":""},{"$f":"IF(BY136=\"\",\"\",TODAY())","v":""},{"$f":"IF(BY136=\"\",\"\",\"WTSYSTEMUSER\")","v":""}]
[null,null,null,null,null,null,null,null,null,null,null,null,null,null,null,null,null,null,null,null,null,null,null,null,null,null,null,null,null,null,null,null,null,null,null,null,null,null,null,null,null,null,null,null,null,null,null,null,null,null,null,null,null,null,null,null,null,null,null,null,null,null,null,null,null,null,null,null,null,null,null,null,null,null,null,null,null,null,null,null,null,null,null,null,null,null,null,null,null,null,null,null,"",null,{"$f":"IF(BY136=\"\",\"\",\"AgencyEntityInsData Id 1039\")","v":""},{"$f":"IF(BY136=\"\",\"\",\"AgencyEntityInstance Id 134\")","v":""},{"$f":"IF(BY136=\"\",\"\",\"cm_t27_list_sieve\")","v":""},{"$f":"IF(BY136=\"\",\"\",\"No. 8 (2.36 mm)\")","v":""},{"$f":"IF(BY136=\"\",\"\",TODAY())","v":""},{"$f":"IF(BY136=\"\",\"\",\"WTSYSTEMUSER\")","v":""},{"$f":"IF(BY136=\"\",\"\",TODAY())","v":""},{"$f":"IF(BY136=\"\",\"\",\"WTSYSTEMUSER\")","v":""}]
[null,null,null,null,null,null,null,null,null,null,null,null,null,null,null,null,null,null,null,null,null,null,null,null,null,null,null,null,null,null,null,null,null,null,null,null,null,null,null,null,null,null,null,null,null,null,null,null,null,null,null,null,null,null,null,null,null,null,null,null,null,null,null,null,null,null,null,null,null,null,null,null,null,null,null,null,null,null,null,null,null,null,null,null,null,null,null,null,null,null,null,null,"",null,{"$f":"IF(BY137=\"\",\"\",\"AgencyEntityInsData Id 1043\")","v":""},{"$f":"IF(BY137=\"\",\"\",\"AgencyEntityInstance Id 135\")","v":""},{"$f":"IF(BY137=\"\",\"\",\"cm_t27_list_order\")","v":""},{"$f":"IF(BY137=\"\",\"\",9)","v":""},{"$f":"IF(BY137=\"\",\"\",TODAY())","v":""},{"$f":"IF(BY137=\"\",\"\",\"WTSYSTEMUSER\")","v":""},{"$f":"IF(BY137=\"\",\"\",TODAY())","v":""},{"$f":"IF(BY137=\"\",\"\",\"WTSYSTEMUSER\")","v":""}]
[null,null,null,null,null,null,null,null,null,null,null,null,null,null,null,null,null,null,null,null,null,null,null,null,null,null,null,null,null,null,null,null,null,null,null,null,null,null,null,null,null,null,null,null,null,null,null,null,null,null,null,null,null,null,null,null,null,null,null,null,null,null,null,null,null,null,null,null,null,null,null,null,null,null,null,null,null,null,null,null,null,null,null,null,null,null,null,null,null,null,null,null,"",null,{"$f":"IF(BY138=\"\",\"\",\"AgencyEntityInsData Id 1049\")","v":""},{"$f":"IF(BY138=\"\",\"\",\"AgencyEntityInstance Id 136\")","v":""},{"$f":"IF(BY138=\"\",\"\",\"cm_t27_list_order\")","v":""},{"$f":"IF(BY138=\"\",\"\",10)","v":""},{"$f":"IF(BY138=\"\",\"\",TODAY())","v":""},{"$f":"IF(BY138=\"\",\"\",\"WTSYSTEMUSER\")","v":""},{"$f":"IF(BY138=\"\",\"\",TODAY())","v":""},{"$f":"IF(BY138=\"\",\"\",\"WTSYSTEMUSER\")","v":""}]
[null,null,null,null,null,null,null,null,null,null,null,null,null,null,null,null,null,null,null,null,null,null,null,null,null,null,null,null,null,null,null,null,null,null,null,null,null,null,null,null,null,null,null,null,null,null,null,null,null,null,null,null,null,null,null,null,null,null,null,null,null,null,null,null,null,null,null,null,null,null,null,null,null,null,null,null,null,null,null,null,null,null,null,null,null,null,null,null,null,null,null,null,"",null,{"$f":"IF(BY139=\"\",\"\",\"AgencyEntityInsData Id 1054\")","v":""},{"$f":"IF(BY139=\"\",\"\",\"AgencyEntityInstance Id 137\")","v":""},{"$f":"IF(BY139=\"\",\"\",\"cm_t27_list_min\")","v":""},{"$f":"IF(BY139=\"\",\"\",0)","v":""},{"$f":"IF(BY139=\"\",\"\",TODAY())","v":""},{"$f":"IF(BY139=\"\",\"\",\"WTSYSTEMUSER\")","v":""},{"$f":"IF(BY139=\"\",\"\",TODAY())","v":""},{"$f":"IF(BY139=\"\",\"\",\"WTSYSTEMUSER\")","v":""}]
[null,null,null,null,null,null,null,null,null,null,null,null,null,null,null,null,null,null,null,null,null,null,null,null,null,null,null,null,null,null,null,null,null,null,null,null,null,null,null,null,null,null,null,null,null,null,null,null,null,null,null,null,null,null,null,null,null,null,null,null,null,null,null,null,null,null,null,null,null,null,null,null,null,null,null,null,null,null,null,null,null,null,null,null,null,null,null,null,null,null,null,null,"",null,{"$f":"IF(BY139=\"\",\"\",\"AgencyEntityInsData Id 1055\")","v":""},{"$f":"IF(BY139=\"\",\"\",\"AgencyEntityInstance Id 137\")","v":""},{"$f":"IF(BY139=\"\",\"\",\"cm_t27_list_order\")","v":""},{"$f":"IF(BY139=\"\",\"\",11)","v":""},{"$f":"IF(BY139=\"\",\"\",TODAY())","v":""},{"$f":"IF(BY139=\"\",\"\",\"WTSYSTEMUSER\")","v":""},{"$f":"IF(BY139=\"\",\"\",TODAY())","v":""},{"$f":"IF(BY139=\"\",\"\",\"WTSYSTEMUSER\")","v":""}]
[null,null,null,null,null,null,null,null,null,null,null,null,null,null,null,null,null,null,null,null,null,null,null,null,null,null,null,null,null,null,null,null,null,null,null,null,null,null,null,null,null,null,null,null,null,null,null,null,null,null,null,null,null,null,null,null,null,null,null,null,null,null,null,null,null,null,null,null,null,null,null,null,null,null,null,null,null,null,null,null,null,null,null,null,null,null,null,null,null,null,null,null,"",null,{"$f":"IF(BY140=\"\",\"\",\"AgencyEntityInsData Id 1060\")","v":""},{"$f":"IF(BY140=\"\",\"\",\"AgencyEntityInstance Id 138\")","v":""},{"$f":"IF(BY140=\"\",\"\",\"cm_t27_list_min\")","v":""},{"$f":"IF(BY140=\"\",\"\",0)","v":""},{"$f":"IF(BY140=\"\",\"\",TODAY())","v":""},{"$f":"IF(BY140=\"\",\"\",\"WTSYSTEMUSER\")","v":""},{"$f":"IF(BY140=\"\",\"\",TODAY())","v":""},{"$f":"IF(BY140=\"\",\"\",\"WTSYSTEMUSER\")","v":""}]
[null,null,null,null,null,null,null,null,null,null,null,null,null,null,null,null,null,null,null,null,null,null,null,null,null,null,null,null,null,null,null,null,null,null,null,null,null,null,null,null,null,null,null,null,null,null,null,null,null,null,null,null,null,null,null,null,null,null,null,null,null,null,null,null,null,null,null,null,null,null,null,null,null,null,null,null,null,null,null,null,null,null,null,null,null,null,null,null,null,null,null,null,"",null,{"$f":"IF(BY141=\"\",\"\",\"AgencyEntityInsData Id 1068\")","v":""},{"$f":"IF(BY141=\"\",\"\",\"AgencyEntityInstance Id 139\")","v":""},{"$f":"IF(BY141=\"\",\"\",\"cm_t27_list_pct_passing\")","v":""},{"$f":"IF(BY141=\"\",\"\",IF('Test 3'!AF24=0,\"\",'Test 3'!AF24))","v":""},{"$f":"IF(BY141=\"\",\"\",TODAY())","v":""},{"$f":"IF(BY141=\"\",\"\",\"WTSYSTEMUSER\")","v":""},{"$f":"IF(BY141=\"\",\"\",TODAY())","v":""},{"$f":"IF(BY141=\"\",\"\",\"WTSYSTEMUSER\")","v":""}]
[null,null,null,null,null,null,null,null,null,null,null,null,null,null,null,null,null,null,null,null,null,null,null,null,null,null,null,null,null,null,null,null,null,null,null,null,null,null,null,null,null,null,null,null,null,null,null,null,null,null,null,null,null,null,null,null,null,null,null,null,null,null,null,null,null,null,null,null,null,null,null,null,null,null,null,null,null,null,null,null,null,null,null,null,null,null,null,null,null,null,null,null,"",null,{"$f":"IF(BY142=\"\",\"\",\"AgencyEntityInsData Id 1070\")","v":""},{"$f":"IF(BY142=\"\",\"\",\"AgencyEntityInstance Id 140\")","v":""},{"$f":"IF(BY142=\"\",\"\",\"cm_t27_list_inspecrow\")","v":""},{"$f":"IF(BY142=\"\",\"\",\"Out of Spec\")","v":""},{"$f":"IF(BY142=\"\",\"\",TODAY())","v":""},{"$f":"IF(BY142=\"\",\"\",\"WTSYSTEMUSER\")","v":""},{"$f":"IF(BY142=\"\",\"\",TODAY())","v":""},{"$f":"IF(BY142=\"\",\"\",\"WTSYSTEMUSER\")","v":""}]
[null,null,null,null,null,null,null,null,null,null,null,null,null,null,null,null,null,null,null,null,null,null,null,null,null,null,null,null,null,null,null,null,null,null,null,null,null,null,null,null,null,null,null,null,null,null,null,null,null,null,null,null,null,null,null,null,null,null,null,null,null,null,null,null,null,null,null,null,null,null,null,null,null,null,null,null,null,null,null,null,null,null,null,null,null,null,null,null,null,null,null,null,"",null,{"$f":"IF(BY142=\"\",\"\",\"AgencyEntityInsData Id 1075\")","v":""},{"$f":"IF(BY142=\"\",\"\",\"AgencyEntityInstance Id 140\")","v":""},{"$f":"IF(BY142=\"\",\"\",\"cm_t27_list_sieve\")","v":""},{"$f":"IF(BY142=\"\",\"\",\"No. 100 (150 um)\")","v":""},{"$f":"IF(BY142=\"\",\"\",TODAY())","v":""},{"$f":"IF(BY142=\"\",\"\",\"WTSYSTEMUSER\")","v":""},{"$f":"IF(BY142=\"\",\"\",TODAY())","v":""},{"$f":"IF(BY142=\"\",\"\",\"WTSYSTEMUSER\")","v":""}]
[null,null,null,null,null,null,null,null,null,null,null,null,null,null,null,null,null,null,null,null,null,null,null,null,null,null,null,null,null,null,null,null,null,null,null,null,null,null,null,null,null,null,null,null,null,null,null,null,null,null,null,null,null,null,null,null,null,null,null,null,null,null,null,null,null,null,null,null,null,null,null,null,null,null,null,null,null,null,null,null,null,null,null,null,null,null,null,null,null,null,null,null,"",null,{"$f":"IF(BY143=\"\",\"\",\"AgencyEntityInsData Id 1081\")","v":""},{"$f":"IF(BY143=\"\",\"\",\"AgencyEntityInstance Id 141\")","v":""},{"$f":"IF(BY143=\"\",\"\",\"cm_t27_list_sieve\")","v":""},{"$f":"IF(BY143=\"\",\"\",\"No. 200 (75 um)\")","v":""},{"$f":"IF(BY143=\"\",\"\",TODAY())","v":""},{"$f":"IF(BY143=\"\",\"\",\"WTSYSTEMUSER\")","v":""},{"$f":"IF(BY143=\"\",\"\",TODAY())","v":""},{"$f":"IF(BY143=\"\",\"\",\"WTSYSTEMUSER\")","v":""}]
[null,null,null,null,null,null,null,null,null,null,null,null,null,null,null,null,null,null,null,null,null,null,null,null,null,null,null,null,null,null,null,null,null,null,null,null,null,null,null,null,null,null,null,null,null,null,null,null,null,null,null,null,null,null,null,null,null,null,null,null,null,null,null,null,null,null,null,null,null,null,null,null,null,null,null,null,null,null,null,null,null,null,null,null,null,null,null,null,null,null,null,null,"",null,{"$f":"IF(BY146=\"\",\"\",\"AgencyEntityInsData Id 1086\")","v":""},{"$f":"IF(BY146=\"\",\"\",\"AgencyEntityInstance Id 144\")","v":""},{"$f":"IF(BY146=\"\",\"\",\"CM_T255_MoistureCont_PH1\")","v":""},"",{"$f":"IF(BY146=\"\",\"\",TODAY())","v":""},{"$f":"IF(BY146=\"\",\"\",\"WTSYSTEMUSER\")","v":""},{"$f":"IF(BY146=\"\",\"\",TODAY())","v":""},{"$f":"IF(BY146=\"\",\"\",\"WTSYSTEMUSER\")","v":""}]
[null,null,null,null,null,null,null,null,null,null,null,null,null,null,null,null,null,null,null,null,null,null,null,null,null,null,null,null,null,null,null,null,null,null,null,null,null,null,null,null,null,null,null,null,null,null,null,null,null,null,null,null,null,null,null,null,null,null,null,null,null,null,null,null,null,null,null,null,null,null,null,null,null,null,null,null,null,null,null,null,null,null,null,null,null,null,null,null,null,null,null,null,"",null,{"$f":"IF(BY146=\"\",\"\",\"AgencyEntityInsData Id 1089\")","v":""},{"$f":"IF(BY146=\"\",\"\",\"AgencyEntityInstance Id 144\")","v":""},{"$f":"IF(BY146=\"\",\"\",\"CM_T255_MoistureCont_PH4\")","v":""},"",{"$f":"IF(BY146=\"\",\"\",TODAY())","v":""},{"$f":"IF(BY146=\"\",\"\",\"WTSYSTEMUSER\")","v":""},{"$f":"IF(BY146=\"\",\"\",TODAY())","v":""},{"$f":"IF(BY146=\"\",\"\",\"WTSYSTEMUSER\")","v":""}]
[null,null,null,null,null,null,null,null,null,null,null,null,null,null,null,null,null,null,null,null,null,null,null,null,null,null,null,null,null,null,null,null,null,null,null,null,null,null,null,null,null,null,null,null,null,null,null,null,null,null,null,null,null,null,null,null,null,null,null,null,null,null,null,null,null,null,null,null,null,null,null,null,null,null,null,null,null,null,null,null,null,null,null,null,null,null,null,null,null,null,null,null,"",null,{"$f":"IF(BY147=\"\",\"\",\"AgencyEntityInsData Id 1096\")","v":""},{"$f":"IF(BY147=\"\",\"\",\"AgencyEntityInstance Id 145\")","v":""},{"$f":"IF(BY147=\"\",\"\",\"CM_T255_MoistureCont_PH1\")","v":""},"",{"$f":"IF(BY147=\"\",\"\",TODAY())","v":""},{"$f":"IF(BY147=\"\",\"\",\"WTSYSTEMUSER\")","v":""},{"$f":"IF(BY147=\"\",\"\",TODAY())","v":""},{"$f":"IF(BY147=\"\",\"\",\"WTSYSTEMUSER\")","v":""}]
[null,null,null,null,null,null,null,null,null,null,null,null,null,null,null,null,null,null,null,null,null,null,null,null,null,null,null,null,null,null,null,null,null,null,null,null,null,null,null,null,null,null,null,null,null,null,null,null,null,null,null,null,null,null,null,null,null,null,null,null,null,null,null,null,null,null,null,null,null,null,null,null,null,null,null,null,null,null,null,null,null,null,null,null,null,null,null,null,null,null,null,null,"",null,{"$f":"IF(BY147=\"\",\"\",\"AgencyEntityInsData Id 1101\")","v":""},{"$f":"IF(BY147=\"\",\"\",\"AgencyEntityInstance Id 145\")","v":""},{"$f":"IF(BY147=\"\",\"\",\"CM_T255_MoistureCont_Result\")","v":""},{"$f":"IF(BY147=\"\",\"\",IF('Test 1'!I53=0,\"\",'Test 1'!I53))","v":""},{"$f":"IF(BY147=\"\",\"\",TODAY())","v":""},{"$f":"IF(BY147=\"\",\"\",\"WTSYSTEMUSER\")","v":""},{"$f":"IF(BY147=\"\",\"\",TODAY())","v":""},{"$f":"IF(BY147=\"\",\"\",\"WTSYSTEMUSER\")","v":""}]
[null,null,null,null,null,null,null,null,null,null,null,null,null,null,null,null,null,null,null,null,null,null,null,null,null,null,null,null,null,null,null,null,null,null,null,null,null,null,null,null,null,null,null,null,null,null,null,null,null,null,null,null,null,null,null,null,null,null,null,null,null,null,null,null,null,null,null,null,null,null,null,null,null,null,null,null,null,null,null,null,null,null,null,null,null,null,null,null,null,null,null,null,"",null,{"$f":"IF(BY148=\"\",\"\",\"AgencyEntityInsData Id 1106\")","v":""},{"$f":"IF(BY148=\"\",\"\",\"AgencyEntityInstance Id 146\")","v":""},{"$f":"IF(BY148=\"\",\"\",\"CM_T255_MoistureCont_PH1\")","v":""},null,{"$f":"IF(BY148=\"\",\"\",TODAY())","v":""},{"$f":"IF(BY148=\"\",\"\",\"WTSYSTEMUSER\")","v":""},{"$f":"IF(BY148=\"\",\"\",TODAY())","v":""},{"$f":"IF(BY148=\"\",\"\",\"WTSYSTEMUSER\")","v":""}]
[null,null,null,null,null,null,null,null,null,null,null,null,null,null,null,null,null,null,null,null,null,null,null,null,null,null,null,null,null,null,null,null,null,null,null,null,null,null,null,null,null,null,null,null,null,null,null,null,null,null,null,null,null,null,null,null,null,null,null,null,null,null,null,null,null,null,null,null,null,null,null,null,null,null,null,null,null,null,null,null,null,null,null,null,null,null,null,null,null,null,null,null,"",null,{"$f":"IF(BY148=\"\",\"\",\"AgencyEntityInsData Id 1112\")","v":""},{"$f":"IF(BY148=\"\",\"\",\"AgencyEntityInstance Id 146\")","v":""},{"$f":"IF(BY148=\"\",\"\",\"CM_T255_MoistureCont_Title_Label\")","v":""},null,{"$f":"IF(BY148=\"\",\"\",TODAY())","v":""},{"$f":"IF(BY148=\"\",\"\",\"WTSYSTEMUSER\")","v":""},{"$f":"IF(BY148=\"\",\"\",TODAY())","v":""},{"$f":"IF(BY148=\"\",\"\",\"WTSYSTEMUSER\")","v":""}]
[null,null,null,null,null,null,null,null,null,null,null,null,null,null,null,null,null,null,null,null,null,null,null,null,null,null,null,null,null,null,null,null,null,null,null,null,null,null,null,null,null,null,null,null,null,null,null,null,null,null,null,null,null,null,null,null,null,null,null,null,null,null,null,null,null,null,null,null,null,null,null,null,null,null,null,null,null,null,null,null,null,null,null,null,null,null,null,null,null,null,null,null,"",null,{"$f":"IF(BY149=\"\",\"\",\"AgencyEntityInsData Id 1114\")","v":""},{"$f":"IF(BY149=\"\",\"\",\"AgencyEntityInstance Id 147\")","v":""},{"$f":"IF(BY149=\"\",\"\",\"cm_d4791_flat_elong_five_to_one\")","v":""},{"$f":"IF(BY149=\"\",\"\",IF('Test 2'!AD49=0,\"\",'Test 2'!AD49))","v":""},{"$f":"IF(BY149=\"\",\"\",TODAY())","v":""},{"$f":"IF(BY149=\"\",\"\",\"WTSYSTEMUSER\")","v":""},{"$f":"IF(BY149=\"\",\"\",TODAY())","v":""},{"$f":"IF(BY149=\"\",\"\",\"WTSYSTEMUSER\")","v":""}]
[null,null,null,null,null,null,null,null,null,null,null,null,null,null,null,null,null,null,null,null,null,null,null,null,null,null,null,null,null,null,null,null,null,null,null,null,null,null,null,null,null,null,null,null,null,null,null,null,null,null,null,null,null,null,null,null,null,null,null,null,null,null,null,null,null,null,null,null,null,null,null,null,null,null,null,null,null,null,null,null,null,null,null,null,null,null,null,null,null,null,null,null,"",null,{"$f":"IF(BY150=\"\",\"\",\"AgencyEntityInsData Id 1117\")","v":""},{"$f":"IF(BY150=\"\",\"\",\"AgencyEntityInstance Id 148\")","v":""},{"$f":"IF(BY150=\"\",\"\",\"cm_d4791_flat_elong_five_to_one\")","v":""},{"$f":"IF(BY150=\"\",\"\",IF('Test 2'!AE49=0,\"\",'Test 2'!AE49))","v":""},{"$f":"IF(BY150=\"\",\"\",TODAY())","v":""},{"$f":"IF(BY150=\"\",\"\",\"WTSYSTEMUSER\")","v":""},{"$f":"IF(BY150=\"\",\"\",TODAY())","v":""},{"$f":"IF(BY150=\"\",\"\",\"WTSYSTEMUSER\")","v":""}]
[null,null,null,null,null,null,null,null,null,null,null,null,null,null,null,null,null,null,null,null,null,null,null,null,null,null,null,null,null,null,null,null,null,null,null,null,null,null,null,null,null,null,null,null,null,null,null,null,null,null,null,null,null,null,null,null,null,null,null,null,null,null,null,null,null,null,null,null,null,null,null,null,null,null,null,null,null,null,null,null,null,null,null,null,null,null,null,null,null,null,null,null,"",null,{"$f":"IF(BY151=\"\",\"\",\"AgencyEntityInsData Id 1122\")","v":""},{"$f":"IF(BY151=\"\",\"\",\"AgencyEntityInstance Id 149\")","v":""},{"$f":"IF(BY151=\"\",\"\",\"cm_d4791_flat_elong_type\")","v":""},{"$f":"IF(BY151=\"\",\"\",\"Particle Count\")","v":""},{"$f":"IF(BY151=\"\",\"\",TODAY())","v":""},{"$f":"IF(BY151=\"\",\"\",\"WTSYSTEMUSER\")","v":""},{"$f":"IF(BY151=\"\",\"\",TODAY())","v":""},{"$f":"IF(BY151=\"\",\"\",\"WTSYSTEMUSER\")","v":""}]
[null,null,null,null,null,null,null,null,null,null,null,null,null,null,null,null,null,null,null,null,null,null,null,null,null,null,null,null,null,null,null,null,null,null,null,null,null,null,null,null,null,null,null,null,null,null,null,null,null,null,null,null,null,null,null,null,null,null,null,null,null,null,null,null,null,null,null,null,null,null,null,null,null,null,null,null,null,null,null,null,null,null,null,null,null,null,null,null,null,null,null,null,"",null,{"$f":"IF(BY153=\"\",\"\",\"AgencyEntityInsData Id 1127\")","v":""},{"$f":"IF(BY153=\"\",\"\",\"AgencyEntityInstance Id 151\")","v":""},{"$f":"IF(BY153=\"\",\"\",\"cm_d4791_flat_elong_three_to_one\")","v":""},null,{"$f":"IF(BY153=\"\",\"\",TODAY())","v":""},{"$f":"IF(BY153=\"\",\"\",\"WTSYSTEMUSER\")","v":""},{"$f":"IF(BY153=\"\",\"\",TODAY())","v":""},{"$f":"IF(BY153=\"\",\"\",\"WTSYSTEMUSER\")","v":""}]
[null,null,null,null,null,null,null,null,null,null,null,null,null,null,null,null,null,null,null,null,null,null,null,null,null,null,null,null,null,null,null,null,null,null,null,null,null,null,null,null,null,null,null,null,null,null,null,null,null,null,null,null,null,null,null,null,null,null,null,null,null,null,null,null,null,null,null,null,null,null,null,null,null,null,null,null,null,null,null,null,null,null,null,null,null,null,null,null,null,null,null,null,"",null,{"$f":"IF(BY154=\"\",\"\",\"AgencyEntityInsData Id 1133\")","v":""},{"$f":"IF(BY154=\"\",\"\",\"AgencyEntityInstance Id 152\")","v":""},{"$f":"IF(BY154=\"\",\"\",\"CM_QARetainedCompar_10QA\")","v":""},{"$f":"IF(BY154=\"\",\"\",IF('Test 4'!AE21=\"\",\"\",'Test 4'!AE21))","v":""},{"$f":"IF(BY154=\"\",\"\",TODAY())","v":""},{"$f":"IF(BY154=\"\",\"\",\"WTSYSTEMUSER\")","v":""},{"$f":"IF(BY154=\"\",\"\",TODAY())","v":""},{"$f":"IF(BY154=\"\",\"\",\"WTSYSTEMUSER\")","v":""}]
[null,null,null,null,null,null,null,null,null,null,null,null,null,null,null,null,null,null,null,null,null,null,null,null,null,null,null,null,null,null,null,null,null,null,null,null,null,null,null,null,null,null,null,null,null,null,null,null,null,null,null,null,null,null,null,null,null,null,null,null,null,null,null,null,null,null,null,null,null,null,null,null,null,null,null,null,null,null,null,null,null,null,null,null,null,null,null,null,null,null,null,null,"",null,{"$f":"IF(BY154=\"\",\"\",\"AgencyEntityInsData Id 1139\")","v":""},{"$f":"IF(BY154=\"\",\"\",\"AgencyEntityInstance Id 152\")","v":""},{"$f":"IF(BY154=\"\",\"\",\"CM_QARetainedCompar_1and1HalfQA\")","v":""},{"$f":"IF(BY154=\"\",\"\",IF('Test 4'!AE14=\"\",\"\",'Test 4'!AE14))","v":""},{"$f":"IF(BY154=\"\",\"\",TODAY())","v":""},{"$f":"IF(BY154=\"\",\"\",\"WTSYSTEMUSER\")","v":""},{"$f":"IF(BY154=\"\",\"\",TODAY())","v":""},{"$f":"IF(BY154=\"\",\"\",\"WTSYSTEMUSER\")","v":""}]
[null,null,null,null,null,null,null,null,null,null,null,null,null,null,null,null,null,null,null,null,null,null,null,null,null,null,null,null,null,null,null,null,null,null,null,null,null,null,null,null,null,null,null,null,null,null,null,null,null,null,null,null,null,null,null,null,null,null,null,null,null,null,null,null,null,null,null,null,null,null,null,null,null,null,null,null,null,null,null,null,null,null,null,null,null,null,null,null,null,null,null,null,"",null,{"$f":"IF(BY154=\"\",\"\",\"AgencyEntityInsData Id 1143\")","v":""},{"$f":"IF(BY154=\"\",\"\",\"AgencyEntityInstance Id 152\")","v":""},{"$f":"IF(BY154=\"\",\"\",\"CM_QARetainedCompar_1halfQC\")","v":""},{"$f":"IF(BY154=\"\",\"\",IF('Test 4'!AF17=\"\",\"\",'Test 4'!AF17))","v":""},{"$f":"IF(BY154=\"\",\"\",TODAY())","v":""},{"$f":"IF(BY154=\"\",\"\",\"WTSYSTEMUSER\")","v":""},{"$f":"IF(BY154=\"\",\"\",TODAY())","v":""},{"$f":"IF(BY154=\"\",\"\",\"WTSYSTEMUSER\")","v":""}]
[null,null,null,null,null,null,null,null,null,null,null,null,null,null,null,null,null,null,null,null,null,null,null,null,null,null,null,null,null,null,null,null,null,null,null,null,null,null,null,null,null,null,null,null,null,null,null,null,null,null,null,null,null,null,null,null,null,null,null,null,null,null,null,null,null,null,null,null,null,null,null,null,null,null,null,null,null,null,null,null,null,null,null,null,null,null,null,null,null,null,null,null,"",null,{"$f":"IF(BY154=\"\",\"\",\"AgencyEntityInsData Id 1148\")","v":""},{"$f":"IF(BY154=\"\",\"\",\"AgencyEntityInstance Id 152\")","v":""},{"$f":"IF(BY154=\"\",\"\",\"CM_QARetainedCompar_200QA\")","v":""},{"$f":"IF(BY154=\"\",\"\",IF('Test 4'!AE28=\"\",\"\",'Test 4'!AE28))","v":""},{"$f":"IF(BY154=\"\",\"\",TODAY())","v":""},{"$f":"IF(BY154=\"\",\"\",\"WTSYSTEMUSER\")","v":""},{"$f":"IF(BY154=\"\",\"\",TODAY())","v":""},{"$f":"IF(BY154=\"\",\"\",\"WTSYSTEMUSER\")","v":""}]
[null,null,null,null,null,null,null,null,null,null,null,null,null,null,null,null,null,null,null,null,null,null,null,null,null,null,null,null,null,null,null,null,null,null,null,null,null,null,null,null,null,null,null,null,null,null,null,null,null,null,null,null,null,null,null,null,null,null,null,null,null,null,null,null,null,null,null,null,null,null,null,null,null,null,null,null,null,null,null,null,null,null,null,null,null,null,null,null,null,null,null,null,"",null,{"$f":"IF(BY154=\"\",\"\",\"AgencyEntityInsData Id 1153\")","v":""},{"$f":"IF(BY154=\"\",\"\",\"AgencyEntityInstance Id 152\")","v":""},{"$f":"IF(BY154=\"\",\"\",\"CM_QARetainedCompar_30Diff\")","v":""},{"$f":"IF(BY154=\"\",\"\",IF('Test 4'!L24=\"\",\"\",'Test 4'!L24))","v":""},{"$f":"IF(BY154=\"\",\"\",TODAY())","v":""},{"$f":"IF(BY154=\"\",\"\",\"WTSYSTEMUSER\")","v":""},{"$f":"IF(BY154=\"\",\"\",TODAY())","v":""},{"$f":"IF(BY154=\"\",\"\",\"WTSYSTEMUSER\")","v":""}]
[null,null,null,null,null,null,null,null,null,null,null,null,null,null,null,null,null,null,null,null,null,null,null,null,null,null,null,null,null,null,null,null,null,null,null,null,null,null,null,null,null,null,null,null,null,null,null,null,null,null,null,null,null,null,null,null,null,null,null,null,null,null,null,null,null,null,null,null,null,null,null,null,null,null,null,null,null,null,null,null,null,null,null,null,null,null,null,null,null,null,null,null,"",null,{"$f":"IF(BY154=\"\",\"\",\"AgencyEntityInsData Id 1159\")","v":""},{"$f":"IF(BY154=\"\",\"\",\"AgencyEntityInstance Id 152\")","v":""},{"$f":"IF(BY154=\"\",\"\",\"CM_QARetainedCompar_40Diff\")","v":""},{"$f":"IF(BY154=\"\",\"\",IF('Test 4'!L25=\"\",\"\",'Test 4'!L25))","v":""},{"$f":"IF(BY154=\"\",\"\",TODAY())","v":""},{"$f":"IF(BY154=\"\",\"\",\"WTSYSTEMUSER\")","v":""},{"$f":"IF(BY154=\"\",\"\",TODAY())","v":""},{"$f":"IF(BY154=\"\",\"\",\"WTSYSTEMUSER\")","v":""}]
[null,null,null,null,null,null,null,null,null,null,null,null,null,null,null,null,null,null,null,null,null,null,null,null,null,null,null,null,null,null,null,null,null,null,null,null,null,null,null,null,null,null,null,null,null,null,null,null,null,null,null,null,null,null,null,null,null,null,null,null,null,null,null,null,null,null,null,null,null,null,null,null,null,null,null,null,null,null,null,null,null,null,null,null,null,null,null,null,null,null,null,null,"",null,{"$f":"IF(BY154=\"\",\"\",\"AgencyEntityInsData Id 1164\")","v":""},{"$f":"IF(BY154=\"\",\"\",\"AgencyEntityInstance Id 152\")","v":""},{"$f":"IF(BY154=\"\",\"\",\"CM_QARetainedCompar_4QC\")","v":""},{"$f":"IF(BY154=\"\",\"\",IF('Test 4'!AF19=\"\",\"\",'Test 4'!AF19))","v":""},{"$f":"IF(BY154=\"\",\"\",TODAY())","v":""},{"$f":"IF(BY154=\"\",\"\",\"WTSYSTEMUSER\")","v":""},{"$f":"IF(BY154=\"\",\"\",TODAY())","v":""},{"$f":"IF(BY154=\"\",\"\",\"WTSYSTEMUSER\")","v":""}]
[null,null,null,null,null,null,null,null,null,null,null,null,null,null,null,null,null,null,null,null,null,null,null,null,null,null,null,null,null,null,null,null,null,null,null,null,null,null,null,null,null,null,null,null,null,null,null,null,null,null,null,null,null,null,null,null,null,null,null,null,null,null,null,null,null,null,null,null,null,null,null,null,null,null,null,null,null,null,null,null,null,null,null,null,null,null,null,null,null,null,null,null,"",null,{"$f":"IF(BY154=\"\",\"\",\"AgencyEntityInsData Id 1168\")","v":""},{"$f":"IF(BY154=\"\",\"\",\"AgencyEntityInstance Id 152\")","v":""},{"$f":"IF(BY154=\"\",\"\",\"CM_QARetainedCompar_8Diff\")","v":""},{"$f":"IF(BY154=\"\",\"\",IF('Test 4'!L20=\"\",\"\",'Test 4'!L20))","v":""},{"$f":"IF(BY154=\"\",\"\",TODAY())","v":""},{"$f":"IF(BY154=\"\",\"\",\"WTSYSTEMUSER\")","v":""},{"$f":"IF(BY154=\"\",\"\",TODAY())","v":""},{"$f":"IF(BY154=\"\",\"\",\"WTSYSTEMUSER\")","v":""}]
[null,null,null,null,null,null,null,null,null,null,null,null,null,null,null,null,null,null,null,null,null,null,null,null,null,null,null,null,null,null,null,null,null,null,null,null,null,null,null,null,null,null,null,null,null,null,null,null,null,null,null,null,null,null,null,null,null,null,null,null,null,null,null,null,null,null,null,null,null,null,null,null,null,null,null,null,null,null,null,null,null,null,null,null,null,null,null,null,null,null,null,null,"",null,{"$f":"IF(BY154=\"\",\"\",\"AgencyEntityInsData Id 1174\")","v":""},{"$f":"IF(BY154=\"\",\"\",\"AgencyEntityInstance Id 152\")","v":""},{"$f":"IF(BY154=\"\",\"\",\"CM_QARetainedCompar3quarterQC\")","v":""},{"$f":"IF(BY154=\"\",\"\",IF('Test 4'!AF16=\"\",\"\",'Test 4'!AF16))","v":""},{"$f":"IF(BY154=\"\",\"\",TODAY())","v":""},{"$f":"IF(BY154=\"\",\"\",\"WTSYSTEMUSER\")","v":""},{"$f":"IF(BY154=\"\",\"\",TODAY())","v":""},{"$f":"IF(BY154=\"\",\"\",\"WTSYSTEMUSER\")","v":""}]
[null,null,null,null,null,null,null,null,null,null,null,null,null,null,null,null,null,null,null,null,null,null,null,null,null,null,null,null,null,null,null,null,null,null,null,null,null,null,null,null,null,null,null,null,null,null,null,null,null,null,null,null,null,null,null,null,null,null,null,null,null,null,null,null,null,null,null,null,null,null,null,null,null,null,null,null,null,null,null,null,null,null,null,null,null,null,null,null,null,null,null,null,"",null,{"$f":"IF(BY154=\"\",\"\",\"AgencyEntityInsData Id 1179\")","v":""},{"$f":"IF(BY154=\"\",\"\",\"AgencyEntityInstance Id 152\")","v":""},{"$f":"IF(BY154=\"\",\"\",\"CM_QARetainedComparPH13\")","v":""},null,{"$f":"IF(BY154=\"\",\"\",TODAY())","v":""},{"$f":"IF(BY154=\"\",\"\",\"WTSYSTEMUSER\")","v":""},{"$f":"IF(BY154=\"\",\"\",TODAY())","v":""},{"$f":"IF(BY154=\"\",\"\",\"WTSYSTEMUSER\")","v":""}]
[null,null,null,null,null,null,null,null,null,null,null,null,null,null,null,null,null,null,null,null,null,null,null,null,null,null,null,null,null,null,null,null,null,null,null,null,null,null,null,null,null,null,null,null,null,null,null,null,null,null,null,null,null,null,null,null,null,null,null,null,null,null,null,null,null,null,null,null,null,null,null,null,null,null,null,null,null,null,null,null,null,null,null,null,null,null,null,null,null,null,null,null,"",null,{"$f":"IF(BY154=\"\",\"\",\"AgencyEntityInsData Id 1180\")","v":""},{"$f":"IF(BY154=\"\",\"\",\"AgencyEntityInstance Id 152\")","v":""},{"$f":"IF(BY154=\"\",\"\",\"CM_QARetainedComparPH14\")","v":""},null,{"$f":"IF(BY154=\"\",\"\",TODAY())","v":""},{"$f":"IF(BY154=\"\",\"\",\"WTSYSTEMUSER\")","v":""},{"$f":"IF(BY154=\"\",\"\",TODAY())","v":""},{"$f":"IF(BY154=\"\",\"\",\"WTSYSTEMUSER\")","v":""}]
[null,null,null,null,null,null,null,null,null,null,null,null,null,null,null,null,null,null,null,null,null,null,null,null,null,null,null,null,null,null,null,null,null,null,null,null,null,null,null,null,null,null,null,null,null,null,null,null,null,null,null,null,null,null,null,null,null,null,null,null,null,null,null,null,null,null,null,null,null,null,null,null,null,null,null,null,null,null,null,null,null,null,null,null,null,null,null,null,null,null,null,null,"",null,{"$f":"IF(BY154=\"\",\"\",\"AgencyEntityInsData Id 1185\")","v":""},{"$f":"IF(BY154=\"\",\"\",\"AgencyEntityInstance Id 152\")","v":""},{"$f":"IF(BY154=\"\",\"\",\"CM_QARetainedComparPH3\")","v":""},null,{"$f":"IF(BY154=\"\",\"\",TODAY())","v":""},{"$f":"IF(BY154=\"\",\"\",\"WTSYSTEMUSER\")","v":""},{"$f":"IF(BY154=\"\",\"\",TODAY())","v":""},{"$f":"IF(BY154=\"\",\"\",\"WTSYSTEMUSER\")","v":""}]
[null,null,null,null,null,null,null,null,null,null,null,null,null,null,null,null,null,null,null,null,null,null,null,null,null,null,null,null,null,null,null,null,null,null,null,null,null,null,null,null,null,null,null,null,null,null,null,null,null,null,null,null,null,null,null,null,null,null,null,null,null,null,null,null,null,null,null,null,null,null,null,null,null,null,null,null,null,null,null,null,null,null,null,null,null,null,null,null,null,null,null,null,"",null,{"$f":"IF(BY154=\"\",\"\",\"AgencyEntityInsData Id 1189\")","v":""},{"$f":"IF(BY154=\"\",\"\",\"AgencyEntityInstance Id 152\")","v":""},{"$f":"IF(BY154=\"\",\"\",\"CM_QARetainedComparPH7\")","v":""},null,{"$f":"IF(BY154=\"\",\"\",TODAY())","v":""},{"$f":"IF(BY154=\"\",\"\",\"WTSYSTEMUSER\")","v":""},{"$f":"IF(BY154=\"\",\"\",TODAY())","v":""},{"$f":"IF(BY154=\"\",\"\",\"WTSYSTEMUSER\")","v":""}]
[null,null,null,null,null,null,null,null,null,null,null,null,null,null,null,null,null,null,null,null,null,null,null,null,null,null,null,null,null,null,null,null,null,null,null,null,null,null,null,null,null,null,null,null,null,null,null,null,null,null,null,null,null,null,null,null,null,null,null,null,null,null,null,null,null,null,null,null,null,null,null,null,null,null,null,null,null,null,null,null,null,null,null,null,null,null,null,null,null,null,null,null,"",null,{"$f":"IF(BY155=\"\",\"\",\"AgencyEntityInsData Id 1195\")","v":""},{"$f":"IF(BY155=\"\",\"\",\"AgencyEntityInstance Id 153\")","v":""},{"$f":"IF(BY155=\"\",\"\",\"CM_QARetainedCompar_10Diff\")","v":""},{"$f":"IF(BY155=\"\",\"\",IF('Test 4'!V21=\"\",\"\",'Test 4'!V21))","v":""},{"$f":"IF(BY155=\"\",\"\",TODAY())","v":""},{"$f":"IF(BY155=\"\",\"\",\"WTSYSTEMUSER\")","v":""},{"$f":"IF(BY155=\"\",\"\",TODAY())","v":""},{"$f":"IF(BY155=\"\",\"\",\"WTSYSTEMUSER\")","v":""}]
[null,null,null,null,null,null,null,null,null,null,null,null,null,null,null,null,null,null,null,null,null,null,null,null,null,null,null,null,null,null,null,null,null,null,null,null,null,null,null,null,null,null,null,null,null,null,null,null,null,null,null,null,null,null,null,null,null,null,null,null,null,null,null,null,null,null,null,null,null,null,null,null,null,null,null,null,null,null,null,null,null,null,null,null,null,null,null,null,null,null,null,null,"",null,{"$f":"IF(BY155=\"\",\"\",\"AgencyEntityInsData Id 1200\")","v":""},{"$f":"IF(BY155=\"\",\"\",\"AgencyEntityInstance Id 153\")","v":""},{"$f":"IF(BY155=\"\",\"\",\"CM_QARetainedCompar_16QC\")","v":""},{"$f":"IF(BY155=\"\",\"\",IF('Test 4'!AH22=\"\",\"\",'Test 4'!AH22))","v":""},{"$f":"IF(BY155=\"\",\"\",TODAY())","v":""},{"$f":"IF(BY155=\"\",\"\",\"WTSYSTEMUSER\")","v":""},{"$f":"IF(BY155=\"\",\"\",TODAY())","v":""},{"$f":"IF(BY155=\"\",\"\",\"WTSYSTEMUSER\")","v":""}]
[null,null,null,null,null,null,null,null,null,null,null,null,null,null,null,null,null,null,null,null,null,null,null,null,null,null,null,null,null,null,null,null,null,null,null,null,null,null,null,null,null,null,null,null,null,null,null,null,null,null,null,null,null,null,null,null,null,null,null,null,null,null,null,null,null,null,null,null,null,null,null,null,null,null,null,null,null,null,null,null,null,null,null,null,null,null,null,null,null,null,null,null,"",null,{"$f":"IF(BY155=\"\",\"\",\"AgencyEntityInsData Id 1206\")","v":""},{"$f":"IF(BY155=\"\",\"\",\"AgencyEntityInstance Id 153\")","v":""},{"$f":"IF(BY155=\"\",\"\",\"CM_QARetainedCompar_1halfQC\")","v":""},{"$f":"IF(BY155=\"\",\"\",IF('Test 4'!AH17=\"\",\"\",'Test 4'!AH17))","v":""},{"$f":"IF(BY155=\"\",\"\",TODAY())","v":""},{"$f":"IF(BY155=\"\",\"\",\"WTSYSTEMUSER\")","v":""},{"$f":"IF(BY155=\"\",\"\",TODAY())","v":""},{"$f":"IF(BY155=\"\",\"\",\"WTSYSTEMUSER\")","v":""}]
[null,null,null,null,null,null,null,null,null,null,null,null,null,null,null,null,null,null,null,null,null,null,null,null,null,null,null,null,null,null,null,null,null,null,null,null,null,null,null,null,null,null,null,null,null,null,null,null,null,null,null,null,null,null,null,null,null,null,null,null,null,null,null,null,null,null,null,null,null,null,null,null,null,null,null,null,null,null,null,null,null,null,null,null,null,null,null,null,null,null,null,null,"",null,{"$f":"IF(BY155=\"\",\"\",\"AgencyEntityInsData Id 1210\")","v":""},{"$f":"IF(BY155=\"\",\"\",\"AgencyEntityInstance Id 153\")","v":""},{"$f":"IF(BY155=\"\",\"\",\"CM_QARetainedCompar_200Diff\")","v":""},{"$f":"IF(BY155=\"\",\"\",IF('Test 4'!V28=\"\",\"\",'Test 4'!V28))","v":""},{"$f":"IF(BY155=\"\",\"\",TODAY())","v":""},{"$f":"IF(BY155=\"\",\"\",\"WTSYSTEMUSER\")","v":""},{"$f":"IF(BY155=\"\",\"\",TODAY())","v":""},{"$f":"IF(BY155=\"\",\"\",\"WTSYSTEMUSER\")","v":""}]
[null,null,null,null,null,null,null,null,null,null,null,null,null,null,null,null,null,null,null,null,null,null,null,null,null,null,null,null,null,null,null,null,null,null,null,null,null,null,null,null,null,null,null,null,null,null,null,null,null,null,null,null,null,null,null,null,null,null,null,null,null,null,null,null,null,null,null,null,null,null,null,null,null,null,null,null,null,null,null,null,null,null,null,null,null,null,null,null,null,null,null,null,"",null,{"$f":"IF(BY155=\"\",\"\",\"AgencyEntityInsData Id 1215\")","v":""},{"$f":"IF(BY155=\"\",\"\",\"AgencyEntityInstance Id 153\")","v":""},{"$f":"IF(BY155=\"\",\"\",\"CM_QARetainedCompar_20QC\")","v":""},{"$f":"IF(BY155=\"\",\"\",IF('Test 4'!AH23=\"\",\"\",'Test 4'!AH23))","v":""},{"$f":"IF(BY155=\"\",\"\",TODAY())","v":""},{"$f":"IF(BY155=\"\",\"\",\"WTSYSTEMUSER\")","v":""},{"$f":"IF(BY155=\"\",\"\",TODAY())","v":""},{"$f":"IF(BY155=\"\",\"\",\"WTSYSTEMUSER\")","v":""}]
[null,null,null,null,null,null,null,null,null,null,null,null,null,null,null,null,null,null,null,null,null,null,null,null,null,null,null,null,null,null,null,null,null,null,null,null,null,null,null,null,null,null,null,null,null,null,null,null,null,null,null,null,null,null,null,null,null,null,null,null,null,null,null,null,null,null,null,null,null,null,null,null,null,null,null,null,null,null,null,null,null,null,null,null,null,null,null,null,null,null,null,null,"",null,{"$f":"IF(BY155=\"\",\"\",\"AgencyEntityInsData Id 1221\")","v":""},{"$f":"IF(BY155=\"\",\"\",\"AgencyEntityInstance Id 153\")","v":""},{"$f":"IF(BY155=\"\",\"\",\"CM_QARetainedCompar_3eightsQC\")","v":""},{"$f":"IF(BY155=\"\",\"\",IF('Test 4'!AH18=\"\",\"\",'Test 4'!AH18))","v":""},{"$f":"IF(BY155=\"\",\"\",TODAY())","v":""},{"$f":"IF(BY155=\"\",\"\",\"WTSYSTEMUSER\")","v":""},{"$f":"IF(BY155=\"\",\"\",TODAY())","v":""},{"$f":"IF(BY155=\"\",\"\",\"WTSYSTEMUSER\")","v":""}]
[null,null,null,null,null,null,null,null,null,null,null,null,null,null,null,null,null,null,null,null,null,null,null,null,null,null,null,null,null,null,null,null,null,null,null,null,null,null,null,null,null,null,null,null,null,null,null,null,null,null,null,null,null,null,null,null,null,null,null,null,null,null,null,null,null,null,null,null,null,null,null,null,null,null,null,null,null,null,null,null,null,null,null,null,null,null,null,null,null,null,null,null,"",null,{"$f":"IF(BY155=\"\",\"\",\"AgencyEntityInsData Id 1226\")","v":""},{"$f":"IF(BY155=\"\",\"\",\"AgencyEntityInstance Id 153\")","v":""},{"$f":"IF(BY155=\"\",\"\",\"CM_QARetainedCompar_4QA\")","v":""},{"$f":"IF(BY155=\"\",\"\",IF('Test 4'!AG19=\"\",\"\",'Test 4'!AG19))","v":""},{"$f":"IF(BY155=\"\",\"\",TODAY())","v":""},{"$f":"IF(BY155=\"\",\"\",\"WTSYSTEMUSER\")","v":""},{"$f":"IF(BY155=\"\",\"\",TODAY())","v":""},{"$f":"IF(BY155=\"\",\"\",\"WTSYSTEMUSER\")","v":""}]
[null,null,null,null,null,null,null,null,null,null,null,null,null,null,null,null,null,null,null,null,null,null,null,null,null,null,null,null,null,null,null,null,null,null,null,null,null,null,null,null,null,null,null,null,null,null,null,null,null,null,null,null,null,null,null,null,null,null,null,null,null,null,null,null,null,null,null,null,null,null,null,null,null,null,null,null,null,null,null,null,null,null,null,null,null,null,null,null,null,null,null,null,"",null,{"$f":"IF(BY155=\"\",\"\",\"AgencyEntityInsData Id 1231\")","v":""},{"$f":"IF(BY155=\"\",\"\",\"AgencyEntityInstance Id 153\")","v":""},{"$f":"IF(BY155=\"\",\"\",\"CM_QARetainedCompar_8Diff\")","v":""},{"$f":"IF(BY155=\"\",\"\",IF('Test 4'!V20=\"\",\"\",'Test 4'!V20))","v":""},{"$f":"IF(BY155=\"\",\"\",TODAY())","v":""},{"$f":"IF(BY155=\"\",\"\",\"WTSYSTEMUSER\")","v":""},{"$f":"IF(BY155=\"\",\"\",TODAY())","v":""},{"$f":"IF(BY155=\"\",\"\",\"WTSYSTEMUSER\")","v":""}]
[null,null,null,null,null,null,null,null,null,null,null,null,null,null,null,null,null,null,null,null,null,null,null,null,null,null,null,null,null,null,null,null,null,null,null,null,null,null,null,null,null,null,null,null,null,null,null,null,null,null,null,null,null,null,null,null,null,null,null,null,null,null,null,null,null,null,null,null,null,null,null,null,null,null,null,null,null,null,null,null,null,null,null,null,null,null,null,null,null,null,null,null,"",null,{"$f":"IF(BY155=\"\",\"\",\"AgencyEntityInsData Id 1235\")","v":""},{"$f":"IF(BY155=\"\",\"\",\"AgencyEntityInstance Id 153\")","v":""},{"$f":"IF(BY155=\"\",\"\",\"CM_QARetainedCompar3quarterDiff\")","v":""},{"$f":"IF(BY155=\"\",\"\",IF('Test 4'!V16=\"\",\"\",'Test 4'!V16))","v":""},{"$f":"IF(BY155=\"\",\"\",TODAY())","v":""},{"$f":"IF(BY155=\"\",\"\",\"WTSYSTEMUSER\")","v":""},{"$f":"IF(BY155=\"\",\"\",TODAY())","v":""},{"$f":"IF(BY155=\"\",\"\",\"WTSYSTEMUSER\")","v":""}]
[null,null,null,null,null,null,null,null,null,null,null,null,null,null,null,null,null,null,null,null,null,null,null,null,null,null,null,null,null,null,null,null,null,null,null,null,null,null,null,null,null,null,null,null,null,null,null,null,null,null,null,null,null,null,null,null,null,null,null,null,null,null,null,null,null,null,null,null,null,null,null,null,null,null,null,null,null,null,null,null,null,null,null,null,null,null,null,null,null,null,null,null,"",null,{"$f":"IF(BY155=\"\",\"\",\"AgencyEntityInsData Id 1241\")","v":""},{"$f":"IF(BY155=\"\",\"\",\"AgencyEntityInstance Id 153\")","v":""},{"$f":"IF(BY155=\"\",\"\",\"CM_QARetainedComparPH12\")","v":""},null,{"$f":"IF(BY155=\"\",\"\",TODAY())","v":""},{"$f":"IF(BY155=\"\",\"\",\"WTSYSTEMUSER\")","v":""},{"$f":"IF(BY155=\"\",\"\",TODAY())","v":""},{"$f":"IF(BY155=\"\",\"\",\"WTSYSTEMUSER\")","v":""}]
[null,null,null,null,null,null,null,null,null,null,null,null,null,null,null,null,null,null,null,null,null,null,null,null,null,null,null,null,null,null,null,null,null,null,null,null,null,null,null,null,null,null,null,null,null,null,null,null,null,null,null,null,null,null,null,null,null,null,null,null,null,null,null,null,null,null,null,null,null,null,null,null,null,null,null,null,null,null,null,null,null,null,null,null,null,null,null,null,null,null,null,null,"",null,{"$f":"IF(BY155=\"\",\"\",\"AgencyEntityInsData Id 1242\")","v":""},{"$f":"IF(BY155=\"\",\"\",\"AgencyEntityInstance Id 153\")","v":""},{"$f":"IF(BY155=\"\",\"\",\"CM_QARetainedComparPH13\")","v":""},null,{"$f":"IF(BY155=\"\",\"\",TODAY())","v":""},{"$f":"IF(BY155=\"\",\"\",\"WTSYSTEMUSER\")","v":""},{"$f":"IF(BY155=\"\",\"\",TODAY())","v":""},{"$f":"IF(BY155=\"\",\"\",\"WTSYSTEMUSER\")","v":""}]
[null,null,null,null,null,null,null,null,null,null,null,null,null,null,null,null,null,null,null,null,null,null,null,null,null,null,null,null,null,null,null,null,null,null,null,null,null,null,null,null,null,null,null,null,null,null,null,null,null,null,null,null,null,null,null,null,null,null,null,null,null,null,null,null,null,null,null,null,null,null,null,null,null,null,null,null,null,null,null,null,null,null,null,null,null,null,null,null,null,null,null,null,"",null,{"$f":"IF(BY155=\"\",\"\",\"AgencyEntityInsData Id 1247\")","v":""},{"$f":"IF(BY155=\"\",\"\",\"AgencyEntityInstance Id 153\")","v":""},{"$f":"IF(BY155=\"\",\"\",\"CM_QARetainedComparPH2\")","v":""},null,{"$f":"IF(BY155=\"\",\"\",TODAY())","v":""},{"$f":"IF(BY155=\"\",\"\",\"WTSYSTEMUSER\")","v":""},{"$f":"IF(BY155=\"\",\"\",TODAY())","v":""},{"$f":"IF(BY155=\"\",\"\",\"WTSYSTEMUSER\")","v":""}]
[null,null,null,null,null,null,null,null,null,null,null,null,null,null,null,null,null,null,null,null,null,null,null,null,null,null,null,null,null,null,null,null,null,null,null,null,null,null,null,null,null,null,null,null,null,null,null,null,null,null,null,null,null,null,null,null,null,null,null,null,null,null,null,null,null,null,null,null,null,null,null,null,null,null,null,null,null,null,null,null,null,null,null,null,null,null,null,null,null,null,null,null,"",null,{"$f":"IF(BY155=\"\",\"\",\"AgencyEntityInsData Id 1252\")","v":""},{"$f":"IF(BY155=\"\",\"\",\"AgencyEntityInstance Id 153\")","v":""},{"$f":"IF(BY155=\"\",\"\",\"CM_QARetainedComparPH7\")","v":""},null,{"$f":"IF(BY155=\"\",\"\",TODAY())","v":""},{"$f":"IF(BY155=\"\",\"\",\"WTSYSTEMUSER\")","v":""},{"$f":"IF(BY155=\"\",\"\",TODAY())","v":""},{"$f":"IF(BY155=\"\",\"\",\"WTSYSTEMUSER\")","v":""}]
[null,null,null,null,null,null,null,null,null,null,null,null,null,null,null,null,null,null,null,null,null,null,null,null,null,null,null,null,null,null,null,null,null,null,null,null,null,null,null,null,null,null,null,null,null,null,null,null,null,null,null,null,null,null,null,null,null,null,null,null,null,null,null,null,null,null,null,null,null,null,null,null,null,null,null,null,null,null,null,null,null,null,null,null,null,null,null,null,null,null,null,null,"",null,{"$f":"IF(BY156=\"\",\"\",\"AgencyEntityInsData Id 1260\")","v":""},{"$f":"IF(BY156=\"\",\"\",\"AgencyEntityInstance Id 154\")","v":""},{"$f":"IF(BY156=\"\",\"\",\"CM_QARetainedDel_ChertQA\")","v":""},{"$f":"IF(BY156=\"\",\"\",IF('Test 4'!AE35=\"\",\"\",'Test 4'!AE35))","v":""},{"$f":"IF(BY156=\"\",\"\",TODAY())","v":""},{"$f":"IF(BY156=\"\",\"\",\"WTSYSTEMUSER\")","v":""},{"$f":"IF(BY156=\"\",\"\",TODAY())","v":""},{"$f":"IF(BY156=\"\",\"\",\"WTSYSTEMUSER\")","v":""}]
[null,null,null,null,null,null,null,null,null,null,null,null,null,null,null,null,null,null,null,null,null,null,null,null,null,null,null,null,null,null,null,null,null,null,null,null,null,null,null,null,null,null,null,null,null,null,null,null,null,null,null,null,null,null,null,null,null,null,null,null,null,null,null,null,null,null,null,null,null,null,null,null,null,null,null,null,null,null,null,null,null,null,null,null,null,null,null,null,null,null,null,null,"",null,{"$f":"IF(BY156=\"\",\"\",\"AgencyEntityInsData Id 1262\")","v":""},{"$f":"IF(BY156=\"\",\"\",\"AgencyEntityInstance Id 154\")","v":""},{"$f":"IF(BY156=\"\",\"\",\"CM_QARetainedDel_ClaySHLab\")","v":""},null,{"$f":"IF(BY156=\"\",\"\",TODAY())","v":""},{"$f":"IF(BY156=\"\",\"\",\"WTSYSTEMUSER\")","v":""},{"$f":"IF(BY156=\"\",\"\",TODAY())","v":""},{"$f":"IF(BY156=\"\",\"\",\"WTSYSTEMUSER\")","v":""}]
[null,null,null,null,null,null,null,null,null,null,null,null,null,null,null,null,null,null,null,null,null,null,null,null,null,null,null,null,null,null,null,null,null,null,null,null,null,null,null,null,null,null,null,null,null,null,null,null,null,null,null,null,null,null,null,null,null,null,null,null,null,null,null,null,null,null,null,null,null,null,null,null,null,null,null,null,null,null,null,null,null,null,null,null,null,null,null,null,null,null,null,null,"",null,{"$f":"IF(BY156=\"\",\"\",\"AgencyEntityInsData Id 1267\")","v":""},{"$f":"IF(BY156=\"\",\"\",\"AgencyEntityInstance Id 154\")","v":""},{"$f":"IF(BY156=\"\",\"\",\"CM_QARetainedDel_CUDDiff\")","v":""},null,{"$f":"IF(BY156=\"\",\"\",TODAY())","v":""},{"$f":"IF(BY156=\"\",\"\",\"WTSYSTEMUSER\")","v":""},{"$f":"IF(BY156=\"\",\"\",TODAY())","v":""},{"$f":"IF(BY156=\"\",\"\",\"WTSYSTEMUSER\")","v":""}]
[null,null,null,null,null,null,null,null,null,null,null,null,null,null,null,null,null,null,null,null,null,null,null,null,null,null,null,null,null,null,null,null,null,null,null,null,null,null,null,null,null,null,null,null,null,null,null,null,null,null,null,null,null,null,null,null,null,null,null,null,null,null,null,null,null,null,null,null,null,null,null,null,null,null,null,null,null,null,null,null,null,null,null,null,null,null,null,null,null,null,null,null,"",null,{"$f":"IF(BY156=\"\",\"\",\"AgencyEntityInsData Id 1273\")","v":""},{"$f":"IF(BY156=\"\",\"\",\"AgencyEntityInstance Id 154\")","v":""},{"$f":"IF(BY156=\"\",\"\",\"CM_QARetainedDel_MbShDiff\")","v":""},null,{"$f":"IF(BY156=\"\",\"\",TODAY())","v":""},{"$f":"IF(BY156=\"\",\"\",\"WTSYSTEMUSER\")","v":""},{"$f":"IF(BY156=\"\",\"\",TODAY())","v":""},{"$f":"IF(BY156=\"\",\"\",\"WTSYSTEMUSER\")","v":""}]
[null,null,null,null,null,null,null,null,null,null,null,null,null,null,null,null,null,null,null,null,null,null,null,null,null,null,null,null,null,null,null,null,null,null,null,null,null,null,null,null,null,null,null,null,null,null,null,null,null,null,null,null,null,null,null,null,null,null,null,null,null,null,null,null,null,null,null,null,null,null,null,null,null,null,null,null,null,null,null,null,null,null,null,null,null,null,null,null,null,null,null,null,"",null,{"$f":"IF(BY156=\"\",\"\",\"AgencyEntityInsData Id 1278\")","v":""},{"$f":"IF(BY156=\"\",\"\",\"AgencyEntityInstance Id 154\")","v":""},{"$f":"IF(BY156=\"\",\"\",\"CM_QARetainedDel_OFMLab\")","v":""},{"$f":"IF(BY156=\"\",\"\",IF('Test 4'!AF36=\"\",\"\",'Test 4'!AF36))","v":""},{"$f":"IF(BY156=\"\",\"\",TODAY())","v":""},{"$f":"IF(BY156=\"\",\"\",\"WTSYSTEMUSER\")","v":""},{"$f":"IF(BY156=\"\",\"\",TODAY())","v":""},{"$f":"IF(BY156=\"\",\"\",\"WTSYSTEMUSER\")","v":""}]
[null,null,null,null,null,null,null,null,null,null,null,null,null,null,null,null,null,null,null,null,null,null,null,null,null,null,null,null,null,null,null,null,null,null,null,null,null,null,null,null,null,null,null,null,null,null,null,null,null,null,null,null,null,null,null,null,null,null,null,null,null,null,null,null,null,null,null,null,null,null,null,null,null,null,null,null,null,null,null,null,null,null,null,null,null,null,null,null,null,null,null,null,"",null,{"$f":"IF(BY156=\"\",\"\",\"AgencyEntityInsData Id 1281\")","v":""},{"$f":"IF(BY156=\"\",\"\",\"AgencyEntityInstance Id 154\")","v":""},{"$f":"IF(BY156=\"\",\"\",\"CM_QARetainedDel_PH2\")","v":""},null,{"$f":"IF(BY156=\"\",\"\",TODAY())","v":""},{"$f":"IF(BY156=\"\",\"\",\"WTSYSTEMUSER\")","v":""},{"$f":"IF(BY156=\"\",\"\",TODAY())","v":""},{"$f":"IF(BY156=\"\",\"\",\"WTSYSTEMUSER\")","v":""}]
[null,null,null,null,null,null,null,null,null,null,null,null,null,null,null,null,null,null,null,null,null,null,null,null,null,null,null,null,null,null,null,null,null,null,null,null,null,null,null,null,null,null,null,null,null,null,null,null,null,null,null,null,null,null,null,null,null,null,null,null,null,null,null,null,null,null,null,null,null,null,null,null,null,null,null,null,null,null,null,null,null,null,null,null,null,null,null,null,null,null,null,null,"",null,{"$f":"IF(BY156=\"\",\"\",\"AgencyEntityInsData Id 1288\")","v":""},{"$f":"IF(BY156=\"\",\"\",\"AgencyEntityInstance Id 154\")","v":""},{"$f":"IF(BY156=\"\",\"\",\"CM_QARetainedDel_TDelLab\")","v":""},{"$f":"IF(BY156=\"\",\"\",IF('Test 4'!I39=\"\",\"\",'Test 4'!I39))","v":""},{"$f":"IF(BY156=\"\",\"\",TODAY())","v":""},{"$f":"IF(BY156=\"\",\"\",\"WTSYSTEMUSER\")","v":""},{"$f":"IF(BY156=\"\",\"\",TODAY())","v":""},{"$f":"IF(BY156=\"\",\"\",\"WTSYSTEMUSER\")","v":""}]
[null,null,null,null,null,null,null,null,null,null,null,null,null,null,null,null,null,null,null,null,null,null,null,null,null,null,null,null,null,null,null,null,null,null,null,null,null,null,null,null,null,null,null,null,null,null,null,null,null,null,null,null,null,null,null,null,null,null,null,null,null,null,null,null,null,null,null,null,null,null,null,null,null,null,null,null,null,null,null,null,null,null,null,null,null,null,null,null,null,null,null,null,"",null,{"$f":"IF(BY156=\"\",\"\",\"AgencyEntityInsData Id 1293\")","v":""},{"$f":"IF(BY156=\"\",\"\",\"AgencyEntityInstance Id 154\")","v":""},{"$f":"IF(BY156=\"\",\"\",\"CM_QARetainedDel_Title_Label\")","v":""},null,{"$f":"IF(BY156=\"\",\"\",TODAY())","v":""},{"$f":"IF(BY156=\"\",\"\",\"WTSYSTEMUSER\")","v":""},{"$f":"IF(BY156=\"\",\"\",TODAY())","v":""},{"$f":"IF(BY156=\"\",\"\",\"WTSYSTEMUSER\")","v":""}]
[null,null,null,null,null,null,null,null,null,null,null,null,null,null,null,null,null,null,null,null,null,null,null,null,null,null,null,null,null,null,null,null,null,null,null,null,null,null,null,null,null,null,null,null,null,null,null,null,null,null,null,null,null,null,null,null,null,null,null,null,null,null,null,null,null,null,null,null,null,null,null,null,null,null,null,null,null,null,null,null,null,null,null,null,null,null,null,null,null,null,null,null,"",null,{"$f":"IF(BY157=\"\",\"\",\"AgencyEntityInsData Id 1299\")","v":""},{"$f":"IF(BY157=\"\",\"\",\"AgencyEntityInstance Id 155\")","v":""},{"$f":"IF(BY157=\"\",\"\",\"CM_QARetainedDel_200QA\")","v":""},{"$f":"IF(BY157=\"\",\"\",IF('Test 4'!AG37=\"\",\"\",'Test 4'!AG37))","v":""},{"$f":"IF(BY157=\"\",\"\",TODAY())","v":""},{"$f":"IF(BY157=\"\",\"\",\"WTSYSTEMUSER\")","v":""},{"$f":"IF(BY157=\"\",\"\",TODAY())","v":""},{"$f":"IF(BY157=\"\",\"\",\"WTSYSTEMUSER\")","v":""}]
[null,null,null,null,null,null,null,null,null,null,null,null,null,null,null,null,null,null,null,null,null,null,null,null,null,null,null,null,null,null,null,null,null,null,null,null,null,null,null,null,null,null,null,null,null,null,null,null,null,null,null,null,null,null,null,null,null,null,null,null,null,null,null,null,null,null,null,null,null,null,null,null,null,null,null,null,null,null,null,null,null,null,null,null,null,null,null,null,null,null,null,null,"",null,{"$f":"IF(BY157=\"\",\"\",\"AgencyEntityInsData Id 1304\")","v":""},{"$f":"IF(BY157=\"\",\"\",\"AgencyEntityInstance Id 155\")","v":""},{"$f":"IF(BY157=\"\",\"\",\"CM_QARetainedDel_ClaySHLab\")","v":""},null,{"$f":"IF(BY157=\"\",\"\",TODAY())","v":""},{"$f":"IF(BY157=\"\",\"\",\"WTSYSTEMUSER\")","v":""},{"$f":"IF(BY157=\"\",\"\",TODAY())","v":""},{"$f":"IF(BY157=\"\",\"\",\"WTSYSTEMUSER\")","v":""}]
[null,null,null,null,null,null,null,null,null,null,null,null,null,null,null,null,null,null,null,null,null,null,null,null,null,null,null,null,null,null,null,null,null,null,null,null,null,null,null,null,null,null,null,null,null,null,null,null,null,null,null,null,null,null,null,null,null,null,null,null,null,null,null,null,null,null,null,null,null,null,null,null,null,null,null,null,null,null,null,null,null,null,null,null,null,null,null,null,null,null,null,null,"",null,{"$f":"IF(BY157=\"\",\"\",\"AgencyEntityInsData Id 1306\")","v":""},{"$f":"IF(BY157=\"\",\"\",\"AgencyEntityInstance Id 155\")","v":""},{"$f":"IF(BY157=\"\",\"\",\"CM_QARetainedDel_CLDiff\")","v":""},null,{"$f":"IF(BY157=\"\",\"\",TODAY())","v":""},{"$f":"IF(BY157=\"\",\"\",\"WTSYSTEMUSER\")","v":""},{"$f":"IF(BY157=\"\",\"\",TODAY())","v":""},{"$f":"IF(BY157=\"\",\"\",\"WTSYSTEMUSER\")","v":""}]
[null,null,null,null,null,null,null,null,null,null,null,null,null,null,null,null,null,null,null,null,null,null,null,null,null,null,null,null,null,null,null,null,null,null,null,null,null,null,null,null,null,null,null,null,null,null,null,null,null,null,null,null,null,null,null,null,null,null,null,null,null,null,null,null,null,null,null,null,null,null,null,null,null,null,null,null,null,null,null,null,null,null,null,null,null,null,null,null,null,null,null,null,"",null,{"$f":"IF(BY157=\"\",\"\",\"AgencyEntityInsData Id 1309\")","v":""},{"$f":"IF(BY157=\"\",\"\",\"AgencyEntityInstance Id 155\")","v":""},{"$f":"IF(BY157=\"\",\"\",\"CM_QARetainedDel_CUDDiff\")","v":""},null,{"$f":"IF(BY157=\"\",\"\",TODAY())","v":""},{"$f":"IF(BY157=\"\",\"\",\"WTSYSTEMUSER\")","v":""},{"$f":"IF(BY157=\"\",\"\",TODAY())","v":""},{"$f":"IF(BY157=\"\",\"\",\"WTSYSTEMUSER\")","v":""}]
[null,null,null,null,null,null,null,null,null,null,null,null,null,null,null,null,null,null,null,null,null,null,null,null,null,null,null,null,null,null,null,null,null,null,null,null,null,null,null,null,null,null,null,null,null,null,null,null,null,null,null,null,null,null,null,null,null,null,null,null,null,null,null,null,null,null,null,null,null,null,null,null,null,null,null,null,null,null,null,null,null,null,null,null,null,null,null,null,null,null,null,null,"",null,{"$f":"IF(BY157=\"\",\"\",\"AgencyEntityInsData Id 1314\")","v":""},{"$f":"IF(BY157=\"\",\"\",\"AgencyEntityInstance Id 155\")","v":""},{"$f":"IF(BY157=\"\",\"\",\"CM_QARetainedDel_DelRockQA\")","v":""},{"$f":"IF(BY157=\"\",\"\",IF('Test 4'!AG33=\"\",\"\",'Test 4'!AG33))","v":""},{"$f":"IF(BY157=\"\",\"\",TODAY())","v":""},{"$f":"IF(BY157=\"\",\"\",\"WTSYSTEMUSER\")","v":""},{"$f":"IF(BY157=\"\",\"\",TODAY())","v":""},{"$f":"IF(BY157=\"\",\"\",\"WTSYSTEMUSER\")","v":""}]
[null,null,null,null,null,null,null,null,null,null,null,null,null,null,null,null,null,null,null,null,null,null,null,null,null,null,null,null,null,null,null,null,null,null,null,null,null,null,null,null,null,null,null,null,null,null,null,null,null,null,null,null,null,null,null,null,null,null,null,null,null,null,null,null,null,null,null,null,null,null,null,null,null,null,null,null,null,null,null,null,null,null,null,null,null,null,null,null,null,null,null,null,"",null,{"$f":"IF(BY157=\"\",\"\",\"AgencyEntityInsData Id 1320\")","v":""},{"$f":"IF(BY157=\"\",\"\",\"AgencyEntityInstance Id 155\")","v":""},{"$f":"IF(BY157=\"\",\"\",\"CM_QARetainedDel_OFMLab\")","v":""},{"$f":"IF(BY157=\"\",\"\",IF('Test 4'!AH36=\"\",\"\",'Test 4'!AH36))","v":""},{"$f":"IF(BY157=\"\",\"\",TODAY())","v":""},{"$f":"IF(BY157=\"\",\"\",\"WTSYSTEMUSER\")","v":""},{"$f":"IF(BY157=\"\",\"\",TODAY())","v":""},{"$f":"IF(BY157=\"\",\"\",\"WTSYSTEMUSER\")","v":""}]
[null,null,null,null,null,null,null,null,null,null,null,null,null,null,null,null,null,null,null,null,null,null,null,null,null,null,null,null,null,null,null,null,null,null,null,null,null,null,null,null,null,null,null,null,null,null,null,null,null,null,null,null,null,null,null,null,null,null,null,null,null,null,null,null,null,null,null,null,null,null,null,null,null,null,null,null,null,null,null,null,null,null,null,null,null,null,null,null,null,null,null,null,"",null,{"$f":"IF(BY157=\"\",\"\",\"AgencyEntityInsData Id 1325\")","v":""},{"$f":"IF(BY157=\"\",\"\",\"AgencyEntityInstance Id 155\")","v":""},{"$f":"IF(BY157=\"\",\"\",\"CM_QARetainedDel_PH4\")","v":""},null,{"$f":"IF(BY157=\"\",\"\",TODAY())","v":""},{"$f":"IF(BY157=\"\",\"\",\"WTSYSTEMUSER\")","v":""},{"$f":"IF(BY157=\"\",\"\",TODAY())","v":""},{"$f":"IF(BY157=\"\",\"\",\"WTSYSTEMUSER\")","v":""}]
[null,null,null,null,null,null,null,null,null,null,null,null,null,null,null,null,null,null,null,null,null,null,null,null,null,null,null,null,null,null,null,null,null,null,null,null,null,null,null,null,null,null,null,null,null,null,null,null,null,null,null,null,null,null,null,null,null,null,null,null,null,null,null,null,null,null,null,null,null,null,null,null,null,null,null,null,null,null,null,null,null,null,null,null,null,null,null,null,null,null,null,null,"",null,{"$f":"IF(BY157=\"\",\"\",\"AgencyEntityInsData Id 1331\")","v":""},{"$f":"IF(BY157=\"\",\"\",\"AgencyEntityInstance Id 155\")","v":""},{"$f":"IF(BY157=\"\",\"\",\"CM_QARetainedDel_TDelQA\")","v":""},{"$f":"IF(BY157=\"\",\"\",IF('Test 4'!O39=\"\",\"\",'Test 4'!O39))","v":""},{"$f":"IF(BY157=\"\",\"\",TODAY())","v":""},{"$f":"IF(BY157=\"\",\"\",\"WTSYSTEMUSER\")","v":""},{"$f":"IF(BY157=\"\",\"\",TODAY())","v":""},{"$f":"IF(BY157=\"\",\"\",\"WTSYSTEMUSER\")","v":""}]
[null,null,null,null,null,null,null,null,null,null,null,null,null,null,null,null,null,null,null,null,null,null,null,null,null,null,null,null,null,null,null,null,null,null,null,null,null,null,null,null,null,null,null,null,null,null,null,null,null,null,null,null,null,null,null,null,null,null,null,null,null,null,null,null,null,null,null,null,null,null,null,null,null,null,null,null,null,null,null,null,null,null,null,null,null,null,null,null,null,null,null,null,"",null,{"$f":"IF(BY157=\"\",\"\",\"AgencyEntityInsData Id 1335\")","v":""},{"$f":"IF(BY157=\"\",\"\",\"AgencyEntityInstance Id 155\")","v":""},{"$f":"IF(BY157=\"\",\"\",\"CM_QARetainedDel_Title_Label\")","v":""},null,{"$f":"IF(BY157=\"\",\"\",TODAY())","v":""},{"$f":"IF(BY157=\"\",\"\",\"WTSYSTEMUSER\")","v":""},{"$f":"IF(BY157=\"\",\"\",TODAY())","v":""},{"$f":"IF(BY157=\"\",\"\",\"WTSYSTEMUSER\")","v":""}]
[null,null,null,null,null,null,null,null,null,null,null,null,null,null,null,null,null,null,null,null,null,null,null,null,null,null,null,null,null,null,null,null,null,null,null,null,null,null,null,null,null,null,null,null,null,null,null,null,null,null,null,null,null,null,null,null,null,null,null,null,null,null,null,null,null,null,null,null,null,null,null,null,null,null,null,null,null,null,null,null,null,null,null,null,null,null,null,null,null,null,null,null,"",null,{"$f":"IF(BY158=\"\",\"\",\"AgencyEntityInsData Id 1340\")","v":""},{"$f":"IF(BY158=\"\",\"\",\"AgencyEntityInstance Id 156\")","v":""},{"$f":"IF(BY158=\"\",\"\",\"CM_QCQA_AbsComp_Abs_QC\")","v":""},{"$f":"IF(BY158=\"\",\"\",IF('Test 4'!I46=\"\",\"\",'Test 4'!I46))","v":""},{"$f":"IF(BY158=\"\",\"\",TODAY())","v":""},{"$f":"IF(BY158=\"\",\"\",\"WTSYSTEMUSER\")","v":""},{"$f":"IF(BY158=\"\",\"\",TODAY())","v":""},{"$f":"IF(BY158=\"\",\"\",\"WTSYSTEMUSER\")","v":""}]
[null,null,null,null,null,null,null,null,null,null,null,null,null,null,null,null,null,null,null,null,null,null,null,null,null,null,null,null,null,null,null,null,null,null,null,null,null,null,null,null,null,null,null,null,null,null,null,null,null,null,null,null,null,null,null,null,null,null,null,null,null,null,null,null,null,null,null,null,null,null,null,null,null,null,null,null,null,null,null,null,null,null,null,null,null,null,null,null,null,null,null,null,"",null,{"$f":"IF(BY158=\"\",\"\",\"AgencyEntityInsData Id 1346\")","v":""},{"$f":"IF(BY158=\"\",\"\",\"AgencyEntityInstance Id 156\")","v":""},{"$f":"IF(BY158=\"\",\"\",\"CM_QCQA_AbsComp_PH4\")","v":""},null,{"$f":"IF(BY158=\"\",\"\",TODAY())","v":""},{"$f":"IF(BY158=\"\",\"\",\"WTSYSTEMUSER\")","v":""},{"$f":"IF(BY158=\"\",\"\",TODAY())","v":""},{"$f":"IF(BY158=\"\",\"\",\"WTSYSTEMUSER\")","v":""}]
[null,null,null,null,null,null,null,null,null,null,null,null,null,null,null,null,null,null,null,null,null,null,null,null,null,null,null,null,null,null,null,null,null,null,null,null,null,null,null,null,null,null,null,null,null,null,null,null,null,null,null,null,null,null,null,null,null,null,null,null,null,null,null,null,null,null,null,null,null,null,null,null,null,null,null,null,null,null,null,null,null,null,null,null,null,null,null,null,null,null,null,null,"",null,{"$f":"IF(BY158=\"\",\"\",\"AgencyEntityInsData Id 1351\")","v":""},{"$f":"IF(BY158=\"\",\"\",\"AgencyEntityInstance Id 156\")","v":""},{"$f":"IF(BY158=\"\",\"\",\"CM_QCQA_AbsComp_WtDryQC\")","v":""},{"$f":"IF(BY158=\"\",\"\",IF('Test 4'!AF45=\"\",\"\",'Test 4'!AF45))","v":""},{"$f":"IF(BY158=\"\",\"\",TODAY())","v":""},{"$f":"IF(BY158=\"\",\"\",\"WTSYSTEMUSER\")","v":""},{"$f":"IF(BY158=\"\",\"\",TODAY())","v":""},{"$f":"IF(BY158=\"\",\"\",\"WTSYSTEMUSER\")","v":""}]
[null,null,null,null,null,null,null,null,null,null,null,null,null,null,null,null,null,null,null,null,null,null,null,null,null,null,null,null,null,null,null,null,null,null,null,null,null,null,null,null,null,null,null,null,null,null,null,null,null,null,null,null,null,null,null,null,null,null,null,null,null,null,null,null,null,null,null,null,null,null,null,null,null,null,null,null,null,null,null,null,null,null,null,null,null,null,null,null,null,null,null,null,"",null,{"$f":"IF(BY159=\"\",\"\",\"AgencyEntityInsData Id 1356\")","v":""},{"$f":"IF(BY159=\"\",\"\",\"AgencyEntityInstance Id 157\")","v":""},{"$f":"IF(BY159=\"\",\"\",\"CM_QCQA_AbsComp_Diff\")","v":""},{"$f":"IF(BY159=\"\",\"\",IF('Test 4'!V46=\"\",\"\",'Test 4'!V46))","v":""},{"$f":"IF(BY159=\"\",\"\",TODAY())","v":""},{"$f":"IF(BY159=\"\",\"\",\"WTSYSTEMUSER\")","v":""},{"$f":"IF(BY159=\"\",\"\",TODAY())","v":""},{"$f":"IF(BY159=\"\",\"\",\"WTSYSTEMUSER\")","v":""}]
[null,null,null,null,null,null,null,null,null,null,null,null,null,null,null,null,null,null,null,null,null,null,null,null,null,null,null,null,null,null,null,null,null,null,null,null,null,null,null,null,null,null,null,null,null,null,null,null,null,null,null,null,null,null,null,null,null,null,null,null,null,null,null,null,null,null,null,null,null,null,null,null,null,null,null,null,null,null,null,null,null,null,null,null,null,null,null,null,null,null,null,null,"",null,{"$f":"IF(BY159=\"\",\"\",\"AgencyEntityInsData Id 1361\")","v":""},{"$f":"IF(BY159=\"\",\"\",\"AgencyEntityInstance Id 157\")","v":""},{"$f":"IF(BY159=\"\",\"\",\"CM_QCQA_AbsComp_PH4\")","v":""},null,{"$f":"IF(BY159=\"\",\"\",TODAY())","v":""},{"$f":"IF(BY159=\"\",\"\",\"WTSYSTEMUSER\")","v":""},{"$f":"IF(BY159=\"\",\"\",TODAY())","v":""},{"$f":"IF(BY159=\"\",\"\",\"WTSYSTEMUSER\")","v":""}]
[null,null,null,null,null,null,null,null,null,null,null,null,null,null,null,null,null,null,null,null,null,null,null,null,null,null,null,null,null,null,null,null,null,null,null,null,null,null,null,null,null,null,null,null,null,null,null,null,null,null,null,null,null,null,null,null,null,null,null,null,null,null,null,null,null,null,null,null,null,null,null,null,null,null,null,null,null,null,null,null,null,null,null,null,null,null,null,null,null,null,null,null,"",null,{"$f":"IF(BY159=\"\",\"\",\"AgencyEntityInsData Id 1366\")","v":""},{"$f":"IF(BY159=\"\",\"\",\"AgencyEntityInstance Id 157\")","v":""},{"$f":"IF(BY159=\"\",\"\",\"CM_QCQA_AbsComp_WtDryQC\")","v":""},{"$f":"IF(BY159=\"\",\"\",IF('Test 4'!AH45=\"\",\"\",'Test 4'!AH45))","v":""},{"$f":"IF(BY159=\"\",\"\",TODAY())","v":""},{"$f":"IF(BY159=\"\",\"\",\"WTSYSTEMUSER\")","v":""},{"$f":"IF(BY159=\"\",\"\",TODAY())","v":""},{"$f":"IF(BY159=\"\",\"\",\"WTSYSTEMUSER\")","v":""}]
[null,null,null,null,null,null,null,null,null,null,null,null,null,null,null,null,null,null,null,null,null,null,null,null,null,null,null,null,null,null,null,null,null,null,null,null,null,null,null,null,null,null,null,null,null,null,null,null,null,null,null,null,null,null,null,null,null,null,null,null,null,null,null,null,null,null,null,null,null,null,null,null,null,null,null,null,null,null,null,null,null,null,null,null,null,null,null,null,null,null,null,null,"",null,{"$f":"IF(BY160=\"\",\"\",\"AgencyEntityInsData Id 1371\")","v":""},{"$f":"IF(BY160=\"\",\"\",\"AgencyEntityInstance Id 158\")","v":""},{"$f":"IF(BY160=\"\",\"\",\"CM_QCQABaseCompData1_QC\")","v":""},{"$f":"IF(BY160=\"\",\"\",IF('Test 4'!AF15=\"\",\"\",'Test 4'!AF15))","v":""},{"$f":"IF(BY160=\"\",\"\",TODAY())","v":""},{"$f":"IF(BY160=\"\",\"\",\"WTSYSTEMUSER\")","v":""},{"$f":"IF(BY160=\"\",\"\",TODAY())","v":""},{"$f":"IF(BY160=\"\",\"\",\"WTSYSTEMUSER\")","v":""}]
[null,null,null,null,null,null,null,null,null,null,null,null,null,null,null,null,null,null,null,null,null,null,null,null,null,null,null,null,null,null,null,null,null,null,null,null,null,null,null,null,null,null,null,null,null,null,null,null,null,null,null,null,null,null,null,null,null,null,null,null,null,null,null,null,null,null,null,null,null,null,null,null,null,null,null,null,null,null,null,null,null,null,null,null,null,null,null,null,null,null,null,null,"",null,{"$f":"IF(BY160=\"\",\"\",\"AgencyEntityInsData Id 1372\")","v":""},{"$f":"IF(BY160=\"\",\"\",\"AgencyEntityInstance Id 158\")","v":""},{"$f":"IF(BY160=\"\",\"\",\"CM_QCQABaseCompData1and1half_Diff\")","v":""},{"$f":"IF(BY160=\"\",\"\",IF('Test 4'!L14=\"\",\"\",'Test 4'!L14))","v":""},{"$f":"IF(BY160=\"\",\"\",TODAY())","v":""},{"$f":"IF(BY160=\"\",\"\",\"WTSYSTEMUSER\")","v":""},{"$f":"IF(BY160=\"\",\"\",TODAY())","v":""},{"$f":"IF(BY160=\"\",\"\",\"WTSYSTEMUSER\")","v":""}]
[null,null,null,null,null,null,null,null,null,null,null,null,null,null,null,null,null,null,null,null,null,null,null,null,null,null,null,null,null,null,null,null,null,null,null,null,null,null,null,null,null,null,null,null,null,null,null,null,null,null,null,null,null,null,null,null,null,null,null,null,null,null,null,null,null,null,null,null,null,null,null,null,null,null,null,null,null,null,null,null,null,null,null,null,null,null,null,null,null,null,null,null,"",null,{"$f":"IF(BY160=\"\",\"\",\"AgencyEntityInsData Id 1377\")","v":""},{"$f":"IF(BY160=\"\",\"\",\"AgencyEntityInstance Id 158\")","v":""},{"$f":"IF(BY160=\"\",\"\",\"CM_QCQABaseCompData1half_QC\")","v":""},{"$f":"IF(BY160=\"\",\"\",IF('Test 4'!AF17=\"\",\"\",'Test 4'!AF17))","v":""},{"$f":"IF(BY160=\"\",\"\",TODAY())","v":""},{"$f":"IF(BY160=\"\",\"\",\"WTSYSTEMUSER\")","v":""},{"$f":"IF(BY160=\"\",\"\",TODAY())","v":""},{"$f":"IF(BY160=\"\",\"\",\"WTSYSTEMUSER\")","v":""}]
[null,null,null,null,null,null,null,null,null,null,null,null,null,null,null,null,null,null,null,null,null,null,null,null,null,null,null,null,null,null,null,null,null,null,null,null,null,null,null,null,null,null,null,null,null,null,null,null,null,null,null,null,null,null,null,null,null,null,null,null,null,null,null,null,null,null,null,null,null,null,null,null,null,null,null,null,null,null,null,null,null,null,null,null,null,null,null,null,null,null,null,null,"",null,{"$f":"IF(BY160=\"\",\"\",\"AgencyEntityInsData Id 1382\")","v":""},{"$f":"IF(BY160=\"\",\"\",\"AgencyEntityInstance Id 158\")","v":""},{"$f":"IF(BY160=\"\",\"\",\"CM_QCQABaseCompDataNum100_QA\")","v":""},{"$f":"IF(BY160=\"\",\"\",IF('Test 4'!AE27=\"\",\"\",'Test 4'!AE27))","v":""},{"$f":"IF(BY160=\"\",\"\",TODAY())","v":""},{"$f":"IF(BY160=\"\",\"\",\"WTSYSTEMUSER\")","v":""},{"$f":"IF(BY160=\"\",\"\",TODAY())","v":""},{"$f":"IF(BY160=\"\",\"\",\"WTSYSTEMUSER\")","v":""}]
[null,null,null,null,null,null,null,null,null,null,null,null,null,null,null,null,null,null,null,null,null,null,null,null,null,null,null,null,null,null,null,null,null,null,null,null,null,null,null,null,null,null,null,null,null,null,null,null,null,null,null,null,null,null,null,null,null,null,null,null,null,null,null,null,null,null,null,null,null,null,null,null,null,null,null,null,null,null,null,null,null,null,null,null,null,null,null,null,null,null,null,null,"",null,{"$f":"IF(BY160=\"\",\"\",\"AgencyEntityInsData Id 1387\")","v":""},{"$f":"IF(BY160=\"\",\"\",\"AgencyEntityInstance Id 158\")","v":""},{"$f":"IF(BY160=\"\",\"\",\"CM_QCQABaseCompDataNum200_Diff\")","v":""},{"$f":"IF(BY160=\"\",\"\",IF('Test 4'!L28=\"\",\"\",'Test 4'!L28))","v":""},{"$f":"IF(BY160=\"\",\"\",TODAY())","v":""},{"$f":"IF(BY160=\"\",\"\",\"WTSYSTEMUSER\")","v":""},{"$f":"IF(BY160=\"\",\"\",TODAY())","v":""},{"$f":"IF(BY160=\"\",\"\",\"WTSYSTEMUSER\")","v":""}]
[null,null,null,null,null,null,null,null,null,null,null,null,null,null,null,null,null,null,null,null,null,null,null,null,null,null,null,null,null,null,null,null,null,null,null,null,null,null,null,null,null,null,null,null,null,null,null,null,null,null,null,null,null,null,null,null,null,null,null,null,null,null,null,null,null,null,null,null,null,null,null,null,null,null,null,null,null,null,null,null,null,null,null,null,null,null,null,null,null,null,null,null,"",null,{"$f":"IF(BY160=\"\",\"\",\"AgencyEntityInsData Id 1392\")","v":""},{"$f":"IF(BY160=\"\",\"\",\"AgencyEntityInstance Id 158\")","v":""},{"$f":"IF(BY160=\"\",\"\",\"CM_QCQABaseCompDataNum30_QC\")","v":""},{"$f":"IF(BY160=\"\",\"\",IF('Test 4'!AF24=\"\",\"\",'Test 4'!AF24))","v":""},{"$f":"IF(BY160=\"\",\"\",TODAY())","v":""},{"$f":"IF(BY160=\"\",\"\",\"WTSYSTEMUSER\")","v":""},{"$f":"IF(BY160=\"\",\"\",TODAY())","v":""},{"$f":"IF(BY160=\"\",\"\",\"WTSYSTEMUSER\")","v":""}]
[null,null,null,null,null,null,null,null,null,null,null,null,null,null,null,null,null,null,null,null,null,null,null,null,null,null,null,null,null,null,null,null,null,null,null,null,null,null,null,null,null,null,null,null,null,null,null,null,null,null,null,null,null,null,null,null,null,null,null,null,null,null,null,null,null,null,null,null,null,null,null,null,null,null,null,null,null,null,null,null,null,null,null,null,null,null,null,null,null,null,null,null,"",null,{"$f":"IF(BY160=\"\",\"\",\"AgencyEntityInsData Id 1398\")","v":""},{"$f":"IF(BY160=\"\",\"\",\"AgencyEntityInstance Id 158\")","v":""},{"$f":"IF(BY160=\"\",\"\",\"CM_QCQABaseCompDataNum4_QC\")","v":""},{"$f":"IF(BY160=\"\",\"\",IF('Test 4'!AF19=\"\",\"\",'Test 4'!AF19))","v":""},{"$f":"IF(BY160=\"\",\"\",TODAY())","v":""},{"$f":"IF(BY160=\"\",\"\",\"WTSYSTEMUSER\")","v":""},{"$f":"IF(BY160=\"\",\"\",TODAY())","v":""},{"$f":"IF(BY160=\"\",\"\",\"WTSYSTEMUSER\")","v":""}]
[null,null,null,null,null,null,null,null,null,null,null,null,null,null,null,null,null,null,null,null,null,null,null,null,null,null,null,null,null,null,null,null,null,null,null,null,null,null,null,null,null,null,null,null,null,null,null,null,null,null,null,null,null,null,null,null,null,null,null,null,null,null,null,null,null,null,null,null,null,null,null,null,null,null,null,null,null,null,null,null,null,null,null,null,null,null,null,null,null,null,null,null,"",null,{"$f":"IF(BY160=\"\",\"\",\"AgencyEntityInsData Id 1402\")","v":""},{"$f":"IF(BY160=\"\",\"\",\"AgencyEntityInstance Id 158\")","v":""},{"$f":"IF(BY160=\"\",\"\",\"CM_QCQABaseCompData_1Placeholder\")","v":""},null,{"$f":"IF(BY160=\"\",\"\",TODAY())","v":""},{"$f":"IF(BY160=\"\",\"\",\"WTSYSTEMUSER\")","v":""},{"$f":"IF(BY160=\"\",\"\",TODAY())","v":""},{"$f":"IF(BY160=\"\",\"\",\"WTSYSTEMUSER\")","v":""}]
[null,null,null,null,null,null,null,null,null,null,null,null,null,null,null,null,null,null,null,null,null,null,null,null,null,null,null,null,null,null,null,null,null,null,null,null,null,null,null,null,null,null,null,null,null,null,null,null,null,null,null,null,null,null,null,null,null,null,null,null,null,null,null,null,null,null,null,null,null,null,null,null,null,null,null,null,null,null,null,null,null,null,null,null,null,null,null,null,null,null,null,null,"",null,{"$f":"IF(BY160=\"\",\"\",\"AgencyEntityInsData Id 1408\")","v":""},{"$f":"IF(BY160=\"\",\"\",\"AgencyEntityInstance Id 158\")","v":""},{"$f":"IF(BY160=\"\",\"\",\"CM_QCQABaseCompData_7Placeholder\")","v":""},null,{"$f":"IF(BY160=\"\",\"\",TODAY())","v":""},{"$f":"IF(BY160=\"\",\"\",\"WTSYSTEMUSER\")","v":""},{"$f":"IF(BY160=\"\",\"\",TODAY())","v":""},{"$f":"IF(BY160=\"\",\"\",\"WTSYSTEMUSER\")","v":""}]
[null,null,null,null,null,null,null,null,null,null,null,null,null,null,null,null,null,null,null,null,null,null,null,null,null,null,null,null,null,null,null,null,null,null,null,null,null,null,null,null,null,null,null,null,null,null,null,null,null,null,null,null,null,null,null,null,null,null,null,null,null,null,null,null,null,null,null,null,null,null,null,null,null,null,null,null,null,null,null,null,null,null,null,null,null,null,null,null,null,null,null,null,"",null,{"$f":"IF(BY160=\"\",\"\",\"AgencyEntityInsData Id 1413\")","v":""},{"$f":"IF(BY160=\"\",\"\",\"AgencyEntityInstance Id 158\")","v":""},{"$f":"IF(BY160=\"\",\"\",\"CM_QCQABaseCompData_DensityDiff\")","v":""},{"$f":"IF(BY160=\"\",\"\",IF('Test 4'!L63=\"\",\"\",'Test 4'!L63))","v":""},{"$f":"IF(BY160=\"\",\"\",TODAY())","v":""},{"$f":"IF(BY160=\"\",\"\",\"WTSYSTEMUSER\")","v":""},{"$f":"IF(BY160=\"\",\"\",TODAY())","v":""},{"$f":"IF(BY160=\"\",\"\",\"WTSYSTEMUSER\")","v":""}]
[null,null,null,null,null,null,null,null,null,null,null,null,null,null,null,null,null,null,null,null,null,null,null,null,null,null,null,null,null,null,null,null,null,null,null,null,null,null,null,null,null,null,null,null,null,null,null,null,null,null,null,null,null,null,null,null,null,null,null,null,null,null,null,null,null,null,null,null,null,null,null,null,null,null,null,null,null,null,null,null,null,null,null,null,null,null,null,null,null,null,null,null,"",null,{"$f":"IF(BY160=\"\",\"\",\"AgencyEntityInsData Id 1418\")","v":""},{"$f":"IF(BY160=\"\",\"\",\"AgencyEntityInstance Id 158\")","v":""},{"$f":"IF(BY160=\"\",\"\",\"CM_QCQABaseCompData_PI_Diff\")","v":""},{"$f":"IF(BY160=\"\",\"\",IF('Test 4'!K57=\"\",\"\",'Test 4'!K57))","v":""},{"$f":"IF(BY160=\"\",\"\",TODAY())","v":""},{"$f":"IF(BY160=\"\",\"\",\"WTSYSTEMUSER\")","v":""},{"$f":"IF(BY160=\"\",\"\",TODAY())","v":""},{"$f":"IF(BY160=\"\",\"\",\"WTSYSTEMUSER\")","v":""}]
[null,null,null,null,null,null,null,null,null,null,null,null,null,null,null,null,null,null,null,null,null,null,null,null,null,null,null,null,null,null,null,null,null,null,null,null,null,null,null,null,null,null,null,null,null,null,null,null,null,null,null,null,null,null,null,null,null,null,null,null,null,null,null,null,null,null,null,null,null,null,null,null,null,null,null,null,null,null,null,null,null,null,null,null,null,null,null,null,null,null,null,null,"",null,{"$f":"IF(BY160=\"\",\"\",\"AgencyEntityInsData Id 1424\")","v":""},{"$f":"IF(BY160=\"\",\"\",\"AgencyEntityInstance Id 158\")","v":""},{"$f":"IF(BY160=\"\",\"\",\"CM_QCQABaseCompData_Subtitle_SieveAnalysis\")","v":""},null,{"$f":"IF(BY160=\"\",\"\",TODAY())","v":""},{"$f":"IF(BY160=\"\",\"\",\"WTSYSTEMUSER\")","v":""},{"$f":"IF(BY160=\"\",\"\",TODAY())","v":""},{"$f":"IF(BY160=\"\",\"\",\"WTSYSTEMUSER\")","v":""}]
[null,null,null,null,null,null,null,null,null,null,null,null,null,null,null,null,null,null,null,null,null,null,null,null,null,null,null,null,null,null,null,null,null,null,null,null,null,null,null,null,null,null,null,null,null,null,null,null,null,null,null,null,null,null,null,null,null,null,null,null,null,null,null,null,null,null,null,null,null,null,null,null,null,null,null,null,null,null,null,null,null,null,null,null,null,null,null,null,null,null,null,null,"",null,{"$f":"IF(BY160=\"\",\"\",\"AgencyEntityInsData Id 1427\")","v":""},{"$f":"IF(BY160=\"\",\"\",\"AgencyEntityInstance Id 158\")","v":""},{"$f":"IF(BY160=\"\",\"\",\"CM_QCQABaseCompData_Tolerance10\")","v":""},null,{"$f":"IF(BY160=\"\",\"\",TODAY())","v":""},{"$f":"IF(BY160=\"\",\"\",\"WTSYSTEMUSER\")","v":""},{"$f":"IF(BY160=\"\",\"\",TODAY())","v":""},{"$f":"IF(BY160=\"\",\"\",\"WTSYSTEMUSER\")","v":""}]
[null,null,null,null,null,null,null,null,null,null,null,null,null,null,null,null,null,null,null,null,null,null,null,null,null,null,null,null,null,null,null,null,null,null,null,null,null,null,null,null,null,null,null,null,null,null,null,null,null,null,null,null,null,null,null,null,null,null,null,null,null,null,null,null,null,null,null,null,null,null,null,null,null,null,null,null,null,null,null,null,null,null,null,null,null,null,null,null,null,null,null,null,"",null,{"$f":"IF(BY160=\"\",\"\",\"AgencyEntityInsData Id 1433\")","v":""},{"$f":"IF(BY160=\"\",\"\",\"AgencyEntityInstance Id 158\")","v":""},{"$f":"IF(BY160=\"\",\"\",\"CM_QCQABaseCompData_Tolerance3\")","v":""},null,{"$f":"IF(BY160=\"\",\"\",TODAY())","v":""},{"$f":"IF(BY160=\"\",\"\",\"WTSYSTEMUSER\")","v":""},{"$f":"IF(BY160=\"\",\"\",TODAY())","v":""},{"$f":"IF(BY160=\"\",\"\",\"WTSYSTEMUSER\")","v":""}]
[null,null,null,null,null,null,null,null,null,null,null,null,null,null,null,null,null,null,null,null,null,null,null,null,null,null,null,null,null,null,null,null,null,null,null,null,null,null,null,null,null,null,null,null,null,null,null,null,null,null,null,null,null,null,null,null,null,null,null,null,null,null,null,null,null,null,null,null,null,null,null,null,null,null,null,null,null,null,null,null,null,null,null,null,null,null,null,null,null,null,null,null,"",null,{"$f":"IF(BY160=\"\",\"\",\"AgencyEntityInsData Id 1434\")","v":""},{"$f":"IF(BY160=\"\",\"\",\"AgencyEntityInstance Id 158\")","v":""},{"$f":"IF(BY160=\"\",\"\",\"CM_QCQABaseCompData_Tolerance4\")","v":""},null,{"$f":"IF(BY160=\"\",\"\",TODAY())","v":""},{"$f":"IF(BY160=\"\",\"\",\"WTSYSTEMUSER\")","v":""},{"$f":"IF(BY160=\"\",\"\",TODAY())","v":""},{"$f":"IF(BY160=\"\",\"\",\"WTSYSTEMUSER\")","v":""}]
[null,null,null,null,null,null,null,null,null,null,null,null,null,null,null,null,null,null,null,null,null,null,null,null,null,null,null,null,null,null,null,null,null,null,null,null,null,null,null,null,null,null,null,null,null,null,null,null,null,null,null,null,null,null,null,null,null,null,null,null,null,null,null,null,null,null,null,null,null,null,null,null,null,null,null,null,null,null,null,null,null,null,null,null,null,null,null,null,null,null,null,null,"",null,{"$f":"IF(BY160=\"\",\"\",\"AgencyEntityInsData Id 1439\")","v":""},{"$f":"IF(BY160=\"\",\"\",\"AgencyEntityInstance Id 158\")","v":""},{"$f":"IF(BY160=\"\",\"\",\"CM_QCQABaseCompData_Tolerance9\")","v":""},null,{"$f":"IF(BY160=\"\",\"\",TODAY())","v":""},{"$f":"IF(BY160=\"\",\"\",\"WTSYSTEMUSER\")","v":""},{"$f":"IF(BY160=\"\",\"\",TODAY())","v":""},{"$f":"IF(BY160=\"\",\"\",\"WTSYSTEMUSER\")","v":""}]
[null,null,null,null,null,null,null,null,null,null,null,null,null,null,null,null,null,null,null,null,null,null,null,null,null,null,null,null,null,null,null,null,null,null,null,null,null,null,null,null,null,null,null,null,null,null,null,null,null,null,null,null,null,null,null,null,null,null,null,null,null,null,null,null,null,null,null,null,null,null,null,null,null,null,null,null,null,null,null,null,null,null,null,null,null,null,null,null,null,null,null,null,"",null,{"$f":"IF(BY161=\"\",\"\",\"AgencyEntityInsData Id 1445\")","v":""},{"$f":"IF(BY161=\"\",\"\",\"AgencyEntityInstance Id 159\")","v":""},{"$f":"IF(BY161=\"\",\"\",\"CM_QCQABaseCompData1and1half_QC\")","v":""},{"$f":"IF(BY161=\"\",\"\",IF('Test 4'!AH14=\"\",\"\",'Test 4'!AH14))","v":""},{"$f":"IF(BY161=\"\",\"\",TODAY())","v":""},{"$f":"IF(BY161=\"\",\"\",\"WTSYSTEMUSER\")","v":""},{"$f":"IF(BY161=\"\",\"\",TODAY())","v":""},{"$f":"IF(BY161=\"\",\"\",\"WTSYSTEMUSER\")","v":""}]
[null,null,null,null,null,null,null,null,null,null,null,null,null,null,null,null,null,null,null,null,null,null,null,null,null,null,null,null,null,null,null,null,null,null,null,null,null,null,null,null,null,null,null,null,null,null,null,null,null,null,null,null,null,null,null,null,null,null,null,null,null,null,null,null,null,null,null,null,null,null,null,null,null,null,null,null,null,null,null,null,null,null,null,null,null,null,null,null,null,null,null,null,{"$f":"IF(CT1451=\"\",\"\",SUBSTITUTE(SUBSTITUTE(SUBSTITUTE(SUBSTITUTE(SUBSTITUTE(CT1451,\"&\",\"&amp;\"),\">\",\"&gt;\"),\"<\",\"&lt;\"),\"'\",\"&39;\"),\"\"\"\",\"&quot;\"))","v":""},null,{"$f":"IF(BY161=\"\",\"\",\"AgencyEntityInsData Id 1449\")","v":""},{"$f":"IF(BY161=\"\",\"\",\"AgencyEntityInstance Id 159\")","v":""},{"$f":"IF(BY161=\"\",\"\",\"CM_QCQABaseCompData3Quarters_Diff\")","v":""},{"$f":"IF(BY161=\"\",\"\",IF('Test 4'!V16=\"\",\"\",'Test 4'!V16))","v":""},{"$f":"IF(BY161=\"\",\"\",TODAY())","v":""},{"$f":"IF(BY161=\"\",\"\",\"WTSYSTEMUSER\")","v":""},{"$f":"IF(BY161=\"\",\"\",TODAY())","v":""},{"$f":"IF(BY161=\"\",\"\",\"WTSYSTEMUSER\")","v":""}]
[null,null,null,null,null,null,null,null,null,null,null,null,null,null,null,null,null,null,null,null,null,null,null,null,null,null,null,null,null,null,null,null,null,null,null,null,null,null,null,null,null,null,null,null,null,null,null,null,null,null,null,null,null,null,null,null,null,null,null,null,null,null,null,null,null,null,null,null,null,null,null,null,null,null,null,null,null,null,null,null,null,null,null,null,null,null,null,null,null,null,null,null,"",null,{"$f":"IF(BY161=\"\",\"\",\"AgencyEntityInsData Id 1450\")","v":""},{"$f":"IF(BY161=\"\",\"\",\"AgencyEntityInstance Id 159\")","v":""},{"$f":"IF(BY161=\"\",\"\",\"CM_QCQABaseCompData3Quarters_QA\")","v":""},{"$f":"IF(BY161=\"\",\"\",IF('Test 4'!AG16=\"\",\"\",'Test 4'!AG16))","v":""},{"$f":"IF(BY161=\"\",\"\",TODAY())","v":""},{"$f":"IF(BY161=\"\",\"\",\"WTSYSTEMUSER\")","v":""},{"$f":"IF(BY161=\"\",\"\",TODAY())","v":""},{"$f":"IF(BY161=\"\",\"\",\"WTSYSTEMUSER\")","v":""}]
[null,null,null,null,null,null,null,null,null,null,null,null,null,null,null,null,null,null,null,null,null,null,null,null,null,null,null,null,null,null,null,null,null,null,null,null,null,null,null,null,null,null,null,null,null,null,null,null,null,null,null,null,null,null,null,null,null,null,null,null,null,null,null,null,null,null,null,null,null,null,null,null,null,null,null,null,null,null,null,null,null,null,null,null,null,null,null,null,null,null,null,null,"",null,{"$f":"IF(BY161=\"\",\"\",\"AgencyEntityInsData Id 1451\")","v":""},{"$f":"IF(BY161=\"\",\"\",\"AgencyEntityInstance Id 159\")","v":""},{"$f":"IF(BY161=\"\",\"\",\"CM_QCQABaseCompData3Quarters_QC\")","v":""},{"$f":"IF(BY161=\"\",\"\",IF('Test 4'!AH16=\"\",\"\",'Test 4'!AH16))","v":""},{"$f":"IF(BY161=\"\",\"\",TODAY())","v":""},{"$f":"IF(BY161=\"\",\"\",\"WTSYSTEMUSER\")","v":""},{"$f":"IF(BY161=\"\",\"\",TODAY())","v":""},{"$f":"IF(BY161=\"\",\"\",\"WTSYSTEMUSER\")","v":""}]
[null,null,null,null,null,null,null,null,null,null,null,null,null,null,null,null,null,null,null,null,null,null,null,null,null,null,null,null,null,null,null,null,null,null,null,null,null,null,null,null,null,null,null,null,null,null,null,null,null,null,null,null,null,null,null,null,null,null,null,null,null,null,null,null,null,null,null,null,null,null,null,null,null,null,null,null,null,null,null,null,null,null,null,null,null,null,null,null,null,null,null,null,"",null,{"$f":"IF(BY161=\"\",\"\",\"AgencyEntityInsData Id 1452\")","v":""},{"$f":"IF(BY161=\"\",\"\",\"AgencyEntityInstance Id 159\")","v":""},{"$f":"IF(BY161=\"\",\"\",\"CM_QCQABaseCompDataNum100_Diff\")","v":""},{"$f":"IF(BY161=\"\",\"\",IF('Test 4'!V27=\"\",\"\",'Test 4'!V27))","v":""},{"$f":"IF(BY161=\"\",\"\",TODAY())","v":""},{"$f":"IF(BY161=\"\",\"\",\"WTSYSTEMUSER\")","v":""},{"$f":"IF(BY161=\"\",\"\",TODAY())","v":""},{"$f":"IF(BY161=\"\",\"\",\"WTSYSTEMUSER\")","v":""}]
[null,null,null,null,null,null,null,null,null,null,null,null,null,null,null,null,null,null,null,null,null,null,null,null,null,null,null,null,null,null,null,null,null,null,null,null,null,null,null,null,null,null,null,null,null,null,null,null,null,null,null,null,null,null,null,null,null,null,null,null,null,null,null,null,null,null,null,null,null,null,null,null,null,null,null,null,null,null,null,null,null,null,null,null,null,null,null,null,null,null,null,null,"",null,{"$f":"IF(BY161=\"\",\"\",\"AgencyEntityInsData Id 1453\")","v":""},{"$f":"IF(BY161=\"\",\"\",\"AgencyEntityInstance Id 159\")","v":""},{"$f":"IF(BY161=\"\",\"\",\"CM_QCQABaseCompDataNum100_QA\")","v":""},{"$f":"IF(BY161=\"\",\"\",IF('Test 4'!AG27=\"\",\"\",'Test 4'!AG27))","v":""},{"$f":"IF(BY161=\"\",\"\",TODAY())","v":""},{"$f":"IF(BY161=\"\",\"\",\"WTSYSTEMUSER\")","v":""},{"$f":"IF(BY161=\"\",\"\",TODAY())","v":""},{"$f":"IF(BY161=\"\",\"\",\"WTSYSTEMUSER\")","v":""}]
[null,null,null,null,null,null,null,null,null,null,null,null,null,null,null,null,null,null,null,null,null,null,null,null,null,null,null,null,null,null,null,null,null,null,null,null,null,null,null,null,null,null,null,null,null,null,null,null,null,null,null,null,null,null,null,null,null,null,null,null,null,null,null,null,null,null,null,null,null,null,null,null,null,null,null,null,null,null,null,null,null,null,null,null,null,null,null,null,null,null,null,null,"",null,{"$f":"IF(BY161=\"\",\"\",\"AgencyEntityInsData Id 1454\")","v":""},{"$f":"IF(BY161=\"\",\"\",\"AgencyEntityInstance Id 159\")","v":""},{"$f":"IF(BY161=\"\",\"\",\"CM_QCQABaseCompDataNum100_QC\")","v":""},{"$f":"IF(BY161=\"\",\"\",IF('Test 4'!AH27=\"\",\"\",'Test 4'!AH27))","v":""},{"$f":"IF(BY161=\"\",\"\",TODAY())","v":""},{"$f":"IF(BY161=\"\",\"\",\"WTSYSTEMUSER\")","v":""},{"$f":"IF(BY161=\"\",\"\",TODAY())","v":""},{"$f":"IF(BY161=\"\",\"\",\"WTSYSTEMUSER\")","v":""}]
[null,null,null,null,null,null,null,null,null,null,null,null,null,null,null,null,null,null,null,null,null,null,null,null,null,null,null,null,null,null,null,null,null,null,null,null,null,null,null,null,null,null,null,null,null,null,null,null,null,null,null,null,null,null,null,null,null,null,null,null,null,null,null,null,null,null,null,null,null,null,null,null,null,null,null,null,null,null,null,null,null,null,null,null,null,null,null,null,null,null,null,null,"",null,{"$f":"IF(BY161=\"\",\"\",\"AgencyEntityInsData Id 1455\")","v":""},{"$f":"IF(BY161=\"\",\"\",\"AgencyEntityInstance Id 159\")","v":""},{"$f":"IF(BY161=\"\",\"\",\"CM_QCQABaseCompDataNum10_Diff\")","v":""},{"$f":"IF(BY161=\"\",\"\",IF('Test 4'!V21=\"\",\"\",'Test 4'!V21))","v":""},{"$f":"IF(BY161=\"\",\"\",TODAY())","v":""},{"$f":"IF(BY161=\"\",\"\",\"WTSYSTEMUSER\")","v":""},{"$f":"IF(BY161=\"\",\"\",TODAY())","v":""},{"$f":"IF(BY161=\"\",\"\",\"WTSYSTEMUSER\")","v":""}]
[null,null,null,null,null,null,null,null,null,null,null,null,null,null,null,null,null,null,null,null,null,null,null,null,null,null,null,null,null,null,null,null,null,null,null,null,null,null,null,null,null,null,null,null,null,null,null,null,null,null,null,null,null,null,null,null,null,null,null,null,null,null,null,null,null,null,null,null,null,null,null,null,null,null,null,null,null,null,null,null,null,null,null,null,null,null,null,null,null,null,null,null,"",null,{"$f":"IF(BY161=\"\",\"\",\"AgencyEntityInsData Id 1456\")","v":""},{"$f":"IF(BY161=\"\",\"\",\"AgencyEntityInstance Id 159\")","v":""},{"$f":"IF(BY161=\"\",\"\",\"CM_QCQABaseCompDataNum10_QA\")","v":""},{"$f":"IF(BY161=\"\",\"\",IF('Test 4'!AG21=\"\",\"\",'Test 4'!AG21))","v":""},{"$f":"IF(BY161=\"\",\"\",TODAY())","v":""},{"$f":"IF(BY161=\"\",\"\",\"WTSYSTEMUSER\")","v":""},{"$f":"IF(BY161=\"\",\"\",TODAY())","v":""},{"$f":"IF(BY161=\"\",\"\",\"WTSYSTEMUSER\")","v":""}]
[null,null,null,null,null,null,null,null,null,null,null,null,null,null,null,null,null,null,null,null,null,null,null,null,null,null,null,null,null,null,null,null,null,null,null,null,null,null,null,null,null,null,null,null,null,null,null,null,null,null,null,null,null,null,null,null,null,null,null,null,null,null,null,null,null,null,null,null,null,null,null,null,null,null,null,null,null,null,null,null,null,null,null,null,null,null,null,null,null,null,null,null,"",null,{"$f":"IF(BY161=\"\",\"\",\"AgencyEntityInsData Id 1457\")","v":""},{"$f":"IF(BY161=\"\",\"\",\"AgencyEntityInstance Id 159\")","v":""},{"$f":"IF(BY161=\"\",\"\",\"CM_QCQABaseCompDataNum10_QC\")","v":""},{"$f":"IF(BY161=\"\",\"\",IF('Test 4'!AH21=\"\",\"\",'Test 4'!AH21))","v":""},{"$f":"IF(BY161=\"\",\"\",TODAY())","v":""},{"$f":"IF(BY161=\"\",\"\",\"WTSYSTEMUSER\")","v":""},{"$f":"IF(BY161=\"\",\"\",TODAY())","v":""},{"$f":"IF(BY161=\"\",\"\",\"WTSYSTEMUSER\")","v":""}]
[null,null,null,null,null,null,null,null,null,null,null,null,null,null,null,null,null,null,null,null,null,null,null,null,null,null,null,null,null,null,null,null,null,null,null,null,null,null,null,null,null,null,null,null,null,null,null,null,null,null,null,null,null,null,null,null,null,null,null,null,null,null,null,null,null,null,null,null,null,null,null,null,null,null,null,null,null,null,null,null,null,null,null,null,null,null,null,null,null,null,null,null,"",null,{"$f":"IF(BY161=\"\",\"\",\"AgencyEntityInsData Id 1458\")","v":""},{"$f":"IF(BY161=\"\",\"\",\"AgencyEntityInstance Id 159\")","v":""},{"$f":"IF(BY161=\"\",\"\",\"CM_QCQABaseCompDataNum200_Diff\")","v":""},{"$f":"IF(BY161=\"\",\"\",IF('Test 4'!V28=\"\",\"\",'Test 4'!V28))","v":""},{"$f":"IF(BY161=\"\",\"\",TODAY())","v":""},{"$f":"IF(BY161=\"\",\"\",\"WTSYSTEMUSER\")","v":""},{"$f":"IF(BY161=\"\",\"\",TODAY())","v":""},{"$f":"IF(BY161=\"\",\"\",\"WTSYSTEMUSER\")","v":""}]
[null,null,null,null,null,null,null,null,null,null,null,null,null,null,null,null,null,null,null,null,null,null,null,null,null,null,null,null,null,null,null,null,null,null,null,null,null,null,null,null,null,null,null,null,null,null,null,null,null,null,null,null,null,null,null,null,null,null,null,null,null,null,null,null,null,null,null,null,null,null,null,null,null,null,null,null,null,null,null,null,null,null,null,null,null,null,null,null,null,null,null,null,"",null,{"$f":"IF(BY161=\"\",\"\",\"AgencyEntityInsData Id 1459\")","v":""},{"$f":"IF(BY161=\"\",\"\",\"AgencyEntityInstance Id 159\")","v":""},{"$f":"IF(BY161=\"\",\"\",\"CM_QCQABaseCompDataNum200_QA\")","v":""},{"$f":"IF(BY161=\"\",\"\",IF('Test 4'!AG28=\"\",\"\",'Test 4'!AG28))","v":""},{"$f":"IF(BY161=\"\",\"\",TODAY())","v":""},{"$f":"IF(BY161=\"\",\"\",\"WTSYSTEMUSER\")","v":""},{"$f":"IF(BY161=\"\",\"\",TODAY())","v":""},{"$f":"IF(BY161=\"\",\"\",\"WTSYSTEMUSER\")","v":""}]
[null,null,null,null,null,null,null,null,null,null,null,null,null,null,null,null,null,null,null,null,null,null,null,null,null,null,null,null,null,null,null,null,null,null,null,null,null,null,null,null,null,null,null,null,null,null,null,null,null,null,null,null,null,null,null,null,null,null,null,null,null,null,null,null,null,null,null,null,null,null,null,null,null,null,null,null,null,null,null,null,null,null,null,null,null,null,null,null,null,null,null,null,"",null,{"$f":"IF(BY161=\"\",\"\",\"AgencyEntityInsData Id 1460\")","v":""},{"$f":"IF(BY161=\"\",\"\",\"AgencyEntityInstance Id 159\")","v":""},{"$f":"IF(BY161=\"\",\"\",\"CM_QCQABaseCompDataNum200_QC\")","v":""},{"$f":"IF(BY161=\"\",\"\",IF('Test 4'!AH28=\"\",\"\",'Test 4'!AH28))","v":""},{"$f":"IF(BY161=\"\",\"\",TODAY())","v":""},{"$f":"IF(BY161=\"\",\"\",\"WTSYSTEMUSER\")","v":""},{"$f":"IF(BY161=\"\",\"\",TODAY())","v":""},{"$f":"IF(BY161=\"\",\"\",\"WTSYSTEMUSER\")","v":""}]
[null,null,null,null,null,null,null,null,null,null,null,null,null,null,null,null,null,null,null,null,null,null,null,null,null,null,null,null,null,null,null,null,null,null,null,null,null,null,null,null,null,null,null,null,null,null,null,null,null,null,null,null,null,null,null,null,null,null,null,null,null,null,null,null,null,null,null,null,null,null,null,null,null,null,null,null,null,null,null,null,null,null,null,null,null,null,null,null,null,null,null,null,"",null,{"$f":"IF(BY161=\"\",\"\",\"AgencyEntityInsData Id 1461\")","v":""},{"$f":"IF(BY161=\"\",\"\",\"AgencyEntityInstance Id 159\")","v":""},{"$f":"IF(BY161=\"\",\"\",\"CM_QCQABaseCompDataNum30_Diff\")","v":""},{"$f":"IF(BY161=\"\",\"\",IF('Test 4'!V24=\"\",\"\",'Test 4'!V24))","v":""},{"$f":"IF(BY161=\"\",\"\",TODAY())","v":""},{"$f":"IF(BY161=\"\",\"\",\"WTSYSTEMUSER\")","v":""},{"$f":"IF(BY161=\"\",\"\",TODAY())","v":""},{"$f":"IF(BY161=\"\",\"\",\"WTSYSTEMUSER\")","v":""}]
[null,null,null,null,null,null,null,null,null,null,null,null,null,null,null,null,null,null,null,null,null,null,null,null,null,null,null,null,null,null,null,null,null,null,null,null,null,null,null,null,null,null,null,null,null,null,null,null,null,null,null,null,null,null,null,null,null,null,null,null,null,null,null,null,null,null,null,null,null,null,null,null,null,null,null,null,null,null,null,null,null,null,null,null,null,null,null,null,null,null,null,null,"",null,{"$f":"IF(BY161=\"\",\"\",\"AgencyEntityInsData Id 1462\")","v":""},{"$f":"IF(BY161=\"\",\"\",\"AgencyEntityInstance Id 159\")","v":""},{"$f":"IF(BY161=\"\",\"\",\"CM_QCQABaseCompDataNum30_QA\")","v":""},{"$f":"IF(BY161=\"\",\"\",IF('Test 4'!AG24=\"\",\"\",'Test 4'!AG24))","v":""},{"$f":"IF(BY161=\"\",\"\",TODAY())","v":""},{"$f":"IF(BY161=\"\",\"\",\"WTSYSTEMUSER\")","v":""},{"$f":"IF(BY161=\"\",\"\",TODAY())","v":""},{"$f":"IF(BY161=\"\",\"\",\"WTSYSTEMUSER\")","v":""}]
[null,null,null,null,null,null,null,null,null,null,null,null,null,null,null,null,null,null,null,null,null,null,null,null,null,null,null,null,null,null,null,null,null,null,null,null,null,null,null,null,null,null,null,null,null,null,null,null,null,null,null,null,null,null,null,null,null,null,null,null,null,null,null,null,null,null,null,null,null,null,null,null,null,null,null,null,null,null,null,null,null,null,null,null,null,null,null,null,null,null,null,null,"",null,{"$f":"IF(BY161=\"\",\"\",\"AgencyEntityInsData Id 1463\")","v":""},{"$f":"IF(BY161=\"\",\"\",\"AgencyEntityInstance Id 159\")","v":""},{"$f":"IF(BY161=\"\",\"\",\"CM_QCQABaseCompDataNum30_QC\")","v":""},{"$f":"IF(BY161=\"\",\"\",IF('Test 4'!AH24=\"\",\"\",'Test 4'!AH24))","v":""},{"$f":"IF(BY161=\"\",\"\",TODAY())","v":""},{"$f":"IF(BY161=\"\",\"\",\"WTSYSTEMUSER\")","v":""},{"$f":"IF(BY161=\"\",\"\",TODAY())","v":""},{"$f":"IF(BY161=\"\",\"\",\"WTSYSTEMUSER\")","v":""}]
[null,null,null,null,null,null,null,null,null,null,null,null,null,null,null,null,null,null,null,null,null,null,null,null,null,null,null,null,null,null,null,null,null,null,null,null,null,null,null,null,null,null,null,null,null,null,null,null,null,null,null,null,null,null,null,null,null,null,null,null,null,null,null,null,null,null,null,null,null,null,null,null,null,null,null,null,null,null,null,null,null,null,null,null,null,null,null,null,null,null,null,null,"",null,{"$f":"IF(BY161=\"\",\"\",\"AgencyEntityInsData Id 1464\")","v":""},{"$f":"IF(BY161=\"\",\"\",\"AgencyEntityInstance Id 159\")","v":""},{"$f":"IF(BY161=\"\",\"\",\"CM_QCQABaseCompDataNum40_Diff\")","v":""},{"$f":"IF(BY161=\"\",\"\",IF('Test 4'!V25=\"\",\"\",'Test 4'!V25))","v":""},{"$f":"IF(BY161=\"\",\"\",TODAY())","v":""},{"$f":"IF(BY161=\"\",\"\",\"WTSYSTEMUSER\")","v":""},{"$f":"IF(BY161=\"\",\"\",TODAY())","v":""},{"$f":"IF(BY161=\"\",\"\",\"WTSYSTEMUSER\")","v":""}]
[null,null,null,null,null,null,null,null,null,null,null,null,null,null,null,null,null,null,null,null,null,null,null,null,null,null,null,null,null,null,null,null,null,null,null,null,null,null,null,null,null,null,null,null,null,null,null,null,null,null,null,null,null,null,null,null,null,null,null,null,null,null,null,null,null,null,null,null,null,null,null,null,null,null,null,null,null,null,null,null,null,null,null,null,null,null,null,null,null,null,null,null,"",null,{"$f":"IF(BY161=\"\",\"\",\"AgencyEntityInsData Id 1465\")","v":""},{"$f":"IF(BY161=\"\",\"\",\"AgencyEntityInstance Id 159\")","v":""},{"$f":"IF(BY161=\"\",\"\",\"CM_QCQABaseCompDataNum40_QA\")","v":""},{"$f":"IF(BY161=\"\",\"\",IF('Test 4'!AG25=\"\",\"\",'Test 4'!AG25))","v":""},{"$f":"IF(BY161=\"\",\"\",TODAY())","v":""},{"$f":"IF(BY161=\"\",\"\",\"WTSYSTEMUSER\")","v":""},{"$f":"IF(BY161=\"\",\"\",TODAY())","v":""},{"$f":"IF(BY161=\"\",\"\",\"WTSYSTEMUSER\")","v":""}]
[null,null,null,null,null,null,null,null,null,null,null,null,null,null,null,null,null,null,null,null,null,null,null,null,null,null,null,null,null,null,null,null,null,null,null,null,null,null,null,null,null,null,null,null,null,null,null,null,null,null,null,null,null,null,null,null,null,null,null,null,null,null,null,null,null,null,null,null,null,null,null,null,null,null,null,null,null,null,null,null,null,null,null,null,null,null,null,null,null,null,null,null,"",null,{"$f":"IF(BY161=\"\",\"\",\"AgencyEntityInsData Id 1466\")","v":""},{"$f":"IF(BY161=\"\",\"\",\"AgencyEntityInstance Id 159\")","v":""},{"$f":"IF(BY161=\"\",\"\",\"CM_QCQABaseCompDataNum40_QC\")","v":""},{"$f":"IF(BY161=\"\",\"\",IF('Test 4'!AH25=\"\",\"\",'Test 4'!AH25))","v":""},{"$f":"IF(BY161=\"\",\"\",TODAY())","v":""},{"$f":"IF(BY161=\"\",\"\",\"WTSYSTEMUSER\")","v":""},{"$f":"IF(BY161=\"\",\"\",TODAY())","v":""},{"$f":"IF(BY161=\"\",\"\",\"WTSYSTEMUSER\")","v":""}]
[null,null,null,null,null,null,null,null,null,null,null,null,null,null,null,null,null,null,null,null,null,null,null,null,null,null,null,null,null,null,null,null,null,null,null,null,null,null,null,null,null,null,null,null,null,null,null,null,null,null,null,null,null,null,null,null,null,null,null,null,null,null,null,null,null,null,null,null,null,null,null,null,null,null,null,null,null,null,null,null,null,null,null,null,null,null,null,null,null,null,null,null,"",null,{"$f":"IF(BY161=\"\",\"\",\"AgencyEntityInsData Id 1467\")","v":""},{"$f":"IF(BY161=\"\",\"\",\"AgencyEntityInstance Id 159\")","v":""},{"$f":"IF(BY161=\"\",\"\",\"CM_QCQABaseCompDataNum4_Diff\")","v":""},{"$f":"IF(BY161=\"\",\"\",IF('Test 4'!V19=\"\",\"\",'Test 4'!V19))","v":""},{"$f":"IF(BY161=\"\",\"\",TODAY())","v":""},{"$f":"IF(BY161=\"\",\"\",\"WTSYSTEMUSER\")","v":""},{"$f":"IF(BY161=\"\",\"\",TODAY())","v":""},{"$f":"IF(BY161=\"\",\"\",\"WTSYSTEMUSER\")","v":""}]
[null,null,null,null,null,null,null,null,null,null,null,null,null,null,null,null,null,null,null,null,null,null,null,null,null,null,null,null,null,null,null,null,null,null,null,null,null,null,null,null,null,null,null,null,null,null,null,null,null,null,null,null,null,null,null,null,null,null,null,null,null,null,null,null,null,null,null,null,null,null,null,null,null,null,null,null,null,null,null,null,null,null,null,null,null,null,null,null,null,null,null,null,"",null,{"$f":"IF(BY161=\"\",\"\",\"AgencyEntityInsData Id 1468\")","v":""},{"$f":"IF(BY161=\"\",\"\",\"AgencyEntityInstance Id 159\")","v":""},{"$f":"IF(BY161=\"\",\"\",\"CM_QCQABaseCompDataNum4_QA\")","v":""},{"$f":"IF(BY161=\"\",\"\",IF('Test 4'!AG19=\"\",\"\",'Test 4'!AG19))","v":""},{"$f":"IF(BY161=\"\",\"\",TODAY())","v":""},{"$f":"IF(BY161=\"\",\"\",\"WTSYSTEMUSER\")","v":""},{"$f":"IF(BY161=\"\",\"\",TODAY())","v":""},{"$f":"IF(BY161=\"\",\"\",\"WTSYSTEMUSER\")","v":""}]
[null,null,null,null,null,null,null,null,null,null,null,null,null,null,null,null,null,null,null,null,null,null,null,null,null,null,null,null,null,null,null,null,null,null,null,null,null,null,null,null,null,null,null,null,null,null,null,null,null,null,null,null,null,null,null,null,null,null,null,null,null,null,null,null,null,null,null,null,null,null,null,null,null,null,null,null,null,null,null,null,null,null,null,null,null,null,null,null,null,null,null,null,"",null,{"$f":"IF(BY161=\"\",\"\",\"AgencyEntityInsData Id 1469\")","v":""},{"$f":"IF(BY161=\"\",\"\",\"AgencyEntityInstance Id 159\")","v":""},{"$f":"IF(BY161=\"\",\"\",\"CM_QCQABaseCompDataNum4_QC\")","v":""},{"$f":"IF(BY161=\"\",\"\",IF('Test 4'!AH19=\"\",\"\",'Test 4'!AH19))","v":""},{"$f":"IF(BY161=\"\",\"\",TODAY())","v":""},{"$f":"IF(BY161=\"\",\"\",\"WTSYSTEMUSER\")","v":""},{"$f":"IF(BY161=\"\",\"\",TODAY())","v":""},{"$f":"IF(BY161=\"\",\"\",\"WTSYSTEMUSER\")","v":""}]
[null,null,null,null,null,null,null,null,null,null,null,null,null,null,null,null,null,null,null,null,null,null,null,null,null,null,null,null,null,null,null,null,null,null,null,null,null,null,null,null,null,null,null,null,null,null,null,null,null,null,null,null,null,null,null,null,null,null,null,null,null,null,null,null,null,null,null,null,null,null,null,null,null,null,null,null,null,null,null,null,null,null,null,null,null,null,null,null,null,null,null,null,"",null,{"$f":"IF(BY161=\"\",\"\",\"AgencyEntityInsData Id 1470\")","v":""},{"$f":"IF(BY161=\"\",\"\",\"AgencyEntityInstance Id 159\")","v":""},{"$f":"IF(BY161=\"\",\"\",\"CM_QCQABaseCompDataNum8_Diff\")","v":""},{"$f":"IF(BY161=\"\",\"\",IF('Test 4'!V20=\"\",\"\",'Test 4'!V20))","v":""},{"$f":"IF(BY161=\"\",\"\",TODAY())","v":""},{"$f":"IF(BY161=\"\",\"\",\"WTSYSTEMUSER\")","v":""},{"$f":"IF(BY161=\"\",\"\",TODAY())","v":""},{"$f":"IF(BY161=\"\",\"\",\"WTSYSTEMUSER\")","v":""}]
[null,null,null,null,null,null,null,null,null,null,null,null,null,null,null,null,null,null,null,null,null,null,null,null,null,null,null,null,null,null,null,null,null,null,null,null,null,null,null,null,null,null,null,null,null,null,null,null,null,null,null,null,null,null,null,null,null,null,null,null,null,null,null,null,null,null,null,null,null,null,null,null,null,null,null,null,null,null,null,null,null,null,null,null,null,null,null,null,null,null,null,null,"",null,{"$f":"IF(BY161=\"\",\"\",\"AgencyEntityInsData Id 1471\")","v":""},{"$f":"IF(BY161=\"\",\"\",\"AgencyEntityInstance Id 159\")","v":""},{"$f":"IF(BY161=\"\",\"\",\"CM_QCQABaseCompDataNum8_QA\")","v":""},{"$f":"IF(BY161=\"\",\"\",IF('Test 4'!AG20=\"\",\"\",'Test 4'!AG20))","v":""},{"$f":"IF(BY161=\"\",\"\",TODAY())","v":""},{"$f":"IF(BY161=\"\",\"\",\"WTSYSTEMUSER\")","v":""},{"$f":"IF(BY161=\"\",\"\",TODAY())","v":""},{"$f":"IF(BY161=\"\",\"\",\"WTSYSTEMUSER\")","v":""}]
[null,null,null,null,null,null,null,null,null,null,null,null,null,null,null,null,null,null,null,null,null,null,null,null,null,null,null,null,null,null,null,null,null,null,null,null,null,null,null,null,null,null,null,null,null,null,null,null,null,null,null,null,null,null,null,null,null,null,null,null,null,null,null,null,null,null,null,null,null,null,null,null,null,null,null,null,null,null,null,null,null,null,null,null,null,null,null,null,null,null,null,null,"",null,{"$f":"IF(BY161=\"\",\"\",\"AgencyEntityInsData Id 1472\")","v":""},{"$f":"IF(BY161=\"\",\"\",\"AgencyEntityInstance Id 159\")","v":""},{"$f":"IF(BY161=\"\",\"\",\"CM_QCQABaseCompDataNum8_QC\")","v":""},{"$f":"IF(BY161=\"\",\"\",IF('Test 4'!AH20=\"\",\"\",'Test 4'!AH20))","v":""},{"$f":"IF(BY161=\"\",\"\",TODAY())","v":""},{"$f":"IF(BY161=\"\",\"\",\"WTSYSTEMUSER\")","v":""},{"$f":"IF(BY161=\"\",\"\",TODAY())","v":""},{"$f":"IF(BY161=\"\",\"\",\"WTSYSTEMUSER\")","v":""}]
[null,null,null,null,null,null,null,null,null,null,null,null,null,null,null,null,null,null,null,null,null,null,null,null,null,null,null,null,null,null,null,null,null,null,null,null,null,null,null,null,null,null,null,null,null,null,null,null,null,null,null,null,null,null,null,null,null,null,null,null,null,null,null,null,null,null,null,null,null,null,null,null,null,null,null,null,null,null,null,null,null,null,null,null,null,null,null,null,null,null,null,null,"",null,{"$f":"IF(BY161=\"\",\"\",\"AgencyEntityInsData Id 1473\")","v":""},{"$f":"IF(BY161=\"\",\"\",\"AgencyEntityInstance Id 159\")","v":""},{"$f":"IF(BY161=\"\",\"\",\"CM_QCQABaseCompData_1Placeholder\")","v":""},null,{"$f":"IF(BY161=\"\",\"\",TODAY())","v":""},{"$f":"IF(BY161=\"\",\"\",\"WTSYSTEMUSER\")","v":""},{"$f":"IF(BY161=\"\",\"\",TODAY())","v":""},{"$f":"IF(BY161=\"\",\"\",\"WTSYSTEMUSER\")","v":""}]
[null,null,null,null,null,null,null,null,null,null,null,null,null,null,null,null,null,null,null,null,null,null,null,null,null,null,null,null,null,null,null,null,null,null,null,null,null,null,null,null,null,null,null,null,null,null,null,null,null,null,null,null,null,null,null,null,null,null,null,null,null,null,null,null,null,null,null,null,null,null,null,null,null,null,null,null,null,null,null,null,null,null,null,null,null,null,null,null,null,null,null,null,"",null,{"$f":"IF(BY161=\"\",\"\",\"AgencyEntityInsData Id 1474\")","v":""},{"$f":"IF(BY161=\"\",\"\",\"AgencyEntityInstance Id 159\")","v":""},{"$f":"IF(BY161=\"\",\"\",\"CM_QCQABaseCompData_2Placeholder\")","v":""},null,{"$f":"IF(BY161=\"\",\"\",TODAY())","v":""},{"$f":"IF(BY161=\"\",\"\",\"WTSYSTEMUSER\")","v":""},{"$f":"IF(BY161=\"\",\"\",TODAY())","v":""},{"$f":"IF(BY161=\"\",\"\",\"WTSYSTEMUSER\")","v":""}]
[null,null,null,null,null,null,null,null,null,null,null,null,null,null,null,null,null,null,null,null,null,null,null,null,null,null,null,null,null,null,null,null,null,null,null,null,null,null,null,null,null,null,null,null,null,null,null,null,null,null,null,null,null,null,null,null,null,null,null,null,null,null,null,null,null,null,null,null,null,null,null,null,null,null,null,null,null,null,null,null,null,null,null,null,null,null,null,null,null,null,null,null,"",null,{"$f":"IF(BY161=\"\",\"\",\"AgencyEntityInsData Id 1475\")","v":""},{"$f":"IF(BY161=\"\",\"\",\"AgencyEntityInstance Id 159\")","v":""},{"$f":"IF(BY161=\"\",\"\",\"CM_QCQABaseCompData_3Placeholder\")","v":""},null,{"$f":"IF(BY161=\"\",\"\",TODAY())","v":""},{"$f":"IF(BY161=\"\",\"\",\"WTSYSTEMUSER\")","v":""},{"$f":"IF(BY161=\"\",\"\",TODAY())","v":""},{"$f":"IF(BY161=\"\",\"\",\"WTSYSTEMUSER\")","v":""}]
[null,null,null,null,null,null,null,null,null,null,null,null,null,null,null,null,null,null,null,null,null,null,null,null,null,null,null,null,null,null,null,null,null,null,null,null,null,null,null,null,null,null,null,null,null,null,null,null,null,null,null,null,null,null,null,null,null,null,null,null,null,null,null,null,null,null,null,null,null,null,null,null,null,null,null,null,null,null,null,null,null,null,null,null,null,null,null,null,null,null,null,null,"",null,{"$f":"IF(BY161=\"\",\"\",\"AgencyEntityInsData Id 1476\")","v":""},{"$f":"IF(BY161=\"\",\"\",\"AgencyEntityInstance Id 159\")","v":""},{"$f":"IF(BY161=\"\",\"\",\"CM_QCQABaseCompData_4Placeholder\")","v":""},null,{"$f":"IF(BY161=\"\",\"\",TODAY())","v":""},{"$f":"IF(BY161=\"\",\"\",\"WTSYSTEMUSER\")","v":""},{"$f":"IF(BY161=\"\",\"\",TODAY())","v":""},{"$f":"IF(BY161=\"\",\"\",\"WTSYSTEMUSER\")","v":""}]
[null,null,null,null,null,null,null,null,null,null,null,null,null,null,null,null,null,null,null,null,null,null,null,null,null,null,null,null,null,null,null,null,null,null,null,null,null,null,null,null,null,null,null,null,null,null,null,null,null,null,null,null,null,null,null,null,null,null,null,null,null,null,null,null,null,null,null,null,null,null,null,null,null,null,null,null,null,null,null,null,null,null,null,null,null,null,null,null,null,null,null,null,"",null,{"$f":"IF(BY161=\"\",\"\",\"AgencyEntityInsData Id 1477\")","v":""},{"$f":"IF(BY161=\"\",\"\",\"AgencyEntityInstance Id 159\")","v":""},{"$f":"IF(BY161=\"\",\"\",\"CM_QCQABaseCompData_5Placeholder\")","v":""},null,{"$f":"IF(BY161=\"\",\"\",TODAY())","v":""},{"$f":"IF(BY161=\"\",\"\",\"WTSYSTEMUSER\")","v":""},{"$f":"IF(BY161=\"\",\"\",TODAY())","v":""},{"$f":"IF(BY161=\"\",\"\",\"WTSYSTEMUSER\")","v":""}]
[null,null,null,null,null,null,null,null,null,null,null,null,null,null,null,null,null,null,null,null,null,null,null,null,null,null,null,null,null,null,null,null,null,null,null,null,null,null,null,null,null,null,null,null,null,null,null,null,null,null,null,null,null,null,null,null,null,null,null,null,null,null,null,null,null,null,null,null,null,null,null,null,null,null,null,null,null,null,null,null,null,null,null,null,null,null,null,null,null,null,null,null,"",null,{"$f":"IF(BY161=\"\",\"\",\"AgencyEntityInsData Id 1478\")","v":""},{"$f":"IF(BY161=\"\",\"\",\"AgencyEntityInstance Id 159\")","v":""},{"$f":"IF(BY161=\"\",\"\",\"CM_QCQABaseCompData_6Placeholder\")","v":""},null,{"$f":"IF(BY161=\"\",\"\",TODAY())","v":""},{"$f":"IF(BY161=\"\",\"\",\"WTSYSTEMUSER\")","v":""},{"$f":"IF(BY161=\"\",\"\",TODAY())","v":""},{"$f":"IF(BY161=\"\",\"\",\"WTSYSTEMUSER\")","v":""}]
[null,null,null,null,null,null,null,null,null,null,null,null,null,null,null,null,null,null,null,null,null,null,null,null,null,null,null,null,null,null,null,null,null,null,null,null,null,null,null,null,null,null,null,null,null,null,null,null,null,null,null,null,null,null,null,null,null,null,null,null,null,null,null,null,null,null,null,null,null,null,null,null,null,null,null,null,null,null,null,null,null,null,null,null,null,null,null,null,null,null,null,null,"",null,{"$f":"IF(BY161=\"\",\"\",\"AgencyEntityInsData Id 1479\")","v":""},{"$f":"IF(BY161=\"\",\"\",\"AgencyEntityInstance Id 159\")","v":""},{"$f":"IF(BY161=\"\",\"\",\"CM_QCQABaseCompData_7Placeholder\")","v":""},null,{"$f":"IF(BY161=\"\",\"\",TODAY())","v":""},{"$f":"IF(BY161=\"\",\"\",\"WTSYSTEMUSER\")","v":""},{"$f":"IF(BY161=\"\",\"\",TODAY())","v":""},{"$f":"IF(BY161=\"\",\"\",\"WTSYSTEMUSER\")","v":""}]
[null,null,null,null,null,null,null,null,null,null,null,null,null,null,null,null,null,null,null,null,null,null,null,null,null,null,null,null,null,null,null,null,null,null,null,null,null,null,null,null,null,null,null,null,null,null,null,null,null,null,null,null,null,null,null,null,null,null,null,null,null,null,null,null,null,null,null,null,null,null,null,null,null,null,null,null,null,null,null,null,null,null,null,null,null,null,null,null,null,null,null,null,"",null,{"$f":"IF(BY161=\"\",\"\",\"AgencyEntityInsData Id 1480\")","v":""},{"$f":"IF(BY161=\"\",\"\",\"AgencyEntityInstance Id 159\")","v":""},{"$f":"IF(BY161=\"\",\"\",\"CM_QCQABaseCompData_8Placeholder\")","v":""},null,{"$f":"IF(BY161=\"\",\"\",TODAY())","v":""},{"$f":"IF(BY161=\"\",\"\",\"WTSYSTEMUSER\")","v":""},{"$f":"IF(BY161=\"\",\"\",TODAY())","v":""},{"$f":"IF(BY161=\"\",\"\",\"WTSYSTEMUSER\")","v":""}]
[null,null,null,null,null,null,null,null,null,null,null,null,null,null,null,null,null,null,null,null,null,null,null,null,null,null,null,null,null,null,null,null,null,null,null,null,null,null,null,null,null,null,null,null,null,null,null,null,null,null,null,null,null,null,null,null,null,null,null,null,null,null,null,null,null,null,null,null,null,null,null,null,null,null,null,null,null,null,null,null,null,null,null,null,null,null,null,null,null,null,null,null,"",null,{"$f":"IF(BY161=\"\",\"\",\"AgencyEntityInsData Id 1481\")","v":""},{"$f":"IF(BY161=\"\",\"\",\"AgencyEntityInstance Id 159\")","v":""},{"$f":"IF(BY161=\"\",\"\",\"CM_QCQABaseCompData_Del_Diff\")","v":""},{"$f":"IF(BY161=\"\",\"\",IF('Test 4'!V51=\"\",\"\",'Test 4'!V51))","v":""},{"$f":"IF(BY161=\"\",\"\",TODAY())","v":""},{"$f":"IF(BY161=\"\",\"\",\"WTSYSTEMUSER\")","v":""},{"$f":"IF(BY161=\"\",\"\",TODAY())","v":""},{"$f":"IF(BY161=\"\",\"\",\"WTSYSTEMUSER\")","v":""}]
[null,null,null,null,null,null,null,null,null,null,null,null,null,null,null,null,null,null,null,null,null,null,null,null,null,null,null,null,null,null,null,null,null,null,null,null,null,null,null,null,null,null,null,null,null,null,null,null,null,null,null,null,null,null,null,null,null,null,null,null,null,null,null,null,null,null,null,null,null,null,null,null,null,null,null,null,null,null,null,null,null,null,null,null,null,null,null,null,null,null,null,null,"",null,{"$f":"IF(BY161=\"\",\"\",\"AgencyEntityInsData Id 1482\")","v":""},{"$f":"IF(BY161=\"\",\"\",\"AgencyEntityInstance Id 159\")","v":""},{"$f":"IF(BY161=\"\",\"\",\"CM_QCQABaseCompData_Del_QA\")","v":""},{"$f":"IF(BY161=\"\",\"\",IF('Test 4'!O51=\"\",\"\",'Test 4'!O51))","v":""},{"$f":"IF(BY161=\"\",\"\",TODAY())","v":""},{"$f":"IF(BY161=\"\",\"\",\"WTSYSTEMUSER\")","v":""},{"$f":"IF(BY161=\"\",\"\",TODAY())","v":""},{"$f":"IF(BY161=\"\",\"\",\"WTSYSTEMUSER\")","v":""}]
[null,null,null,null,null,null,null,null,null,null,null,null,null,null,null,null,null,null,null,null,null,null,null,null,null,null,null,null,null,null,null,null,null,null,null,null,null,null,null,null,null,null,null,null,null,null,null,null,null,null,null,null,null,null,null,null,null,null,null,null,null,null,null,null,null,null,null,null,null,null,null,null,null,null,null,null,null,null,null,null,null,null,null,null,null,null,null,null,null,null,null,null,"",null,{"$f":"IF(BY161=\"\",\"\",\"AgencyEntityInsData Id 1483\")","v":""},{"$f":"IF(BY161=\"\",\"\",\"AgencyEntityInstance Id 159\")","v":""},{"$f":"IF(BY161=\"\",\"\",\"CM_QCQABaseCompData_Del_QC\")","v":""},{"$f":"IF(BY161=\"\",\"\",IF('Test 4'!S51=\"\",\"\",'Test 4'!S51))","v":""},{"$f":"IF(BY161=\"\",\"\",TODAY())","v":""},{"$f":"IF(BY161=\"\",\"\",\"WTSYSTEMUSER\")","v":""},{"$f":"IF(BY161=\"\",\"\",TODAY())","v":""},{"$f":"IF(BY161=\"\",\"\",\"WTSYSTEMUSER\")","v":""}]
[null,null,null,null,null,null,null,null,null,null,null,null,null,null,null,null,null,null,null,null,null,null,null,null,null,null,null,null,null,null,null,null,null,null,null,null,null,null,null,null,null,null,null,null,null,null,null,null,null,null,null,null,null,null,null,null,null,null,null,null,null,null,null,null,null,null,null,null,null,null,null,null,null,null,null,null,null,null,null,null,null,null,null,null,null,null,null,null,null,null,null,null,"",null,{"$f":"IF(BY161=\"\",\"\",\"AgencyEntityInsData Id 1484\")","v":""},{"$f":"IF(BY161=\"\",\"\",\"AgencyEntityInstance Id 159\")","v":""},{"$f":"IF(BY161=\"\",\"\",\"CM_QCQABaseCompData_DensityDiff\")","v":""},{"$f":"IF(BY161=\"\",\"\",IF('Test 4'!V63=\"\",\"\",'Test 4'!V63))","v":""},{"$f":"IF(BY161=\"\",\"\",TODAY())","v":""},{"$f":"IF(BY161=\"\",\"\",\"WTSYSTEMUSER\")","v":""},{"$f":"IF(BY161=\"\",\"\",TODAY())","v":""},{"$f":"IF(BY161=\"\",\"\",\"WTSYSTEMUSER\")","v":""}]
[null,null,null,null,null,null,null,null,null,null,null,null,null,null,null,null,null,null,null,null,null,null,null,null,null,null,null,null,null,null,null,null,null,null,null,null,null,null,null,null,null,null,null,null,null,null,null,null,null,null,null,null,null,null,null,null,null,null,null,null,null,null,null,null,null,null,null,null,null,null,null,null,null,null,null,null,null,null,null,null,null,null,null,null,null,null,null,null,null,null,null,null,"",null,{"$f":"IF(BY161=\"\",\"\",\"AgencyEntityInsData Id 1485\")","v":""},{"$f":"IF(BY161=\"\",\"\",\"AgencyEntityInstance Id 159\")","v":""},{"$f":"IF(BY161=\"\",\"\",\"CM_QCQABaseCompData_DensityQA\")","v":""},{"$f":"IF(BY161=\"\",\"\",IF('Test 4'!O63=\"\",\"\",'Test 4'!O63))","v":""},{"$f":"IF(BY161=\"\",\"\",TODAY())","v":""},{"$f":"IF(BY161=\"\",\"\",\"WTSYSTEMUSER\")","v":""},{"$f":"IF(BY161=\"\",\"\",TODAY())","v":""},{"$f":"IF(BY161=\"\",\"\",\"WTSYSTEMUSER\")","v":""}]
[null,null,null,null,null,null,null,null,null,null,null,null,null,null,null,null,null,null,null,null,null,null,null,null,null,null,null,null,null,null,null,null,null,null,null,null,null,null,null,null,null,null,null,null,null,null,null,null,null,null,null,null,null,null,null,null,null,null,null,null,null,null,null,null,null,null,null,null,null,null,null,null,null,null,null,null,null,null,null,null,null,null,null,null,null,null,null,null,null,null,null,null,"",null,{"$f":"IF(BY161=\"\",\"\",\"AgencyEntityInsData Id 1486\")","v":""},{"$f":"IF(BY161=\"\",\"\",\"AgencyEntityInstance Id 159\")","v":""},{"$f":"IF(BY161=\"\",\"\",\"CM_QCQABaseCompData_DensityQC\")","v":""},{"$f":"IF(BY161=\"\",\"\",IF('Test 4'!S63=\"\",\"\",'Test 4'!S63))","v":""},{"$f":"IF(BY161=\"\",\"\",TODAY())","v":""},{"$f":"IF(BY161=\"\",\"\",\"WTSYSTEMUSER\")","v":""},{"$f":"IF(BY161=\"\",\"\",TODAY())","v":""},{"$f":"IF(BY161=\"\",\"\",\"WTSYSTEMUSER\")","v":""}]
[null,null,null,null,null,null,null,null,null,null,null,null,null,null,null,null,null,null,null,null,null,null,null,null,null,null,null,null,null,null,null,null,null,null,null,null,null,null,null,null,null,null,null,null,null,null,null,null,null,null,null,null,null,null,null,null,null,null,null,null,null,null,null,null,null,null,null,null,null,null,null,null,null,null,null,null,null,null,null,null,null,null,null,null,null,null,null,null,null,null,null,null,"",null,{"$f":"IF(BY161=\"\",\"\",\"AgencyEntityInsData Id 1487\")","v":""},{"$f":"IF(BY161=\"\",\"\",\"AgencyEntityInstance Id 159\")","v":""},{"$f":"IF(BY161=\"\",\"\",\"CM_QCQABaseCompData_Moisture_QA\")","v":""},{"$f":"IF(BY161=\"\",\"\",IF('Test 4'!O64=\"\",\"\",'Test 4'!O64))","v":""},{"$f":"IF(BY161=\"\",\"\",TODAY())","v":""},{"$f":"IF(BY161=\"\",\"\",\"WTSYSTEMUSER\")","v":""},{"$f":"IF(BY161=\"\",\"\",TODAY())","v":""},{"$f":"IF(BY161=\"\",\"\",\"WTSYSTEMUSER\")","v":""}]
[null,null,null,null,null,null,null,null,null,null,null,null,null,null,null,null,null,null,null,null,null,null,null,null,null,null,null,null,null,null,null,null,null,null,null,null,null,null,null,null,null,null,null,null,null,null,null,null,null,null,null,null,null,null,null,null,null,null,null,null,null,null,null,null,null,null,null,null,null,null,null,null,null,null,null,null,null,null,null,null,null,null,null,null,null,null,null,null,null,null,null,null,"",null,{"$f":"IF(BY161=\"\",\"\",\"AgencyEntityInsData Id 1488\")","v":""},{"$f":"IF(BY161=\"\",\"\",\"AgencyEntityInstance Id 159\")","v":""},{"$f":"IF(BY161=\"\",\"\",\"CM_QCQABaseCompData_Moisture_QC\")","v":""},{"$f":"IF(BY161=\"\",\"\",IF('Test 4'!S64=\"\",\"\",'Test 4'!S64))","v":""},{"$f":"IF(BY161=\"\",\"\",TODAY())","v":""},{"$f":"IF(BY161=\"\",\"\",\"WTSYSTEMUSER\")","v":""},{"$f":"IF(BY161=\"\",\"\",TODAY())","v":""},{"$f":"IF(BY161=\"\",\"\",\"WTSYSTEMUSER\")","v":""}]
[null,null,null,null,null,null,null,null,null,null,null,null,null,null,null,null,null,null,null,null,null,null,null,null,null,null,null,null,null,null,null,null,null,null,null,null,null,null,null,null,null,null,null,null,null,null,null,null,null,null,null,null,null,null,null,null,null,null,null,null,null,null,null,null,null,null,null,null,null,null,null,null,null,null,null,null,null,null,null,null,null,null,null,null,null,null,null,null,null,null,null,null,"",null,{"$f":"IF(BY161=\"\",\"\",\"AgencyEntityInsData Id 1489\")","v":""},{"$f":"IF(BY161=\"\",\"\",\"AgencyEntityInstance Id 159\")","v":""},{"$f":"IF(BY161=\"\",\"\",\"CM_QCQABaseCompData_PI_Diff\")","v":""},{"$f":"IF(BY161=\"\",\"\",IF('Test 4'!U57=\"\",\"\",'Test 4'!U57))","v":""},{"$f":"IF(BY161=\"\",\"\",TODAY())","v":""},{"$f":"IF(BY161=\"\",\"\",\"WTSYSTEMUSER\")","v":""},{"$f":"IF(BY161=\"\",\"\",TODAY())","v":""},{"$f":"IF(BY161=\"\",\"\",\"WTSYSTEMUSER\")","v":""}]
[null,null,null,null,null,null,null,null,null,null,null,null,null,null,null,null,null,null,null,null,null,null,null,null,null,null,null,null,null,null,null,null,null,null,null,null,null,null,null,null,null,null,null,null,null,null,null,null,null,null,null,null,null,null,null,null,null,null,null,null,null,null,null,null,null,null,null,null,null,null,null,null,null,null,null,null,null,null,null,null,null,null,null,null,null,null,null,null,null,null,null,null,"",null,{"$f":"IF(BY161=\"\",\"\",\"AgencyEntityInsData Id 1490\")","v":""},{"$f":"IF(BY161=\"\",\"\",\"AgencyEntityInstance Id 159\")","v":""},{"$f":"IF(BY161=\"\",\"\",\"CM_QCQABaseCompData_PI_QA\")","v":""},{"$f":"IF(BY161=\"\",\"\",IF('Test 4'!O57=\"\",\"\",'Test 4'!O57))","v":""},{"$f":"IF(BY161=\"\",\"\",TODAY())","v":""},{"$f":"IF(BY161=\"\",\"\",\"WTSYSTEMUSER\")","v":""},{"$f":"IF(BY161=\"\",\"\",TODAY())","v":""},{"$f":"IF(BY161=\"\",\"\",\"WTSYSTEMUSER\")","v":""}]
[null,null,null,null,null,null,null,null,null,null,null,null,null,null,null,null,null,null,null,null,null,null,null,null,null,null,null,null,null,null,null,null,null,null,null,null,null,null,null,null,null,null,null,null,null,null,null,null,null,null,null,null,null,null,null,null,null,null,null,null,null,null,null,null,null,null,null,null,null,null,null,null,null,null,null,null,null,null,null,null,null,null,null,null,null,null,null,null,null,null,null,null,"",null,{"$f":"IF(BY161=\"\",\"\",\"AgencyEntityInsData Id 1491\")","v":""},{"$f":"IF(BY161=\"\",\"\",\"AgencyEntityInstance Id 159\")","v":""},{"$f":"IF(BY161=\"\",\"\",\"CM_QCQABaseCompData_PI_QC\")","v":""},{"$f":"IF(BY161=\"\",\"\",IF('Test 4'!S57=\"\",\"\",'Test 4'!S57))","v":""},{"$f":"IF(BY161=\"\",\"\",TODAY())","v":""},{"$f":"IF(BY161=\"\",\"\",\"WTSYSTEMUSER\")","v":""},{"$f":"IF(BY161=\"\",\"\",TODAY())","v":""},{"$f":"IF(BY161=\"\",\"\",\"WTSYSTEMUSER\")","v":""}]
[null,null,null,null,null,null,null,null,null,null,null,null,null,null,null,null,null,null,null,null,null,null,null,null,null,null,null,null,null,null,null,null,null,null,null,null,null,null,null,null,null,null,null,null,null,null,null,null,null,null,null,null,null,null,null,null,null,null,null,null,null,null,null,null,null,null,null,null,null,null,null,null,null,null,null,null,null,null,null,null,null,null,null,null,null,null,null,null,null,null,null,null,"",null,{"$f":"IF(BY161=\"\",\"\",\"AgencyEntityInsData Id 1492\")","v":""},{"$f":"IF(BY161=\"\",\"\",\"AgencyEntityInstance Id 159\")","v":""},{"$f":"IF(BY161=\"\",\"\",\"CM_QCQABaseCompData_Subtitle_CompStd\")","v":""},null,{"$f":"IF(BY161=\"\",\"\",TODAY())","v":""},{"$f":"IF(BY161=\"\",\"\",\"WTSYSTEMUSER\")","v":""},{"$f":"IF(BY161=\"\",\"\",TODAY())","v":""},{"$f":"IF(BY161=\"\",\"\",\"WTSYSTEMUSER\")","v":""}]
[null,null,null,null,null,null,null,null,null,null,null,null,null,null,null,null,null,null,null,null,null,null,null,null,null,null,null,null,null,null,null,null,null,null,null,null,null,null,null,null,null,null,null,null,null,null,null,null,null,null,null,null,null,null,null,null,null,null,null,null,null,null,null,null,null,null,null,null,null,null,null,null,null,null,null,null,null,null,null,null,null,null,null,null,null,null,null,null,null,null,null,null,"",null,{"$f":"IF(BY161=\"\",\"\",\"AgencyEntityInsData Id 1493\")","v":""},{"$f":"IF(BY161=\"\",\"\",\"AgencyEntityInstance Id 159\")","v":""},{"$f":"IF(BY161=\"\",\"\",\"CM_QCQABaseCompData_Subtitle_Del\")","v":""},null,{"$f":"IF(BY161=\"\",\"\",TODAY())","v":""},{"$f":"IF(BY161=\"\",\"\",\"WTSYSTEMUSER\")","v":""},{"$f":"IF(BY161=\"\",\"\",TODAY())","v":""},{"$f":"IF(BY161=\"\",\"\",\"WTSYSTEMUSER\")","v":""}]
[null,null,null,null,null,null,null,null,null,null,null,null,null,null,null,null,null,null,null,null,null,null,null,null,null,null,null,null,null,null,null,null,null,null,null,null,null,null,null,null,null,null,null,null,null,null,null,null,null,null,null,null,null,null,null,null,null,null,null,null,null,null,null,null,null,null,null,null,null,null,null,null,null,null,null,null,null,null,null,null,null,null,null,null,null,null,null,null,null,null,null,null,"",null,{"$f":"IF(BY161=\"\",\"\",\"AgencyEntityInsData Id 1494\")","v":""},{"$f":"IF(BY161=\"\",\"\",\"AgencyEntityInstance Id 159\")","v":""},{"$f":"IF(BY161=\"\",\"\",\"CM_QCQABaseCompData_Subtitle_PI\")","v":""},null,{"$f":"IF(BY161=\"\",\"\",TODAY())","v":""},{"$f":"IF(BY161=\"\",\"\",\"WTSYSTEMUSER\")","v":""},{"$f":"IF(BY161=\"\",\"\",TODAY())","v":""},{"$f":"IF(BY161=\"\",\"\",\"WTSYSTEMUSER\")","v":""}]
[null,null,null,null,null,null,null,null,null,null,null,null,null,null,null,null,null,null,null,null,null,null,null,null,null,null,null,null,null,null,null,null,null,null,null,null,null,null,null,null,null,null,null,null,null,null,null,null,null,null,null,null,null,null,null,null,null,null,null,null,null,null,null,null,null,null,null,null,null,null,null,null,null,null,null,null,null,null,null,null,null,null,null,null,null,null,null,null,null,null,null,null,"",null,{"$f":"IF(BY161=\"\",\"\",\"AgencyEntityInsData Id 1495\")","v":""},{"$f":"IF(BY161=\"\",\"\",\"AgencyEntityInstance Id 159\")","v":""},{"$f":"IF(BY161=\"\",\"\",\"CM_QCQABaseCompData_Subtitle_SieveAnalysis\")","v":""},null,{"$f":"IF(BY161=\"\",\"\",TODAY())","v":""},{"$f":"IF(BY161=\"\",\"\",\"WTSYSTEMUSER\")","v":""},{"$f":"IF(BY161=\"\",\"\",TODAY())","v":""},{"$f":"IF(BY161=\"\",\"\",\"WTSYSTEMUSER\")","v":""}]
[null,null,null,null,null,null,null,null,null,null,null,null,null,null,null,null,null,null,null,null,null,null,null,null,null,null,null,null,null,null,null,null,null,null,null,null,null,null,null,null,null,null,null,null,null,null,null,null,null,null,null,null,null,null,null,null,null,null,null,null,null,null,null,null,null,null,null,null,null,null,null,null,null,null,null,null,null,null,null,null,null,null,null,null,null,null,null,null,null,null,null,null,"",null,{"$f":"IF(BY161=\"\",\"\",\"AgencyEntityInsData Id 1496\")","v":""},{"$f":"IF(BY161=\"\",\"\",\"AgencyEntityInstance Id 159\")","v":""},{"$f":"IF(BY161=\"\",\"\",\"CM_QCQABaseCompData_Title_Label\")","v":""},null,{"$f":"IF(BY161=\"\",\"\",TODAY())","v":""},{"$f":"IF(BY161=\"\",\"\",\"WTSYSTEMUSER\")","v":""},{"$f":"IF(BY161=\"\",\"\",TODAY())","v":""},{"$f":"IF(BY161=\"\",\"\",\"WTSYSTEMUSER\")","v":""}]
[null,null,null,null,null,null,null,null,null,null,null,null,null,null,null,null,null,null,null,null,null,null,null,null,null,null,null,null,null,null,null,null,null,null,null,null,null,null,null,null,null,null,null,null,null,null,null,null,null,null,null,null,null,null,null,null,null,null,null,null,null,null,null,null,null,null,null,null,null,null,null,null,null,null,null,null,null,null,null,null,null,null,null,null,null,null,null,null,null,null,null,null,"",null,{"$f":"IF(BY161=\"\",\"\",\"AgencyEntityInsData Id 1497\")","v":""},{"$f":"IF(BY161=\"\",\"\",\"AgencyEntityInstance Id 159\")","v":""},{"$f":"IF(BY161=\"\",\"\",\"CM_QCQABaseCompData_Tolerance1\")","v":""},null,{"$f":"IF(BY161=\"\",\"\",TODAY())","v":""},{"$f":"IF(BY161=\"\",\"\",\"WTSYSTEMUSER\")","v":""},{"$f":"IF(BY161=\"\",\"\",TODAY())","v":""},{"$f":"IF(BY161=\"\",\"\",\"WTSYSTEMUSER\")","v":""}]
[null,null,null,null,null,null,null,null,null,null,null,null,null,null,null,null,null,null,null,null,null,null,null,null,null,null,null,null,null,null,null,null,null,null,null,null,null,null,null,null,null,null,null,null,null,null,null,null,null,null,null,null,null,null,null,null,null,null,null,null,null,null,null,null,null,null,null,null,null,null,null,null,null,null,null,null,null,null,null,null,null,null,null,null,null,null,null,null,null,null,null,null,"",null,{"$f":"IF(BY161=\"\",\"\",\"AgencyEntityInsData Id 1498\")","v":""},{"$f":"IF(BY161=\"\",\"\",\"AgencyEntityInstance Id 159\")","v":""},{"$f":"IF(BY161=\"\",\"\",\"CM_QCQABaseCompData_Tolerance10\")","v":""},null,{"$f":"IF(BY161=\"\",\"\",TODAY())","v":""},{"$f":"IF(BY161=\"\",\"\",\"WTSYSTEMUSER\")","v":""},{"$f":"IF(BY161=\"\",\"\",TODAY())","v":""},{"$f":"IF(BY161=\"\",\"\",\"WTSYSTEMUSER\")","v":""}]
[null,null,null,null,null,null,null,null,null,null,null,null,null,null,null,null,null,null,null,null,null,null,null,null,null,null,null,null,null,null,null,null,null,null,null,null,null,null,null,null,null,null,null,null,null,null,null,null,null,null,null,null,null,null,null,null,null,null,null,null,null,null,null,null,null,null,null,null,null,null,null,null,null,null,null,null,null,null,null,null,null,null,null,null,null,null,null,null,null,null,null,null,"",null,{"$f":"IF(BY161=\"\",\"\",\"AgencyEntityInsData Id 1499\")","v":""},{"$f":"IF(BY161=\"\",\"\",\"AgencyEntityInstance Id 159\")","v":""},{"$f":"IF(BY161=\"\",\"\",\"CM_QCQABaseCompData_Tolerance11\")","v":""},null,{"$f":"IF(BY161=\"\",\"\",TODAY())","v":""},{"$f":"IF(BY161=\"\",\"\",\"WTSYSTEMUSER\")","v":""},{"$f":"IF(BY161=\"\",\"\",TODAY())","v":""},{"$f":"IF(BY161=\"\",\"\",\"WTSYSTEMUSER\")","v":""}]
[null,null,null,null,null,null,null,null,null,null,null,null,null,null,null,null,null,null,null,null,null,null,null,null,null,null,null,null,null,null,null,null,null,null,null,null,null,null,null,null,null,null,null,null,null,null,null,null,null,null,null,null,null,null,null,null,null,null,null,null,null,null,null,null,null,null,null,null,null,null,null,null,null,null,null,null,null,null,null,null,null,null,null,null,null,null,null,null,null,null,null,null,"",null,{"$f":"IF(BY161=\"\",\"\",\"AgencyEntityInsData Id 1500\")","v":""},{"$f":"IF(BY161=\"\",\"\",\"AgencyEntityInstance Id 159\")","v":""},{"$f":"IF(BY161=\"\",\"\",\"CM_QCQABaseCompData_Tolerance12\")","v":""},null,{"$f":"IF(BY161=\"\",\"\",TODAY())","v":""},{"$f":"IF(BY161=\"\",\"\",\"WTSYSTEMUSER\")","v":""},{"$f":"IF(BY161=\"\",\"\",TODAY())","v":""},{"$f":"IF(BY161=\"\",\"\",\"WTSYSTEMUSER\")","v":""}]
[null,null,null,null,null,null,null,null,null,null,null,null,null,null,null,null,null,null,null,null,null,null,null,null,null,null,null,null,null,null,null,null,null,null,null,null,null,null,null,null,null,null,null,null,null,null,null,null,null,null,null,null,null,null,null,null,null,null,null,null,null,null,null,null,null,null,null,null,null,null,null,null,null,null,null,null,null,null,null,null,null,null,null,null,null,null,null,null,null,null,null,null,"",null,{"$f":"IF(BY161=\"\",\"\",\"AgencyEntityInsData Id 1501\")","v":""},{"$f":"IF(BY161=\"\",\"\",\"AgencyEntityInstance Id 159\")","v":""},{"$f":"IF(BY161=\"\",\"\",\"CM_QCQABaseCompData_Tolerance13\")","v":""},null,{"$f":"IF(BY161=\"\",\"\",TODAY())","v":""},{"$f":"IF(BY161=\"\",\"\",\"WTSYSTEMUSER\")","v":""},{"$f":"IF(BY161=\"\",\"\",TODAY())","v":""},{"$f":"IF(BY161=\"\",\"\",\"WTSYSTEMUSER\")","v":""}]
[null,null,null,null,null,null,null,null,null,null,null,null,null,null,null,null,null,null,null,null,null,null,null,null,null,null,null,null,null,null,null,null,null,null,null,null,null,null,null,null,null,null,null,null,null,null,null,null,null,null,null,null,null,null,null,null,null,null,null,null,null,null,null,null,null,null,null,null,null,null,null,null,null,null,null,null,null,null,null,null,null,null,null,null,null,null,null,null,null,null,null,null,"",null,{"$f":"IF(BY161=\"\",\"\",\"AgencyEntityInsData Id 1502\")","v":""},{"$f":"IF(BY161=\"\",\"\",\"AgencyEntityInstance Id 159\")","v":""},{"$f":"IF(BY161=\"\",\"\",\"CM_QCQABaseCompData_Tolerance14\")","v":""},null,{"$f":"IF(BY161=\"\",\"\",TODAY())","v":""},{"$f":"IF(BY161=\"\",\"\",\"WTSYSTEMUSER\")","v":""},{"$f":"IF(BY161=\"\",\"\",TODAY())","v":""},{"$f":"IF(BY161=\"\",\"\",\"WTSYSTEMUSER\")","v":""}]
[null,null,null,null,null,null,null,null,null,null,null,null,null,null,null,null,null,null,null,null,null,null,null,null,null,null,null,null,null,null,null,null,null,null,null,null,null,null,null,null,null,null,null,null,null,null,null,null,null,null,null,null,null,null,null,null,null,null,null,null,null,null,null,null,null,null,null,null,null,null,null,null,null,null,null,null,null,null,null,null,null,null,null,null,null,null,null,null,null,null,null,null,"",null,{"$f":"IF(BY161=\"\",\"\",\"AgencyEntityInsData Id 1503\")","v":""},{"$f":"IF(BY161=\"\",\"\",\"AgencyEntityInstance Id 159\")","v":""},{"$f":"IF(BY161=\"\",\"\",\"CM_QCQABaseCompData_Tolerance2\")","v":""},null,{"$f":"IF(BY161=\"\",\"\",TODAY())","v":""},{"$f":"IF(BY161=\"\",\"\",\"WTSYSTEMUSER\")","v":""},{"$f":"IF(BY161=\"\",\"\",TODAY())","v":""},{"$f":"IF(BY161=\"\",\"\",\"WTSYSTEMUSER\")","v":""}]
[null,null,null,null,null,null,null,null,null,null,null,null,null,null,null,null,null,null,null,null,null,null,null,null,null,null,null,null,null,null,null,null,null,null,null,null,null,null,null,null,null,null,null,null,null,null,null,null,null,null,null,null,null,null,null,null,null,null,null,null,null,null,null,null,null,null,null,null,null,null,null,null,null,null,null,null,null,null,null,null,null,null,null,null,null,null,null,null,null,null,null,null,"",null,{"$f":"IF(BY161=\"\",\"\",\"AgencyEntityInsData Id 1504\")","v":""},{"$f":"IF(BY161=\"\",\"\",\"AgencyEntityInstance Id 159\")","v":""},{"$f":"IF(BY161=\"\",\"\",\"CM_QCQABaseCompData_Tolerance3\")","v":""},null,{"$f":"IF(BY161=\"\",\"\",TODAY())","v":""},{"$f":"IF(BY161=\"\",\"\",\"WTSYSTEMUSER\")","v":""},{"$f":"IF(BY161=\"\",\"\",TODAY())","v":""},{"$f":"IF(BY161=\"\",\"\",\"WTSYSTEMUSER\")","v":""}]
[null,null,null,null,null,null,null,null,null,null,null,null,null,null,null,null,null,null,null,null,null,null,null,null,null,null,null,null,null,null,null,null,null,null,null,null,null,null,null,null,null,null,null,null,null,null,null,null,null,null,null,null,null,null,null,null,null,null,null,null,null,null,null,null,null,null,null,null,null,null,null,null,null,null,null,null,null,null,null,null,null,null,null,null,null,null,null,null,null,null,null,null,"",null,{"$f":"IF(BY161=\"\",\"\",\"AgencyEntityInsData Id 1505\")","v":""},{"$f":"IF(BY161=\"\",\"\",\"AgencyEntityInstance Id 159\")","v":""},{"$f":"IF(BY161=\"\",\"\",\"CM_QCQABaseCompData_Tolerance4\")","v":""},null,{"$f":"IF(BY161=\"\",\"\",TODAY())","v":""},{"$f":"IF(BY161=\"\",\"\",\"WTSYSTEMUSER\")","v":""},{"$f":"IF(BY161=\"\",\"\",TODAY())","v":""},{"$f":"IF(BY161=\"\",\"\",\"WTSYSTEMUSER\")","v":""}]
[null,null,null,null,null,null,null,null,null,null,null,null,null,null,null,null,null,null,null,null,null,null,null,null,null,null,null,null,null,null,null,null,null,null,null,null,null,null,null,null,null,null,null,null,null,null,null,null,null,null,null,null,null,null,null,null,null,null,null,null,null,null,null,null,null,null,null,null,null,null,null,null,null,null,null,null,null,null,null,null,null,null,null,null,null,null,null,null,null,null,null,null,"",null,{"$f":"IF(BY161=\"\",\"\",\"AgencyEntityInsData Id 1506\")","v":""},{"$f":"IF(BY161=\"\",\"\",\"AgencyEntityInstance Id 159\")","v":""},{"$f":"IF(BY161=\"\",\"\",\"CM_QCQABaseCompData_Tolerance5\")","v":""},null,{"$f":"IF(BY161=\"\",\"\",TODAY())","v":""},{"$f":"IF(BY161=\"\",\"\",\"WTSYSTEMUSER\")","v":""},{"$f":"IF(BY161=\"\",\"\",TODAY())","v":""},{"$f":"IF(BY161=\"\",\"\",\"WTSYSTEMUSER\")","v":""}]
[null,null,null,null,null,null,null,null,null,null,null,null,null,null,null,null,null,null,null,null,null,null,null,null,null,null,null,null,null,null,null,null,null,null,null,null,null,null,null,null,null,null,null,null,null,null,null,null,null,null,null,null,null,null,null,null,null,null,null,null,null,null,null,null,null,null,null,null,null,null,null,null,null,null,null,null,null,null,null,null,null,null,null,null,null,null,null,null,null,null,null,null,"",null,{"$f":"IF(BY161=\"\",\"\",\"AgencyEntityInsData Id 1507\")","v":""},{"$f":"IF(BY161=\"\",\"\",\"AgencyEntityInstance Id 159\")","v":""},{"$f":"IF(BY161=\"\",\"\",\"CM_QCQABaseCompData_Tolerance6\")","v":""},null,{"$f":"IF(BY161=\"\",\"\",TODAY())","v":""},{"$f":"IF(BY161=\"\",\"\",\"WTSYSTEMUSER\")","v":""},{"$f":"IF(BY161=\"\",\"\",TODAY())","v":""},{"$f":"IF(BY161=\"\",\"\",\"WTSYSTEMUSER\")","v":""}]
[null,null,null,null,null,null,null,null,null,null,null,null,null,null,null,null,null,null,null,null,null,null,null,null,null,null,null,null,null,null,null,null,null,null,null,null,null,null,null,null,null,null,null,null,null,null,null,null,null,null,null,null,null,null,null,null,null,null,null,null,null,null,null,null,null,null,null,null,null,null,null,null,null,null,null,null,null,null,null,null,null,null,null,null,null,null,null,null,null,null,null,null,"",null,{"$f":"IF(BY161=\"\",\"\",\"AgencyEntityInsData Id 1508\")","v":""},{"$f":"IF(BY161=\"\",\"\",\"AgencyEntityInstance Id 159\")","v":""},{"$f":"IF(BY161=\"\",\"\",\"CM_QCQABaseCompData_Tolerance7\")","v":""},null,{"$f":"IF(BY161=\"\",\"\",TODAY())","v":""},{"$f":"IF(BY161=\"\",\"\",\"WTSYSTEMUSER\")","v":""},{"$f":"IF(BY161=\"\",\"\",TODAY())","v":""},{"$f":"IF(BY161=\"\",\"\",\"WTSYSTEMUSER\")","v":""}]
[null,null,null,null,null,null,null,null,null,null,null,null,null,null,null,null,null,null,null,null,null,null,null,null,null,null,null,null,null,null,null,null,null,null,null,null,null,null,null,null,null,null,null,null,null,null,null,null,null,null,null,null,null,null,null,null,null,null,null,null,null,null,null,null,null,null,null,null,null,null,null,null,null,null,null,null,null,null,null,null,null,null,null,null,null,null,null,null,null,null,null,null,"",null,{"$f":"IF(BY161=\"\",\"\",\"AgencyEntityInsData Id 1509\")","v":""},{"$f":"IF(BY161=\"\",\"\",\"AgencyEntityInstance Id 159\")","v":""},{"$f":"IF(BY161=\"\",\"\",\"CM_QCQABaseCompData_Tolerance8\")","v":""},null,{"$f":"IF(BY161=\"\",\"\",TODAY())","v":""},{"$f":"IF(BY161=\"\",\"\",\"WTSYSTEMUSER\")","v":""},{"$f":"IF(BY161=\"\",\"\",TODAY())","v":""},{"$f":"IF(BY161=\"\",\"\",\"WTSYSTEMUSER\")","v":""}]
[null,null,null,null,null,null,null,null,null,null,null,null,null,null,null,null,null,null,null,null,null,null,null,null,null,null,null,null,null,null,null,null,null,null,null,null,null,null,null,null,null,null,null,null,null,null,null,null,null,null,null,null,null,null,null,null,null,null,null,null,null,null,null,null,null,null,null,null,null,null,null,null,null,null,null,null,null,null,null,null,null,null,null,null,null,null,null,null,null,null,null,null,"",null,{"$f":"IF(BY161=\"\",\"\",\"AgencyEntityInsData Id 1510\")","v":""},{"$f":"IF(BY161=\"\",\"\",\"AgencyEntityInstance Id 159\")","v":""},{"$f":"IF(BY161=\"\",\"\",\"CM_QCQABaseCompData_Tolerance9\")","v":""},null,{"$f":"IF(BY161=\"\",\"\",TODAY())","v":""},{"$f":"IF(BY161=\"\",\"\",\"WTSYSTEMUSER\")","v":""},{"$f":"IF(BY161=\"\",\"\",TODAY())","v":""},{"$f":"IF(BY161=\"\",\"\",\"WTSYSTEMUSER\")","v":""}]